Workbook
Name page1: #REF!
Name page1: #REF!
Name page1: #REF!
Name page2: #REF!
Name page2: #REF!
Name page2: [2]業務編!#REF!
Name page2: #REF!
Name page2: [2]業務編!#REF!
Name page2: [2]業務編!#REF!
Name page2: [2]業務編!#REF!
Name page2: [2]業務編!#REF!
Name page2: [2]業務編!#REF!
Name page2: [2]業務編!#REF!
Name page2: [2]業務編!#REF!
Name page2: [2]業務編!#REF!
Name page2: [2]業務編!#REF!
Name page2: [2]業務編!#REF!
Name あ: #REF!
Name ああ: #REF!
Name あー１: #REF!
Name あー１: #REF!
Name あー１: #REF!
Name 各課ﾘｽﾄ: #REF!,#REF!,#REF!,#REF!
Name 各課ﾘｽﾄ: #REF!,#REF!,#REF!,#REF!
Name 技能講習名: #REF!
Name 技能講習名: #REF!
Name 技能講習名: #REF!
Name 許可業種: #REF!
Name 許可業種: #REF!
Name 許可業種: #REF!
Name 血液型: #REF!
Name 血液型: #REF!
Name 血液型: #REF!
Name 工事一覧: [4]業者名簿!$B$3:$BO$134
Name 施工体制チェック表_施工一括消去選択: '[3]施工体制チェック（施工中）'!$AG$9:$AG$29,'[3]施工体制チェック（施工中）'!$M$6,'[3]施工体制チェック（施工中）'!$O$6,'[3]施工体制チェック（施工中）'!$Q$6,'[3]施工体制チェック（施工中）'!$S$1
Name 出来形検査調書一括消去: [3]出来形部分検査調書!$N$20:$AC$23,[3]出来形部分検査調書!$AU$20:$AV$21,[3]出来形部分検査調書!$AY$20:$AZ$21,[3]出来形部分検査調書!$Z$27:$AA$27,[3]出来形部分検査調書!$AD$27:$AE$27,[3]出来形部分検査調書!$AH$27:$AI$27
Name 職種名: #REF!
Name 職種名: #REF!
Name 職種名: #REF!
Name 特殊健康診断名: #REF!
Name 特殊健康診断名: #REF!
Name 特殊健康診断名: #REF!
Name 特別教育名: #REF!
Name 特別教育名: #REF!
Name 特別教育名: #REF!
Name 評価: #REF!
Name 評価: #REF!
Name 評価: #REF!
Name 免許資格名: #REF!
Name 免許資格名: #REF!
Name 免許資格名: #REF!

Sheet 建築工事監理業務委託書類一覧表
D1: 建築工事監理業務委託書類 一覧表
A2: 関 係 書 類 | E2: 関係書類の 標準様式 （様式No） | F2: 書類作成者 | H2: 備 考
A3: 作成 時期 | B3: No. | C3: 書 類 名 称 | D3: 書類作成の根拠 | F3: 委託者 | G3: 受託者
A5: 業務着手前 | B5: 1 | C5: 重要事項説明書 | D5: ・建築士法第２４条の７ | E5: － | G5: 〇 | H5: 契約を締結する前に行う。
B6: =+B5+1 -> 2 | C6: 書面の交付 | D6: ・建築士法第２４条の８ | E6: － | G6: 〇 | H6: 契約を締結した後、遅滞なく行う。 ※建築士法２２条の３の３の規定による書面による契約を行った場合は不要。
B7: =+B6+1 -> 3 | C7: 課（免）税業者届出書 | D7: 消費税法第9条 等 | E7: － | G7: 〇 | H7: 様式は監理課HPに掲載
B8: =+B7+1 -> 4 | C8: 上天草市暴力団排除条例に係る誓約書 | D8: 上天草市暴力団排除条例第12条第4項 | E8: － | G8: 〇 | H8: 様式は監理課HPに掲載
A9: 業務着手時 | B9: =+B8+1 -> 5 | C9: 監督員通知書 | D9: ・上天草市公共建築工事監理業務委託契約約款 第８条第１項 ・建築工事監理業務委託共通仕様書 『３.７ 調査職員』 | E9: － | F9: ○ | H9: 委託者が監督員を置いたときに通知を行う。
B10: =+B9+1 -> 6 | C10: 業務着手届 | D10: ・建築工事監理業務委託共通仕様書 『３.１ 業務の着手』 | E10: 様式－１ | G10: ○ | H10: 契約締結後１４日以内に提出する。
B11: =+B10+1 -> 7 | C11: 管理技術者通知書 | D11: ・上天草市公共建築工事監理業務委託契約約款 第９条第１項 ・建築工事監理業務委託共通仕様書 『３.８ 管理技術者』 | E11: 様式－２ | G11: ○ | H11: 資格証の写し、管理技術者の経歴等（様式－４（３））を添付する。
B12: =+B11+1 -> 8 | C12: 再委託（変更）承諾願 | D12: ・上天草市公共建築工事監理業務委託契約約款 第７条第２項・３項 ・建築工事監理業務委託共通仕様書 『３.６ 再委託』 | E12: 様式－３ | G12: ○ | H12: 業務の一部を再委託する場合に提出する。 ※建築士法に規定する『工事監理』業務の一部を第三者に委託する場合。 例：設備工事監理を別の事務所に委託する場合 等
B13: =+B12+1 -> 9 | C13: 業務計画書 | D13: ・上天草市公共建築工事監理業務委託契約約款 第３条第１項・３項 ・建築工事監理業務委託共通仕様書 『３.４ 業務計画書』 | E13: 様式－４ 様式－４（１）～４（９） | G13: ○ | H13: 契約締結後１４日以内に提出する。 ※管理技術者等の経歴を含む。
A14: 業務中 | B14: =+B13+1 -> 10 | C14: 監督員変更通知書 | D14: ・上天草市公共建築工事監理業務委託契約約款 第８条第１項 ・建築工事監理業務委託共通仕様書 『３.７ 調査職員』 | E14: － | F14: ○ | H14: 委託者が監督員を変更したときに通知を行う。
B15: =+B14+1 -> 11 | C15: 業務打合せ簿 | D15: ・上天草市公共建築工事監理業務委託契約約款 第２条第１項 ・建築工事監理業務委託共通仕様書 『１.２ 用語の定義 １７～２３項』 | E15: 様式－５ | F15: 〇 | G15: 〇 | H15: 指示等に関する書面として作成する。
B16: =+B15+1 -> 12 | C16: 打合せ記録簿 | D16: ・建築工事監理業務委託共通仕様書 『３.１４ 打合せ及び記録』 | E16: 様式－６ | G16: 〇 | H16: 打合せ結果を記録し、受委託者相互に確認を行う。
B17: =+B16+1 -> 13 | C17: 監理報告書 | D17: ・上天草市公共建築工事監理業務委託契約約款 第１１条 | E17: 様式－７ 様式－７（１）～７（７） | G17: ○ | H17: 翌月１０日までに監理の状況に関する報告書を提出する。ただし、当該報告月に必要な書類のみとする。 ※打合せ記録簿は打合せ実施後、速やかにメール等で報告した上で、毎月の監理報告書に添付する。ただし、工事受注者が作成する記録簿に打合せ内容が記録されている場合は、作成、提出を省略することができる。
B18: =+B17+1 -> 14 | C18: 請求書（部分払） | D18: ・上天草市公共建築設計業務委託契約約款 第２８条第１項 | E18: － | G18: ○ | H18: 部分払の請求を行う際に提出する。なお、部分払にあたっては、業務の部分完了の認定を受ける必要がある。
B19: =+B18+1 -> 15 | C19: 貸与品借用書 | D19: ・上天草市公共建築工事監理業務委託契約約款 第１２条第２項 ・建築工事監理業務委託共通仕様書 『３.１１ 貸与品等』 | E19: 様式－８ | G19: ○ | H19: 貸与品の引渡しを受けた日から、７日以内に提出する。
B20: =+B19+1 -> 16 | C20: 貸与品返還書 | D20: ・上天草市公共建築工事監理業務委託契約約款 第１２条第４項 ・建築工事監理業務委託共通仕様書 『３.１１ 貸与品等』 | E20: 様式－９ | G20: ○ | H20: 受領した貸与品を返還する場合に提出する。 また、返還の証として、監督員の確認印が押印されたものの写しを受託者に送付する。
A21: 業務完了時 | B21: =+B20+1 -> 17 | C21: 業務完了通知書 | D21: ・上天草市公共建築工事監理業務委託契約約款 第２６条第１項 | E21: 様式－１０ | G21: ○ | H21: 業務を完了した際に提出する。
B22: =+B21+1 -> 18 | C22: 業務完了認定書 | D22: ・上天草市公共建築工事監理業務委託契約約款 第２６条第２項 | E22: － | F22: ○ | H22: 完了検査の結果、合格の認定を通知する。
B23: =+B22+1 -> 19 | C23: 成果物引渡し申出書 | D23: ・上天草市公共建築工事監理業務委託契約約款 第２６条第３項 | E23: 様式－１１ | G23: ○ | H23: 業務完了認定を受けた後、速やかに提出する。
B24: =+B23+1 -> 20 | C24: 請求書（完了代金） | D24: ・上天草市公共建築工事監理業務委託契約約款 第２７条第１項 | E24: － | G24: ○ | H24: 完了代金の請求を行う際に提出する。

Sheet 基本情報
A1: 【基本情報入力】（黄色で着色されたセルに入力してください）
A2: 業務委託情報
A3: 業務委託番号 | B3: 令和○年度 上○○第○号 | D3: 市長名 | E3: 上天草市長 堀江 隆臣 様
A4: 委託業務名 | B4: ○○○○○○○○○○○○○工事監理業務委託
A5: 履行場所 | B5: 上天草市○○町△△✕✕✕番地□□
A6: 履行期間：開始日（自） | B6: 令和○○年○○月○○日
A7: 履行期間：終了日（至） | B7: 令和○○年○○月○○日
A8: 業務委託料 | B8: ○○，○○○，○○○円
A9: 当初契約日 | B9: 令和○○年○○月○○日
A10: 受託者情報
A11: 住所 | B11: 熊本県○○市△△町□□番地
A12: 商号又は名称 | B12: ○○○○設計事務所
A13: 代表者肩書・氏名 | B13: 代表取締役 ○○ ○○
A14: ◆「当初契約日」は元号表記にて記入願います （例：令和○年○月○日）。
A15: ◆業務名や委託番号等が長くなる場合は、様式により文字が見切れる場合がありますので、その際は
A16: 適宜調整願います。

Sheet 様式1_着手届
A1: （工事監理業務）様式－１
A5: 業 務 着 手 届
A6: １ | B6: 業務委託番号 | H6: =基本情報!B3 -> 令和○年度 上○○第○号
A7: ２ | B7: 委託業務名 | H7: =基本情報!B4 -> ○○○○○○○○○○○○○工事監理業務委託
A8: ３ | B8: 履行場所 | H8: =基本情報!B5 -> 上天草市○○町△△✕✕✕番地□□
A9: ４ | B9: 履行期間 | H9: =基本情報!B6 -> 令和○○年○○月○○日 | N9: から
H10: =基本情報!B7 -> 令和○○年○○月○○日 | N10: まで
A11: ５ | B11: 業務委託料 | H11: =基本情報!B8 -> ○○，○○○，○○○円
A12: ６ | B12: 着手年月日 | H12: =基本情報!B9 -> 令和○○年○○月○○日
B13: 上記のとおり着手しましたので届けます。
A14: 令和 | C14: 年 | E14: 月 | G14: 日
J15: 住 所 | O15: =基本情報!B11 -> 熊本県○○市△△町□□番地
J16: 商号又は名称 | O16: =基本情報!B12 -> ○○○○設計事務所
J17: 代表者氏名 | O17: =基本情報!B13 -> 代表取締役 ○○ ○○
A18: =基本情報!E3 -> 上天草市長 堀江 隆臣 様

Sheet 様式2_管理技術者
A1: （工事監理業務）様式－２
A5: 管 理 技 術 者 通 知 書
A10: １ | B10: 業務委託番号 | F10: =基本情報!B3 -> 令和○年度 上○○第○号
A13: ２ | B13: 委託業務名 | F13: =基本情報!B4 -> ○○○○○○○○○○○○○工事監理業務委託
A16: ３ | B16: 履行場所 | F16: =基本情報!B5 -> 上天草市○○町△△✕✕✕番地□□
A19: ４ | B19: 管理技術者氏名
B23: 上記のとおり管理技術者を定めたので、経歴書等を添えて通知します。
B27: =基本情報!B9 -> 令和○○年○○月○○日
G31: 住所 | J31: =基本情報!B11 -> 熊本県○○市△△町□□番地
G32: 商号又は名称 | J32: =基本情報!B12 -> ○○○○設計事務所
G34: 代表者氏名 | J34: =基本情報!B13 -> 代表取締役 ○○ ○○
B38: =基本情報!E3 -> 上天草市長 堀江 隆臣 様
B41: ※添付書類
B42: ・資格証（写し）
B43: ="・管理技術者の経歴等（"&_xlfn.SINGLE('様式4-3_管理技術者経歴'!A1)&"）" -> ・管理技術者の経歴等（（工事監理業務）様式－４（３））

Sheet 様式3_再委託承諾願
A1: （工事監理業務）様式－３
M3: 令和 年 月 日
B7: =基本情報!E3 -> 上天草市長 堀江 隆臣 様
H11: 住所 | L11: =基本情報!B11 -> 熊本県○○市△△町□□番地
H12: 商号又は名称 | L12: =基本情報!B12 -> ○○○○設計事務所
H14: 代表者氏名 | L14: =基本情報!B13 -> 代表取締役 ○○ ○○
A18: 再 委 託 （変 更） 承 諾 願
B22: 下記の業務の一部再委託について、上天草市公共建築工事監理業務委託契約約款第７条第２項の規定により承諾願います。
A27: 記
B29: １ | C29: 業務委託番号 | H29: =基本情報!B3 -> 令和○年度 上○○第○号
B31: ２ | C31: 委託業務名 | H31: =基本情報!B4 -> ○○○○○○○○○○○○○工事監理業務委託
B33: ３ | C33: 履行場所 | H33: =基本情報!B5 -> 上天草市○○町△△✕✕✕番地□□
B35: ４ | C35: 履行期間 | H35: =基本情報!B6 -> 令和○○年○○月○○日 | N35: から
H36: =基本情報!B7 -> 令和○○年○○月○○日 | N36: まで
B39: ５ | C39: 再委託業務範囲
B41: ６ | C41: 再委託理由
B43: ７ | C43: 再委託者 | H43: 住所
H44: 商号又は名称
H46: 代表者氏名

Sheet 様式4_業務計画書
A1: （工事監理業務）様式－４
P3: 令和 年 月 日
A5: =基本情報!E3 -> 上天草市長 堀江 隆臣 様
O8: =基本情報!B11 -> 熊本県○○市△△町□□番地
O9: =基本情報!B12 -> ○○○○設計事務所
O10: =基本情報!B13 -> 代表取締役 ○○ ○○
A13: 業 務 計 画 書
A16: 次の業務委託について、下記のとおり業務計画書を提出します。
B20: 委託業務名 | G20: ： | H20: =基本情報!B4 -> ○○○○○○○○○○○○○工事監理業務委託
A23: 記
D26: （１）業務工程表 （様式－４（１））
D27: （２）業務体制表 （様式－４（２））
D28: （３）管理技術者の経歴等 （様式－４（３））
D29: （４）建築設備資格者の経歴等 （様式－４（４））
D30: （５）各主任担当技術者の経歴等 （様式－４（５））
D31: （６）担当技術者の経歴等 （様式－４（６））
D32: （７）協力事務所の名称等 （様式－４（７））
D33: （８）分担業務分野の追加 （様式－４（８））
D34: （９）業務運営計画及び業務方針 （様式－４（９））

Sheet 様式4-1_工程表
A1: （工事監理業務）様式－４（１）
A2: 業 務 工 程 表
A4: 業務委託番号 | H4: =基本情報!B3 -> 令和○年度 上○○第○号 | AH4: =基本情報!A11 -> 住所 | AN4: =基本情報!B11 -> 熊本県○○市△△町□□番地
A5: 委託業務名 | H5: =基本情報!B4 -> ○○○○○○○○○○○○○工事監理業務委託 | AH5: =基本情報!A12 -> 商号又は名称 | AN5: =基本情報!B12 -> ○○○○設計事務所
A6: 履行期間 | G6: 自 | I6: =基本情報!B6 -> 令和○○年○○月○○日 | Q6: 至 | S6: =基本情報!B7 -> 令和○○年○○月○○日 | AH6: =基本情報!A13 -> 代表者肩書・氏名 | AN6: =基本情報!B13 -> 代表取締役 ○○ ○○
H8: 月 | J8: ○ | O8: 月 | P8: ○ | U8: 月 | V8: ○ | AA8: 月 | AB8: ○ | AG8: 月 | AH8: ○ | AM8: 月 | AN8: ○ | AS8: 月 | AT8: 備考
H10: 日 | J10: 1 | L10: 11 | N10: 21 | P10: 1 | R10: 11 | T10: 21 | V10: 1 | X10: 11 | Z10: 21 | AB10: 1 | AD10: 11 | AF10: 21 | AH10: 1 | AJ10: 11 | AL10: 21 | AN10: 1 | AP10: 11 | AR10: 21
B11: 業務内容
A12: 現場監理業務
A14: 施工状況確認 設計図書との整合確認
A16: 施工計画書、使用材料の承認
A18: 定例会議
A20: 監理者下検査
A22: 報告書作成、提出
A30: 予定進捗率 | J30: =J8&"月末時点" -> ○月末時点 | N30: ○○％ | P30: =P8&"月末時点" -> ○月末時点 | T30: ○○％ | V30: =V8&"月末時点" -> ○月末時点 | Z30: ○○％ | AB30: =AB8&"月末時点" -> ○月末時点 | AF30: ○○％ | AH30: =AH8&"月末時点" -> ○月末時点 | AL30: ○○％ | AN30: =AN8&"月末時点" -> ○月末時点 | AR30: ○○％
A31: 実施進捗率
A32: 記載要領 | E32: １ 業務内容はできるだけ細分化して記載する。
E33: ２ 予定工程は上段に黒実線をもって表示する。
E34: ３ 実施工程は下段に赤実線をもって表示する。

Sheet 様式4-2_業務体制表
A1: （工事監理業務）様式－４（２）
A3: 業 務 体 制 表
A5: 業務委託番号 | F5: =基本情報!B3 -> 令和○年度 上○○第○号
A7: 委託業務名 | F7: =基本情報!B4 -> ○○○○○○○○○○○○○工事監理業務委託
A9: 業務区分 | E9: （担当分野） | H9: 所属事務所名 | N9: 氏 名
A11: 管 理 技 術 者
A13: 建築設備資格者
A15: 主任担当技術者 | E15: (建築意匠）
A17: 主任担当技術者 | E17: (建築構造）
A19: 主任担当技術者 | E19: (電気設備）
A21: 主任担当技術者 | E21: (機械設備）
A23: 主任担当技術者 | E23: （ ）
A25: 担当技術者 | E25: (建築意匠）
A27: 担当技術者 | E27: (建築構造）
A29: 担当技術者 | E29: (電気設備）
A31: 担当技術者 | E31: (機械設備）
A33: 担当技術者 | E33: （ ）

Sheet 様式4-3_管理技術者経歴
A1: （工事監理業務）様式－４（３）
A2: 管理技術者の経歴等
A4: ①氏名 | J4: ②生年月日 年 月 日 （ 才）
A6: ③所属 ・ 役職
A8: ④最終学歴 | M8: （ 年 月 卒業）
A10: ⑤保有資格等 実務経験年数 年
A12: ・一級建築士 登録番号 ： 取得年月日 ： 年 月 日
A13: ・ 登録番号 ： 取得年月日 ： 年 月 日
A15: ⑥ 年 月以降の同種又は類似業務の実績（過去３年以内）
A17: 業務名 （PUBDIS登録の有無） | F17: 発注者（事業主） | H17: 受注形態 | K17: 業務概要 | Q17: 施設完成年月
H18: ・ 単独 ・ 共同体 | K18: ・ 同種
A19: （ 有 無 コード ) | F19: （ ） | H19: （ ） | K19: ・ 類似 | L19: （ として従事）
H20: ・ 単独 ・ 共同体 | K20: ・ 同種
A21: （ 有 無 コード ) | F21: （ ） | H21: （ ） | K21: ・ 類似 | L21: （ として従事）
H22: ・ 単独 ・ 共同体 | K22: ・ 同種
A23: （ 有 無 コード ) | F23: （ ） | H23: （ ） | K23: ・ 類似 | L23: （ として従事）
H24: ・ 単独 ・ 共同体 | K24: ・ 同種
A25: （ 有 無 コード ) | F25: （ ） | H25: （ ） | K25: ・ 類似 | L25: （ として従事）
H26: ・ 単独 ・ 共同体 | K26: ・ 同種
A27: （ 有 無 コード ) | F27: （ ） | H27: （ ） | K27: ・ 類似 | L27: （ として従事）
H28: ・ 単独 ・ 共同体 | K28: ・ 同種
A29: （ 有 無 コード ) | F29: （ ） | H29: （ ） | K29: ・ 類似 | L29: （ として従事）
A30: ⑦ 年 月以降に担当した上天草市発注の業務実績（過去３年以内）
A32: 業務名 | G32: 受注形態 | K32: 分担業務分野及び立場 | P32: 履行期間
G33: ・単独 ・共同体 ・協力事務所
G34: （ ）
G35: ・単独 ・共同体 ・協力事務所
G36: （ ）
G37: ・単独 ・共同体 ・協力事務所
G38: （ ）
G39: ・単独 ・共同体 ・協力事務所
G40: （ ）
G41: ・単独 ・共同体 ・協力事務所
G42: （ ）
G43: ・単独 ・共同体 ・協力事務所
G44: （ ）
A45: ⑧手持業務の状況 （ 年 月 日現在の手持の業務）
A46: 合計 （ ） 件
A47: 業務名 | F47: 発注者（事業主） | I47: 受注形態 | L47: 業務概要 | Q47: 履行期間
I48: ・ 単独 ・ 共同体
F49: （ ） | I49: （ ） | L49: （ として従事）
I50: ・ 単独 ・ 共同体
F51: （ ） | I51: （ ） | L51: （ として従事）
I52: ・ 単独 ・ 共同体
F53: （ ） | I53: （ ） | L53: （ として従事）

Sheet 様式4-4_建築設備経歴
A1: （工事監理業務）様式－４（４）
A2: 建築設備資格者の経歴等
A4: ①氏名 | J4: ②生年月日 年 月 日 （ 才）
A6: ③所属 ・ 役職
A8: ④最終学歴 | M8: （ 年 月 卒業）
A10: ⑤保有資格等 実務経験年数 年
A12: ・設備設計一級建築士 登録番号 ： 取得年月日 ： 年 月 日
A13: ・建築設備士 登録番号 ： 取得年月日 ： 年 月 日
A14: ・ 登録番号 ： 取得年月日 ： 年 月 日
A16: ⑥ 年 月以降の同種又は類似業務の実績（過去３年以内）
A18: 業務名 （PUBDIS登録の有無） | F18: 発注者（事業主） | H18: 受注形態 | K18: 業務概要 | Q18: 施設完成年月
H19: ・ 単独 ・ 共同体 | K19: ・ 同種
A20: （ 有 無 コード ) | F20: （ ） | H20: （ ） | K20: ・ 類似 | L20: （ として従事）
H21: ・ 単独 ・ 共同体 | K21: ・ 同種
A22: （ 有 無 コード ) | F22: （ ） | H22: （ ） | K22: ・ 類似 | L22: （ として従事）
H23: ・ 単独 ・ 共同体 | K23: ・ 同種
A24: （ 有 無 コード ) | F24: （ ） | H24: （ ） | K24: ・ 類似 | L24: （ として従事）
H25: ・ 単独 ・ 共同体 | K25: ・ 同種
A26: （ 有 無 コード ) | F26: （ ） | H26: （ ） | K26: ・ 類似 | L26: （ として従事）
H27: ・ 単独 ・ 共同体 | K27: ・ 同種
A28: （ 有 無 コード ) | F28: （ ） | H28: （ ） | K28: ・ 類似 | L28: （ として従事）
H29: ・ 単独 ・ 共同体 | K29: ・ 同種
A30: （ 有 無 コード ) | F30: （ ） | H30: （ ） | K30: ・ 類似 | L30: （ として従事）
A31: ⑦ 年 月以降に担当した上天草市発注の業務実績（過去３年以内）
A33: 業務名 | G33: 受注形態 | K33: 分担業務分野及び立場 | P33: 履行期間
G34: ・単独 ・共同体 ・協力事務所
G35: （ ）
G36: ・単独 ・共同体 ・協力事務所
G37: （ ）
G38: ・単独 ・共同体 ・協力事務所
G39: （ ）
G40: ・単独 ・共同体 ・協力事務所
G41: （ ）
G42: ・単独 ・共同体 ・協力事務所
G43: （ ）
G44: ・単独 ・共同体 ・協力事務所
G45: （ ）
A46: ⑧手持業務の状況 （ 年 月 日現在の手持の業務）
A47: 合計 （ ） 件
A48: 業務名 | F48: 発注者（事業主） | I48: 受注形態 | L48: 業務概要 | Q48: 履行期間
I49: ・ 単独 ・ 共同体
F50: （ ） | I50: （ ） | L50: （ として従事）
I51: ・ 単独 ・ 共同体
F52: （ ） | I52: （ ） | L52: （ として従事）
I53: ・ 単独 ・ 共同体
F54: （ ） | I54: （ ） | L54: （ として従事）

Sheet 様式4-5_各主任担当経歴
A1: （工事監理業務）様式－４（５）
A2: 各主任担当技術者の経歴等
J4: 担当分野 ：
J6: （管理技術者との兼任状況 有 ・ 無 ）
A8: ①氏名 | J8: ②生年月日 年 月 日 （ 才）
A10: ③所属 ・ 役職
A12: ④最終学歴 | M12: （ 年 月 卒業）
A14: ⑤保有資格等 実務経験年数 年
A16: ・ 登録番号 ： 取得年月日 ： 年 月 日
A17: ・ 登録番号 ： 取得年月日 ： 年 月 日
A18: ・ 登録番号 ： 取得年月日 ： 年 月 日
A20: ⑥ 年 月以降の同種又は類似業務の実績（過去３年以内）
A22: 業務名 （PUBDIS登録の有無） | F22: 発注者（事業主） | H22: 受注形態 | K22: 業務概要 | Q22: 施設完成年月
H23: ・ 単独 ・ 共同体 | K23: ・ 同種
A24: （ 有 無 コード ) | F24: （ ） | H24: （ ） | K24: ・ 類似 | L24: （ として従事）
H25: ・ 単独 ・ 共同体 | K25: ・ 同種
A26: （ 有 無 コード ) | F26: （ ） | H26: （ ） | K26: ・ 類似 | L26: （ として従事）
H27: ・ 単独 ・ 共同体 | K27: ・ 同種
A28: （ 有 無 コード ) | F28: （ ） | H28: （ ） | K28: ・ 類似 | L28: （ として従事）
H29: ・ 単独 ・ 共同体 | K29: ・ 同種
A30: （ 有 無 コード ) | F30: （ ） | H30: （ ） | K30: ・ 類似 | L30: （ として従事）
H31: ・ 単独 ・ 共同体 | K31: ・ 同種
A32: （ 有 無 コード ) | F32: （ ） | H32: （ ） | K32: ・ 類似 | L32: （ として従事）
A33: ⑦ 年 月以降に担当した上天草市発注の業務実績（過去３年以内）
A35: 業務名 | G35: 受注形態 | K35: 分担業務分野及び立場 | P35: 履行期間
G36: ・単独 ・共同体 ・協力事務所
G37: （ ）
G38: ・単独 ・共同体 ・協力事務所
G39: （ ）
G40: ・単独 ・共同体 ・協力事務所
G41: （ ）
G42: ・単独 ・共同体 ・協力事務所
G43: （ ）
G44: ・単独 ・共同体 ・協力事務所
G45: （ ）
A46: ⑧手持業務の状況 （ 年 月 日現在の手持の業務）
A47: 合計 （ ） 件
A48: 業務名 | F48: 発注者（事業主） | I48: 受注形態 | L48: 業務概要 | Q48: 履行期間
I49: ・ 単独 ・ 共同体
F50: （ ） | I50: （ ） | L50: （ として従事）
I51: ・ 単独 ・ 共同体
F52: （ ） | I52: （ ） | L52: （ として従事）
I53: ・ 単独 ・ 共同体
F54: （ ） | I54: （ ） | L54: （ として従事）
A55: ※１ 管理技術者を兼ねる場合は、担当分野、所属及び氏名のみの記入でよい。
A56: ※２ 担当分野には、建築意匠、建築構造、電気設備、機械設備 等を記入する。
A57: ※３ 記載事項の欄は必要に応じて追加してもよい。

Sheet 様式4-6_担当技術者経歴
A1: （工事監理業務）様式－４（６）
A2: 担当技術者の経歴等
J4: 担当分野 ：
J6: （管理技術者又は主任技術者との兼任状況 有 ・ 無 ）
A8: ①氏名 | J8: ②生年月日 年 月 日 （ 才）
A10: ③所属 ・ 役職
A12: ④最終学歴 | M12: （ 年 月 卒業）
A14: ⑤保有資格等 実務経験年数 年
A15: ・ 登録番号 ： 取得年月日 ： 年 月 日
A16: ⑥ 年 月以降の同種又は類似業務の実績（過去３年以内）
A17: 業務名 | F17: 発注者（事業主） | H17: 受注形態 | K17: 業務概要 | Q17: 施設完成年月
H18: ・ 単独 ・ 共同体 | K18: ・ 同種
F19: （ ） | H19: （ ） | K19: ・ 類似 | L19: （ として従事）
J21: 担当分野 ：
J23: （管理技術者又は主任技術者との兼任状況 有 ・ 無 ）
A25: ①氏名 | J25: ②生年月日 年 月 日 （ 才）
A27: ③所属 ・ 役職
A29: ④最終学歴 | M29: （ 年 月 卒業）
A31: ⑤保有資格等 実務経験年数 年
A32: ・ 登録番号 ： 取得年月日 ： 年 月 日
A33: ⑥ 年 月以降の同種又は類似業務の実績（過去３年以内）
A34: 業務名 | F34: 発注者（事業主） | H34: 受注形態 | K34: 業務概要 | Q34: 施設完成年月
H35: ・ 単独 ・ 共同体 | K35: ・ 同種
F36: （ ） | H36: （ ） | K36: ・ 類似 | L36: （ として従事）
J38: 担当分野 ：
J40: （管理技術者又は主任技術者との兼任状況 有 ・ 無 ）
A42: ①氏名 | J42: ②生年月日 年 月 日 （ 才）
A44: ③所属 ・ 役職
A46: ④最終学歴 | M46: （ 年 月 卒業）
A48: ⑤保有資格等 実務経験年数 年
A49: ・ 登録番号 ： 取得年月日 ： 年 月 日
A50: ⑥ 年 月以降の同種又は類似業務の実績（過去３年以内）
A51: 業務名 | F51: 発注者（事業主） | H51: 受注形態 | K51: 業務概要 | Q51: 施設完成年月
H52: ・ 単独 ・ 共同体 | K52: ・ 同種
F53: （ ） | H53: （ ） | K53: ・ 類似 | L53: （ として従事）
A54: ※１ 管理技術者又は主任担当技術者を兼ねる場合は、担当分野、所属及び氏名のみの記入でよい。
A55: ※２ 担当分野には、建築意匠、建築構造、電気設備、機械設備 等を記入する。
A56: ※３ 記載事項の欄は必要に応じて追加してもよい。

Sheet 様式4-7_協力事務所
A1: （工事監理業務）様式－４（７）
A2: 協力事務所の名称等
A4: 事 務 所 名 | L4: 代表者名
A6: 所 在 地 | L6: 分担業務分野
A8: 協力を受ける 理由及び 具体的内容
A15: 事 務 所 名 | L15: 代表者名
A17: 所 在 地 | L17: 分担業務分野
A19: 協力を受ける 理由及び 具体的内容
A26: 事 務 所 名 | L26: 代表者名
A28: 所 在 地 | L28: 分担業務分野
A30: 協力を受ける 理由及び 具体的内容
A37: 事 務 所 名 | L37: 代表者名
A39: 所 在 地 | L39: 分担業務分野
A41: 協力を受ける 理由及び 具体的内容
A48: 事 務 所 名 | L48: 代表者名
A50: 所 在 地 | L50: 分担業務分野
A52: 協力を受ける 理由及び 具体的内容

Sheet 様式4-8_分担業務
A1: （工事監理業務）様式－４（８）
A2: 分担業務分野の追加
A4: 追加する分担業務分野 ：
A6: 追加する分担業務分野の具体的な業務内容
A11: 分担業務分野を追加する理由
A17: 主任担当技術者 | D17: ①氏名 | J17: ②生年月日 年 月 日 （ 才）
A19: ③所属 ・ 役職 ：
A21: ④保有資格等 実務経験年数 年
A23: ・ 登録番号 ： 取得年月日 ： 年 月 日
A24: ・ 登録番号 ： 取得年月日 ： 年 月 日
A26: ⑤ 年 月以降の当該分野における業務の実績（過去３年以内）
A28: 業務名 （PUBDIS登録の有無） | F28: 受注形態 | J28: 施設等概要及び分担業務分野の内容
A29: 発注者 （事業主） | F29: 施設完成年月
F30: ・ 単独 ・ 共同体
A31: （ 有 無 コード ) | F31: （ ）
F32: 年 月
A33: （ ） | J33: （ として従事）
F34: ・ 単独 ・ 共同体
A35: （ 有 無 コード ) | F35: （ ）
F36: 年 月
A37: （ ） | J37: （ として従事）
F38: ・ 単独 ・ 共同体
A39: （ 有 無 コード ) | F39: （ ）
F40: 年 月
A41: （ ） | J41: （ として従事）
A42: ⑥手持業務の状況 （ 年 月 日現在の手持の設計業務）
A43: 合計 （ ） 件
A44: 業務名 | F44: 発注者（事業主） | I44: 受注形態 | L44: 業務概要 | Q44: 履行期間
I45: ・ 単独 ・ 共同体
F46: （ ） | I46: （ ） | L46: （ として従事）
I47: ・ 単独 ・ 共同体
F48: （ ） | I48: （ ） | L48: （ として従事）
I49: ・ 単独 ・ 共同体
F50: （ ） | I50: （ ） | L50: （ として従事）
A51: ※ 主任担当技術者を兼ねる場合は、担当業務分野、所属及び氏名のみの記入でよい。

Sheet 様式4-9_運営計画
A1: （工事監理業務）様式－４（９）
A2: 業務運営計画及び業務方針
A4: 業務委託番号 | F4: =基本情報!B3 -> 令和○年度 上○○第○号
A6: 委託業務名 | F6: =基本情報!B4 -> ○○○○○○○○○○○○○工事監理業務委託
A8: １ 業務運営計画
A33: ２ 業務方針

Sheet 様式5_業務打合せ簿
A1: （工事監理業務）様式－５ | AA1: （建築設計業務）様式－５
A2: 業 務 打 合 せ 簿 | AA2: 業 務 打 合 せ 簿（記載例）
A3: 発議者 | E3: 委託者 | H3: 受託者 | K3: 発議年月日 | AA3: 発議者 | AE3: 委託者 | AH3: 受託者 | AK3: 発議年月日 | AN3: 令和○年○月○日
A4: 発議事項 | E4: 指示 | H4: 協議 | K4: 通知 | N4: 承諾 | Q4: 報告 | T4: 提出 | AA4: 発議事項 | AE4: 指示 | AH4: 協議 | AK4: 通知 | AN4: 承諾 | AQ4: 報告 | AT4: 提出
E5: 請求 | H5: その他 | K5: （ | X5: ） | AE5: 請求 | AH5: その他 | AK5: （ | AX5: ）
A6: 委託業務名 | E6: =基本情報!B4 -> ○○○○○○○○○○○○○工事監理業務委託 | AA6: 業務名 | AE6: =E6 -> ○○○○○○○○○○○○○工事監理業務委託
B7: （内容） | AB7: （内容） | AE7: 第一回打合せ議事録について
B23: 添付図 | G23: 葉、その他添付図書 | AB23: 添付図 | AG23: 葉、その他添付図書 | AM23: 打合せ議事録 １式
B24: 委託者 | C24: 上記について | G24: 指示 | J24: 承諾 | M24: 協議 | P24: 提出 | S24: 受理 | V24: します。 | AB24: 発注者 | AC24: 上記について | AG24: 指示 | AJ24: 承諾 | AM24: 協議 | AP24: 提出 | AS24: 受理 | AV24: します。
A25: 処理 | AA25: 処理
G29: その他 | AG29: その他
A32: ・ | N32: 年 月 日 | AA32: ・ | AN32: 年 月 日 | AS32: ○○ ○○ | AX32: 印
B33: 受託者 | C33: 上記について | G33: 承諾 | J33: 協議 | M33: 提出 | P33: 報告 | S33: 受理 | V33: します。 | AB33: 受託者 | AC33: 上記について | AG33: 承諾 | AJ33: 協議 | AM33: 提出 | AP33: 報告 | AS33: 受理 | AV33: します。
A34: 回答 | AA34: 回答
G36: その他 | AG36: その他
N38: 年 月 日 | AN38: 年 月 日 | AS38: ○○ ○○ | AX38: 印
B40: 課 長 | E40: 課長補佐 | H40: 係 長 | K40: 監督員 | N40: 課 員 | U40: 管理 技術者 | AE40: 課長 | AG40: 課長補佐 | AI40: 係長 | AK40: 監督員 | AM40: 課員 | AU40: 管理 技術者
AB49: ※決裁欄が不足する場合は、適宜追加してください。

Sheet 様式6_打合せ記録簿
A1: （工事監理業務）様式－６
A2: 打 合 せ 記 録 簿
A5: 第 回 | J5: / 頁
A6: 受託者 検印 | B6: 管理技術者 | C6: 主任担当技術者
A10: 委託者 | B10: 上天草市 建設部 都市整備課 | G10: 受託者 | H10: =基本情報!B12 -> ○○○○設計事務所
A11: 委託 業務名 | B11: =基本情報!B4 -> ○○○○○○○○○○○○○工事監理業務委託 | H11: 日時
A12: 出席者 | B12: 委託者側
H13: 場所
B14: 受託者側
H15: 打合せ方式 | I15: 会議 | J15: ・ | K15: 電話
A16: 打 合 せ 事 項 | G16: 決 定 事 項 等
A44: 打 合 せ 記 録 簿
A47: =+A5 -> 第 回 | J47: / 頁
A48: 打 合 せ ・ 協 議 事 項 | G48: 決定事項等

Sheet 様式7_監理報告書
A1: （工事監理業務）様式－７
M4: 報告番号第 | P4: ○ | Q4: 号
M6: 令和 年 月 日
A9: =基本情報!E3 -> 上天草市長 堀江 隆臣 様
G12: （受託者） | I12: 住所 | L12: =" "&基本情報!B11 -> 熊本県○○市△△町□□番地
I13: 商号又は名称 | L13: =" "&基本情報!B12 -> ○○○○設計事務所
I15: 代表者氏名 | L15: =" "&基本情報!B13 -> 代表取締役 ○○ ○○
A19: 監 理 報 告 書
B23: 下記業務について、別添書類を添えて報告します。
A26: 記
B28: １ | C28: 業務委託番号 | G28: =基本情報!B3 -> 令和○年度 上○○第○号
B31: ２ | C31: 委託業務名 | G31: =基本情報!B4 -> ○○○○○○○○○○○○○工事監理業務委託
B34: ３ | C34: 履行場所 | G34: =基本情報!B5 -> 上天草市○○町△△✕✕✕番地□□
B37: ４ | C37: 履行期間 | G37: =基本情報!B6 -> 令和○○年○○月○○日 | M37: から
G39: =基本情報!B7 -> 令和○○年○○月○○日 | M39: まで
C43: 【別添書類】
C44: （１） | D44: 工事監理状況報告書（様式－７（１））
C45: （２） | D45: 現場派遣監理者行動表（今月の予定・前月の結果）（様式－７（２））
C46: （３） | D46: 打合せ記録簿（様式－６又は任意様式）
C47: （４） | D47: 工事進捗状況写真（様式－７（３））
C48: （５） | D48: 工事実施工程表（任意様式）
C49: （６） | D49: 工事手直事項処理結果表（様式－７（４））
D50: ※監理事務所検査、下検査、出来形検査、しゅん工検査を実施した月の報告書に添付すること。
C51: （７） | D51: 工事手直写真（様式－７（５））
D52: ※監理事務所検査、下検査、出来形検査、しゅん工検査を実施した月の報告書に添付すること。
C53: （８） | D53: しゅん工写真（様式－７（６））
D54: ※しゅん工検査を実施した月の報告書に添付すること。
C55: （９） | D55: 出来形写真（様式－７（７））
D56: ※出来形検査を実施した月の報告書に添付すること。

Sheet 様式7-1_工事監理状況報告書
A1: （工事監理業務）様式－７（１） | J1: （工事監理業務）様式－７（１）
A2: 工事監理状況報告書 | F2: ・建 築 ・電 気 ・機 械 | G2: 管理技術者 | H2: 主任担当技術者 | J2: 工事監理状況報告書 | O2: ・建 築 ・電 気 ・機 械 | P2: 管理技術者 | Q2: 主任担当技術者
A4: 報告番号 | D4: ="第 "&様式7_監理報告書!P4&" 号" -> 第 ○ 号 | E4: 報告期間 | F4: 自 令和○○年○○月○○日 | H4: 進捗率 ％ | J4: 報告番号 | M4: ="第 "&様式7_監理報告書!Y4&" 号" -> 第 号 | N4: 報告期間 | O4: 自 令和○○年○○月○○日 | Q4: 進捗率 50 ％
F5: 至 令和○○年○○月○○日 | O5: 至 令和○○年○○月○○日
A6: 工事番号 | D6: 令和○○年度 | E6: 工 事 名 | F6: ○○○改修工事 | H6: ・予定より 日の進み | J6: 工事番号 | M6: 令和○○年度 | N6: 工 事 名 | O6: ○○○改修工事（建築） | Q6: ・予定より 日の進み
D7: 上○○第○号 | M7: 上○○第○号
A8: 受注者名 | D8: ○○建設 | E8: 工事期間 | F8: 自 令和○○年○○月○○日 | H8: ・予定どおり | J8: 受注者名 | M8: ○○建設 | N8: 工事期間 | O8: 自 令和○○年○○月○○日 | Q8: ・予定どおり
A10: 請負金額 | D10: ○○,○○○,○○○円 | F10: 至 令和○○年○○月○○日 | H10: ・予定より 日の遅れ | J10: 請負金額 | M10: ○○,○○○,○○○円 | O10: 至 令和○○年○○月○○日 | Q10: ・予定より 日の遅れ
A12: 工程管理 | C12: 【打合せ会議】 | J12: 工程管理 | L12: 【打合せ会議】
L13: 4/8 第7回定例会議
C17: 【現場状況】 | L17: 【現場状況】
L18: 4/11 内部施工状況確認
L19: 4/22 外部塗装状況確認
A23: 品 質 管 理 | B23: 施工図 | J23: 品 質 管 理 | K23: 施工図 | L23: 4/12トイレ施工図確認
B27: 材料検査 | K27: 材料検査 | L27: 4/8衛生器具使用材料承認
L28: 4/20衛生器具材料検収
B31: 機能検査 | K31: 機能検査 | L31: 4/16照度試験実施
B35: 色彩材質 | K35: 色彩材質 | L35: 4/8決定 外壁色 日塗工 NH-20
A39: 変更事項その他 | J39: 変更事項その他 | L39: ポーチ部分 手摺追加（直工約20万円増額）
A46: ※印欄は、押印又は署名すること。 | J46: ※印欄は、押印または署名すること。

Sheet 様式7-2_現場派遣監理者行動表
B1: （工事監理業務）様式－７（２）
B2: 現 場 派 遣 監 理 者 行 動 表 （令和 年 月の 予定 ・ 結果 ）
B3: 履行期間 | E3: 自 | F3: =基本情報!B6 -> 令和○○年○○月○○日 | J3: 至 | K3: =基本情報!B7 -> 令和○○年○○月○○日 | O3: 管理技術者氏名 | Y3: 印
B4: 項目 日 | C4: 工事監理業務 | O4: その他及び追加業務
C5: 計画 | G5: 人・時間 | I5: 実施 | M5: 人・時間 | O5: 計画 | S5: 人・時間 | U5: 実施 | Y5: 人・時間
B6: 1
B7: 2
B8: 3
B9: 4
B10: 5
B11: 6
B12: 7
B13: 8
B14: 9
B15: 10
B16: 11
B17: 12
... B36: 31
B37: 派遣人・時間計 | G37: =SUM(G6:H36) -> 0 | M37: =SUM(M6:N36) -> 0 | S37: =SUM(S6:T36) -> 0 | Y37: =SUM(Y6:Z36) -> 0
B38: ※1 それぞれの欄には、○○立会、○○検査、○○試験、○○打合せ等 と記入すること。 ※2 月毎に作成（予定・結果）し、現場派遣人数と、その合計時間数を 記入すること。 ※3 印欄は、押印又は署名とすること。 | S38: 月計 | U38: =M37+Y37 -> 0 | W38: 人・時間 | X38: =U38/8 -> 0 | Z38: 人・日
S39: 累計 | W39: 人・時間 | X39: =U39/8 -> 0 | Z39: 人・日

Sheet 様式7-3_工事進捗状況写真
B1: （工事監理業務）様式－７（３）
C2: 工事進捗状況写真（ | J2: ）
C23: 工事進捗状況写真（ | J23: ）

Sheet 様式7-4_工事手直事項処理結果表
A1: （工事監理業務）様式－７（４）
A2: 工 事 手 直 事 項 処 理 結 果 表
A4: 事務所検査 ・ 下検査 ・ 出来形検査 ・ しゅん工検査 | D4: 管理技術者氏名 | G4: 印
A5: № | B5: 手 直 事 項 | C5: 処 理 結 果 | F5: 完了 | G5: 写真
F6: 年月日 | G6: 番号

Sheet 様式7-5_工事手直写真
B1: （工事監理業務）様式－７（５）
B2: 写真番号 | C2: 手 直 （ 前 ） 写 真 （ | J2: ）
B3: №
B24: 写真番号 | C24: 手 直 （ 後 ） 写 真 （ | J24: ）
B25: №

Sheet 様式7-6_しゅん工写真
B1: （工事監理業務）様式－７（６）
C2: しゅん工写真 （ | J2: ）
C23: しゅん工写真 （ | J23: ）

Sheet 様式7-7_出来形写真
B1: （工事監理業務）様式－７（７）
C2: 出来形写真（ | J2: ）
C23: 出来形写真（ | J23: ）

Sheet 様式8_借用書
B1: （工事監理業務）様式－８ | AC1: （設計監理）様式－８
I3: 貸与品借用書 | AJ3: 貸与品借用書（記載例）
U5: 令和 年 月 日 | AY5: 令和 年 月 日
C8: =基本情報!E3 -> 上天草市長 堀江 隆臣 様 | AD8: =基本情報!E3 -> 上天草市長 堀江 隆臣 様
S9: =基本情報!B11 -> 熊本県○○市△△町□□番地 | AW9: =基本情報!B11 -> 熊本県○○市△△町□□番地
S10: =基本情報!B12 -> ○○○○設計事務所 | AW10: =基本情報!B12 -> ○○○○設計事務所
S11: =基本情報!B13 -> 代表取締役 ○○ ○○ | AW11: =基本情報!B13 -> 代表取締役 ○○ ○○
D13: 次の業務について、下記貸与品を受領し借用したので上天草市公共建築工事監理業務委託契約約款第１２条第２項の規定に基づき、提出します。 | AE13: 次の業務について、下記貸与品を受領し借用したので上天草市公共建築設計業務委託契約約款第１９条第２項の規定に基づき、提出します。
O14: 記 | AQ14: 記
B16: １ | C16: 業務委託番号 | H16: =基本情報!B3 -> 令和○年度 上○○第○号 | AC16: １ | AD16: 業務委託番号 | AI16: =基本情報!B3 -> 令和○年度 上○○第○号
B17: ２ | C17: 委託業務名 | H17: =基本情報!B4 -> ○○○○○○○○○○○○○工事監理業務委託 | AC17: ２ | AD17: 委託業務名 | AI17: =基本情報!B4 -> ○○○○○○○○○○○○○工事監理業務委託
B18: ３ | C18: 履行場所 | H18: =基本情報!B5 -> 上天草市○○町△△✕✕✕番地□□ | AC18: ３ | AD18: 履行場所 | AI18: =基本情報!B5 -> 上天草市○○町△△✕✕✕番地□□
B19: ４ | C19: 契約年月日 | H19: =基本情報!B9 -> 令和○○年○○月○○日 | AC19: ４ | AD19: 契約年月日 | AI19: =基本情報!B9 -> 令和○○年○○月○○日
B20: 品名 | M20: 規格 | Q20: 単位 | S20: 数量 | U20: 返還場所 | Y20: 備考 | AC20: 品名 | AO20: 規格 | AS20: 単位 | AU20: 数量 | AW20: 返還場所 | BA20: 備考
AC21: ○○改修工事竣工図 | AO21: A3 2つ折り製本 | AS21: 冊 | AU21: 2 | AW21: ○○課 | BA21: ﾍﾟｰｼﾞ抜けあり
AC22: ○○大規模改修工事 工事図書 | AO22: ドッチファイル | AS22: 冊 | AU22: 1 | AW22: ○○課 | BA22: 破けあり
AC23: ○○大規模改修工事 CADデータ | AO23: CD-R | AS23: 枚 | AU23: 1 | AW23: ○○課
B34: ※ | C34: 貸与品の写真を添付すること | AC34: ※ | AD34: 貸与品の写真を添付

Sheet 様式9_返還書
B1: （工事監理業務）様式－９ | AC1: （設計監理）様式－９
I3: 貸与品返還書 | AJ3: 貸与品返還書（記載例）
U5: 令和 年 月 日 | AY5: 令和 年 月 日
C8: =基本情報!E3 -> 上天草市長 堀江 隆臣 様 | AD8: =基本情報!E3 -> 上天草市長 堀江 隆臣 様
S9: =基本情報!B11 -> 熊本県○○市△△町□□番地 | AW9: =基本情報!B11 -> 熊本県○○市△△町□□番地
S10: =基本情報!B12 -> ○○○○設計事務所 | AW10: =基本情報!B12 -> ○○○○設計事務所
S11: =基本情報!B13 -> 代表取締役 ○○ ○○ | AW11: =基本情報!B13 -> 代表取締役 ○○ ○○
D13: 次の業務について、上天草市公共建築工事監理業務委託契約約款第１２条第４項の規定に基づき、下記に記載した貸与品を返却します。 | AE13: 次の業務について、上天草市公共建築設計業務委託契約約款第１９条第４項の規定に基づき、下記に記載した貸与品を返却します。
O14: 記 | AQ14: 記
B16: １ | C16: 業務委託番号 | H16: =基本情報!B3 -> 令和○年度 上○○第○号 | AC16: １ | AD16: 業務委託番号 | AI16: =基本情報!B3 -> 令和○年度 上○○第○号
B17: ２ | C17: 委託業務名 | H17: =基本情報!B4 -> ○○○○○○○○○○○○○工事監理業務委託 | AC17: ２ | AD17: 委託業務名 | AI17: =基本情報!B4 -> ○○○○○○○○○○○○○工事監理業務委託
B18: ３ | C18: 履行場所 | H18: =基本情報!B5 -> 上天草市○○町△△✕✕✕番地□□ | AC18: ３ | AD18: 履行場所 | AI18: =基本情報!B5 -> 上天草市○○町△△✕✕✕番地□□
B19: ４ | C19: 契約年月日 | H19: =基本情報!B9 -> 令和○○年○○月○○日 | AC19: ４ | AD19: 契約年月日 | AI19: =基本情報!B9 -> 令和○○年○○月○○日
B20: 品名 | M20: 規格 | Q20: 単位 | S20: 数量 | U20: 返還場所 | Y20: 備考 | AC20: 品名 | AO20: 規格 | AS20: 単位 | AU20: 数量 | AW20: 返還場所 | BA20: 備考
AC21: ○○改修工事竣工図 | AO21: A3 2つ折り製本 | AS21: 冊 | AU21: 2 | AW21: ○○課 | BA21: ﾍﾟｰｼﾞ抜けあり
AC22: ○○大規模改修工事 工事図書 | AO22: ドッチファイル | AS22: 冊 | AU22: 1 | AW22: ○○課 | BA22: 破けあり
AC23: ○○大規模改修工事 CADデータ | AO23: CD-R | AS23: 枚 | AU23: 1 | AW23: ○○課
N33: 監督員確認欄 | AA33: 印 | AP33: 監督員確認欄 | AV33: 上天草 太朗 | BD33: 印
B36: ※監督員の確認印が押印されたものの写しを受託者に送付すること。 | AC36: ※監督員の確認印が押印されたものの写しを受託者に送付すること。

Sheet 様式10_業務完了通知
A1: （工事監理業務）様式－１０
X3: 令和 年 月 日
B5: （発注者）
B6: =基本情報!E3 -> 上天草市長 堀江 隆臣 様
V10: =基本情報!B11 -> 熊本県○○市△△町□□番地
V11: =基本情報!B12 -> ○○○○設計事務所
V12: =基本情報!B13 -> 代表取締役 ○○ ○○
A14: 業務完了通知書
D17: 下記業務は、 | R17: をもって完了したので、上天草市公共建築
C19: 工事監理業務委託契約約款第２６条第１項に基づき通知します。
A22: 記
D25: 1 | E25: 業務委託番号 | K25: =基本情報!B3 -> 令和○年度 上○○第○号
D28: 2 | E28: 委託業務名 | K28: =基本情報!B4 -> ○○○○○○○○○○○○○工事監理業務委託
D31: 3 | E31: 業務委託料 | K31: =基本情報!B8 -> ○○，○○○，○○○円
D34: 4 | E34: 契約年月日 | K34: =基本情報!B9 -> 令和○○年○○月○○日
D37: 5 | E37: 履行期間 | K37: 自 | M37: =基本情報!B6 -> 令和○○年○○月○○日
K38: 至 | M38: =基本情報!B7 -> 令和○○年○○月○○日
D43: (注) | F43: 本文の年月日は実際に完成した年月日を記載する

Sheet 様式11_引渡し申出書
A1: （工事監理業務）様式－１１
X3: 令和 年 月 日
B5: （発注者）
B6: =基本情報!E3 -> 上天草市長 堀江 隆臣 様
V10: =基本情報!B11 -> 熊本県○○市△△町□□番地
V11: =基本情報!B12 -> ○○○○設計事務所
V12: =基本情報!B13 -> 代表取締役 ○○ ○○
A14: 成果物引渡し申出書
D17: 下記業務を上天草市公共建築工事監理業務委託契約約款第２６条第３項に
D19: 基づき引渡します。
A22: 記
D25: 1． | E25: 業務委託番号 | K25: =基本情報!B3 -> 令和○年度 上○○第○号
D28: 2． | E28: 委託業務名 | K28: =基本情報!B4 -> ○○○○○○○○○○○○○工事監理業務委託
D31: 3． | E31: 業務委託料 | K31: =基本情報!B8 -> ○○，○○○，○○○円
D34: 4． | E34: 検査年月日
