{"text_format":"1","workbook":"xlsx","n_sheets":76,"sheets":["工事関係書類一覧表","入力表","建設ﾘｻｲｸﾙ用入力表","別記様式1(説明書)","別表1","契約書別紙1","別表2","契約書別紙2","別表3","契約書別紙3","様式","別記様式","様式-1","統一様式-2","統一様式-3(1)","統一様式-3(2)","統一様式-1","統一様式-1(2)","統一様式-1(3)","統一様式-7","別紙１","統一様式-4","様式-4(統一様式-4 裏面)","様式-2","様式-2(1)","様式-2(2)","様式-3","別紙４","別紙５","統一様式-5(1)（前払金）","様式-4","様式-5","様式-6","別記様式1","別記様式2","別記様式3","別記様式4","別記様式5","別記様式6","別記様式7","統一様式-9","統一様式-12","統一様式-13","統一様式-14","統一様式-15","様式-7","様式-8","統一様式-5(1)（中間）","統一様式-16","統一様式-17","統一様式-5(1)（指定）","統一様式-19","様式-9","統一様式-5(1)（部分）","統一様式-5(2)","統一様式-22","統一様式-23","統一様式-24","統一様式-25","統一様式-28","統一様式-29","様式-10","様式-11","様式-12","様式-13","統一様式-34(1)","統一様式-34(2)","様式-15","様式‐16","様式-17","統一様式-21","統一様式-30","統一様式-5(1)（完成）","様式-18","様式-19","様式-2０"],"not_rendered":{"charts":0,"images":11,"macros":1,"external_links":1,"defined_names":94,"comments":9,"pivot_tables":0},"unopened":[],"bounds":{"document_bytes":16777216,"sheet_cells":100000,"rows_first":2000,"rows_last":500,"rows_between":2000,"halvings":0,"cell_chars":16384,"cell_head_chars":4096},"cells_cut":0,"cells_raw":0,"read":"whole","date_system":"1900"}

{"sheet":"工事関係書類一覧表","index":0,"n_rows":102,"n_cols":14,"rows_kept":102,"cut":false,"hidden":false,"merged":[[0,0,0,13],[92,1,101,3],[92,0,101,0],[29,1,37,3],[48,2,57,2],[71,0,73,0],[58,1,70,1],[71,1,73,1],[69,2,69,3],[71,2,72,2],[71,3,72,3],[70,2,70,3],[48,0,70,0],[65,2,68,3],[62,2,64,3],[74,1,91,3],[74,0,91,0],[1,13,3,13],[41,13,44,13],[2,8,3,8],[2,4,3,4],[4,2,4,3],[7,2,12,3],[2,6,3,6],[41,3,47,3],[2,5,3,5],[1,0,1,6],[2,0,3,0],[38,1,47,1],[38,3,40,3],[4,0,47,0],[4,1,12,1],[45,13,46,13],[41,2,47,2],[73,2,73,3],[13,1,28,3],[1,8,1,9],[1,10,1,12],[2,9,3,9],[38,2,40,2],[58,2,61,3],[1,7,3,7],[2,1,3,3],[48,1,57,1],[48,3,57,3],[5,2,6,3]]}
["土木工事関係書類一覧表"]
["工　　　事　　　関　　　係　　　書　　　類",null,null,null,null,null,null,"工事関係書類の\n標準様式\n（様式No）","書類作成者",null,"受注者書類作成の位置付け",null,null,"備　　考"]
["作成\n時期","種　　別",null,null,"No.","書　類　名　称","書類作成の根拠",null,"発注者\n","受注者\n","提出","提示","その他"]
[null,null,null,null,null,null,null,null,null,null,"発注者\n保管","受注者\n保管","監督員\nへ連絡"]
["工事着手前","契約図書","契約書",null,1,"工事請負契約書",null,"－","○"]
[null,null,"締結時",null,2,"課税（免税）事業者届出書",null,"様式",null,"〇"]
[null,null,null,null,3,"上天草市暴力団排除条例に係る誓約書",null,"別記様式",null,"〇"]
[null,null,"設計図書",null,4,"共通仕様書",null,"－","○"]
[null,null,null,null,5,"特記仕様書",null,"－","○"]
[null,null,null,null,6,"発注図面",null,"－","○"]
[null,null,null,null,7,"現場説明書",null,"－","○"]
[null,null,null,null,8,"質問回答書",null,"－","○"]
[null,null,null,null,9,"工事数量総括表",null,"－","○"]
[null,"工事着手関係書類",null,null,10,"着工届",null,"様式－１",null,"○","○"]
[null,null,null,null,11,"請負代金内訳書","上天草市公共工事請負契約約款第３条１項","統一様式-2",null,"○","○",null,null,"契約締結後１４日以内に提出。\n※法定福利費を明示した工事費内訳書を入札時に提出済みの場合は不要"]
[null,null,null,null,12,"工程表","上天草市公共工事請負契約約款第３条１項","統一様式-3(1)",null,"○","○",null,null,"契約締結後１４日以内に提出。\n※着工届に含めて提出可"]
[null,null,null,null,13,"現場代理人・主任（監理）技術者　通知書","上天草市公共工事請負契約約款第１０条１項","統一様式-1",null,"○","○",null,null,"経歴書、資格証の写し、健康保険被保険者証の写し等を添付。\n※契約締結時にも確認のため提出。"]
[null,null,null,null,14,"経歴書","上天草市公共工事請負契約約款第１０条１項","統一様式-1(2)",null,"○","○",null,null,"現場代理人・主任（監理）技術者通知書に添付。"]
[null,null,null,null,15,"現場代理人・主任（監理）技術者　変更通知書","上天草市公共工事請負契約約款第１０条１項","統一様式-1(3)",null,"○","○",null,null,"現場代理人及び専任の主任（監理）技術者を変更する場合に提出。\n※真にやむを得ない事情のほか、発注者が交代を認める場合"]
[null,null,null,null,16,"現場代理人及び主任(監理)技術者兼任調書","上天草市が発注する建設工事に設置する現場代理人及び主任技術者等の取り扱い","別紙１",null,"○","○",null,null,"現場代理人を他工事と兼任させる場合、契約時に提出。"]
[null,null,null,null,17,"品質証明員通知書",null,"統一様式-7",null,"○","○",null,null,"品質証明員を定めた場合に提出。資格証の写しを添付。"]
[null,null,null,null,18,"建設業退職金共済制度の掛金収納書","建設業退職金共済制度及び法定外労働災害補償制度の取扱要領","統一様式-4",null,"○","○",null,null,"契約締結後１ヶ月以内に提出。\n購入遅延、無購入等の場合は、別途該当する様式を提出。"]
[null,null,null,null,19,"建設業退職金共済証紙（購入遅延・無購入）申出書","建設業退職金共済制度及び法定外労働災害補償制度の取扱要領","様式－２",null,"○","○",null,null,"建設業退職金共済証紙の購入遅延、無購入の場合に提出。\n添付書類：様式-2（1）又は様式-2（2）"]
[null,null,null,null,20,"建退共証紙受払簿","建設業退職金共済制度及び法定外労働災害補償制度の取扱要領","様式－２（１）",null,"○","○",null,null,"建設業退職金共済証紙（購入遅延・無購入）申出書の添付書類。\n共済証紙を購入しない理由が、共済証紙の手持ちがある場合は提出。\n共済証紙の購入状況を把握するため、共済証紙の受払簿その他関係資料について提出を求めることがある。"]
[null,null,null,null,21,"建設業退職金共済制度以外の退職金制度加入申出書","建設業退職金共済制度及び法定外労働災害補償制度の取扱要領","様式－２（２）",null,"○","○",null,null,"建設業退職金共済証紙（購入遅延・無購入）申出書の添付書類。\n共済証紙を購入しない理由が、建設業退職金共済制度以外の退職金制度に加入している場合は提出。"]
[null,null,null,null,22,"法定外労働災害補償制度加入証明書","建設業退職金共済制度及び法定外労働災害補償制度の取扱要領","様式－３",null,"○","○",null,null,"契約締結後１ヶ月以内に提出。※着工届に含めて提出可"]
[null,null,null,null,23,"休日（現場閉所）取得計画実績表","上天草市週休２日試行工事実施要領","別紙４",null,"○","○",null,null,"施工計画書提出時に併せて提出。※着手前に協議がなければ週休２日は未実施として請負代金を減額\n翌月５日まで毎月末日現在の状況を提出。"]
[null,null,null,null,24,"週休２日（交替制）工事　休日取得状況表","上天草市週休２日試行工事実施要領","別紙５",null,"○","○",null,null,"施工計画書提出時に併せて提出。※着手前に協議がなければ週休２日は未実施として請負代金を減額\n翌月５日まで毎月末日現在の状況を提出。"]
[null,null,null,null,25,"請求書（前払金）","上天草市公共工事請負契約約款第３４条１項","統一様式-5(1)",null,"○","○",null,null,"請負代金130万以上の工事が対象。保証証書添付、請負代金の4割が上限。"]
[null,"その他",null,null,26,"事前協議チェックシート","上天草市電子納品運用ガイドライン","様式－４",null,"○","○",null,null,"電子納品対象工事の場合は、本様式により事前に受発注者間で協議。"]
[null,null,null,null,27,"情報共有システム活用のための事前協議シート","上天草市情報共有システム活用要領","様式－５",null,"○","○",null,null,"情報共有システムを活用する工事の場合は、本様式により事前に受発注者間で協議。"]
[null,null,null,null,28,"登録内容確認書（CORINS)",null,"－",null,"○","○",null,null,"請負代金500万円以上の工事について、受注・変更・完成・訂正時、土日祝日を除き１０日以内に登録し、それぞれ提出。（旧称：工事カルテ受領書）"]
[null,null,null,null,29,"建設リサイクル法に基づく通知書","建設工事に係る資材の再資源化等に関する法律第１１条\n建設リサイクル法の取扱い","－","○",null,null,null,null,"土木工事等は請負代金５００万円以上が対象。\n実際に工事に着手する７日前までに提出。"]
[null,null,null,null,30,"工事中標識設置届","道路工事現場における表示施設等の設置基準\n道路工事保安施設設置基準","様式－６",null,"○","○",null,null,"工事に着手する前に提出。\n※工事着手とは工期の始期日以降の実際の工事のための準備工事（現場事務所等の建設又は測量）に着手することをいう。契約変更により、工期の変更を行った場合、速やかに変更する標識の設置状況写真を打合せ簿に含めて提出。"]
[null,null,null,null,31,"設計図書の照査確認資料",null,"－",null,"○","○","○",null,"設計図書と差異があった場合のみ提出とし、設計図書と一致している場合は提示と。施工前及び施工中に適宜行う。"]
[null,null,null,null,32,"工事測量結果",null,"－",null,"○","○","○",null,"設計図書と差異があった場合のみ提出とし、設計図書と一致している場合は提示と。提出の時期は工事着手の前と。また、測量標（仮ＢＭ）及び工事用多角点を設置した場合は測量結果を提出。"]
[null,null,null,null,33,"建設機械の写真",null,"－",null,"○","○",null,null,"排出ガス対策型建設機械あるいは排出ガス浄化装置を装着した建設機械を使用する場合提出。"]
[null,null,null,null,34,"工事使用材料承認願",null,"－",null,"○","○",null,null,"工事材料を発注する前に提出。"]
[null,"工事書類","１施工計画","①施工計画",35,"施工計画書",null,"－",null,"○","○",null,null,"維持工事等簡易な工事においては、監督員の承諾を得て記載内容の一部を省略することができる。提出時期は、工期開始日から３０日以内。\n作成内容については、「施工計画書(土木工事)作成の手引き」を参照すること。"]
[null,null,null,null,36,"工事登録証明書（計画）",null,"－",null,"○","○",null,null,"建設副産物情報交換システム（コブリス）により作成し、施工計画書へ含めて提出。"]
[null,null,null,null,37,"再生資源利用〔促進〕計画書",null,"－",null,"○","○",null,null,"建設資材の搬入、建設副産物の搬出について、建設副産物情報交換システムにより作成し、施工計画書へ含めて提出。"]
[null,null,"２施工体制","②施工体制",38,"施工体制台帳","上天草市下請契約報告事務取扱要領第２条第１項","別記様式１",null,"○","○",null,null,"工事を施工するために、下請契約を締結するすべてのものが対象。\n下請契約締結の日から２１日以内に提出。\n詳細は市HPの下請契約報告事務取扱要領を確認すること。"]
[null,null,null,null,39,"下請負人に関する事項","上天草市下請契約報告事務取扱要領第２条第１項","別記様式２",null,"○","○"]
[null,null,null,null,40,"工事作業所災害防止協議会\n兼施工体系図","上天草市下請契約報告事務取扱要領第２条第１項、第３項","別記様式３",null,"○","○"]
[null,null,null,null,41,"作業員名簿","上天草市下請契約報告事務取扱要領第２条第１項、第３項","別記様式４",null,"○","○"]
[null,null,null,null,42,"下請確認票","上天草市下請契約報告事務取扱要領第２条第２項","別記様式５",null,"○","○",null,null,"工事を施工するために、下請契約を締結する100万円以上のものが対象。\n詳細は市HPの下請契約報告事務取扱要領を確認すること。"]
[null,null,null,null,43,"元請・下請関係内容表","上天草市下請契約報告事務取扱要領第２条第２項","別記様式６",null,"○","○"]
[null,null,null,null,44,"再下請負通知書","上天草市下請契約報告事務取扱要領第２条第３項","別記様式７",null,"○","○",null,null,"下請負人が建設工事を他の建設業を営む者に請け負わせた場合は、その都度、次の書類を提出。\n詳細は市HPの下請契約報告事務取扱要領を確認すること。"]
["施工中","工事書類","３施工状況","③施工管理",45,"工事打合せ簿",null,"統一様式-9","○","○","○",null,null,"随時"]
[null,null,null,null,46,"確認・立会依頼書",null,"統一様式-12",null,"○","○",null,null,"添付資料は机上の場合のみ、施工管理記録、写真等を添付。\n監督員が臨場して段階確認した箇所は、出来形管理写真の撮影を省略できる。"]
[null,null,null,null,47,"関係機関協議資料\n（許可後の資料）",null,"－",null,"○",null,"○",null,"許可後の資料については、許可書の写しを監督員に提出するか、しゅん工検査時に原本を持参。"]
[null,null,null,null,48,"説明書\n(建設ﾘｻｲｸﾙ法第12条関係)","建設工事に係る資材の再資源化等に関する法律第１２条\n建設リサイクル法の取扱い","別記様式1\n(説明書)",null,"○","○",null,null,"変更契約を行う際に、分別解体等の方法、解体工事に要する費用及び再資源化等に要する費用や、再資源化等をするための施設の名称及び所在地に変更が生じた場合は提出。土木工事等は請負額５００万円以上が対象。"]
[null,null,null,null,49,"契約書別紙\n(建設ﾘｻｲｸﾙ法第13条関係)","建設工事に係る資材の再資源化等に関する法律第１３条\n建設リサイクル法の取扱い","別表1～\n契約書別表3",null,"○","○",null,null,"変更契約を行う際に、分別解体等の方法、解体工事に要する費用及び再資源化等に要する費用や、再資源化等をするための施設の名称及び所在地に変更が生じた場合は提出。土木工事等は請負額５００万円以上が対象。"]
[null,null,null,null,50,"施工計画書（変更）",null,"－",null,"○","○",null,null,"重要な変更が生じた場合は、その都度着手する前に変更施工計画書を提出。工期や数量増減だけの軽微な変更で施工計画に大きく影響しない場合は 変更施工計画書の提出は不要。"]
[null,null,null,null,51,"事故速報",null,"統一様式-13",null,"○","○",null,null,"事故発生の場合、直ちに監督員に通報し、監督員が指示する期日までに提出。"]
[null,null,null,null,52,"工事履行報告書",null,"統一様式-14",null,"○","○",null,null,"工事進捗を把握するため、実施工程表と状況写真を添付し、翌月５日（土・日・祝日の場合は次の平日）までに提出。\n週休２日試行工事の対象工事は、休日（現場閉所）取得計画実績表を併せて提出。"]
[null,null,null,null,53,"変更工程表","上天草市公共工事請負契約約款第３条１項","統一様式-3(2)",null,"○","○",null,null,"契約約款に基づく工期変更の請求を行う際の協議資料として提出。変更契約締結後においては１４日以内に提出。\nまた、変更契約締結前であっても、計画工程との差異が生じる場合は、監督員の指示により随時提出。"]
[null,null,null,null,54,"出来形数量",null,"－",null,"○","○",null,null,"監督員から請求があった場合速やかに提示し、工事完成時までに提出。\n工事数量の計算等にあたっては、土木工事数量算出要領等及び設計図書を適用。"]
[null,"契約関係書類","中間前払金",null,55,"認定請求書","上天草市公共工事請負契約約款第３４条５項\n上天草市公共工事の代価の中間前金払制度要綱","統一様式-15",null,"○","○",null,null,"中間前金払を請求する場合に提出。"]
[null,null,null,null,56,"進捗額算定内訳書","上天草市公共工事の代価の中間前金払制度要綱","様式-７",null,"○","○",null,null,"中間前金払を請求する場合は、認定請求書と併せて提出。"]
[null,null,null,null,57,"認定調書","上天草市公共工事請負契約約款第３４条５項\n上天草市公共工事の代価の中間前金払制度要綱","様式-８","○",null,null,null,null,"請求内容が妥当である場合は、受注者に交付。"]
[null,null,null,null,58,"請求書（中間前金払）","上天草市公共工事請負契約約款第３４条４項","統一様式-5(1)（中間）",null,"○","○"]
[null,null,"完済部分\n検査",null,59,"指定部分完成通知書","上天草市公共工事請負契約約款第３８条１項","統一様式-16",null,"○","○",null,null,"発注者が設計図書において工事の完成に先立って引渡しを受けるべきことを指定した部分がある場合は、指定部分の工事が完了した際に提出。"]
[null,null,null,null,60,"指定部分引渡書","上天草市公共工事請負契約約款第３８条１項","統一様式-17",null,"○","○"]
[null,null,null,null,61,"請求書（指定部分完済払金）","上天草市公共工事請負契約約款第３８条１項","統一様式-5(1)（指定）",null,"○","○"]
[null,null,"既済部分\n検査",null,62,"出来形部分確認請求書","上天草市公共工事請負契約約款第３７条２項","統一様式-19",null,"○","○",null,null,"部分払を請求する場合に提出。"]
[null,null,null,null,63,"工事出来高内訳書","上天草市公共工事請負契約約款第３７条２項","様式－９",null,"○","○",null,null,"部分払を請求する場合は、出来形部分確認請求書と併せて提出。"]
[null,null,null,null,64,"請求書（部分払金）","上天草市公共工事請負契約約款第３７条５項","統一様式-5(1)（部分）",null,"○","○"]
[null,null,null,null,65,"請求内訳書","上天草市公共工事請負契約約款第３７条５項","統一様式-5(2)",null,"○","○",null,null,"部分払を請求する場合は、請求書（部分払金）と併せて提出。"]
[null,null,"部分使用",null,66,"部分使用協議書・承諾書","上天草市公共工事請負契約約款第３３条１項","統一様式-22","○","○","○",null,null,"部分使用がある場合に提出。"]
[null,null,"工期延期",null,67,"工期延期届","上天草市公共工事請負契約約款第２１条","統一様式-23",null,"○","○",null,null,"工期の延長を請求する場合に提出。"]
["施工中","契約関係書類","支給材料・貸与品","支給品",68,"支給品受領書","上天草市公共工事請負契約約款第１５条３項","統一様式-24",null,"○","○",null,null,"支給品の受領または貸与を受けた場合に提出。"]
[null,null,null,null,69,"支給品精算書","上天草市公共工事請負契約約款第１５条９項","統一様式-25",null,"○","○",null,null,"受領または貸与を受けた支給品を精算する場合に提出。"]
[null,null,"現場発生品",null,70,"現場発生品調書",null,"統一様式-28",null,"○","○",null,null,"現場発生品がある場合に提出。"]
["工事完成時","工事書類\n（しゅん工書類として一括して提出）",null,null,71,"工事完成通知書（しゅん工届）","上天草市公共工事請負契約約款第３１条１項","統一様式-29",null,"○","○",null,null,"工事を完了した時に提出。"]
[null,null,null,null,72,"着工前、竣工写真",null,"－",null,"○","○",null,null,"着手前写真と完成写真は同一構図となるよう撮影し、起終点位置や重要な中間点にはポール等を立てて撮影。"]
[null,null,null,null,73,"実施工程表",null,"－",null,"○","○",null,null,"計画は黒、実績は赤で記載。"]
[null,null,null,null,74,"出来形管理表",null,"様式－１０",null,"○","○"]
[null,null,null,null,75,"品質管理表",null,"様式－１１",null,"○","○"]
[null,null,null,null,76,"出来形管理資料",null,"－",null,"○","○",null,null,"工程能力図、測定結果一覧表、出来形管理測定表等"]
[null,null,null,null,77,"品質管理資料",null,"－",null,"○","○",null,null,"試験（測定）結果報告書、試験成績表、記録表、配合報告書、検査規格書等"]
[null,null,null,null,78,"安全管理資料",null,"－",null,"○",null,"○",null,"災害防止協議会活動記録、店社パトロール実施記録、安全巡視・ＴＢＭ・ＫＹ実施記録、新規入場者教育実施記録、過積載防止記録、使用機械等の点検整備記録、仮設物の点検管理記録、保安施設の点検管理記録はしゅん工検査時に持参。"]
[null,null,null,null,79,"工事写真",null,"－",null,"○","○",null,null,"施工状況写真、安全管理写真、使用材料写真、品質管理写真、出来形管理写真、検査写真、災害写真、事故写真、その他（公害、環境、補償等）"]
[null,null,null,null,80,"再資源化等報告書\n(建設ﾘｻｲｸﾙ法第18条関係)","建設工事に係る資材の再資源化等に関する法律第１８条\n建設リサイクル法の取扱い","様式－２０",null,"○","○",null,null,"土木工事等は請負額５００万円以上が対象。\n特定建設資材を再資源化しなかった場合は不要。"]
[null,null,null,null,81,"工事登録証明書（計画・実施）",null,"－",null,"○","○",null,null,"建設副産物情報交換システム（コブリス）により作成して提出。"]
[null,null,null,null,82,"再生資源利用〔促進〕実施書",null,"－",null,"○","○",null,null,"該当する建設資材を搬入または建設副産物を搬出した場合、建設副産物情報交換システムにより作成して提出。"]
[null,null,null,null,83,"建設廃棄物処理実績集計表",null,"様式－１２",null,"○","○",null,null,"建設廃棄物を処理した場合提出。"]
[null,null,null,null,84,"産業廃棄物管理表（マニュフェスト）",null,"－",null,"○",null,"○",null,"建設廃棄物を搬出した場合は監督員に提示し、建設廃棄物処理実績集計表と照合し確認を受け、しゅん工検査時に持参。"]
[null,null,null,null,85,"安全・訓練等の実施状況報告書",null,"様式－１３",null,"○","○",null,null,"実施内容に関する資料及び工事日報については、しゅん工検査時に持参し提示。"]
[null,null,null,null,86,"工事特性・創意工夫・社会性等に関する実施状況調書",null,"統一様式-34(1)\n様式－１４",null,"○","○",null,null,"工事特性、創意工夫、地域社会への貢献等を実施した場合に提出。\n説明資料として、写真・位置図等を添付。"]
[null,null,null,null,87,"電子媒体納品書",null,"様式－１５",null,"○","○",null,null,"電子納品対象工事の場合は電子媒体と併せて提出。"]
[null,null,null,null,88,"資材等出荷伝票",null,"－",null,"○",null,"○",null,"コンクリートについては、材料承認時の配合計画書と照合するため、しゅん工検査時に持参。"]
["工事完成時","しゅん工検査後",null,null,89,"破壊検査箇所復築完了届","上天草市工事等検査規程第９条３項\n上天草市工事等検査規程取扱要領第８条２項","様式－１６",null,"○","○",null,null,"破壊検査を実施した場合のみ提出。"]
[null,null,null,null,90,"検査写真・破壊検査復旧写真",null,"－",null,"○","○",null,null,"検査後速やかに提出。"]
[null,null,null,null,91,"工事手直し請書","上天草市工事等検査規程取扱要領第９条１項","様式－１７",null,"○","○",null,null,"検査の結果、不合格と認定された場合提出。"]
[null,null,null,null,92,"手直し工事完了届","上天草市公共工事請負契約約款第３１条６項\n上天草市工事等検査規程取扱要領第１０条","統一様式-21",null,"○","○",null,null,"工事の手直しが完了した際に提出。"]
[null,null,null,null,93,"しゅん工認定書","上天草市公共工事請負契約約款第３１条２項","－","○"]
[null,null,null,null,94,"工事成績（修正）評定通知書\n項目別評定点","上天草市工事成績評定通知要領第３条","－","○",null,null,null,null,"河川掘削、崩土取除き、取壊し、草刈、点検、解体、設備機器の更新等を施工する工事を除く、最終請負金額１３０万以上の工事が対象。"]
[null,null,null,null,95,"工事目的物引渡し申出書","上天草市公共工事請負契約約款第３１条４項","統一様式-30",null,"○","○",null,null,"しゅん工認定を受けた後、速やかに提出。"]
[null,null,null,null,96,"請求書（完成代金）","上天草市公共工事請負契約約款第３２条１項","統一様式-5(1)（完成）",null,"○","○"]
[null,null,null,null,97,"保証書に係る受領書",null,"様式－１８",null,"○","○",null,null,"入札工事は監理課、随意契約は発注課へ提出"]
[null,null,null,null,98,"契約保証金還付請求書",null,"様式－１９",null,"○","○",null,null,"入札工事は監理課、随意契約は発注課へ提出"]

{"sheet":"入力表","index":1,"n_rows":62,"n_cols":4,"rows_kept":62,"cut":false,"hidden":false,"merged":[[35,0,35,2],[23,3,23,5],[22,0,22,2],[61,0,61,2],[61,3,61,5],[25,0,25,2],[25,3,25,5],[26,0,26,2],[60,0,60,2],[60,3,60,5],[59,0,59,2],[59,3,59,5],[57,0,57,2],[57,3,57,5],[58,3,58,5],[55,0,55,2],[55,3,55,5],[56,0,56,2],[56,3,56,5],[22,3,22,5],[58,0,58,2],[47,0,47,2],[47,3,47,5],[51,0,51,2],[16,3,16,5],[17,0,17,2],[17,3,17,5],[35,3,35,5],[34,3,34,5],[34,0,34,2],[26,3,26,5],[27,0,27,2],[27,3,27,5],[28,3,28,5],[28,0,28,2],[30,0,30,2],[30,3,30,5],[31,0,31,2],[31,3,31,5],[33,0,33,2],[33,3,33,5],[32,0,32,2],[32,3,32,5],[29,0,29,2],[29,3,29,5],[24,0,24,2],[24,3,24,5],[23,0,23,2],[1,1,1,5],[2,1,2,5],[3,1,3,5],[4,1,4,5],[6,1,6,5],[5,1,5,2],[14,0,14,2],[21,0,21,2],[21,3,21,5],[15,0,15,2],[15,3,15,5],[18,0,18,2],[18,3,18,5],[20,0,20,2],[20,3,20,5],[10,1,10,5],[19,0,19,2],[19,3,19,5],[16,0,16,2],[11,1,11,5],[12,1,12,5],[5,4,5,5],[7,1,7,5],[8,1,8,5],[51,3,51,5],[48,0,48,2],[48,3,48,5],[49,0,49,2],[49,3,49,5],[50,0,50,2],[50,3,50,5],[54,0,54,2],[54,3,54,5],[52,0,52,2],[52,3,52,5],[53,0,53,2],[53,3,53,5],[46,0,46,2],[46,3,46,5],[39,3,39,5],[39,0,39,2],[40,0,40,2],[40,3,40,5],[45,0,45,2],[45,3,45,5],[36,0,36,2],[36,3,36,5],[37,0,37,2],[37,3,37,5],[44,0,44,2],[44,3,44,5],[42,0,42,2],[42,3,42,5],[43,0,43,2],[43,3,43,5],[41,0,41,2],[41,3,41,5],[38,0,38,2],[38,3,38,5]]}
[]
["工事番号"]
["工事名"]
["工事場所"]
["契約締結日"]
["工期",null,null,"～"]
["契約金額"]
["現場代理人"]
["主任（監理）技術者"]
[]
["住所"]
["会社名"]
["代表者肩書および氏名"]
[]
["※黄色着色セル書類は提出が必須です。\n　 無着色セルの書類は状況に応じて提出下さい。"]
["書類名",null,null,"提出年月日 "]
["課税（免税）事業者届出書"]
["別記様式　上天草市暴力団排除条例に係る誓約書"]
["様式－１　着工届"]
["統一様式-2　請負代金内訳書"]
["統一様式-3(1)　工程表"]
["統一様式-3(2)　変更工程表"]
["統一様式-1　現場代理人・主任（監理）技術者通知書"]
["統一様式-1(2)　経歴書"]
["統一様式-1(3)　代理人・技術者　変更"]
["統一様式-7　品質証明員通知書"]
["統一様式-4　建設業退職金共済掛金収納書"]
["様式－２　購入遅延・無購入申出書"]
["様式－３　法定外労働災害補償制度加入証明書"]
["統一様式-5(1)　請求書（前払金）"]
["様式－４　事前協議チェックシート（電子納品）"]
["様式－５　事前協議シート（情報共有システム）"]
["様式－６　工事中標識設置届"]
["別記様式１　施工体制台帳"]
["別記様式４　作業員名簿"]
["別記様式７　再下請負通知書"]
["統一様式-9　工事打合せ簿"]
["統一様式-12　確認・立会依頼書"]
["統一様式-14　工事履行報告書"]
["統一様式-15　認定請求書（中間前金払）"]
["様式-７　進捗額算定内訳書"]
["統一様式-5(1)　請求書（中間前払金）"]
["統一様式-16　指定部分完成通知書"]
["統一様式-17　指定部分引渡書"]
["統一様式-5(1)　請求書（指定部分完済払金）"]
["統一様式-19　出来形部分確認請求書"]
["統一様式-5(1)　請求書（部分払金）"]
["統一様式-22　部分使用協議書・承諾書"]
["統一様式-23　工事延期届"]
["統一様式-24　支給品受領書"]
["統一様式-25　支給品精算書"]
["統一様式-28　現場発生品調書"]
["統一様式-29　工事完成通知書（しゅん工届）"]
["様式-２０　再資源化等報告書"]
["様式－１４　創意工夫・社会性等に関する実施状況に係る開示の同意"]
["様式-１６　破壊検査箇所復築完了届"]
["様式-１７　工事手直し請書"]
["統一様式-21　手直し工事完了届"]
["統一様式-30　工事目的物引渡し申出書"]
["統一様式-5(1)　請求書（完成代金）"]
["様式－１８　保証書に係る受領書"]
["様式－１９　契約保証金還付請求書"]

{"sheet":"建設ﾘｻｲｸﾙ用入力表","index":2,"n_rows":19,"n_cols":33,"rows_kept":19,"cut":false,"hidden":false,"merged":[[5,0,5,4],[5,5,5,19],[6,0,6,4],[6,5,6,19],[16,2,16,21],[16,22,16,25],[16,26,16,29],[12,26,12,29],[13,2,13,21],[13,22,13,25],[13,26,13,29],[14,2,14,21],[12,1,12,21],[12,22,12,25],[14,1,15,1],[14,22,15,25],[14,26,15,29],[4,32,4,36],[3,32,3,35],[15,2,15,21],[10,0,10,4],[10,5,10,19],[11,0,11,4],[11,5,11,19],[7,0,7,4],[7,5,7,19],[8,0,8,4],[8,5,8,19],[9,0,9,4],[9,5,9,19],[4,0,4,4],[14,0,15,0],[4,5,4,19]]}
["リサイクル法関連提出書類の作成について"]
[]
["↓　下記事項を入力してください"]
[null,null,null,null,null,null,null,null,null,null,null,null,null,null,null,null,null,null,null,null,null,null,null,null,null,null,null,null,null,null,null,null,"一覧表へ戻る"]
["商号又は名称",null,null,null,null,{"$f":"IF(入力表!B12=\"\",\"入力表に入力して下さい。\",入力表!B12)","v":"入力表に入力して下さい。"},null,null,null,null,null,null,null,null,null,null,null,null,null,null,null,null,null,null,null,null,null,null,null,null,null,null,"別記様式1（説明書）へ"]
["代表者名",null,null,null,null,{"$f":"IF(入力表!B13=\"\",\"入力表に入力して下さい。\",入力表!B13)","v":"入力表に入力して下さい。"}]
["郵便番号"]
["住所",null,null,null,null,{"$f":"IF(入力表!B11=\"\",\"入力表に入力して下さい。\",入力表!B11)","v":"入力表に入力して下さい。"}]
["電話番号"]
["提出日"]
["工事名",null,null,null,null,{"$f":"IF(入力表!B3=\"\",\"入力表に入力して下さい。\",入力表!B3)","v":"入力表に入力して下さい。"}]
["工事場所",null,null,null,null,{"$f":"IF(入力表!B4=\"\",\"入力表に入力して下さい。\",入力表!B4)","v":"入力表に入力して下さい。"}]
[null," ↓　今回の対象工事にチェック"]
[false,null,"建築物に係る解体工事（床面積８０㎡以上）",null,null,null,null,null,null,null,null,null,null,null,null,null,null,null,null,null,null,null,"別表１",null,null,null,"契約書別紙１"]
[false,null,"建築物（建築設備含む）の新築・増築工事（床面積５００㎡以上）",null,null,null,null,null,null,null,null,null,null,null,null,null,null,null,null,null,null,null,"別表２",null,null,null,"契約書別紙２"]
[null,null,"建築物（建築設備含む）の修繕・模様替え（リフォーム含む）工事（請負金額１億円以上）"]
[false,null,"建築物以外の工事（土木工事・土木関連設備工事）（請負金額５００万円以上）",null,null,null,null,null,null,null,null,null,null,null,null,null,null,null,null,null,null,null,"別表３",null,null,null,"契約書別紙３"]
[]
[{"$f":"IF(OR(A15=TRUE,A16=TRUE),TRUE,FALSE)","v":false},"今回の対象のチェックの右側のリンク先の様式及び説明書を作成し印刷して主任監督員の確認印を押してもらうこと。"]

{"sheet":"別記様式1(説明書)","index":3,"n_rows":30,"n_cols":23,"rows_kept":30,"cut":false,"hidden":false,"merged":[[1,18,1,20],[2,18,4,20],[6,0,6,20],[7,13,7,14],[10,0,10,2],[10,3,10,5],[22,6,22,20],[23,6,23,20],[3,22,3,27],[2,22,2,25],[12,8,12,9],[12,10,12,19],[13,8,13,19],[14,8,14,9],[14,10,14,20],[20,0,20,20],[11,10,11,19]]}
["建設リサイクル法第１２条関係様式"]
["（別記様式１）",null,null,null,null,null,null,null,null,null,null,null,null,null,null,null,null,null,"確認印"]
[null,null,null,null,null,null,null,null,null,null,null,null,null,null,null,null,null,null,null,null,null,null,"一覧表へ戻る"]
[null,null,null,null,null,null,null,null,null,null,null,null,null,null,null,null,null,null,null,null,null,null,"建設ﾘｻｲｸﾙ用入力表へ戻る"]
[]
[]
["説 明 書"]
[null,null,null,null,null,null,null,null,null,null,null,null,null,"令和",null,{"$f":"IF(建設ﾘｻｲｸﾙ用入力表!F10=\"\",\"\",建設ﾘｻｲｸﾙ用入力表!F10)","v":""},"年",{"$f":"IF(建設ﾘｻｲｸﾙ用入力表!F10=\"\",\"\",建設ﾘｻｲｸﾙ用入力表!F10)","v":""},"月",{"$f":"IF(建設ﾘｻｲｸﾙ用入力表!F10=\"\",\"\",建設ﾘｻｲｸﾙ用入力表!F10)","v":""},"日"]
[]
["（発注者）"]
["上天草市長",null,null,"堀江　隆臣",null,null,"様"]
[null,null,null,null,null,null,null,null,null,null,{"$f":"IF(建設ﾘｻｲｸﾙ用入力表!F5=\"\",\"\",建設ﾘｻｲｸﾙ用入力表!F5)","v":"入力表に入力して下さい。"}]
[null,null,null,null,null,null,null,null,"氏　名",null,{"$f":"IF(建設ﾘｻｲｸﾙ用入力表!F6=\"\",\"\",\"  \"&建設ﾘｻｲｸﾙ用入力表!F6)","v":"  入力表に入力して下さい。"},null,null,null,null,null,null,null,null,null,"印"]
[null,null,null,null,null,null,null,null,{"$f":"IF(建設ﾘｻｲｸﾙ用入力表!F7=\"\",\"\",\"(郵便番号\"&建設ﾘｻｲｸﾙ用入力表!F7&\")\"&\"  電話番号 \"&建設ﾘｻｲｸﾙ用入力表!F9)","v":""}]
[null,null,null,null,null,null,null,null,"住　所",null,{"$f":"IF(建設ﾘｻｲｸﾙ用入力表!F8=\"\",\"\",建設ﾘｻｲｸﾙ用入力表!F8)","v":"入力表に入力して下さい。"}]
[]
[]
["　建設工事に係る資材の再資源化等に関する法律第１２条第１項の規定により、対象建設工事"]
["の分別解体等の計画等に係る事項について説明します。"]
[]
["記"]
[]
[null,"１．工事の名称",null,null,null,null,{"$f":"IF(建設ﾘｻｲｸﾙ用入力表!F11=\"\",\"\",建設ﾘｻｲｸﾙ用入力表!F11)","v":"入力表に入力して下さい。"}]
[null,"２．工事の場所",null,null,null,null,{"$f":"IF(建設ﾘｻｲｸﾙ用入力表!F12=\"\",\"\",建設ﾘｻｲｸﾙ用入力表!F12)","v":"入力表に入力して下さい。"}]
[null,"３．説明の内容",null,null,null,null,"添付資料のとおり"]
[null,"４．添付資料"]
[null,null,null,"別表（別紙１～３のいずれかに必要事項を記載したもの）"]
[null,null,null,null,"別表１（建築物に係る解体工事）"]
[null,null,null,null,"別表２（建築物に係る新築工事等（新築・増築・修繕・模様替等））"]
[null,null,null,null,"別表３（建築物以外のものに係る解体工事又は新築工事等（土木工事等））"]

{"sheet":"別表1","index":4,"n_rows":55,"n_cols":41,"rows_kept":55,"cut":false,"hidden":false,"merged":[[1,23,1,33],[2,0,2,33],[3,0,4,9],[4,30,4,32],[5,0,10,3],[5,4,6,9],[5,10,5,12],[5,13,5,14],[5,19,5,20],[6,14,6,29],[7,4,10,9],[8,24,8,30],[9,20,9,21],[10,14,10,29],[11,0,25,3],[11,4,11,9],[11,10,11,21],[11,22,11,33],[12,4,13,9],[12,22,12,33],[13,13,13,20],[13,22,13,33],[14,4,17,9],[14,15,14,19],[14,22,14,33],[15,17,15,18],[15,22,15,33],[16,22,16,33],[17,13,17,20],[17,22,17,33],[21,4,23,9],[21,22,21,33],[22,12,22,20],[22,22,22,33],[23,22,23,33],[18,4,20,9],[18,22,18,33],[19,12,19,20],[19,22,19,33],[20,22,20,33],[26,11,26,22],[26,23,26,33],[27,1,29,10],[37,1,37,10],[29,28,29,32],[30,1,32,10],[32,28,32,32],[33,1,34,10],[35,1,36,10],[51,21,52,23],[47,24,48,24],[49,24,50,24],[51,24,52,24],[24,4,25,9],[24,10,24,21],[24,22,24,33],[25,10,25,21],[25,22,25,33],[42,0,44,10],[42,11,42,33],[44,17,44,32],[49,21,50,23],[47,21,48,23],[26,0,38,0],[26,1,26,10],[1,40,1,49],[54,2,54,33],[55,0,55,33],[46,25,46,33],[49,12,49,20],[46,21,46,24],[45,0,45,10],[45,15,45,17],[46,0,53,0],[46,1,52,10],[38,2,38,9],[46,11,46,20],[53,1,53,33],[39,0,41,10],[40,15,40,25],[41,18,41,28]]}
["別表１"]
[null,null,null,null,null,null,null,null,null,null,null,null,null,null,null,null,null,null,null,null,null,null,null,"建築物に係る解体工事",null,null,null,null,null,null,null,null,null,null,null,null,null,null,null,null,"建設ﾘｻｲｸﾙ用入力表へ戻る"]
["分別解体等の計画等"]
["建築物の構造",null,null,null,null,null,null,null,null,null,null,"木造",null,null,null,"鉄骨鉄筋コンクリート造",null,null,null,null,null,null,null,null,null,null,"鉄筋コンクリート造"]
[null,null,null,null,null,null,null,null,null,null,null,"鉄骨造",null,null,null,null,"コンクリートブロック造",null,null,null,null,null,null,null,null,false,null,"その他(",null,null,null,null,null,")"]
["建築物に関する調査の結果",null,null,null,"建築物の状況",null,null,null,null,null,"築年数",null,null,null,null,"年、棟数",null,null,null,null,null,"棟"]
[null,null,null,null,null,null,null,null,null,null,"その他（",null,null,null,null,null,null,null,null,null,null,null,null,null,null,null,null,null,null,null,"）"]
[null,null,null,null,"周辺状況",null,null,null,null,null,"周辺にある施設",null,null,null,null,null,null,"住宅",null,null,null,"商業施設",null,null,null,null,null,"学校"]
[null,null,null,null,null,null,null,null,null,null,null,null,null,null,null,null,null,"病院",null,null,false,"その他(",null,null,null,null,null,null,null,null,null,")"]
[null,null,null,null,null,null,null,null,null,null,"敷地境界との最短距離",null,null,null,null,null,null,null,null,"約",null,null,"ｍ"]
[null,null,null,null,null,null,null,null,null,null,"その他（",null,null,null,null,null,null,null,null,null,null,null,null,null,null,null,null,null,null,null,"）"]
["建築物に関する調査の結果及び工事着手前に実施する措置の内容",null,null,null,null,null,null,null,null,null,"建築物に関する調査の結果",null,null,null,null,null,null,null,null,null,null,null,"工事着手前に実施する措置の内容"]
[null,null,null,null,"作業場所",null,null,null,null,null,"作業場所",null,null,null,null,"十分",null,null,null,"不十分"]
[null,null,null,null,null,null,null,null,null,null,"その他(",null,null,null,null,null,null,null,null,null,null,")"]
[null,null,null,null,"搬出経路",null,null,null,null,null,"障害物",null,null,false,"有",null,null,null,null,null,null,"無"]
[null,null,null,null,null,null,null,null,null,null,"前面通路の幅員 約",null,null,null,null,null,null,null,null,"ｍ"]
[null,null,null,null,null,null,null,null,null,null,"通学路",null,null,null,null,"有",null,null,null,"無"]
[null,null,null,null,null,null,null,null,null,null,"その他(",null,null,null,null,null,null,null,null,null,null,")"]
[null,null,null,null,"残存物品",null,null,null,null,null,null,false,"有"]
[null,null,null,null,null,null,null,null,null,null,null,"(",null,null,null,null,null,null,null,null,null,")"]
[null,null,null,null,null,null,null,null,null,null,null,null,"無"]
[null,null,null,null,"特定建設資材への付着物",null,null,null,null,null,null,false,"有"]
[null,null,null,null,null,null,null,null,null,null,null,"(",null,null,null,null,null,null,null,null,null,")"]
[null,null,null,null,null,null,null,null,null,null,null,null,"無"]
[null,null,null,null,"その他"]
[]
["工程ごとの作業内容及び解体方法","工程",null,null,null,null,null,null,null,null,null,"作業内容",null,null,null,null,null,null,null,null,null,null,null,"分別解体等の方法"]
[null,"①建築設備・内装材等",null,null,null,null,null,null,null,null,null,"建築設備・内装材等の取り外し",null,null,null,null,null,null,null,null,null,null,null,null,"手作業"]
[null,null,null,null,null,null,null,null,null,null,null,null,null,"有",null,null,null,null,"無",null,null,null,null,null,"手作業・機械作業の併用"]
[null,null,null,null,null,null,null,null,null,null,null,null,null,null,null,null,null,null,null,null,null,null,null,"併用の理由（",null,null,null,null,null,null,null,null,null,")"]
[null,"②屋根ふき材",null,null,null,null,null,null,null,null,null,"屋根ふき材の取り外し",null,null,null,null,null,null,null,null,null,null,null,null,"手作業"]
[null,null,null,null,null,null,null,null,null,null,null,null,null,"有",null,null,null,null,"無",null,null,null,null,null,"手作業・機械作業の併用"]
[null,null,null,null,null,null,null,null,null,null,null,null,null,null,null,null,null,null,null,null,null,null,null,"併用の理由（",null,null,null,null,null,null,null,null,null,")"]
[null,"③外装材・上部構造部分",null,null,null,null,null,null,null,null,null,"外装材・上部構造物分の取り壊し",null,null,null,null,null,null,null,null,null,null,null,null,"手作業"]
[null,null,null,null,null,null,null,null,null,null,null,null,null,"有",null,null,null,null,"無",null,null,null,null,null,"手作業・機械作業の併用"]
[null,"④基礎・基礎ぐい",null,null,null,null,null,null,null,null,null,"基礎・基礎ぐいの取り壊し",null,null,null,null,null,null,null,null,null,null,null,null,"手作業"]
[null,null,null,null,null,null,null,null,null,null,null,null,null,"有",null,null,null,null,"無",null,null,null,null,null,"手作業・機械作業の併用"]
[null,"⑤その他",null,null,null,null,null,null,null,null,null,"その他の取り壊し",null,null,null,null,null,null,null,null,null,null,null,null,"手作業"]
[null,"（",null,null,null,null,null,null,null,null,")",null,null,"有",null,null,null,null,"無",null,null,null,null,null,"手作業・機械作業の併用"]
["工事の工程の順序",null,null,null,null,null,null,null,null,null,null,null,"上の工程における①→②→③→④の順序"]
[null,null,null,null,null,null,null,null,null,null,null,false,"その他(",null,null,null,null,null,null,null,null,null,null,null,null,null,"）"]
[null,null,null,null,null,null,null,null,null,null,null,null,"その他の理由（",null,null,null,null,null,null,null,null,null,null,null,null,null,null,null,null,"）"]
["内装材に木材が含まれる場合",null,null,null,null,null,null,null,null,null,null,"①の工程における木材の分別に支障となる建設資材の事前の取り外し"]
[null,null,null,null,null,null,null,null,null,null,null,null,null,"可",null,null,null,false,"不可"]
[null,null,null,null,null,null,null,null,null,null,null,null,"不可の理由（",null,null,null,null,null,null,null,null,null,null,null,null,null,null,null,null,null,null,null,null,")"]
["建築物に用いられた建設資材の量の見込み",null,null,null,null,null,null,null,null,null,null,null,null,null,null,null,null,null,"トン"]
["廃棄物発生見込量","特定建設資材廃棄物の種類ごとの量の見込み及びその発生が見込まれる建築物の部分",null,null,null,null,null,null,null,null,null,"種類",null,null,null,null,null,null,null,null,null,"量の見込み",null,null,null,"発生が見込まれる部分(注)"]
[null,null,null,null,null,null,null,null,null,null,null,false,"コンクリート塊",null,null,null,null,null,null,null,null,null,null,null,"ｔ",null,"①",null,"②",null,"③",null,"④"]
[null,null,null,null,null,null,null,null,null,null,null,null,null,null,null,null,null,null,null,null,null,null,null,null,null,null,"⑤"]
[null,null,null,null,null,null,null,null,null,null,null,false,"アスファルト・コンクリート塊",null,null,null,null,null,null,null,null,null,null,null,"ｔ",null,"①",null,"②",null,"③",null,"④"]
[null,null,null,null,null,null,null,null,null,null,null,null,null,null,null,null,null,null,null,null,null,null,null,null,null,null,"⑤"]
[null,null,null,null,null,null,null,null,null,null,null,false,"建設発生木材",null,null,null,null,null,null,null,null,null,null,null,"ｔ",null,"①",null,"②",null,"③",null,"④"]
[null,null,null,null,null,null,null,null,null,null,null,null,null,null,null,null,null,null,null,null,null,null,null,null,null,null,"⑤"]
[null,"(注)①建築設備・内装材等　②屋根ふき材　③外装材・上部構造部分　④基礎・基礎ぐい　⑤その他"]
["備考"]

{"sheet":"契約書別紙1","index":5,"n_rows":38,"n_cols":27,"rows_kept":38,"cut":false,"hidden":false,"merged":[[13,1,14,5],[13,6,13,14],[9,15,9,19],[9,20,9,22],[10,1,12,5],[10,6,10,14],[12,15,12,19],[12,20,12,22],[17,6,17,14],[2,26,2,32],[30,0,30,8],[30,9,30,15],[30,16,30,23],[15,1,16,5],[15,6,15,14],[17,1,17,5],[18,2,18,4],[3,16,3,22],[6,0,18,0],[6,1,6,5],[6,6,6,14],[6,15,6,23],[7,1,9,5],[7,6,7,14],[31,0,31,8],[31,9,31,15],[31,16,31,23],[22,13,22,17],[22,18,22,21],[23,13,23,18],[29,0,29,8],[29,9,29,15],[29,16,29,23],[32,0,32,8],[32,9,32,15],[32,16,32,23],[34,13,34,17],[34,18,34,21]]}
["建設リサイクル法第１３条関係様式"]
["（別記様式２）契約書別紙"]
["別表１",null,null,null,null,null,null,null,null,null,null,null,null,null,null,null,null,null,null,null,null,null,null,null,null,null,"建設ﾘｻｲｸﾙ用入力表へ戻る"]
[null,null,null,null,null,null,null,null,null,null,null,null,null,null,null,null,"建築物に係る解体工事\n"]
["１．分別解体等の方法"]
[]
["工程ごとの作業内容及び解体方法","工程",null,null,null,null,"作業内容",null,null,null,null,null,null,null,null,"分別解体等の方法"]
[null,"①建築設備・内装材等",null,null,null,null,"建築設備・内装材等の取り外し",null,null,null,null,null,null,null,null,null,"手作業"]
[null,null,null,null,null,null,null,null,"有",null,null,"無",null,null,null,null,"手作業・機械作業の併用"]
[null,null,null,null,null,null,null,null,null,null,null,null,null,null,null,"併用の場合は理由(",null,null,null,null,{"$f":"IF(別表1!AC30=\"\",\"\",別表1!AC30)","v":""},null,null,")"]
[null,"②屋根ふき材",null,null,null,null,"屋根ふき材の取り外し",null,null,null,null,null,null,null,null,null,"手作業"]
[null,null,null,null,null,null,null,null,"有",null,null,"無",null,null,null,null,"手作業・機械作業の併用"]
[null,null,null,null,null,null,null,null,null,null,null,null,null,null,null,"併用の場合は理由(",null,null,null,null,{"$f":"IF(別表1!AC33=\"\",\"\",別表1!AC33)","v":""},null,null,")"]
[null,"③外装材・上部構造部分",null,null,null,null,"外装材・上部構造物の取り壊し",null,null,null,null,null,null,null,null,null,"手作業"]
[null,null,null,null,null,null,null,null,"有",null,null,"無",null,null,null,null,"手作業・機械作業の併用"]
[null,"④基礎・基礎ぐい",null,null,null,null,"基礎・基礎ぐいの取り壊し",null,null,null,null,null,null,null,null,null,"手作業"]
[null,null,null,null,null,null,null,null,"有",null,null,"無",null,null,null,null,"手作業・機械作業の併用"]
[null,"⑤その他",null,null,null,null,"その他の取り壊し",null,null,null,null,null,null,null,null,null,"手作業"]
[null,"（",{"$f":"IF(別表1!C39=\"\",\"\",別表1!C39)","v":""},null,null,"）",null,null,"有",null,null,"無",null,null,null,null,"手作業・機械作業の併用"]
[]
["（注）分別解体等の方法については、該当がない場合は記載の必要はない。"]
[]
["２．解体工事に要する費用（直接工事費）",null,null,null,null,null,null,null,null,null,null,null,null,null,null,null,null,null,"円（税抜き）"]
["（注）・解体工事の場合のみ記載。"]
["　　　・解体工事に伴う分別解体及び積込みに要する費用と。"]
["　　　・解体工事に伴う仮設費及び運搬費は含まない。"]
[]
["３．再資源化等をする施設の名称及び所在地"]
[]
["特定建設資材廃棄物の種類",null,null,null,null,null,null,null,null,"施設の名称",null,null,null,null,null,null,"所在地"]
[]
[]
[]
[]
["４．再資源化等に要する費用（直接工事費）",null,null,null,null,null,null,null,null,null,null,null,null,null,null,null,null,null,"円（税抜き）"]
[null,null,null,null,"[運搬費を含む]"]
[]
[null,"（注）・記載に当たっては、設計図書等に基づく金額を記入すること。"]

{"sheet":"別表2","index":6,"n_rows":41,"n_cols":37,"rows_kept":41,"cut":false,"hidden":false,"merged":[[1,14,1,33],[2,0,2,33],[3,0,4,9],[5,0,10,3],[5,4,6,9],[5,10,5,12],[5,13,5,14],[5,19,5,20],[6,14,6,29],[7,4,10,9],[8,24,8,30],[9,20,9,21],[10,14,10,29],[11,0,23,3],[11,4,11,9],[11,10,11,21],[11,22,11,33],[12,4,14,9],[12,22,12,33],[13,13,13,20],[13,22,13,33],[14,10,14,21],[14,22,14,33],[15,4,18,9],[15,15,15,19],[15,22,15,33],[16,17,16,18],[16,22,16,33],[17,22,17,33],[18,13,18,20],[18,22,18,33],[19,4,21,9],[19,22,19,33],[20,12,20,20],[20,22,20,33],[21,22,21,33],[22,10,22,21],[22,22,22,33],[23,10,23,21],[23,22,23,33],[24,0,31,0],[24,1,24,10],[24,11,24,22],[24,23,24,33],[25,1,25,10],[30,11,31,20],[31,2,31,9],[26,1,26,10],[27,1,27,10],[28,1,28,10],[29,1,29,10],[30,1,30,10],[39,1,39,33],[40,2,40,33],[41,0,41,33],[2,35,2,44],[32,0,39,0],[32,1,38,10],[32,11,32,20],[32,21,32,24],[32,25,32,33],[35,12,35,20],[30,23,31,23],[30,27,31,27],[30,28,31,28],[30,36,31,36],[30,37,31,37],[22,4,23,9],[33,21,34,23],[33,24,34,24],[35,21,36,23],[35,24,36,24],[37,21,38,23],[37,24,38,24]]}
["別表２"]
[null,null,null,null,null,null,null,null,null,null,null,null,null,null,"建築物に係る新築工事等（新築・増築・修繕・模様替）"]
["分別解体等の計画等",null,null,null,null,null,null,null,null,null,null,null,null,null,null,null,null,null,null,null,null,null,null,null,null,null,null,null,null,null,null,null,null,null,null,"建設ﾘｻｲｸﾙ用入力表へ戻る"]
["使用する特定建設\n資材の種類",null,null,null,null,null,null,null,null,null,null,"コンクリート",null,null,null,null,null,null,"コンクリート及び鉄から成る建設資材"]
[null,null,null,null,null,null,null,null,null,null,null,"アスファルト・コンクリート",null,null,null,null,null,null,null,null,null,null,null,null,"木材"]
["建築物に関する調査の結果",null,null,null,"建築物の状況",null,null,null,null,null,"築年数",null,null,null,null,"年、棟数",null,null,null,null,null,"棟"]
[null,null,null,null,null,null,null,null,null,null,"その他（",null,null,null,null,null,null,null,null,null,null,null,null,null,null,null,null,null,null,null,"）"]
[null,null,null,null,"周辺状況",null,null,null,null,null,"周辺にある施設",null,null,null,null,null,null,"住宅",null,null,null,"商業施設",null,null,null,null,null,"学校"]
[null,null,null,null,null,null,null,null,null,null,null,null,null,null,null,null,null,"病院",null,null,false,"その他(",null,null,null,null,null,null,null,null,null,")"]
[null,null,null,null,null,null,null,null,null,null,"敷地境界との最短距離",null,null,null,null,null,null,null,null,"約",null,null,"ｍ"]
[null,null,null,null,null,null,null,null,null,null,"その他（",null,null,null,null,null,null,null,null,null,null,null,null,null,null,null,null,null,null,null,"）"]
["建築物に関する調査の結果及び工事着手前に実施する措置の内容",null,null,null,null,null,null,null,null,null,"建築物に関する調査の結果",null,null,null,null,null,null,null,null,null,null,null,"工事着手前に実施する措置の内容"]
[null,null,null,null,"作業場所",null,null,null,null,null,"作業場所",null,null,null,null,"十分",null,null,null,"不十分"]
[null,null,null,null,null,null,null,null,null,null,"その他(",null,null,null,null,null,null,null,null,null,null,")"]
[]
[null,null,null,null,"搬出経路",null,null,null,null,null,"障害物",null,null,false,"有",null,null,null,null,null,null,"無"]
[null,null,null,null,null,null,null,null,null,null,"前面通路の幅員 約",null,null,null,null,null,null,null,null,"ｍ"]
[null,null,null,null,null,null,null,null,null,null,"通学路",null,null,null,null,"有",null,null,null,"無"]
[null,null,null,null,null,null,null,null,null,null,"その他(",null,null,null,null,null,null,null,null,null,null,")"]
[null,null,null,null,"特定建設資材への付着物（修繕・模様替工事のみ）",null,null,null,null,null,null,false,"有"]
[null,null,null,null,null,null,null,null,null,null,null,"(",null,null,null,null,null,null,null,null,null,")"]
[null,null,null,null,null,null,null,null,null,null,null,null,"無"]
[null,null,null,null,"その他"]
[]
["工程ごとの作業内容","工程",null,null,null,null,null,null,null,null,null,"作業内容"]
[null,"①造成等",null,null,null,null,null,null,null,null,null,"造成等の工事",null,null,null,null,null,null,null,null,null,null,null,"有",null,null,null,"無"]
[null,"②基礎・基礎ぐい",null,null,null,null,null,null,null,null,null,"基礎・基礎ぐいの工事",null,null,null,null,null,null,null,null,null,null,null,"有",null,null,null,"無"]
[null,"③上部構造部分・外装",null,null,null,null,null,null,null,null,null,"上部構造部分・外装の工事",null,null,null,null,null,null,null,null,null,null,null,"有",null,null,null,"無"]
[null,"④屋根",null,null,null,null,null,null,null,null,null,"屋根の工事",null,null,null,null,null,null,null,null,null,null,null,"有",null,null,null,"無"]
[null,"⑤建築設備・内装",null,null,null,null,null,null,null,null,null,"建築設備・内装等の工事",null,null,null,null,null,null,null,null,null,null,null,"有",null,null,null,"無"]
[null,"⑥その他",null,null,null,null,null,null,null,null,null,"その他の工事",null,null,null,null,null,null,null,null,null,null,null,"有",null,null,null,"無",null,null,null,null,null,null,null,null,false]
[null,"（",null,null,null,null,null,null,null,null,")"]
["廃棄物発生見込量","特定建設資材廃棄物の種類ごとの量の見込み並びに特定建設資材が使用される建築物の部分及び特定建設資材廃棄物の発生が見込まれる建築物の部分",null,null,null,null,null,null,null,null,null,"種類",null,null,null,null,null,null,null,null,null,"量の見込み",null,null,null,"発生が見込まれる部分(注)"]
[null,null,null,null,null,null,null,null,null,null,null,false,"コンクリート塊",null,null,null,null,null,null,null,null,null,null,null,"ｔ",null,"①",null,"②",null,"③",null,"④"]
[null,null,null,null,null,null,null,null,null,null,null,null,null,null,null,null,null,null,null,null,null,null,null,null,null,null,"⑤",null,"⑥"]
[null,null,null,null,null,null,null,null,null,null,null,false,"アスファルト・コンクリート塊",null,null,null,null,null,null,null,null,null,null,null,"ｔ",null,"①",null,"②",null,"③",null,"④"]
[null,null,null,null,null,null,null,null,null,null,null,null,null,null,null,null,null,null,null,null,null,null,null,null,null,null,"⑤",null,"⑥"]
[null,null,null,null,null,null,null,null,null,null,null,false,"建設発生木材",null,null,null,null,null,null,null,null,null,null,null,"ｔ",null,"①",null,"②",null,"③",null,"④"]
[null,null,null,null,null,null,null,null,null,null,null,null,null,null,null,null,null,null,null,null,null,null,null,null,null,null,"⑤",null,"⑥"]
[null,"(注)①造成等　②基礎　③上部構造部分・外装　④屋根　⑤建築設備・内装等　⑥その他"]
["備考"]

{"sheet":"契約書別紙2","index":7,"n_rows":42,"n_cols":26,"rows_kept":42,"cut":false,"hidden":false,"merged":[[6,0,24,0],[6,1,6,23],[7,1,9,8],[10,1,12,8],[13,1,15,8],[16,1,18,8],[19,1,21,8],[22,1,23,8],[24,2,24,7],[2,25,2,31],[34,0,34,8],[34,9,34,15],[34,16,34,23],[35,0,35,8],[35,9,35,15],[35,16,35,23],[28,13,28,17],[28,18,28,21],[32,0,32,8],[32,9,32,15],[32,16,32,23],[33,0,33,8],[33,9,33,15],[33,16,33,23],[3,9,3,23],[36,0,36,8],[36,9,36,15],[36,16,36,23],[38,13,38,17],[38,18,38,21]]}
["建設リサイクル法第１３条関係様式"]
["（別記様式２）契約書別紙"]
["別表２",null,null,null,null,null,null,null,null,null,null,null,null,null,null,null,null,null,null,null,null,null,null,null,null,"建設ﾘｻｲｸﾙ用入力表へ戻る"]
[null,null,null,null,null,null,null,null,null,"建築物に係る新築工事等（新築・増築・修繕・模様替等）"]
["１．分別解体等の方法"]
[]
["工程ごとの作業内容及び解体方法","工程及び作業内容"]
[null,"①造成等",null,null,null,null,null,null,null,"造成等の工事"]
[null,null,null,null,null,null,null,null,null,null,null,"有",null,null,"無"]
[]
[null,"②基礎・基礎ぐい",null,null,null,null,null,null,null,"基礎・基礎ぐいの工事"]
[null,null,null,null,null,null,null,null,null,null,null,"有",null,null,"無"]
[]
[null,"③上部構造物・外装",null,null,null,null,null,null,null,"上部構造物・外装の工事"]
[null,null,null,null,null,null,null,null,null,null,null,"有",null,null,"無"]
[]
[null,"④屋根",null,null,null,null,null,null,null,"屋根の工事"]
[null,null,null,null,null,null,null,null,null,null,null,"有",null,null,"無"]
[]
[null,"⑤建築設備・内装等",null,null,null,null,null,null,null,"建築設備・内装等の工事"]
[null,null,null,null,null,null,null,null,null,null,null,"有",null,null,"無"]
[]
[null,"⑥その他",null,null,null,null,null,null,null,"その他の工事"]
[null,null,null,null,null,null,null,null,null,null,null,"有",null,null,"無"]
[null,"（",{"$f":"IF(別表2!C32=\"\",\"\",別表2!C32)","v":""},null,null,null,null,null,"）"]
[]
["（注）分別解体等の方法については、該当がない場合は記載の必要はない。"]
[]
["２．解体工事に要する費用（直接工事費）",null,null,null,null,null,null,null,null,null,null,null,null,null,null,null,null,null,"円（税抜き）"]
[]
["３．再資源化等をする施設の名称及び所在地"]
[]
["特定建設資材廃棄物の種類",null,null,null,null,null,null,null,null,"施設の名称",null,null,null,null,null,null,"所在地"]
[]
[]
[]
[]
[]
["４．再資源化等に要する費用（直接工事費）",null,null,null,null,null,null,null,null,null,null,null,null,null,null,null,null,null,"円（税抜き）"]
[null,null,null,null,"[運搬費を含む]"]
[]
[null,"（注）・記載に当たっては、設計図書等に基づく金額を記入すること。"]

{"sheet":"別表3","index":8,"n_rows":54,"n_cols":41,"rows_kept":54,"cut":false,"hidden":false,"merged":[[5,0,7,9],[7,15,7,31],[1,10,1,33],[2,0,2,33],[3,0,4,9],[3,24,3,32],[4,30,4,32],[7,11,7,13],[26,4,27,9],[26,10,26,21],[8,0,9,9],[10,0,15,3],[10,4,11,9],[10,10,10,12],[10,13,10,14],[15,14,15,29],[10,19,10,20],[11,14,11,29],[12,4,15,9],[13,24,13,30],[14,20,14,21],[23,22,23,33],[19,4,22,9],[19,15,19,19],[19,22,19,33],[20,17,20,18],[22,22,22,33],[20,22,20,33],[21,22,21,33],[16,10,16,21],[16,22,16,33],[17,4,18,9],[17,22,17,33],[18,13,18,20],[18,22,18,33],[28,0,40,0],[28,1,28,10],[28,11,28,22],[28,23,28,33],[29,1,30,10],[31,1,32,10],[33,1,34,10],[35,1,36,10],[37,1,38,10],[39,1,39,10],[26,22,26,33],[27,10,27,21],[27,22,27,33],[23,4,25,9],[52,1,52,33],[46,24,47,24],[48,21,49,23],[48,24,49,24],[50,21,51,23],[50,24,51,24],[44,15,44,17],[24,12,24,20],[24,22,24,33],[25,22,25,33],[16,0,27,3],[16,4,16,9],[53,2,53,33],[54,0,54,33],[2,40,2,49],[45,0,52,0],[45,1,51,10],[45,11,45,20],[45,21,45,24],[45,25,45,33],[48,12,48,20],[40,2,40,9],[41,0,43,10],[42,15,42,25],[43,18,43,28],[44,0,44,10],[22,13,22,20],[46,21,47,23]]}
["別表３"]
[null,null,null,null,null,null,null,null,null,null,"建築物以外のものに係る解体工事又は新築工事等(土木工事等)"]
["分別解体等の計画等",null,null,null,null,null,null,null,null,null,null,null,null,null,null,null,null,null,null,null,null,null,null,null,null,null,null,null,null,null,null,null,null,null,null,null,null,null,null,null,"建設ﾘｻｲｸﾙ用入力表へ戻る"]
["工作物の構造\n（解体工事のみ）",null,null,null,null,null,null,null,null,null,null,"鉄筋コンクリート造",null,null,null,null,null,null,null,null,null,"その他(",null,null,null,null,null,null,null,null,null,null,null,")",null,false]
[]
["工事の種類",null,null,null,null,null,null,null,null,null,null,"新築工事",null,null,null,null,null,"維持・修繕工事",null,null,null,null,null,null,null,"解体工事"]
[null,null,null,null,null,null,null,null,null,null,null,"電気",null,null,null,"水道",null,null,null,"ガス",null,null,null,"下水道",null,null,null,null,"鉄道",null,null,null,"電話"]
[null,null,null,null,null,null,null,null,null,null,null,"その他",null,null,"(",null,null,null,null,null,null,null,null,null,null,null,null,null,null,null,null,null,"）",null,null,false]
["使用する特定建設資材の種類\n（新築・維持・修繕工事のみ）",null,null,null,null,null,null,null,null,null,null,"コンクリート",null,null,null,null,null,null,"コンクリート及び鉄から成る建設資材"]
[null,null,null,null,null,null,null,null,null,null,null,"アスファルト・コンクリート",null,null,null,null,null,null,null,null,null,null,null,null,"木材"]
["工作物に関する調査の結果",null,null,null,"工作物の状況",null,null,null,null,null,"築年数",null,null,null,null,"年"]
[null,null,null,null,null,null,null,null,null,null,"その他（",null,null,null,null,null,null,null,null,null,null,null,null,null,null,null,null,null,null,null,"）"]
[null,null,null,null,"周辺状況",null,null,null,null,null,"周辺にある施設",null,null,null,null,null,null,"住宅",null,null,null,"商業施設",null,null,null,null,null,"学校"]
[null,null,null,null,null,null,null,null,null,null,null,null,null,null,null,null,null,"病院",null,null,null,"その他(",null,null,null,null,null,null,null,null,null,")",null,null,null,false]
[null,null,null,null,null,null,null,null,null,null,"敷地境界との最短距離",null,null,null,null,null,null,null,null,"約",null,null,"ｍ"]
[null,null,null,null,null,null,null,null,null,null,"その他（",null,null,null,null,null,null,null,null,null,null,null,null,null,null,null,null,null,null,null,"）"]
["工作物に関する調査の結果及び工事着手前に実施する措置の内容",null,null,null,null,null,null,null,null,null,"建築物に関する調査の結果",null,null,null,null,null,null,null,null,null,null,null,"工事着手前に実施する措置の内容"]
[null,null,null,null,"作業場所",null,null,null,null,null,"作業場所",null,null,null,null,"十分",null,null,null,"不十分"]
[null,null,null,null,null,null,null,null,null,null,"その他(",null,null,null,null,null,null,null,null,null,null,")"]
[null,null,null,null,"搬出経路",null,null,null,null,null,"障害物",null,null,false,"有",null,null,null,null,null,null,"無"]
[null,null,null,null,null,null,null,null,null,null,"前面通路の幅員 約",null,null,null,null,null,null,null,null,"ｍ"]
[null,null,null,null,null,null,null,null,null,null,"通学路",null,null,null,null,"有",null,null,null,"無"]
[null,null,null,null,null,null,null,null,null,null,"その他(",null,null,null,null,null,null,null,null,null,null,")"]
[null,null,null,null,"特定建設資材への付着物（解体・維持・修繕工事のみ)",null,null,null,null,null,null,false,"有"]
[null,null,null,null,null,null,null,null,null,null,null,"(",null,null,null,null,null,null,null,null,null,")"]
[null,null,null,null,null,null,null,null,null,null,null,null,"無"]
[null,null,null,null,"その他"]
[]
["工程ごとの作業内容及び解体方法","工程",null,null,null,null,null,null,null,null,null,"作業内容",null,null,null,null,null,null,null,null,null,null,null,"分別解体等の方法"]
[null,"①仮設",null,null,null,null,null,null,null,null,null,"仮設工事",null,null,null,null,null,null,null,null,null,null,null,null,"手作業"]
[null,null,null,null,null,null,null,null,null,null,null,null,null,"有",null,null,null,null,"無",null,null,null,null,null,"手作業・機械作業の併用"]
[null,"②土工",null,null,null,null,null,null,null,null,null,"土工事",null,null,null,null,null,null,null,null,null,null,null,null,"手作業"]
[null,null,null,null,null,null,null,null,null,null,null,null,null,"有",null,null,null,null,"無",null,null,null,null,null,"手作業・機械作業の併用"]
[null,"③基礎",null,null,null,null,null,null,null,null,null,"基礎工事",null,null,null,null,null,null,null,null,null,null,null,null,"手作業"]
[null,null,null,null,null,null,null,null,null,null,null,null,null,"有",null,null,null,null,"無",null,null,null,null,null,"手作業・機械作業の併用"]
[null,"④本体構造",null,null,null,null,null,null,null,null,null,"本体構造の工事",null,null,null,null,null,null,null,null,null,null,null,null,"手作業"]
[null,null,null,null,null,null,null,null,null,null,null,null,null,"有",null,null,null,null,"無",null,null,null,null,null,"手作業・機械作業の併用"]
[null,"⑤本体付属品",null,null,null,null,null,null,null,null,null,"本体付属品の工事",null,null,null,null,null,null,null,null,null,null,null,null,"手作業"]
[null,null,null,null,null,null,null,null,null,null,null,null,null,"有",null,null,null,null,"無",null,null,null,null,null,"手作業・機械作業の併用"]
[null,"⑥その他",null,null,null,null,null,null,null,null,null,"その他の工事",null,null,null,null,null,null,null,null,null,null,null,null,"手作業"]
[null,"（",null,null,null,null,null,null,null,null,")",null,null,"有",null,null,null,null,"無",null,null,null,null,null,"手作業・機械作業の併用"]
["工事の工程の順序\n（解体工事のみ）",null,null,null,null,null,null,null,null,null,null,null,"上の工程における⑤→④→③の順序"]
[null,null,null,null,null,null,null,null,null,null,null,false,"その他(",null,null,null,null,null,null,null,null,null,null,null,null,null,"）"]
[null,null,null,null,null,null,null,null,null,null,null,null,"その他の理由（",null,null,null,null,null,null,null,null,null,null,null,null,null,null,null,null,"）"]
["工作物に用いられた建設資材の量の見込み（解体工事のみ）",null,null,null,null,null,null,null,null,null,null,null,null,null,null,null,null,null,"トン"]
["廃棄物発生見込量","特定建設資材廃棄物の種類ごとの量の見込み(全工事)並びに特定建設資材が使用される工作物の部分(新築・維持・修繕工事のみ)及び特定建設資材廃棄物の発生が見込まれる工作物の部分(維持・修繕・解体工事のみ)",null,null,null,null,null,null,null,null,null,"種類",null,null,null,null,null,null,null,null,null,"量の見込み",null,null,null,"使用する部分又は発生が見込まれる部分(注)"]
[null,null,null,null,null,null,null,null,null,null,null,false,"コンクリート塊",null,null,null,null,null,null,null,null,null,null,null,"ｔ",null,"①",null,"②",null,"③",null,"④"]
[null,null,null,null,null,null,null,null,null,null,null,null,null,null,null,null,null,null,null,null,null,null,null,null,null,null,"⑤",null,"⑥"]
[null,null,null,null,null,null,null,null,null,null,null,false,"アスファルト・コンクリート塊",null,null,null,null,null,null,null,null,null,null,null,"ｔ",null,"①",null,"②",null,"③",null,"④"]
[null,null,null,null,null,null,null,null,null,null,null,null,null,null,null,null,null,null,null,null,null,null,null,null,null,null,"⑤",null,"⑥"]
[null,null,null,null,null,null,null,null,null,null,null,false,"建設発生木材",null,null,null,null,null,null,null,null,null,null,null,"ｔ",null,"①",null,"②",null,"③",null,"④"]
[null,null,null,null,null,null,null,null,null,null,null,null,null,null,null,null,null,null,null,null,null,null,null,null,null,null,"⑤",null,"⑥"]
[null,"(注)①仮設　②土工　③基礎　④本体構造　⑤本体付属品　⑥その他"]
["備考"]

{"sheet":"契約書別紙3","index":9,"n_rows":42,"n_cols":26,"rows_kept":42,"cut":false,"hidden":false,"merged":[[3,7,3,23],[5,0,23,0],[5,1,5,14],[5,15,5,23],[6,1,8,5],[6,6,6,14],[9,1,11,5],[9,6,9,14],[12,1,14,5],[12,6,12,14],[15,1,17,5],[15,6,15,14],[18,1,20,5],[18,6,18,14],[21,6,21,14],[21,1,22,5],[26,13,26,17],[26,18,26,21],[27,13,27,18],[32,0,32,8],[32,9,32,15],[32,16,32,23],[23,2,23,4],[38,13,38,17],[38,18,38,21],[2,25,2,31],[35,0,35,8],[35,9,35,15],[35,16,35,23],[36,0,36,8],[36,9,36,15],[36,16,36,23],[33,0,33,8],[33,9,33,15],[33,16,33,23],[34,0,34,8],[34,9,34,15],[34,16,34,23]]}
["建設リサイクル法第１３条関係様式"]
["（別記様式２）契約書別紙"]
["別表３",null,null,null,null,null,null,null,null,null,null,null,null,null,null,null,null,null,null,null,null,null,null,null,null,"建設ﾘｻｲｸﾙ用入力表へ戻る"]
[null,null,null,null,null,null,null,"建築物以外のものに係る解体工事又は新築工事（土木工事等）"]
["１．分別解体等の方法"]
["工程ごとの作業内容及び解体方法","工程及び作業内容",null,null,null,null,null,null,null,null,null,null,null,null,null,"分別解体等の方法"]
[null,"①仮設",null,null,null,null,"工事",null,null,null,null,null,null,null,null,null,"手作業"]
[null,null,null,null,null,null,null,null,"有",null,null,"無",null,null,null,null,"手作業・機械作業の併用"]
[]
[null,"②土工",null,null,null,null,"工事",null,null,null,null,null,null,null,null,null,"手作業"]
[null,null,null,null,null,null,null,null,"有",null,null,"無",null,null,null,null,"手作業・機械作業の併用"]
[]
[null,"③基礎",null,null,null,null,"工事",null,null,null,null,null,null,null,null,null,"手作業"]
[null,null,null,null,null,null,null,null,"有",null,null,"無",null,null,null,null,"手作業・機械作業の併用"]
[]
[null,"④本体構造",null,null,null,null,"工事",null,null,null,null,null,null,null,null,null,"手作業"]
[null,null,null,null,null,null,null,null,"有",null,null,"無",null,null,null,null,"手作業・機械作業の併用"]
[]
[null,"⑤本体付属品",null,null,null,null,"工事",null,null,null,null,null,null,null,null,null,"手作業"]
[null,null,null,null,null,null,null,null,"有",null,null,"無",null,null,null,null,"手作業・機械作業の併用"]
[]
[null,"⑥その他",null,null,null,null,"工事",null,null,null,null,null,null,null,null,null,"手作業"]
[null,null,null,null,null,null,null,null,"有",null,null,"無",null,null,null,null,"手作業・機械作業の併用"]
[null,"（",{"$f":"IF(別表3!C41=\"\",\"\",別表3!C41)","v":""},null,null,"）"]
["（注）分別解体等の方法については、該当がない場合は記載の必要はない。"]
[]
["２．解体工事に要する費用（直接工事費）",null,null,null,null,null,null,null,null,null,null,null,null,null,null,null,null,null,"円（税抜き）"]
["（注）・解体工事の場合のみ記載。"]
["　　　・解体工事に伴う分別解体及び積込みに要する費用と。"]
["　　　・解体工事に伴う仮設費及び運搬費は含まない。"]
[]
["３．再資源化等をする施設の名称及び所在地"]
["特定建設資材廃棄物の種類",null,null,null,null,null,null,null,null,"施設の名称",null,null,null,null,null,null,"所在地"]
[]
[]
[]
[]
[]
["４．再資源化等に要する費用（直接工事費）",null,null,null,null,null,null,null,null,null,null,null,null,null,null,null,null,null,"円（税抜き）"]
[null,null,null,null,"[運搬費を含む]"]
[]
[null,"（注）・記載に当たっては、設計図書等に基づく金額を記入すること。"]

{"sheet":"様式","index":10,"n_rows":17,"n_cols":33,"rows_kept":17,"cut":false,"hidden":false,"merged":[[7,19,7,28],[8,19,8,28],[9,19,9,27],[11,0,11,28],[16,2,16,4],[0,29,0,30],[1,29,1,30],[16,6,16,11],[16,12,16,13],[16,14,16,19],[1,9,1,19],[13,0,13,28],[5,0,5,11],[7,13,7,17],[8,13,8,17],[9,13,9,17],[3,21,3,28]]}
[null,null,null,null,null,null,null,null,null,null,null,null,null,null,null,null,null,null,null,null,null,null,null,null,null,null,null,null,null,"一覧表へ戻る"]
[null,null,null,null,null,null,null,null,null,"課税事業者届出書",null,null,null,null,null,null,null,null,null,null,null,null,null,null,null,null,null,null,null,"入力表へ戻る"]
[]
[null,null,null,null,null,null,null,null,null,null,null,null,null,null,null,null,null,null,null,null,null,{"$f":"IF(入力表!D17=\"\",\"令和　　年　　月　　日\",入力表!D17)","v":"令和　　年　　月　　日"}]
[]
["　上天草市長　堀江　隆臣　様"]
[]
[null,null,null,null,null,null,null,null,null,null,null,null,null,"住　　　　所",null,null,null,null,null,{"$f":"IF(入力表!B11=\"\",\"\",入力表!B11)","v":""},null,null,null,null,null,null,null,null,null,null,null,null,"課税事業者届出書"]
[null,null,null,null,null,null,null,null,null,null,null,null,null,"商号又は名称",null,null,null,null,null,{"$f":"IF(入力表!B12=\"\",\"\",入力表!B12)","v":""},null,null,null,null,null,null,null,null,null,null,null,null,"免税事業者届出書"]
[null,null,null,null,null,null,null,null,null,null,null,null,null,"代表者氏名　",null,null,null,null,null,{"$f":"IF(入力表!B13=\"\",\"\",入力表!B13)","v":""},null,null,null,null,null,null,null,null,"㊞"]
[null,null,null,null,null,null,null,null,null,null,null,null,null,null,null,null,null,null,null,null,null,null,null,null,null,null,null,null,null,null,null,null,"　下記の期間について、消費税及び地方消費税の課税事業者（消費税法第9条第1項本文の規定により消費税及び地方消費税を納める義務が免除される事業者でない）であるのでその旨届け出ます。"]
[{"$f":"IF(J2=AG8,AG11,AG12)","v":"　下記の期間について、消費税及び地方消費税の課税事業者（消費税法第9条第1項本文の規定により消費税及び地方消費税を納める義務が免除される事業者でない）であるのでその旨届け出ます。"},null,null,null,null,null,null,null,null,null,null,null,null,null,null,null,null,null,null,null,null,null,null,null,null,null,null,null,null,null,null,null,"　下記の期間について、消費税及び地方消費税の免税事業者（消費税法第9条第1項本文の規定により消費税及び地方消費税を納める義務が免除される事業者である）であるのでその旨届け出ます。"]
[]
["記"]
[]
[]
[null,null,"課税期間",null,null,null,null,null,null,null,null,null,"～"]

{"sheet":"別記様式","index":11,"n_rows":29,"n_cols":32,"rows_kept":29,"cut":false,"hidden":false,"merged":[[1,31,1,32],[2,31,2,32],[2,21,2,29],[11,0,11,29],[10,0,10,29],[6,12,6,16],[7,12,7,16],[8,12,8,16],[13,0,13,29],[24,0,24,28],[27,0,27,3],[28,0,28,3],[27,4,27,29],[28,4,28,29],[15,2,15,28],[16,2,16,28],[17,2,17,28],[18,2,18,28],[19,2,19,28],[20,2,20,28],[21,2,21,28],[22,2,22,28],[23,2,23,28],[0,0,0,5],[4,0,4,11],[6,18,6,29],[8,18,8,28],[7,18,7,29]]}
["別記様式"]
[null,null,null,null,null,null,null,null,null,null,null,null,null,null,null,null,null,null,null,null,null,null,null,null,null,null,null,null,null,null,null,"一覧表へ戻る"]
[null,null,null,null,null,null,null,null,null,null,null,null,null,null,null,null,null,null,null,null,null,{"$f":"IF(入力表!D18=\"\",\"令和　　年　　月　　日\",入力表!D18)","v":"令和　　年　　月　　日"},null,null,null,null,null,null,null,null,null,"入力表へ戻る"]
[]
["　上天草市長　堀江　隆臣　様"]
[]
[null,null,null,null,null,null,null,null,null,null,null,null,"住　　　　所",null,null,null,null,null,{"$f":"IF(入力表!B11=\"\",\"\",入力表!B11)","v":""}]
[null,null,null,null,null,null,null,null,null,null,null,null,"商号又は名称",null,null,null,null,null,{"$f":"IF(入力表!B12=\"\",\"\",入力表!B12)","v":""}]
[null,null,null,null,null,null,null,null,null,null,null,null,"代表者氏名　",null,null,null,null,null,{"$f":"IF(入力表!B13=\"\",\"\",入力表!B13)","v":""},null,null,null,null,null,null,null,null,null,null,"㊞"]
[]
["上天草市暴力団排除条例に係る誓約書"]
["　私は、上天草市暴力団排除条例（以下「条例」という。）に基づき、条例の趣旨を理解した上で、上天草市が行う公共工事により暴力団を利することとならないように、下記の事項について誓約します。\n　これらの事項と相違することが判明した場合には、上天草市長が行う契約解除等の措置について、異議の申立てを行いません。\n　なお、誓約事項の確認等のために、上天草市長が熊本県警察本部等に対し照会を行うことについて同意します。"]
[]
["記"]
[]
[null,"１","　次に掲げる者が条例第２条に規定する暴力団員等ではないこと。"]
[null,null,"（１）　法人である場合　代表者及び役員"]
[null,null,"（２）　個人事業主である場合　代表者"]
[null,null,"（３）　個人である場合　個人本人"]
[null,"２\n","　上記１の各号に掲げる者が、暴力団員等と社会的に非難される関係を有していないこと。"]
[null,"３","　暴力団員等を雇用していないこと。"]
[null,"４","　暴力団及び暴力団員等が実質的に経営に参加しないこと。"]
[null,"５\n","　上天草市の発注する公共工事について、下請負人に発注する場合は、上記１から４までの事項を満たす者のみを下請負人とすること。"]
[null,"６\n","　条例第１３条の規定により、業務に関して報告又は資料の提出を求められたときは、速やかに提出すること。"]
["以上"]
[]
[]
["工事番号：",null,null,null,{"$f":"IF(入力表!B2=\"\",\"\",入力表!B2)","v":""}]
["工 事 名：",null,null,null,{"$f":"IF(入力表!B3=\"\",\"\",入力表!B3)","v":""}]

{"sheet":"様式-1","index":12,"n_rows":40,"n_cols":33,"rows_kept":40,"cut":false,"hidden":false,"merged":[[10,9,10,30],[4,32,4,36],[13,2,14,2],[13,4,14,7],[13,10,13,20],[14,10,14,20],[11,4,11,7],[11,9,11,30],[3,32,3,36],[30,12,30,15],[30,17,30,27],[16,4,16,7],[16,10,16,20],[25,11,25,21],[28,12,28,15],[28,17,28,30],[29,12,29,16],[29,17,29,29],[12,4,12,7],[12,9,12,30],[3,0,3,30],[9,4,9,7],[9,9,9,30],[10,4,10,7]]}
["様式-１"]
[]
[]
["着   工   届",null,null,null,null,null,null,null,null,null,null,null,null,null,null,null,null,null,null,null,null,null,null,null,null,null,null,null,null,null,null,null,"一覧表へ戻る"]
[null,null,null,null,null,null,null,null,null,null,null,null,null,null,null,null,null,null,null,null,null,null,null,null,null,null,null,null,null,null,null,null,"入力表へ戻る"]
[]
[]
[]
[]
[null,null,"１",null,"工事番号",null,null,null,null,{"$f":"IF(入力表!B2=\"\",\"\",入力表!B2)","v":""}]
[null,null,"２",null,"工事名",null,null,null,null,{"$f":"IF(入力表!B3=\"\",\"\",入力表!B3)","v":""}]
[null,null,"３",null,"工事場所",null,null,null,null,{"$f":"IF(入力表!B4=\"\",\"\",入力表!B4)","v":""}]
[null,null,"４",null,"契約年月日",null,null,null,null,{"$f":"IF(入力表!B5=\"\",\"令和　　年　　月　　日\",入力表!B5)","v":"令和　　年　　月　　日"}]
[null,null,"５",null,"工事期間",null,null,null,null,"自",{"$f":"IF(入力表!B6=\"\",\"令和　　年　　月　　日\",入力表!B6)","v":"令和　　年　　月　　日"}]
[null,null,null,null,null,null,null,null,null,"至",{"$f":"IF(入力表!E6=\"\",\"令和　　年　　月　　日\",入力表!E6)","v":"令和　　年　　月　　日"}]
[]
[null,null,"６",null,"着工年月日"]
[]
[]
[null,null,null,null,"上記のとおり着工しましたので届けます。"]
[]
[]
[]
[]
[]
[null,null,null,null,null,null,null,null,null,null,null,{"$f":"IF(入力表!D19=\"\",\"令和　　年　　月　　日\",入力表!D19)","v":"令和　　年　　月　　日"}]
[]
[]
[null,null,null,null,null,null,null,null,null,null,null,null,"住所",null,null,null,null,{"$f":"IF(入力表!B11=\"\",\"\",入力表!B11)","v":""}]
[null,null,null,null,null,null,null,null,null,null,null,null,"商号又は名称",null,null,null,null,{"$f":"IF(入力表!B12=\"\",\"\",入力表!B12)","v":""}]
[null,null,null,null,null,null,null,null,null,null,null,null,"代表者氏名",null,null,null,null,{"$f":"IF(入力表!B13=\"\",\"\",入力表!B13)","v":""},null,null,null,null,null,null,null,null,null,null,"㊞"]
[]
[]
[]
[]
[]
[]
[]
[]
[null,null,null,null,null,"上天草市長  堀　江　隆　臣  様"]

{"sheet":"統一様式-2","index":13,"n_rows":38,"n_cols":28,"rows_kept":38,"cut":false,"hidden":false,"merged":[[36,0,36,24],[34,22,34,24],[33,0,33,14],[15,3,15,8],[15,10,15,15],[7,15,7,24],[8,15,8,24],[17,17,17,18],[18,17,18,18],[19,17,19,18],[20,17,20,18],[21,17,21,18],[22,17,22,18],[23,17,23,18],[24,17,24,18],[25,17,25,18],[26,17,26,18],[27,17,27,18],[28,17,28,18],[29,17,29,18],[30,17,30,18],[33,22,33,24],[35,15,35,16],[35,17,35,18],[35,19,35,21],[33,15,33,16],[34,15,34,16],[33,17,33,18],[34,17,34,18],[33,19,33,21],[34,19,34,21],[29,22,29,24],[30,15,30,16],[29,15,29,16],[30,22,30,24],[29,19,29,21],[30,19,30,21],[35,22,35,24],[29,0,29,14],[30,0,30,14],[32,15,32,16],[32,22,32,24],[31,15,31,16],[31,22,31,24],[31,17,31,18],[32,17,32,18],[31,19,31,21],[32,19,32,21],[31,0,31,14],[32,0,32,14],[28,15,28,16],[28,22,28,24],[28,19,28,21],[27,0,27,2],[27,3,27,7],[27,8,27,9],[27,10,27,11],[27,12,27,14],[27,15,27,16],[27,22,27,24],[27,19,27,21],[28,0,28,14],[25,22,25,24],[26,0,26,2],[26,3,26,7],[26,8,26,9],[26,10,26,11],[26,12,26,14],[26,15,26,16],[25,0,25,2],[25,3,25,7],[25,8,25,9],[25,10,25,11],[25,12,25,14],[25,15,25,16],[26,22,26,24],[25,19,25,21],[26,19,26,21],[24,0,24,2],[24,3,24,7],[24,8,24,9],[24,10,24,11],[24,12,24,14],[24,15,24,16],[24,22,24,24],[24,19,24,21],[23,0,23,2],[23,3,23,7],[23,8,23,9],[23,10,23,11],[23,12,23,14],[23,15,23,16],[23,22,23,24],[23,19,23,21],[21,22,21,24],[22,0,22,2],[22,3,22,7],[22,8,22,9],[22,10,22,11],[22,12,22,14],[22,15,22,16],[21,0,21,2],[21,3,21,7],[21,8,21,9],[21,10,21,11],[21,12,21,14],[21,15,21,16],[22,22,22,24],[21,19,21,21],[22,19,22,21],[19,3,19,7],[19,8,19,9],[19,10,19,11],[19,12,19,14],[19,15,19,16],[19,22,19,24],[18,19,18,21],[19,19,19,21],[18,15,18,16],[1,18,1,24],[11,0,11,24],[12,0,12,2],[17,22,17,24],[12,3,12,13],[17,19,17,21],[13,0,13,2],[13,3,13,23],[14,0,14,2],[14,3,14,12],[15,0,15,2],[34,0,34,14],[35,0,35,14],[18,0,18,14],[37,4,37,7],[2,27,2,31],[3,27,3,31],[4,27,4,31],[5,27,5,31],[17,0,17,2],[17,3,17,7],[17,8,17,9],[17,10,17,11],[17,12,17,14],[17,15,17,16],[20,0,20,2],[20,3,20,7],[20,8,20,9],[20,10,20,11],[20,12,20,14],[20,15,20,16],[20,22,20,24],[20,19,20,21],[18,22,18,24],[19,0,19,2]]}
["統一様式－２"]
[null,null,null,null,null,null,null,null,null,null,null,null,null,null,null,null,null,null,{"$f":"IF(入力表!D20=\"\",\"令和　　年　　月　　日\",入力表!D20)","v":"令和　　年　　月　　日"}]
[null,null,null,null,null,null,null,null,null,null,null,null,null,null,null,null,null,null,null,null,null,null,null,null,null,null,null,"一覧表へ戻る"]
[]
["上天草市長  堀江　隆臣  様",null,null,null,null,null,null,null,null,null,null,null,null,null,null,null,null,null,null,null,null,null,null,null,null,null,null,"入力表へ戻る"]
[]
[]
[null,null,null,null,null,null,null,null,null,null,null,null,null,null,null,{"$f":"IF(入力表!B11=\"\",\"\",入力表!B11)","v":""}]
[null,null,null,null,null,null,null,null,null,null,null,null,null,"（受注者）",null,{"$f":"IF(入力表!B12=\"\",\"\",入力表!B12)","v":""}]
[null,null,null,null,null,null,null,null,null,null,null,null,null,null,null,{"$f":"IF(入力表!B13=\"\",\"\",入力表!B13)","v":""},null,null,null,null,null,null,null,null,"㊞"]
[]
["請負代金内訳書"]
["工事番号",null,null,{"$f":"IF(入力表!B2=\"\",\"\",入力表!B2)","v":""}]
["工事名",null,null,{"$f":"IF(入力表!B3=\"\",\"\",入力表!B3)","v":""}]
["契約年月日",null,null,{"$f":"IF(入力表!B5=\"\",\"令和　　年　　月　　日\",入力表!B5)","v":"令和　　年　　月　　日"}]
["工　期",null,null,{"$f":"IF(入力表!B6=\"\",\"令和　　年　　月　　日\",入力表!B6)","v":"令和　　年　　月　　日"},null,null,null,null,null,"～",{"$f":"IF(入力表!E6=\"\",\"令和　　年　　月　　日\",入力表!E6)","v":"令和　　年　　月　　日"}]
[null,null,null,null,null,null,null,null,null,null,null,null,null,null,null,null,null,null,null,null,null,null,null,null,"（単位：千円）"]
["工事区分",null,null,"工　　種",null,null,null,null,"種別",null,"細別",null,"規　格",null,null,"単位",null,"員数",null,"単価",null,null,"金　額"]
["Ａ　直接工事費"]
[]
[]
[]
[]
[]
[]
[]
[]
[]
["Ｂ　その他の経費"]
["共通仮設費"]
["現場管理費"]
["一般管理費"]
["Ｃ　産廃税"]
["Ｄ　工事価格計（Ａ＋Ｂ＋Ｃ）"]
["Ｅ　消費税及び地方消費税相当額"]
["Ｆ　工事費計（Ｄ＋Ｅ）"]
["工事価格のうち、現場労働者に関する健康保険、厚生年金保険及び雇用保険の法定の"]
["事業主負担額",null,null,null,null,null,null,null,"円"]

{"sheet":"統一様式-3(1)","index":14,"n_rows":34,"n_cols":48,"rows_kept":34,"cut":false,"hidden":false,"merged":[[26,43,27,44],[28,0,29,8],[28,9,29,10],[28,11,29,12],[1,47,1,51],[2,47,2,51],[30,25,31,26],[30,27,31,28],[30,29,31,30],[30,31,31,32],[30,33,31,34],[30,35,31,36],[28,43,29,44],[28,25,29,26],[28,27,29,28],[28,29,29,30],[24,27,25,28],[24,29,25,30],[26,37,27,38],[26,39,27,40],[26,41,27,42],[30,43,31,44],[30,37,31,38],[30,41,31,42],[24,37,25,38],[24,39,25,40],[26,25,27,26],[26,27,27,28],[26,29,27,30],[26,31,27,32],[26,33,27,34],[26,35,27,36],[28,33,29,34],[28,35,29,36],[28,41,29,42],[32,0,32,3],[30,0,31,8],[30,9,31,10],[30,11,31,12],[30,13,31,14],[30,15,31,16],[30,17,31,18],[30,19,31,20],[30,21,31,22],[30,23,31,24],[28,19,29,20],[28,21,29,22],[28,23,29,24],[28,37,29,38],[28,39,29,40],[28,13,29,14],[28,15,29,16],[28,17,29,18],[30,39,31,40],[28,31,29,32],[20,13,21,14],[20,15,21,16],[20,17,21,18],[24,19,25,20],[24,21,25,22],[24,23,25,24],[22,33,23,34],[22,35,23,36],[26,0,27,8],[26,9,27,10],[26,11,27,12],[20,0,21,8],[20,9,21,10],[20,11,21,12],[26,19,27,20],[26,21,27,22],[26,23,27,24],[26,13,27,14],[26,15,27,16],[26,17,27,18],[24,43,25,44],[24,31,25,32],[24,33,25,34],[24,35,25,36],[22,0,23,8],[22,9,23,10],[22,11,23,12],[22,13,23,14],[22,15,23,16],[22,17,23,18],[22,19,23,20],[24,41,25,42],[24,0,25,8],[24,9,25,10],[24,11,25,12],[24,13,25,14],[24,15,25,16],[24,17,25,18],[22,25,23,26],[22,27,23,28],[22,29,23,30],[22,41,23,42],[22,21,23,22],[22,23,23,24],[16,21,17,22],[16,23,17,24],[16,25,17,26],[18,25,19,26],[20,19,21,20],[20,21,21,22],[20,23,21,24],[20,25,21,26],[24,25,25,26],[16,27,17,28],[16,29,17,30],[18,37,19,38],[20,29,21,30],[22,37,23,38],[22,39,23,40],[18,39,19,40],[18,41,19,42],[18,43,19,44],[18,31,19,32],[18,33,19,34],[18,35,19,36],[18,27,19,28],[18,29,19,30],[20,43,21,44],[20,31,21,32],[20,33,21,34],[20,35,21,36],[20,37,21,38],[20,39,21,40],[20,41,21,42],[20,27,21,28],[22,43,23,44],[22,31,23,32],[18,0,19,8],[18,9,19,10],[18,11,19,12],[18,13,19,14],[18,15,19,16],[18,17,19,18],[18,19,19,20],[18,21,19,22],[18,23,19,24],[14,37,15,38],[14,39,15,40],[14,41,15,42],[14,43,15,44],[16,0,17,8],[16,9,17,10],[16,11,17,12],[16,13,17,14],[16,15,17,16],[16,17,17,18],[14,25,15,26],[14,27,15,28],[14,29,15,30],[14,31,15,32],[14,33,15,34],[14,35,15,36],[16,43,17,44],[16,31,17,32],[16,33,17,34],[16,35,17,36],[16,37,17,38],[16,39,17,40],[16,41,17,42],[16,19,17,20],[14,0,15,8],[14,9,15,10],[14,11,15,12],[14,13,15,14],[14,15,15,16],[14,17,15,18],[14,19,15,20],[14,21,15,22],[14,23,15,24],[12,7,13,8],[12,9,13,10],[12,11,13,12],[12,13,13,14],[12,15,13,16],[12,17,13,18],[12,43,13,44],[12,31,13,32],[12,33,13,34],[12,35,13,36],[12,37,13,38],[12,39,13,40],[12,41,13,42],[12,19,13,20],[12,21,13,22],[12,23,13,24],[12,25,13,26],[12,27,13,28],[12,29,13,30],[10,9,11,13],[10,14,11,14],[10,15,11,19],[10,20,11,20],[10,21,11,25],[10,26,11,26],[10,27,11,31],[10,32,11,32],[1,0,1,44],[2,38,2,44],[6,33,6,44],[7,33,7,44],[8,33,8,44],[10,33,11,37],[10,38,11,38],[10,39,11,43],[10,44,11,44],[10,7,11,8],[6,0,6,3],[7,0,7,3],[8,0,8,3],[8,6,8,12],[8,16,8,22]]}
["統一様式－３(1)"]
["工　　程　　表",null,null,null,null,null,null,null,null,null,null,null,null,null,null,null,null,null,null,null,null,null,null,null,null,null,null,null,null,null,null,null,null,null,null,null,null,null,null,null,null,null,null,null,null,null,null,"一覧表へ戻る"]
[null,null,null,null,null,null,null,null,null,null,null,null,null,null,null,null,null,null,null,null,null,null,null,null,null,null,null,null,null,null,null,null,null,null,null,null,null,null,{"$f":"IF(入力表!D21=\"\",\"令和　年　月　日\",入力表!D21)","v":"令和　年　月　日"},null,null,null,null,null,null,null,null,"入力表へ戻る"]
["上天草市長  堀江　隆臣  様"]
[]
[]
["工事番号",null,null,null,null,{"$f":"IF(入力表!B2=\"\",\"\",入力表!B2)","v":""},null,null,null,null,null,null,null,null,null,null,null,null,null,null,null,null,null,null,null,null,null,null,null,null,null,null,null,{"$f":"IF(入力表!B11=\"\",\"\",入力表!B11)","v":""}]
["工事名",null,null,null,null,{"$f":"IF(入力表!B3=\"\",\"\",入力表!B3)","v":""},null,null,null,null,null,null,null,null,null,null,null,null,null,null,null,null,null,null,null,null,null,null,null,null,null,"（受注者）",null,{"$f":"IF(入力表!B12=\"\",\"\",入力表!B12)","v":""}]
["工　期",null,null,null,null,"自",{"$f":"IF(入力表!B6=\"\",\"令和　　年　　月　　日\",入力表!B6)","v":"令和　　年　　月　　日"},null,null,null,null,null,null,null,null,"至",{"$f":"IF(入力表!E6=\"\",\"令和　　年　　月　　日\",入力表!E6)","v":"令和　　年　　月　　日"},null,null,null,null,null,null,null,null,null,null,null,null,null,null,null,null,{"$f":"IF(入力表!B13=\"\",\"\",入力表!B13)","v":""}]
[]
[null,null,null,null,null,null,null,"月",null,null,null,null,null,null,"月",null,null,null,null,null,"月",null,null,null,null,null,"月",null,null,null,null,null,"月",null,null,null,null,null,"月",null,null,null,null,null,"月"]
[]
[null,null,null,null,null,null,null,"日",null,1,null,11,null,21,null,1,null,11,null,21,null,1,null,11,null,21,null,1,null,11,null,21,null,1,null,11,null,21,null,1,null,11,null,21]
[null,"工　　種"]
[]
[]
[]
[]
[]
[]
[]
[]
[]
[]
[]
[]
[]
[]
[]
[]
[]
[]
["記載要領",null,null,null,"　1　工種は工事数量総括表の工種を記載。（工種以外でも必要なものは、記載。）"]
[null,null,null,null,"　2　予定工程は黒実線をもって表示。"]

{"sheet":"統一様式-3(2)","index":15,"n_rows":34,"n_cols":48,"rows_kept":34,"cut":false,"hidden":false,"merged":[[32,0,32,3],[30,29,31,30],[30,31,31,32],[30,33,31,34],[30,35,31,36],[30,37,31,38],[30,39,31,40],[30,17,31,18],[30,19,31,20],[30,21,31,22],[30,23,31,24],[30,25,31,26],[30,27,31,28],[28,35,29,36],[28,37,29,38],[28,39,29,40],[28,41,29,42],[28,43,29,44],[30,0,31,8],[30,9,31,10],[30,11,31,12],[30,13,31,14],[30,15,31,16],[28,23,29,24],[28,25,29,26],[28,27,29,28],[28,29,29,30],[28,31,29,32],[28,33,29,34],[30,41,31,42],[30,43,31,44],[28,0,29,8],[28,9,29,10],[28,11,29,12],[28,13,29,14],[28,15,29,16],[28,17,29,18],[28,19,29,20],[28,21,29,22],[26,29,27,30],[26,17,27,18],[26,19,27,20],[26,21,27,22],[26,23,27,24],[26,25,27,26],[26,27,27,28],[24,35,25,36],[24,37,25,38],[24,39,25,40],[24,41,25,42],[24,43,25,44],[26,0,27,8],[26,9,27,10],[26,11,27,12],[26,13,27,14],[26,15,27,16],[24,23,25,24],[24,25,25,26],[24,27,25,28],[24,29,25,30],[24,31,25,32],[24,33,25,34],[26,41,27,42],[26,43,27,44],[26,31,27,32],[26,33,27,34],[26,35,27,36],[26,37,27,38],[26,39,27,40],[24,0,25,8],[24,9,25,10],[24,11,25,12],[24,13,25,14],[24,15,25,16],[24,17,25,18],[24,19,25,20],[24,21,25,22],[22,29,23,30],[22,17,23,18],[22,19,23,20],[22,21,23,22],[22,23,23,24],[22,25,23,26],[22,27,23,28],[20,35,21,36],[20,37,21,38],[20,39,21,40],[20,41,21,42],[20,43,21,44],[22,0,23,8],[22,9,23,10],[22,11,23,12],[22,13,23,14],[22,15,23,16],[20,23,21,24],[20,25,21,26],[20,27,21,28],[20,29,21,30],[20,31,21,32],[20,33,21,34],[22,41,23,42],[22,43,23,44],[22,31,23,32],[22,33,23,34],[22,35,23,36],[22,37,23,38],[22,39,23,40],[20,0,21,8],[20,9,21,10],[20,11,21,12],[20,13,21,14],[20,15,21,16],[20,17,21,18],[20,19,21,20],[20,21,21,22],[18,29,19,30],[18,17,19,18],[18,19,19,20],[18,21,19,22],[18,23,19,24],[18,25,19,26],[18,27,19,28],[16,35,17,36],[16,37,17,38],[16,39,17,40],[16,41,17,42],[16,43,17,44],[18,0,19,8],[18,9,19,10],[18,11,19,12],[18,13,19,14],[18,15,19,16],[16,23,17,24],[16,25,17,26],[16,27,17,28],[16,29,17,30],[16,31,17,32],[16,33,17,34],[18,41,19,42],[18,43,19,44],[18,31,19,32],[18,33,19,34],[18,35,19,36],[18,37,19,38],[18,39,19,40],[16,0,17,8],[16,9,17,10],[16,11,17,12],[16,13,17,14],[16,15,17,16],[16,17,17,18],[16,19,17,20],[16,21,17,22],[14,29,15,30],[14,17,15,18],[14,19,15,20],[14,21,15,22],[14,23,15,24],[14,25,15,26],[14,27,15,28],[12,41,13,42],[12,43,13,44],[14,0,15,8],[14,9,15,10],[14,11,15,12],[14,13,15,14],[14,15,15,16],[12,23,13,24],[12,25,13,26],[12,27,13,28],[12,29,13,30],[12,31,13,32],[12,33,13,34],[14,41,15,42],[14,43,15,44],[14,31,15,32],[14,33,15,34],[14,35,15,36],[14,37,15,38],[14,39,15,40],[10,7,11,8],[10,9,11,13],[10,14,11,14],[10,15,11,19],[10,20,11,20],[10,39,11,43],[10,44,11,44],[12,7,13,8],[12,9,13,10],[12,11,13,12],[12,13,13,14],[12,15,13,16],[12,17,13,18],[12,19,13,20],[12,21,13,22],[10,21,11,25],[10,26,11,26],[10,27,11,31],[10,32,11,32],[10,33,11,37],[10,38,11,38],[12,35,13,36],[12,37,13,38],[12,39,13,40],[1,0,1,44],[1,47,1,51],[2,38,2,44],[2,47,2,51],[7,33,7,44],[8,33,8,44],[8,0,8,3],[6,0,6,3],[6,33,6,44],[7,0,7,3],[8,16,8,22],[8,6,8,12]]}
["統一様式－３(2)"]
["変　　更　　工　　程　　表",null,null,null,null,null,null,null,null,null,null,null,null,null,null,null,null,null,null,null,null,null,null,null,null,null,null,null,null,null,null,null,null,null,null,null,null,null,null,null,null,null,null,null,null,null,null,"一覧表へ戻る"]
[null,null,null,null,null,null,null,null,null,null,null,null,null,null,null,null,null,null,null,null,null,null,null,null,null,null,null,null,null,null,null,null,null,null,null,null,null,null,{"$f":"IF(入力表!D22=\"\",\"令和　年　月　日\",入力表!D22)","v":"令和　年　月　日"},null,null,null,null,null,null,null,null,"入力表へ戻る"]
["上天草市長  堀江　隆臣  様"]
[]
[]
["工事番号",null,null,null,null,{"$f":"IF(入力表!B2=\"\",\"\",入力表!B2)","v":""},null,null,null,null,null,null,null,null,null,null,null,null,null,null,null,null,null,null,null,null,null,null,null,null,null,null,null,{"$f":"IF(入力表!B11=\"\",\"\",入力表!B11)","v":""}]
["工事名",null,null,null,null,{"$f":"IF(入力表!B3=\"\",\"\",入力表!B3)","v":""},null,null,null,null,null,null,null,null,null,null,null,null,null,null,null,null,null,null,null,null,null,null,null,null,null,"（受注者）",null,{"$f":"IF(入力表!B12=\"\",\"\",入力表!B12)","v":""}]
["工　期",null,null,null,null,"自",{"$f":"IF(入力表!B6=\"\",\"令和　　年　　月　　日\",入力表!B6)","v":"令和　　年　　月　　日"},null,null,null,null,null,null,null,null,"至",{"$f":"IF(入力表!E6=\"\",\"令和　　年　　月　　日\",入力表!E6)","v":"令和　　年　　月　　日"},null,null,null,null,null,null,null,null,null,null,null,null,null,null,null,null,{"$f":"IF(入力表!B13=\"\",\"\",入力表!B13)","v":""}]
[]
[null,null,null,null,null,null,null,"月",null,null,null,null,null,null,"月",null,null,null,null,null,"月",null,null,null,null,null,"月",null,null,null,null,null,"月",null,null,null,null,null,"月",null,null,null,null,null,"月"]
[]
[null,null,null,null,null,null,null,"日",null,1,null,11,null,21,null,1,null,11,null,21,null,1,null,11,null,21,null,1,null,11,null,21,null,1,null,11,null,21,null,1,null,11,null,21]
[null,"工　　種"]
[]
[]
[]
[]
[]
[]
[]
[]
[]
[]
[]
[]
[]
[]
[]
[]
[]
[]
["記載要領",null,null,null,"　1　工種は工事数量総括表の工種を記載。（工種以外でも必要なものは、記載。）"]
[null,null,null,null,"　2　当初契約の工程は黒実線をもって表示。また、変更契約の工程は下段に黒点線もしくは赤実線をもって表示。"]

{"sheet":"統一様式-1","index":16,"n_rows":40,"n_cols":27,"rows_kept":40,"cut":false,"hidden":false,"merged":[[39,4,39,23],[40,4,40,23],[2,26,2,30],[3,26,3,30],[6,18,6,23],[9,3,9,10],[12,15,12,23],[36,8,36,17],[3,0,3,24],[19,3,23,23],[26,0,26,24],[32,8,33,17],[29,8,29,17],[13,15,13,23],[14,15,14,21]]}
["統一様式－１"]
[]
[null,null,null,null,null,null,null,null,null,null,null,null,null,null,null,null,null,null,null,null,null,null,null,null,null,null,"一覧表へ戻る"]
["現場代理人・主任（監理）技術者　通知書",null,null,null,null,null,null,null,null,null,null,null,null,null,null,null,null,null,null,null,null,null,null,null,null,null,"入力表へ戻る"]
[]
[null,"　　　","　　　　　　"]
[null,null,null,null,null,null,null,null,null,null,null,null,null,null,null,null,null,null,{"$f":"IF(入力表!D23=\"\",\"令和　　年　　月　　日\",入力表!D23)","v":"令和　　年　　月　　日"}]
[]
[]
[null,null,null,"上天草市長  堀江　隆臣　  様"]
[]
[]
[null,null,null,null,null,null,null,null,null,null,null,null,null,null,null,{"$f":"IF(入力表!B11=\"\",\"\",入力表!B11)","v":""}]
[null,null,null,null,null,null,null,null,null,null,null,null,null,"（受注者）",null,{"$f":"IF(入力表!B12=\"\",\"\",入力表!B12)","v":""}]
[null,null,null,null,null,null,null,null,null,null,null,null,null,null,null,{"$f":"IF(入力表!B13=\"\",\"\",入力表!B13)","v":""},null,null,null,null,null,null,"㊞"]
[]
[]
[]
[]
[null,null,null,{"$f":"\"　\"&IF(入力表!B5=\"\",\"令和　　年　　月　　日\",TEXT(入力表!B5,\"ggge年m月d日\"))&\"付けをもって請負契約を締結した \"&IF(入力表!B2=\"\",\"\",入力表!B2)&\" \"&IF(入力表!B3=\"\",\"\",入力表!B3)&\" について上天草市公共工事請負契約約款第10条に基づき現場代理人等を下記のとおり定めたので通知します。\"","v":"　令和　　年　　月　　日付けをもって請負契約を締結した   について上天草市公共工事請負契約約款第10条に基づき現場代理人等を下記のとおり定めたので通知します。"}]
[]
[]
[]
[]
[]
[]
["記"]
[]
[]
[null,null,null,"現場代理人氏名",null,null,null,null,{"$f":"IF(入力表!B8=\"\",\"\",入力表!B8)","v":""}]
[]
[]
[null,null,null,"主任技術者又は",null,null,null,null,{"$f":"IF(入力表!B9=\"\",\"\",入力表!B9)","v":""}]
[null,null,null,"監理技術者氏名※"]
[]
[]
[null,null,null,"専門技術者氏名"]
[]
[]
[null,null,null,"※","「経歴書」、「資格者証（写し）」及び「３ヶ月以上の雇用が証明できるもの」を添付。"]

{"sheet":"統一様式-1(2)","index":17,"n_rows":35,"n_cols":28,"rows_kept":35,"cut":false,"hidden":false,"merged":[[4,20,4,25],[13,0,13,5],[19,9,19,24],[1,27,1,31],[2,27,2,31],[8,0,8,25],[16,2,16,7],[16,9,17,24],[19,2,19,7],[31,2,31,7],[22,2,22,7],[22,9,23,24],[25,2,25,7],[25,9,26,24],[28,2,28,7],[28,9,29,24],[31,9,32,24]]}
["統一様式－１(2)"]
[null,null,null,null,null,null,null,null,null,null,null,null,null,null,null,null,null,null,null,null,null,null,null,null,null,null,null,"一覧表へ戻る"]
[null,null,null,null,null,null,null,null,null,null,null,null,null,null,null,null,null,null,null,null,null,null,null,null,null,null,null,"入力表へ戻る"]
[]
[null,null,null,null,null,null,null,null,null,null,null,null,null,null,null,null,null,null,null,null,{"$f":"IF(入力表!D24=\"\",\"令和　　年　　月　　日\",入力表!D24)","v":"令和　　年　　月　　日"}]
[]
[]
[]
["経　　歴　　書"]
[]
[]
[]
[]
[null,null,null,null,null,null,"印"]
[]
[]
[null,null,"現　　住　　所"]
[]
[]
[null,null,"生　年　月　日"]
[]
[]
[null,null,"＊最　終　学　歴"]
[]
[]
[null,null,"資格及び資格番号"]
[]
[]
[null,null,"職　　　　　歴"]
[]
[]
[null,null,"＊工　事　経　歴"]
[]
[]
[null,null,null,null,null,null,null,null,null,null,null,null,null,"＊は、必要により記載。"]

{"sheet":"統一様式-1(3)","index":18,"n_rows":46,"n_cols":11,"rows_kept":46,"cut":false,"hidden":false,"merged":[[22,0,22,8],[20,0,20,8],[1,10,1,11],[2,10,2,11],[10,5,10,7],[3,6,3,8],[13,0,13,8],[16,1,16,7],[17,1,17,7],[8,5,8,8],[9,5,9,8],[6,0,6,2],[32,0,35,8],[26,0,26,2],[26,3,26,8],[27,0,27,2],[31,0,31,8],[29,0,29,3],[30,0,30,3],[29,4,29,8],[30,4,30,8],[27,3,27,8]]}
["統一様式－１(3)"]
[null,null,null,null,null,null,null,null,null,null,"一覧表へ戻る"]
[null,null,null,null,null,null,null,null,null,null,"入力表へ戻る"]
[null,null,null,null,null,null,{"$f":"IF(入力表!D25=\"\",\"令和　　年　　月　　日\",入力表!D25)","v":"令和　　年　　月　　日"}]
[]
[]
["上天草市長  堀江　隆臣　  様"]
[]
[null,null,null,null,null,{"$f":"IF(入力表!B11=\"\",\"\",入力表!B11)","v":""}]
[null,null,null,null,"（受注者）",{"$f":"IF(入力表!B12=\"\",\"\",入力表!B12)","v":""}]
[null,null,null,null,null,{"$f":"IF(入力表!B13=\"\",\"\",入力表!B13)","v":""},null,null,"㊞"]
[]
[]
["現場代理人・主任（監理）技術者　変更通知書"]
[]
[]
["工事番号",{"$f":"IF(入力表!B2=\"\",\"\",入力表!B2)","v":""}]
["工事名",{"$f":"IF(入力表!B3=\"\",\"\",入力表!B3)","v":""}]
[]
[]
[{"$f":"\"　　 \"&IF(入力表!D23=\"\",\"令和　　年　　月　　日\",TEXT(入力表!D23,\"ggge年m月d日\"))&\"付けで通知した上記工事の現場代理人及び技術者を下記のとおり変更したいので、\"","v":"　　 令和　　年　　月　　日付けで通知した上記工事の現場代理人及び技術者を下記のとおり変更したいので、"}]
[]
["上天草市公共工事請負契約約款第10条第1項に基づき通知します。"]
[]
["記"]
[]
["現場代理人等変更年月日"]
["変更する現場代理人等区分"]
[]
["旧現場代理人等氏名",null,null,null,"新現場代理人等氏名"]
[]
["変　 更　 事 　由"]
[]
[]
[]
[]
["※「資格者証（写し）」を添付。"]
[]
[]
["(注)1．","新現場代理人等の記入内容は統一様式－1に準ずる。"]
[]
["2．","変更する現場代理人等区分には、下記から該当する区分を記載する"]
[null,null,"現場代理人"]
[null,null,"主任技術者"]
[null,null,"監理技術者"]
[null,null,"専門技術者"]

{"sheet":"統一様式-7","index":19,"n_rows":48,"n_cols":26,"rows_kept":48,"cut":false,"hidden":false,"merged":[[41,17,41,23],[42,17,42,23],[43,17,43,23],[44,17,44,23],[45,17,45,23],[41,4,41,12],[42,4,42,12],[43,4,43,12],[44,4,44,12],[45,4,45,12],[41,13,41,16],[42,13,42,16],[43,13,43,16],[44,13,44,16],[45,13,45,16],[2,25,2,29],[3,25,3,29],[23,0,23,24],[26,9,26,18],[2,0,2,24],[30,9,30,18],[5,17,5,22],[8,3,8,9],[18,3,18,23],[30,3,30,7],[11,16,11,24],[12,16,12,24],[13,16,13,22],[26,3,26,7],[33,8,33,17],[40,13,40,16],[40,17,40,23],[34,3,34,7],[40,4,40,12],[34,9,34,18],[35,9,35,18]]}
["統一様式－７"]
[]
["品　質　証　明　員　通　知　書",null,null,null,null,null,null,null,null,null,null,null,null,null,null,null,null,null,null,null,null,null,null,null,null,"一覧表へ戻る"]
[null,null,null,null,null,null,null,null,null,null,null,null,null,null,null,null,null,null,null,null,null,null,null,null,null,"入力表へ戻る"]
[null,"　　　","　　　　　　"]
[null,null,null,null,null,null,null,null,null,null,null,null,null,null,null,null,null,{"$f":"IF(入力表!D26=\"\",\"令和　　年　　月　　日\",入力表!D26)","v":"令和　　年　　月　　日"}]
[]
[]
[null,null,null,"上天草市長  堀江　隆臣　  様"]
[]
[]
[null,null,null,null,null,null,null,null,null,null,null,null,null,null,null,null,{"$f":"IF(入力表!B11=\"\",\"\",入力表!B11)","v":""}]
[null,null,null,null,null,null,null,null,null,null,null,null,null,null,"（受注者）",null,{"$f":"IF(入力表!B12=\"\",\"\",入力表!B12)","v":""}]
[null,null,null,null,null,null,null,null,null,null,null,null,null,null,null,null,{"$f":"IF(入力表!B13=\"\",\"\",入力表!B13)","v":""},null,null,null,null,null,null,"㊞"]
[]
[]
[]
[]
[null,null,null,{"$f":"\"　 \"&IF(入力表!B5=\"\",\"令和　　年　　月　　日\",TEXT(入力表!B5,\"ggge年m月d日\"))&\"付けをもって請負契約を締結した\"&IF(入力表!B3=\"\",\"　　　　　　　　　工事\",入力表!B3)&\"の品質証明員を下記のとおり定めたので、資格及び経歴を添えて通知します。\"","v":"　 令和　　年　　月　　日付けをもって請負契約を締結した　　　　　　　　　工事の品質証明員を下記のとおり定めたので、資格及び経歴を添えて通知します。"}]
[]
[]
[]
[]
["記"]
[]
[]
[null,null,null,"品質証明員氏名"]
[]
[]
[]
[null,null,null,"生年月日　　　　　　　　　年　　　　　　月　　　　　　　日"]
[]
[]
[]
[null,null,null,"資格及び資格番号"]
[]
[]
[]
[null,null,null,"経歴"]
[]
[null,null,null,null,"工事名",null,null,null,null,null,null,null,null,"職名",null,null,null,"工期（従事期間）"]
[]
[]
[]
[]
[]
[]
[null,null,"※「資格者証（写し）」を添付。"]

{"sheet":"別紙１","index":20,"n_rows":38,"n_cols":7,"rows_kept":38,"cut":false,"hidden":false,"merged":[[15,0,22,0],[0,6,0,7],[1,6,1,7],[15,2,15,5],[16,2,16,5],[17,2,17,5],[19,2,19,5],[1,0,1,5],[7,0,14,0],[7,2,7,5],[8,2,8,5],[9,2,9,5],[11,2,11,5],[12,2,12,5],[3,1,3,5],[4,3,4,5],[34,0,34,5],[35,0,35,5],[36,0,36,5],[37,0,37,5],[21,2,21,5],[22,2,22,5],[32,0,32,5],[33,0,33,5],[23,0,30,0],[23,2,23,5],[24,2,24,5],[25,2,25,5],[27,2,27,5],[28,2,28,5],[29,2,29,5],[30,2,30,5],[5,3,5,5],[6,3,6,5],[10,2,10,3],[18,2,18,3],[26,2,26,3],[13,2,13,5],[14,2,14,5],[20,2,20,5]]}
["別紙１",null,null,null,null,null,"一覧表へ戻る"]
["現場代理人及び主任(監理)技術者兼任調書",null,null,null,null,null,"入力表へ戻る"]
[]
["受注者",{"$f":"IF(入力表!B12=\"\",\"\",入力表!B12)","v":""}]
["現場代理人氏名",{"$f":"IF(入力表!B8=\"\",\"\",入力表!B8)","v":""},"連絡先"]
["主任技術者氏名",{"$f":"IF(入力表!B9=\"\",\"\",入力表!B9)","v":""},"連絡先"]
["特例監理技術者氏名\n※監理技術者を兼任する場合",null,"連絡先"]
["兼任する工事１","工事番号",{"$f":"IF(入力表!B2=\"\",\"\",入力表!B2)","v":""}]
[null,"工事名",{"$f":"IF(入力表!B3=\"\",\"\",入力表!B3)","v":""}]
[null,"工事場所",{"$f":"IF(入力表!B4=\"\",\"\",入力表!B4)","v":""}]
[null,"工期",{"$f":"IF(入力表!B6=\"\",\"令和　　年　　月　　日\",入力表!B6)","v":"令和　　年　　月　　日"},null,"～",{"$f":"IF(入力表!E6=\"\",\"令和　　年　　月　　日\",入力表!E6)","v":"令和　　年　　月　　日"}]
[null,"契約金額(税込)",{"$f":"IF(入力表!B7=\"\",\"\",入力表!B7)","v":""}]
[null,"発注機関"]
[null,"監督員氏名"]
[null,"監理技術者補佐氏名\n※特例監理技術者を配置する場合"]
["兼任する工事２","工事番号"]
[null,"工事名"]
[null,"工事場所"]
[null,"工期",null,null,"～"]
[null,"契約金額(税込)"]
[null,"発注機関"]
[null,"監督員氏名"]
[null,"監理技術者補佐氏名\n※特例監理技術者を配置する場合"]
["兼任する工事３","工事番号"]
[null,"工事名"]
[null,"工事場所"]
[null,"工期",null,null,"～"]
[null,"契約金額(税込)"]
[null,"発注機関"]
[null,"監督員氏名"]
[null,"監理技術者補佐氏名\n※特例監理技術者を配置する場合"]
[]
["１　現場代理人、主任技術者又は監理技術者が兼任する場合に記入すること（兼任する部分を記入）。"]
["２　設計変更により現場代理人を兼任する2件以上の工事が専任の主任技術者の設置を必要とする工事（1件当たりの契約金額（税込）\n　　が4,000万円（建築一式工事の場合、8,000万円）以上）となった場合は、「現場代理人及び主任（監理）技術者変更通知」により\n　　変更手続を行うこと。"]
["３　主任技術者を兼任する1件以上の工事のうち、どちらか一方でも工事途中で、下請契約請負額（税込）の合計が4,500万円（建築一\n　　式工事の場合、7,000万円）以上となる場合は、兼任できなくなるため、注意すること。"]
["４　現場代理人、主任技術者又は監理技術者を兼任させる工事の工事場所及び工事概要がわかる仕様書、図面、位置図（様式自由）等\n　　の兼任要件を満たすことが確認できる資料を添付すること。"]
["５　施工に当たり相互に調整を要する工事（資機材の調達を一括で行う場合、工事の相当の部分を同一の下請業者で施工する場合等を\n　　含む。）の場合は、上記４に加え、施工計画書等の兼任要件を満たすことが確認できる資料を添付すること。"]
["６　発注者が上天草市及び他の公共機関（国、地方公共団体、公社等）の工事の現場代理人、主任技術者又は監理技術者を兼任させる\n　　場合は、発注者が兼任を承諾していることがわかる書類（工事打合簿等の写し）を添付すること。"]

{"sheet":"統一様式-4","index":21,"n_rows":48,"n_cols":12,"rows_kept":48,"cut":false,"hidden":false,"merged":[[27,6,27,8],[28,6,28,8],[4,11,4,12],[5,11,5,12],[6,11,6,12],[8,7,8,8],[30,4,30,8],[29,2,29,4],[29,6,29,8],[11,1,11,3],[26,1,28,1],[26,2,26,4],[26,5,28,5],[15,6,15,8],[16,6,16,8],[17,6,17,8],[27,2,28,4],[26,6,26,8]]}
["統一様式－４"]
[]
[]
[]
["建設業退職金共済制度の掛金収納書",null,null,null,null,null,null,null,null,null,null,"一覧表へ戻る"]
[null,null,null,null,null,null,null,null,null,null,null,"入力表へ戻る"]
[null,null,null,null,null,null,null,null,null,null,null,"様式－４（裏面）へ"]
[]
[null,null,null,null,null,null,null,{"$f":"IF(入力表!D27=\"\",\"令和　 年 　月 　日\",入力表!D27)","v":"令和　 年 　月 　日"}]
[null,"（発注者）"]
[]
[null,"上天草市長  堀江　隆臣　  様"]
[]
[]
[]
[null,null,null,null,null,null,{"$f":"IF(入力表!B11=\"\",\"\",入力表!B11)","v":""}]
[null,null,null,null,null,"（受注者）",{"$f":"IF(入力表!B12=\"\",\"\",入力表!B12)","v":""}]
[null,null,null,null,null,null,{"$f":"IF(入力表!B13=\"\",\"\",入力表!B13)","v":""}]
[]
[]
["建設業退職金共済組合証紙購入報告"]
[]
[]
[null,"下記のとおり証紙を購入したので当該掛金収納書を添付して報告します。"]
[]
[]
[null,"工事番号及び工事名",{"$f":"IF(入力表!B2=\"\",\"\",入力表!B2)","v":""},null,null,"工　　期",{"$f":"IF(入力表!B6=\"\",\"令和　　年　　月　　日\",入力表!B6)","v":"令和　　年　　月　　日"}]
[null,null,{"$f":"IF(入力表!B3=\"\",\"\",入力表!B3)","v":""},null,null,null,"～"]
[null,null,null,null,null,null,{"$f":"IF(入力表!E6=\"\",\"令和　　年　　月　　日\",入力表!E6)","v":"令和　　年　　月　　日"}]
[null,"契約年月日",{"$f":"IF(入力表!B5=\"\",\"令和　　年　　月　　日\",入力表!B5)","v":"令和　　年　　月　　日"},null,null,"契約金額",{"$f":"IF(入力表!B7=\"\",\"\",入力表!B7)","v":""}]
[null,"共済証紙購入金額",null,"￥"]
[]
[null,null,"掛金収納書を貼る（契約者から発注者用）"]
[]
[]
[]
[]
[]
[]
[]
[]
[]
[]
[]
[]
[]
[null,"(注)","添付する掛け金収納書は中小企業主に雇われる場合は赤色、"]
[null,null,"大手事業主に雇われる場合は青色"]

{"sheet":"様式-4(統一様式-4 裏面)","index":22,"n_rows":23,"n_cols":21,"rows_kept":23,"cut":false,"hidden":false,"merged":[[1,20,1,24],[2,20,2,24],[3,20,3,24],[20,10,20,13],[25,0,25,1],[5,7,5,10],[9,10,9,13],[10,10,10,11],[17,10,17,13]]}
["統一様式－４　裏面"]
[null,null,null,null,null,null,null,null,null,null,null,null,null,null,null,null,null,null,null,null,"一覧表へ戻る"]
[null,null,null,null,null,null,null,null,null,null,null,null,null,null,null,null,null,null,null,null,"入力表へ戻る"]
[null,null,null,null,null,null,null,null,null,null,null,null,null,null,null,null,null,null,null,null,"統一様式-４へ"]
["掛金収納金額"]
["(1)","的確な把握が可能な場合",null,null,null,null,"：",null,null,null,null,"円"]
[]
[]
["(2)","的確な把握が困難な場合"]
[null,"①","総工事費（消費税相当額等を含む）",null,null,null,null,null,null,"：",null,null,null,null,"円"]
[null,"②","「共済証紙購入の考え方」の数値",null,null,null,null,null,null,"：",null,null,"／1000"]
[null,"③","対象工事における労働者の建退共制度加入率"]
[null,null,"イ","把握している場合"]
[null,null,null,"Ａ","対象工事における労働者数",null,null,null,null,null,null,null,"：",null,"人"]
[null,null,null,"Ｂ","対象工事における建退共制度加入労働者数",null,null,null,null,null,null,null,"：",null,"人"]
[null,null,null,null,null,null,null,null,null,null,null,"（Ｂ／Ａ×100）","：",{"$f":"IF(OR(K10=\"\",K11=\"\",N14=\"\",N15=\"\"),\"\",N15/N14*100)","v":""},"％","・・・Ｃ"]
[]
[null,null,null,null,null,null,null,null,null,"∴ ①×②×（Ｃ÷７０％）＝",{"$f":"IF(N16=\"\",\"\",K10*K11/1000*N16/100/0.7)","v":""},null,null,null,"円"]
[]
[null,null,"ロ","把握していない場合"]
[null,null,null,null,null,null,null,null,null,"∴ ①×②×（７０％÷７０％）＝",{"$f":"IF(OR(K10=\"\",K11=\"\",NOT(K18=\"\")),\"\",ROUND(K10*K11/1000,0))","v":""},null,null,null,"円"]
[]
[null,null,null,"(注)小数点未満の端数については、当該端数を四捨五入する。"]

{"sheet":"様式-2","index":23,"n_rows":29,"n_cols":16,"rows_kept":29,"cut":false,"hidden":false,"merged":[[6,12,6,13],[7,12,7,13],[8,12,8,13],[9,12,9,13],[28,1,30,10],[8,1,9,9],[12,1,13,9],[15,0,17,2],[15,3,17,10],[18,0,18,2],[18,3,18,10],[19,0,19,2],[19,3,19,10],[20,0,20,2],[20,3,20,10],[25,1,27,10],[22,0,23,10],[1,8,1,10],[4,7,4,9],[5,7,5,9],[11,1,11,7]]}
["様式－２"]
[null,null,null,null,null,null,null,null,{"$f":"IF(入力表!D28=\"\",\"令和　　年　　月　　日\",入力表!D28)","v":"令和　　年　　月　　日"}]
[]
[]
[null,null,null,null,null,"契約者氏名",null,{"$f":"IF(入力表!B12=\"\",\"\",入力表!B12)","v":""}]
[null,null,null,null,null,null,null,{"$f":"IF(入力表!B13=\"\",\"\",入力表!B13)","v":""},null,null,"㊞"]
[null,null,null,null,null,null,null,null,null,null,null,null,"一覧表へ戻る"]
[null,null,null,null,null,null,null,null,null,null,null,null,"入力表へ戻る"]
[null,"建設業退職金共済証紙（購入遅延・無購入）申出書",null,null,null,null,null,null,null,null,null,null,"様式-2(1)へ"]
[null,null,null,null,null,null,null,null,null,null,null,null,"様式-2(2)へ",null,null,"※右側の▼を押下して、いずれかを選択してください。"]
[null,null,null,null,null,null,null,null,null,null,null,null,null,null,null,"次の工事については、共済証紙の購入が遅延しますので申出ます。"]
[null,"※右側の▼を押下して、いずれかを選択してください。",null,null,null,null,null,null,null,null,null,null,null,null,null,"次の工事については、共済証紙を購入しませんので申出ます。"]
[null,"なお、今後証紙を購入したときは、速やかに｢建設業退職金共済掛金収納書｣（別記様式1）を提出します。"]
[]
[]
["工事名",null,null,{"$f":"IF(入力表!B3=\"\",\"\",入力表!B3)","v":""}]
[]
[]
["契約年月日",null,null,{"$f":"IF(入力表!B5=\"\",\"\",入力表!B5)","v":""}]
["契約金額",null,null,{"$f":"IF(入力表!B7=\"\",\"\",入力表!B7)","v":""}]
["購入予定時期"]
["＜共済証紙の購入が遅延する理由、又は共済証書を購入しない理由＞"]
[]
[]
[]
["※","共済証紙を購入しない理由が、共済証紙の手持ちがある場合は様式－２（１）を添付するとともに、以下に今回受注した工事に必要な掛け金収納額の算定根拠を記入してください。"]
[]
[]
["※","共済証紙を購入しない理由が、建設業退職金共済制度以外の退職金制度に加入している場合は様式－２（２）を添付してください。"]

{"sheet":"様式-2(1)","index":24,"n_rows":53,"n_cols":53,"rows_kept":53,"cut":false,"hidden":false,"merged":[[45,48,50,50],[46,7,47,9],[46,10,47,14],[46,22,47,26],[46,37,46,41],[47,37,50,41],[48,42,50,47],[49,7,50,9],[49,10,50,14],[43,31,44,33],[43,34,44,36],[44,43,44,45],[45,1,50,6],[45,16,50,18],[45,19,50,21],[45,28,50,30],[45,31,50,33],[45,34,47,36],[45,37,45,41],[43,7,44,9],[43,10,44,13],[43,16,44,18],[43,19,44,21],[43,22,44,25],[43,28,44,30],[49,22,50,26],[49,34,50,36],[45,42,46,47],[40,31,41,33],[40,34,41,36],[41,43,41,45],[42,12,42,15],[42,16,42,17],[42,24,42,27],[40,7,41,9],[40,10,41,13],[40,16,41,18],[40,19,41,21],[40,22,41,25],[40,28,41,30],[37,31,38,33],[37,34,38,36],[38,43,38,45],[39,12,39,15],[39,16,39,17],[39,24,39,27],[37,7,38,9],[37,10,38,13],[37,16,38,18],[37,19,38,21],[37,22,38,25],[37,28,38,30],[34,31,35,33],[34,34,35,36],[35,43,35,45],[36,12,36,15],[36,16,36,17],[36,24,36,27],[34,7,35,9],[34,10,35,13],[34,16,35,18],[34,19,35,21],[34,22,35,25],[34,28,35,30],[31,31,32,33],[31,34,32,36],[32,43,32,45],[33,12,33,15],[33,16,33,17],[33,24,33,27],[31,7,32,9],[31,10,32,13],[31,16,32,18],[31,19,32,21],[31,22,32,25],[31,28,32,30],[28,31,29,33],[28,34,29,36],[29,43,29,45],[30,12,30,15],[30,16,30,17],[30,24,30,27],[28,7,29,9],[28,10,29,13],[28,16,29,18],[28,19,29,21],[28,22,29,25],[28,28,29,30],[25,31,26,33],[25,34,26,36],[26,43,26,45],[27,12,27,15],[27,16,27,17],[27,24,27,27],[25,7,26,9],[25,10,26,13],[25,16,26,18],[25,19,26,21],[25,22,26,25],[25,28,26,30],[22,31,23,33],[22,34,23,36],[23,43,23,45],[24,12,24,15],[24,16,24,17],[24,24,24,27],[22,7,23,9],[22,10,23,13],[22,16,23,18],[22,19,23,21],[22,22,23,25],[22,28,23,30],[19,31,20,33],[19,34,20,36],[20,43,20,45],[21,12,21,15],[21,16,21,17],[21,24,21,27],[19,7,20,9],[19,10,20,13],[19,16,20,18],[19,19,20,21],[19,22,20,25],[19,28,20,30],[16,31,17,33],[16,34,17,36],[17,43,17,45],[18,12,18,15],[18,16,18,17],[18,24,18,27],[16,7,17,9],[16,10,17,13],[16,16,17,18],[16,19,17,21],[16,22,17,25],[16,28,17,30],[13,31,14,33],[13,34,14,36],[14,43,14,45],[15,12,15,15],[15,16,15,17],[15,24,15,27],[13,7,14,9],[13,10,14,13],[13,16,14,18],[13,19,14,21],[13,22,14,25],[13,28,14,30],[10,31,11,33],[10,34,11,36],[11,43,11,45],[12,12,12,15],[12,16,12,17],[12,24,12,27],[10,7,11,9],[10,10,11,13],[10,16,11,18],[10,19,11,21],[10,22,11,25],[10,28,11,30],[8,34,8,36],[8,37,8,41],[8,42,8,47],[9,12,9,15],[9,16,9,17],[9,24,9,27],[7,42,7,47],[7,48,8,50],[8,1,8,6],[8,7,8,9],[8,10,8,15],[8,16,8,18],[8,19,8,21],[8,22,8,27],[8,28,8,30],[8,31,8,33],[3,52,3,56],[1,1,1,50],[3,1,4,5],[3,6,4,18],[4,19,6,20],[6,11,6,15],[7,1,7,6],[7,7,7,18],[7,19,7,30],[7,31,7,33],[7,34,7,41],[4,52,4,56]]}
[null,"様式－２（１）"]
[null,"共　　済　　証　　紙　　受　　払　　簿"]
[]
[null,"共済契約者名",null,null,null,null,null,null,null,null,null,null,null,null,null,null,null,null,null,"⑨決算日",null,null,"令和",null,"年",null,"月",null,"日",null,null,"◎","この受払簿は、受入・払出の都度、掛金収納書などをみて日付",null,null,null,null,null,null,null,null,null,null,null,null,null,null,null,null,null,null,null,"一覧表へ戻る"]
[null,null,null,null,null,null,null,null,null,null,null,null,null,null,null,null,null,null,null,"決算　　期間",null,null,"令和",null,"年",null,"月",null,"日",null,null,null,"を所定欄に記入し、決算毎に合計を出して整理してください。",null,null,null,null,null,null,null,null,null,null,null,null,null,null,null,null,null,null,null,"様式-2へ"]
[null,"①共済契約成立年月日（Ｈ・Ｒ）",null,null,null,null,null,null,null,null,null,null,"年",null,"月",null,"日",null,null,null,null,null,null,null,null,"～",null,null,null,null,null,"◎","共済手帳に２５０日（掛金助成手帳は２００日）分の証紙を貼り、"]
[null,"②共済契約者番号",null,null,null,null,null,null,null,null,"－",null,null,null,null,null,null,null,null,null,null,null,"令和",null,"年",null,"月",null,"日",null,null,null,"手帳の更新をすませた時にはこの受払簿にも記帳してください。"]
[null,"受入・払出",null,null,null,null,null,"受　　　　　入",null,null,null,null,null,null,null,null,null,null,null,"払　　　　　出",null,null,null,null,null,null,null,null,null,null,null,"残　　高",null,null,"払出欄の貼付の内訳",null,null,null,null,null,null,null,"更新年月日",null,null,null,null,null,"備　　考"]
[null,"年　月　日",null,null,null,null,null,"購　　入",null,null,"元請から受入",null,null,null,null,null,"計　（Ａ）",null,null,"貼　　付",null,null,"下請へ交付",null,null,null,null,null,"計　（Ｂ）",null,null,"（Ａ）－（Ｂ）",null,null,"貼付人員",null,null,"就　労　月",null,null,null,null,"手帳更新数"]
[null,"前期（前頁）繰越",null,null,null,null,null,null,null,"日分","元請名",null,null,null,null,null,null,null,"日分",null,null,"日分","下請名",null,null,null,null,null,null,null,"日分",null,null,"日分",null,null,"人"]
[null,null,"年",null,"月",null,"日",null,null,null,null,null,null,null,null,null,{"$f":"IF(F11=\"\",\"\",Q10+H11+K11)","v":""},null,null,null,null,null,null,null,null,null,null,null,{"$f":"IF(F11=\"\",\"\",T11+W11)","v":""},null,null,{"$f":"IF(F11=\"\",\"\",Q11-AC11)","v":""},null,null,null,null,null,null,"年",null,"月分",null,null,"年",null,"月",null,"日"]
[null,null,null,null,null,null,null,null,null,null,null,null,null,null,null,"日分",null,null,null,null,null,null,null,null,null,null,null,"日分",null,null,null,null,null,null,null,null,null,null,null,null,null,null,"（",null,null,null,"）","冊"]
[null,null,null,null,null,null,null,null,null,"日分","元請名",null,null,null,null,null,null,null,"日分",null,null,"日分","下請名",null,null,null,null,null,null,null,"日分",null,null,"日分",null,null,"人"]
[null,null,"年",null,"月",null,"日",null,null,null,null,null,null,null,null,null,{"$f":"IF(F14=\"\",\"\",Q11+H14+K14)","v":""},null,null,null,null,null,null,null,null,null,null,null,{"$f":"IF(F14=\"\",\"\",AC11+T14+W14)","v":""},null,null,{"$f":"IF(F14=\"\",\"\",Q14-AC14)","v":""},null,null,null,null,null,null,"年",null,"月分",null,null,"年",null,"月",null,"日"]
[null,null,null,null,null,null,null,null,null,null,null,null,null,null,null,"日分",null,null,null,null,null,null,null,null,null,null,null,"日分",null,null,null,null,null,null,null,null,null,null,null,null,null,null,"（",null,null,null,"）","冊"]
[null,null,null,null,null,null,null,null,null,"日分","元請名",null,null,null,null,null,null,null,"日分",null,null,"日分","下請名",null,null,null,null,null,null,null,"日分",null,null,"日分",null,null,"人"]
[null,null,"年",null,"月",null,"日",null,null,null,null,null,null,null,null,null,{"$f":"IF(F17=\"\",\"\",Q14+H17+K17)","v":""},null,null,null,null,null,null,null,null,null,null,null,{"$f":"IF(F17=\"\",\"\",AC14+T17+W17)","v":""},null,null,{"$f":"IF(F17=\"\",\"\",Q17-AC17)","v":""},null,null,null,null,null,null,"年",null,"月分",null,null,"年",null,"月",null,"日"]
[null,null,null,null,null,null,null,null,null,null,null,null,null,null,null,"日分",null,null,null,null,null,null,null,null,null,null,null,"日分",null,null,null,null,null,null,null,null,null,null,null,null,null,null,"（",null,null,null,"）","冊"]
[null,null,null,null,null,null,null,null,null,"日分","元請名",null,null,null,null,null,null,null,"日分",null,null,"日分","下請名",null,null,null,null,null,null,null,"日分",null,null,"日分",null,null,"人"]
[null,null,"年",null,"月",null,"日",null,null,null,null,null,null,null,null,null,{"$f":"IF(F20=\"\",\"\",Q17+H20+K20)","v":""},null,null,null,null,null,null,null,null,null,null,null,{"$f":"IF(F20=\"\",\"\",AC17+T20+W20)","v":""},null,null,{"$f":"IF(F20=\"\",\"\",Q20-AC20)","v":""},null,null,null,null,null,null,"年",null,"月分",null,null,"年",null,"月",null,"日"]
[null,null,null,null,null,null,null,null,null,null,null,null,null,null,null,"日分",null,null,null,null,null,null,null,null,null,null,null,"日分",null,null,null,null,null,null,null,null,null,null,null,null,null,null,"（",null,null,null,"）","冊"]
[null,null,null,null,null,null,null,null,null,"日分","元請名",null,null,null,null,null,null,null,"日分",null,null,"日分","下請名",null,null,null,null,null,null,null,"日分",null,null,"日分",null,null,"人"]
[null,null,"年",null,"月",null,"日",null,null,null,null,null,null,null,null,null,{"$f":"IF(F23=\"\",\"\",Q20+H23+K23)","v":""},null,null,null,null,null,null,null,null,null,null,null,{"$f":"IF(F23=\"\",\"\",AC20+T23+W23)","v":""},null,null,{"$f":"IF(F23=\"\",\"\",Q23-AC23)","v":""},null,null,null,null,null,null,"年",null,"月分",null,null,"年",null,"月",null,"日"]
[null,null,null,null,null,null,null,null,null,null,null,null,null,null,null,"日分",null,null,null,null,null,null,null,null,null,null,null,"日分",null,null,null,null,null,null,null,null,null,null,null,null,null,null,"（",null,null,null,"）","冊"]
[null,null,null,null,null,null,null,null,null,"日分","元請名",null,null,null,null,null,null,null,"日分",null,null,"日分","下請名",null,null,null,null,null,null,null,"日分",null,null,"日分",null,null,"人"]
[null,null,"年",null,"月",null,"日",null,null,null,null,null,null,null,null,null,{"$f":"IF(F26=\"\",\"\",Q23+H26+K26)","v":""},null,null,null,null,null,null,null,null,null,null,null,{"$f":"IF(F26=\"\",\"\",AC23+T26+W26)","v":""},null,null,{"$f":"IF(F26=\"\",\"\",Q26-AC26)","v":""},null,null,null,null,null,null,"年",null,"月分",null,null,"年",null,"月",null,"日"]
[null,null,null,null,null,null,null,null,null,null,null,null,null,null,null,"日分",null,null,null,null,null,null,null,null,null,null,null,"日分",null,null,null,null,null,null,null,null,null,null,null,null,null,null,"（",null,null,null,"）","冊"]
[null,null,null,null,null,null,null,null,null,"日分","元請名",null,null,null,null,null,null,null,"日分",null,null,"日分","下請名",null,null,null,null,null,null,null,"日分",null,null,"日分",null,null,"人"]
[null,null,"年",null,"月",null,"日",null,null,null,null,null,null,null,null,null,{"$f":"IF(F29=\"\",\"\",Q26+H29+K29)","v":""},null,null,null,null,null,null,null,null,null,null,null,{"$f":"IF(F29=\"\",\"\",AC26+T29+W29)","v":""},null,null,{"$f":"IF(F29=\"\",\"\",Q29-AC29)","v":""},null,null,null,null,null,null,"年",null,"月分",null,null,"年",null,"月",null,"日"]
[null,null,null,null,null,null,null,null,null,null,null,null,null,null,null,"日分",null,null,null,null,null,null,null,null,null,null,null,"日分",null,null,null,null,null,null,null,null,null,null,null,null,null,null,"（",null,null,null,"）","冊"]
[null,null,null,null,null,null,null,null,null,"日分","元請名",null,null,null,null,null,null,null,"日分",null,null,"日分","下請名",null,null,null,null,null,null,null,"日分",null,null,"日分",null,null,"人"]
[null,null,"年",null,"月",null,"日",null,null,null,null,null,null,null,null,null,{"$f":"IF(F32=\"\",\"\",Q29+H32+K32)","v":""},null,null,null,null,null,null,null,null,null,null,null,{"$f":"IF(F32=\"\",\"\",AC29+T32+W32)","v":""},null,null,{"$f":"IF(F32=\"\",\"\",Q32-AC32)","v":""},null,null,null,null,null,null,"年",null,"月分",null,null,"年",null,"月",null,"日"]
[null,null,null,null,null,null,null,null,null,null,null,null,null,null,null,"日分",null,null,null,null,null,null,null,null,null,null,null,"日分",null,null,null,null,null,null,null,null,null,null,null,null,null,null,"（",null,null,null,"）","冊"]
[null,null,null,null,null,null,null,null,null,"日分","元請名",null,null,null,null,null,null,null,"日分",null,null,"日分","下請名",null,null,null,null,null,null,null,"日分",null,null,"日分",null,null,"人"]
[null,null,"年",null,"月",null,"日",null,null,null,null,null,null,null,null,null,{"$f":"IF(F35=\"\",\"\",Q32+H35+K35)","v":""},null,null,null,null,null,null,null,null,null,null,null,{"$f":"IF(F35=\"\",\"\",AC32+T35+W35)","v":""},null,null,{"$f":"IF(F35=\"\",\"\",Q35-AC35)","v":""},null,null,null,null,null,null,"年",null,"月分",null,null,"年",null,"月",null,"日"]
[null,null,null,null,null,null,null,null,null,null,null,null,null,null,null,"日分",null,null,null,null,null,null,null,null,null,null,null,"日分",null,null,null,null,null,null,null,null,null,null,null,null,null,null,"（",null,null,null,"）","冊"]
[null,null,null,null,null,null,null,null,null,"日分","元請名",null,null,null,null,null,null,null,"日分",null,null,"日分","下請名",null,null,null,null,null,null,null,"日分",null,null,"日分",null,null,"人"]
[null,null,"年",null,"月",null,"日",null,null,null,null,null,null,null,null,null,{"$f":"IF(F38=\"\",\"\",Q35+H38+K38)","v":""},null,null,null,null,null,null,null,null,null,null,null,{"$f":"IF(F38=\"\",\"\",AC35+T38+W38)","v":""},null,null,{"$f":"IF(F38=\"\",\"\",Q38-AC38)","v":""},null,null,null,null,null,null,"年",null,"月分",null,null,"年",null,"月",null,"日"]
[null,null,null,null,null,null,null,null,null,null,null,null,null,null,null,"日分",null,null,null,null,null,null,null,null,null,null,null,"日分",null,null,null,null,null,null,null,null,null,null,null,null,null,null,"（",null,null,null,"）","冊"]
[null,null,null,null,null,null,null,null,null,"日分","元請名",null,null,null,null,null,null,null,"日分",null,null,"日分","下請名",null,null,null,null,null,null,null,"日分",null,null,"日分",null,null,"人"]
[null,null,"年",null,"月",null,"日",null,null,null,null,null,null,null,null,null,{"$f":"IF(F41=\"\",\"\",Q38+H41+K41)","v":""},null,null,null,null,null,null,null,null,null,null,null,{"$f":"IF(F41=\"\",\"\",AC38+T41+W41)","v":""},null,null,{"$f":"IF(F41=\"\",\"\",Q41-AC41)","v":""},null,null,null,null,null,null,"年",null,"月分",null,null,"年",null,"月",null,"日"]
[null,null,null,null,null,null,null,null,null,null,null,null,null,null,null,"日分",null,null,null,null,null,null,null,null,null,null,null,"日分",null,null,null,null,null,null,null,null,null,null,null,null,null,null,"（",null,null,null,"）","冊"]
[null,null,null,null,null,null,null,null,null,"日分","元請名",null,null,null,null,null,null,null,"日分",null,null,"日分","下請名",null,null,null,null,null,null,null,"日分",null,null,"日分",null,null,"人"]
[null,null,"年",null,"月",null,"日",null,null,null,null,null,null,null,null,null,{"$f":"IF(F44=\"\",\"\",Q41+H44+K44)","v":""},null,null,null,null,null,null,null,null,null,null,null,{"$f":"IF(F44=\"\",\"\",AC41+T44+W44)","v":""},null,null,{"$f":"IF(F44=\"\",\"\",Q44-AC44)","v":""},null,null,null,null,null,null,"年",null,"月分",null,null,"年",null,"月",null,"日"]
[null,null,null,null,null,null,null,null,null,null,null,null,null,null,null,"日分",null,null,null,null,null,null,null,null,null,null,null,"日分",null,null,null,null,null,null,null,null,null,null,null,null,null,null,"（",null,null,null,"）","冊"]
[null,"決算期間内　　　　　　の　合　計",null,null,null,null,null,null,null,"日分",null,null,null,null,null,"日分",null,null,null,null,null,null,null,null,null,null,null,"日分",null,null,null,"次頁へ　　　　（次年度へ）　　　転　　記",null,null,"③決算日の　　　被共済者数",null,null,"建　退　共",null,null,null,null,"④決算期間内　　　　　　　　の手帳更新数"]
[null,null,null,null,null,null,null,{"$f":"IF(SUM(H11,H14,H17,H20,H23,H26,H29,H32,H35,H38,H41,H44)=0,\"\",SUM(H11,H14,H17,H20,H23,H26,H29,H32,H35,H38,H41,H44))","v":""},null,null,{"$f":"IF(SUM(K11,K14,K17,K20,K23,K26,K29,K32,K35,K38,K41,K44)=0,\"\",SUM(K11,K14,K17,K20,K23,K26,K29,K32,K35,K38,K41,K44))","v":""},null,null,null,null,null,null,null,null,null,null,null,{"$f":"IF(SUM(W11,W14,W17,W20,W23,W26,W29,W32,W35,W38,W41,W44)=0,\"\",SUM(W11,W14,W17,W20,W23,W26,W29,W32,W35,W38,W41,W44))","v":""},null,null,null,null,null,null,null,null,null,null,null,null,null,null,"確　認　印"]
[null,null,null,null,null,null,null,null,null,null,null,null,null,null,null,null,null,null,null,null,null,null,null,null,null,null,null,null,null,null,null,null,null,null,null,null,null,null,null,null,null,null,null,null,null,null,null,"冊"]
[null,null,null,null,null,null,null,"⑤",null,"円","⑥",null,null,null,null,"円",null,null,null,null,null,null,"⑦",null,null,null,null,"円",null,null,null,null,null,null,null,null,"人",null,null,null,null,null,{"$f":"IF(SUM(AR12,AR15,AR18,AR21,AR24,AR27,AR30,AR33,AR36,AR39,AR42,AR45)=0,\"\",SUM(AR12,AR15,AR18,AR21,AR24,AR27,AR30,AR33,AR36,AR39,AR42,AR45))","v":""}]
[null,null,null,null,null,null,null,{"$f":"IF(H47=\"\",\"\",H47*310)","v":""},null,null,{"$f":"IF(K47=\"\",\"\",K47*310)","v":""},null,null,null,null,null,null,null,null,null,null,null,{"$f":"IF(W47=\"\",\"\",W47*310)","v":""}]
[]
[]
[null,null,null,null,null,"（注）",null,null,null,null,"の箇所に必要事項入力。必ず、受入・払出年月日を入力。"]

{"sheet":"様式-2(2)","index":25,"n_rows":33,"n_cols":7,"rows_kept":33,"cut":false,"hidden":false,"merged":[[32,0,32,3],[2,6,2,7],[3,6,3,7],[28,0,28,3],[29,0,29,3],[30,0,30,3],[27,0,27,3],[17,1,17,3],[18,1,18,3],[19,1,19,3],[20,1,20,3],[21,1,21,3],[22,1,22,3],[16,0,16,3],[23,0,23,3],[24,0,24,3],[25,0,25,3],[26,0,26,3],[0,0,0,3],[12,0,12,3],[15,0,15,3],[8,0,8,1],[2,0,2,4],[5,2,5,3],[3,2,3,3],[6,2,6,3],[4,2,4,3],[10,0,10,3]]}
["様式－２（２）"]
[]
["建設業退職金共済制度以外の退職金制度加入申出書",null,null,null,null,null,"一覧表へ戻る"]
[null,null,null,null,null,null,"様式-2へ"]
[null,"所在地",{"$f":"IF(入力表!B11=\"\",\"\",入力表!B11)","v":""}]
[null,"称号又は名称",{"$f":"IF(入力表!B12=\"\",\"\",入力表!B12)","v":""}]
[null,"代表者名",{"$f":"IF(入力表!B13=\"\",\"\",入力表!B13)","v":""}]
[]
[{"$f":"IF(入力表!B3=\"\",\"\",入力表!B3)","v":""}]
[]
["　当社及び本工事にかかわる下請業者は、下記の退職金制度を有しており、退職金制度に未加入の従業者がいないことを申出ます。"]
[]
["１．当社の退職金制度"]
["退職金制度の名称"]
[]
["　　"]
["２．下請業者の退職金制度"]
["業者名","退職金制度の名称"]
[]
[]
[]
[]
[]
["※退職金制度の名称欄に記入できるものは次に該当するもの。"]
["　(1)自社退職金制度（労働協約若しくは就業規則等に定めがある）"]
["　(2)中小企業退職金共済法に規定する中小企業退職金共済契約"]
["　(3)所得税法に規定する特定退職金共済団体との退職金共済契約"]
["　(4)厚生年金基金"]
["　(5)法人税法に規定する適格退職年金"]
["　(6)確定給付企業年金法に規定する確定給付企業年金"]
["　(7)確定拠出年金法に規定する企業型年金"]
[]
["※確認資料は求めないが、必要に応じて「建設業退職金共済制度及び法定外労働災害補償制度の取扱要領」第7項により、資料の提出を求める場合がある。"]

{"sheet":"様式-3","index":26,"n_rows":18,"n_cols":9,"rows_kept":18,"cut":false,"hidden":false,"merged":[[1,0,1,6],[3,0,3,5],[17,0,30,5],[1,8,1,9],[2,8,2,9]]}
["様式－３"]
["法定外労働災害補償制度加入証明書",null,null,null,null,null,null,null,"一覧表へ戻る"]
[null,null,null,null,null,null,null,null,"入力表へ戻る"]
[{"$f":"IF(入力表!D29=\"\",\"令和　　年　　月　　日\",入力表!D29)","v":"令和　　年　　月　　日"}]
[]
[]
[null,null,"住　　　所",null,{"$f":"IF(入力表!B11=\"\",\"\",入力表!B11)","v":""}]
[null,null,"商号又は名称",null,{"$f":"IF(入力表!B12=\"\",\"\",入力表!B12)","v":""}]
[null,null,"代表者氏名",null,{"$f":"IF(入力表!B13=\"\",\"\",入力表!B13)","v":""},"㊞"]
[]
[]
["１　工事番号",{"$f":"IF(入力表!B2=\"\",\"\",入力表!B2)","v":""}]
[]
["２　工 事 名",{"$f":"IF(入力表!B3=\"\",\"\",入力表!B3)","v":""}]
[]
["３　契約金額",{"$f":"IF(入力表!B7=\"\",\"\",入力表!B7)","v":""}]
[]
["加入証明書添付又は別添"]

{"sheet":"別紙４","index":27,"n_rows":709,"n_cols":145,"rows_kept":709,"cut":false,"hidden":false,"merged":[[609,2,613,41],[609,43,613,43],[609,52,613,91],[696,2,700,41],[696,43,700,43],[696,52,700,91],[696,93,700,93],[696,100,700,139],[696,141,700,141],[664,2,665,41],[664,43,666,43],[664,52,665,91],[664,93,666,93],[664,100,665,139],[664,141,666,141],[667,2,671,41],[667,43,671,43],[667,52,671,91],[667,93,671,93],[667,100,671,139],[667,141,671,141],[689,36,689,39],[680,101,680,131],[680,139,683,139],[680,132,680,137],[680,138,683,138],[680,141,682,141],[683,141,689,141],[689,104,689,106],[689,122,689,124],[689,134,689,137],[609,93,613,93],[609,100,613,139],[609,141,613,141],[622,43,624,43],[631,122,631,124],[631,128,631,130],[693,2,694,41],[693,43,695,43],[693,52,694,91],[693,93,695,93],[693,100,694,139],[693,141,695,141],[689,6,689,8],[689,12,689,14],[689,18,689,20],[689,24,689,26],[689,30,689,32],[660,6,660,8],[660,12,660,14],[660,18,660,20],[660,24,660,26],[689,110,689,112],[689,128,689,130],[689,116,689,118],[651,139,654,139],[651,101,651,131],[651,132,651,137],[651,138,654,138],[651,141,653,141],[660,110,660,112],[660,116,660,118],[660,122,660,124],[660,128,660,130],[577,43,579,43],[577,52,578,91],[577,93,579,93],[577,100,578,139],[577,141,579,141],[580,2,584,41],[580,43,584,43],[580,52,584,91],[580,93,584,93],[580,100,584,139],[580,141,584,141],[548,2,549,41],[548,43,550,43],[548,52,549,91],[548,93,550,93],[548,100,549,139],[548,141,550,141],[551,2,555,41],[551,43,555,43],[551,52,555,91],[551,93,555,93],[551,100,555,139],[551,141,555,141],[432,100,433,139],[432,141,434,141],[435,2,439,41],[435,43,439,43],[435,52,439,91],[435,93,439,93],[435,100,439,139],[435,141,439,141],[519,43,521,43],[519,52,520,91],[519,93,521,93],[519,100,520,139],[519,141,521,141],[522,2,526,41],[522,43,526,43],[522,52,526,91],[522,93,526,93],[522,100,526,139],[522,141,526,141],[490,2,491,41],[490,43,492,43],[490,52,491,91],[490,93,492,93],[490,100,491,139],[490,141,492,141],[493,2,497,41],[493,43,497,43],[493,52,497,91],[493,93,497,93],[493,100,497,139],[493,141,497,141],[506,34,506,39],[374,52,375,91],[374,93,376,93],[374,100,375,139],[374,141,376,141],[377,2,381,41],[377,43,381,43],[377,52,381,91],[377,93,381,93],[377,100,381,139],[377,141,381,141],[399,6,399,8],[399,12,399,14],[399,18,399,20],[399,24,399,26],[399,30,399,32],[390,40,393,40],[403,2,404,41],[345,100,346,139],[345,141,347,141],[348,2,352,41],[348,43,352,43],[348,52,352,91],[348,93,352,93],[348,100,352,139],[348,141,352,141],[316,43,318,43],[316,52,317,91],[316,93,318,93],[316,100,317,139],[316,141,318,141],[319,2,323,41],[319,43,323,43],[319,52,323,91],[319,93,323,93],[319,100,323,139],[319,141,323,141],[341,6,341,8],[341,12,341,14],[341,18,341,20],[341,24,341,26],[341,30,341,32],[341,36,341,39],[345,2,346,41],[332,40,335,40],[171,52,172,91],[171,93,173,93],[171,100,172,139],[171,141,173,141],[174,2,178,41],[287,43,289,43],[287,52,288,91],[287,93,289,93],[287,100,288,139],[287,141,289,141],[290,2,294,41],[290,43,294,43],[290,52,294,91],[290,93,294,93],[290,100,294,139],[290,141,294,141],[258,43,260,43],[258,52,259,91],[258,93,260,93],[258,100,259,139],[258,141,260,141],[261,2,265,41],[261,43,265,43],[261,52,265,91],[261,93,265,93],[261,100,265,139],[261,141,265,141],[229,43,231,43],[229,52,230,91],[229,93,231,93],[229,100,230,139],[229,141,231,141],[232,2,236,41],[232,43,236,43],[232,52,236,91],[232,93,236,93],[232,100,236,139],[232,141,236,141],[200,43,202,43],[200,52,201,91],[200,93,202,93],[200,100,201,139],[200,141,202,141],[203,2,207,41],[203,43,207,43],[203,52,207,91],[203,93,207,93],[203,100,207,139],[203,141,207,141],[216,139,219,139],[216,101,216,131],[216,132,216,137],[216,138,219,138],[216,141,218,141],[219,141,225,141],[225,104,225,106],[225,110,225,112],[225,116,225,118],[225,122,225,124],[225,128,225,130],[216,40,219,40],[142,52,143,91],[142,93,144,93],[142,100,143,139],[142,141,144,141],[145,2,149,41],[145,43,149,43],[145,52,149,91],[145,93,149,93],[145,100,149,139],[145,141,149,141],[84,52,85,91],[84,93,86,93],[84,100,85,139],[84,141,86,141],[87,2,91,41],[87,43,91,43],[87,52,91,91],[87,93,91,93],[87,100,91,139],[87,141,91,141],[138,104,138,106],[138,110,138,112],[138,116,138,118],[138,122,138,124],[129,101,129,131],[129,53,129,83],[129,139,132,139],[129,132,129,137],[129,138,132,138],[129,141,131,141],[138,36,138,39],[113,52,114,91],[113,93,115,93],[113,100,114,139],[113,141,115,141],[13,138,16,138],[13,141,15,141],[16,141,22,141],[42,139,45,139],[13,139,16,139],[7,105,7,108],[42,101,42,131],[7,57,7,60],[13,91,16,91],[116,2,120,41],[116,43,120,43],[116,52,120,91],[116,93,120,93],[116,100,120,139],[55,2,56,41],[55,43,57,43],[55,52,56,91],[55,93,57,93],[55,100,56,139],[55,141,57,141],[58,2,62,41],[58,43,62,43],[58,52,62,91],[58,93,62,93],[58,100,62,139],[58,141,62,141],[71,91,74,91],[71,84,71,89],[71,90,74,90],[71,93,73,93],[74,93,80,93],[109,12,109,14],[683,93,689,93],[689,56,689,58],[689,62,689,64],[689,68,689,70],[689,74,689,76],[689,80,689,82],[26,43,28,43],[26,52,27,91],[26,93,28,93],[26,100,27,139],[26,141,28,141],[29,2,33,41],[29,43,33,43],[29,52,33,91],[29,93,33,93],[29,100,33,139],[29,141,33,141],[42,132,42,137],[42,138,45,138],[42,141,44,141],[45,141,51,141],[51,104,51,106],[51,110,51,112],[51,116,51,118],[51,122,51,124],[51,128,51,130],[109,6,109,8],[109,18,109,20],[109,24,109,26],[109,30,109,32],[71,3,71,33],[80,6,80,8],[4,55,4,60],[4,61,4,62],[4,63,4,69],[4,103,4,108],[4,109,4,110],[71,101,71,131],[80,104,80,106],[80,110,80,112],[80,116,80,118],[80,122,80,124],[80,128,80,130],[109,104,109,106],[109,110,109,112],[109,116,109,118],[109,122,109,124],[109,128,109,130],[4,111,4,117],[6,105,6,108],[13,101,13,131],[6,57,6,60],[13,53,13,83],[22,56,22,58],[22,62,22,64],[22,68,22,70],[22,74,22,76],[129,91,132,91],[129,84,129,89],[129,90,132,90],[129,93,131,93],[132,93,138,93],[138,56,138,58],[138,62,138,64],[138,68,138,70],[680,53,680,83],[680,91,683,91],[42,84,42,89],[42,90,45,90],[42,93,44,93],[45,93,51,93],[51,56,51,58],[51,62,51,64],[51,68,51,70],[51,74,51,76],[51,80,51,82],[42,53,42,83],[42,91,45,91],[651,53,651,83],[660,56,660,58],[660,62,660,64],[660,68,660,70],[660,74,660,76],[660,80,660,82],[622,53,622,83],[631,56,631,58],[631,62,631,64],[631,68,631,70],[631,74,631,76],[13,132,13,137],[22,104,22,106],[22,110,22,112],[22,116,22,118],[22,122,22,124],[22,128,22,130],[13,84,13,89],[13,90,16,90],[13,93,15,93],[16,93,22,93],[593,101,593,131],[535,101,535,131],[477,101,477,131],[245,101,245,131],[187,101,187,131],[680,84,680,89],[680,90,683,90],[680,93,682,93],[593,132,593,137],[167,116,167,118],[167,122,167,124],[167,128,167,130],[651,91,654,91],[651,84,651,89],[651,90,654,90],[651,93,653,93],[654,93,660,93],[622,91,625,91],[622,84,622,89],[622,90,625,90],[622,93,624,93],[625,93,631,93],[22,80,22,82],[71,53,71,83],[80,56,80,58],[80,62,80,64],[80,68,80,70],[80,74,80,76],[80,80,80,82],[109,56,109,58],[109,62,109,64],[109,68,109,70],[109,74,109,76],[6,48,6,49],[631,18,631,20],[631,24,631,26],[631,30,631,32],[651,3,651,33],[651,34,651,39],[573,30,573,32],[602,6,602,8],[602,12,602,14],[602,18,602,20],[602,24,602,26],[602,30,602,32],[593,34,593,39],[573,12,573,14],[573,18,573,20],[593,3,593,33],[573,36,573,39],[602,36,602,39],[577,2,578,41],[622,40,625,40],[622,41,625,41],[622,101,622,131],[622,139,625,139],[622,132,622,137],[622,138,625,138],[622,141,624,141],[625,141,631,141],[631,104,631,106],[631,110,631,112],[631,116,631,118],[660,30,660,32],[631,36,631,39],[660,36,660,39],[635,2,636,41],[635,43,637,43],[635,52,636,91],[635,93,637,93],[635,100,636,139],[635,141,637,141],[638,2,642,41],[638,43,642,43],[638,52,642,91],[638,93,642,93],[638,100,642,139],[638,141,642,141],[654,141,660,141],[660,104,660,106],[631,134,631,137],[660,134,660,137],[631,80,631,82],[631,86,631,89],[660,86,660,89],[602,116,602,118],[602,122,602,124],[602,128,602,130],[564,139,567,139],[564,101,564,131],[564,132,564,137],[564,138,567,138],[564,141,566,141],[567,141,573,141],[573,104,573,106],[573,110,573,112],[573,116,573,118],[573,122,573,124],[573,128,573,130],[593,41,596,41],[593,139,596,139],[606,2,607,41],[606,43,608,43],[606,100,607,139],[606,141,608,141],[573,134,573,137],[602,134,602,137],[593,138,596,138],[593,141,595,141],[596,141,602,141],[602,104,602,106],[602,110,602,112],[593,53,593,83],[593,91,596,91],[593,84,593,89],[593,90,596,90],[593,93,595,93],[535,138,538,138],[535,141,537,141],[538,141,544,141],[544,104,544,106],[544,110,544,112],[544,116,544,118],[544,122,544,124],[544,128,544,130],[506,139,509,139],[506,101,506,131],[506,132,506,137],[506,138,509,138],[506,141,508,141],[509,141,515,141],[515,104,515,106],[515,110,515,112],[515,116,515,118],[515,122,515,124],[515,128,515,130],[515,134,515,137],[544,134,544,137],[535,139,538,139],[535,132,535,137],[477,139,480,139],[477,132,477,137],[477,138,480,138],[477,141,479,141],[480,141,486,141],[486,104,486,106],[486,110,486,112],[486,116,486,118],[486,122,486,124],[486,128,486,130],[448,101,448,131],[448,139,451,139],[448,132,448,137],[448,138,451,138],[448,141,450,141],[451,141,457,141],[457,104,457,106],[457,110,457,112],[457,116,457,118],[457,122,457,124],[457,128,457,130],[461,100,462,139],[461,141,463,141],[464,100,468,139],[464,141,468,141],[486,134,486,137],[419,139,422,139],[419,101,419,131],[419,132,419,137],[419,138,422,138],[419,141,421,141],[422,141,428,141],[428,104,428,106],[428,110,428,112],[428,116,428,118],[428,122,428,124],[428,128,428,130],[390,101,390,131],[390,139,393,139],[390,132,390,137],[390,138,393,138],[390,141,392,141],[393,141,399,141],[399,104,399,106],[399,110,399,112],[399,116,399,118],[399,122,399,124],[399,128,399,130],[403,100,404,139],[403,141,405,141],[406,100,410,139],[406,141,410,141],[283,128,283,130],[361,139,364,139],[361,101,361,131],[361,132,361,137],[361,138,364,138],[361,141,363,141],[364,141,370,141],[370,104,370,106],[370,110,370,112],[370,116,370,118],[370,122,370,124],[370,128,370,130],[332,101,332,131],[332,139,335,139],[332,132,332,137],[332,138,335,138],[332,141,334,141],[335,141,341,141],[341,104,341,106],[341,110,341,112],[341,116,341,118],[341,122,341,124],[341,128,341,130],[303,139,306,139],[303,101,303,131],[303,132,303,137],[303,138,306,138],[303,141,305,141],[306,141,312,141],[312,104,312,106],[312,110,312,112],[312,116,312,118],[312,122,312,124],[312,128,312,130],[274,101,274,131],[274,139,277,139],[274,132,274,137],[274,138,277,138],[274,141,276,141],[277,141,283,141],[283,104,283,106],[283,110,283,112],[283,116,283,118],[283,122,283,124],[71,139,74,139],[71,132,71,137],[71,138,74,138],[71,141,73,141],[74,141,80,141],[187,139,190,139],[187,132,187,137],[187,138,190,138],[187,141,189,141],[190,141,196,141],[196,104,196,106],[196,110,196,112],[196,116,196,118],[196,122,196,124],[196,128,196,130],[158,139,161,139],[158,101,158,131],[158,132,158,137],[158,138,161,138],[158,141,160,141],[161,141,167,141],[167,104,167,106],[167,110,167,112],[174,100,178,139],[174,141,178,141],[564,91,567,91],[564,53,564,83],[564,84,564,89],[564,90,567,90],[564,93,566,93],[567,93,573,93],[573,56,573,58],[573,62,573,64],[573,68,573,70],[573,74,573,76],[573,80,573,82],[573,86,573,89],[477,53,477,83],[486,56,486,58],[486,62,486,64],[486,68,486,70],[486,74,486,76],[486,80,486,82],[448,53,448,83],[457,56,457,58],[457,62,457,64],[457,68,457,70],[457,74,457,76],[457,80,457,82],[464,52,468,91],[464,93,468,93],[457,86,457,89],[602,86,602,89],[132,141,138,141],[138,128,138,130],[100,101,100,131],[100,139,103,139],[100,132,100,137],[100,138,103,138],[100,141,102,141],[103,141,109,141],[116,141,120,141],[245,139,248,139],[245,132,245,137],[245,138,248,138],[245,141,247,141],[248,141,254,141],[254,104,254,106],[254,110,254,112],[254,116,254,118],[254,122,254,124],[254,128,254,130],[477,91,480,91],[477,84,477,89],[477,90,480,90],[477,93,479,93],[480,93,486,93],[448,91,451,91],[448,84,448,89],[448,90,451,90],[448,93,450,93],[451,93,457,93],[461,52,462,91],[461,93,463,93],[606,52,607,91],[606,93,608,93],[535,53,535,83],[535,91,538,91],[535,84,535,89],[535,90,538,90],[535,93,537,93],[538,93,544,93],[544,56,544,58],[544,62,544,64],[544,68,544,70],[544,74,544,76],[544,80,544,82],[506,91,509,91],[506,53,506,83],[506,84,506,89],[506,90,509,90],[506,93,508,93],[509,93,515,93],[515,56,515,58],[515,62,515,64],[515,68,515,70],[515,74,515,76],[515,80,515,82],[515,86,515,89],[544,86,544,89],[596,93,602,93],[602,56,602,58],[602,62,602,64],[602,68,602,70],[602,74,602,76],[602,80,602,82],[486,86,486,89],[419,91,422,91],[419,53,419,83],[419,84,419,89],[419,90,422,90],[419,93,421,93],[422,93,428,93],[428,56,428,58],[428,62,428,64],[428,68,428,70],[428,74,428,76],[428,80,428,82],[390,53,390,83],[390,91,393,91],[390,84,390,89],[390,90,393,90],[390,93,392,93],[393,93,399,93],[399,56,399,58],[399,62,399,64],[399,68,399,70],[399,74,399,76],[399,80,399,82],[399,86,399,89],[428,86,428,89],[403,52,404,91],[403,93,405,93],[406,52,410,91],[406,93,410,93],[432,52,433,91],[432,93,434,93],[361,91,364,91],[361,53,361,83],[361,84,361,89],[361,90,364,90],[361,93,363,93],[364,93,370,93],[370,56,370,58],[370,62,370,64],[370,68,370,70],[370,74,370,76],[370,80,370,82],[332,53,332,83],[332,91,335,91],[332,84,332,89],[332,90,335,90],[332,93,334,93],[335,93,341,93],[341,56,341,58],[341,62,341,64],[341,68,341,70],[341,74,341,76],[341,80,341,82],[341,86,341,89],[370,86,370,89],[345,52,346,91],[345,93,347,93],[303,53,303,83],[303,84,303,89],[303,90,306,90],[303,93,305,93],[306,93,312,93],[312,56,312,58],[312,62,312,64],[312,68,312,70],[312,74,312,76],[312,80,312,82],[274,53,274,83],[274,91,277,91],[274,84,274,89],[274,90,277,90],[274,93,276,93],[277,93,283,93],[283,56,283,58],[283,62,283,64],[283,68,283,70],[283,74,283,76],[283,80,283,82],[283,86,283,89],[312,86,312,89],[174,93,178,93],[245,53,245,83],[245,91,248,91],[245,84,245,89],[245,90,248,90],[245,93,247,93],[248,93,254,93],[254,56,254,58],[254,62,254,64],[254,68,254,70],[254,74,254,76],[254,80,254,82],[216,91,219,91],[216,53,216,83],[216,84,216,89],[216,90,219,90],[216,93,218,93],[219,93,225,93],[225,56,225,58],[225,62,225,64],[225,68,225,70],[225,74,225,76],[225,80,225,82],[225,86,225,89],[254,86,254,89],[654,43,660,43],[100,34,100,39],[45,43,51,43],[683,43,689,43],[74,43,80,43],[103,43,109,43],[132,43,138,43],[161,43,167,43],[190,43,196,43],[219,43,225,43],[248,43,254,43],[277,43,283,43],[306,43,312,43],[335,43,341,43],[364,43,370,43],[393,43,399,43],[509,43,515,43],[538,43,544,43],[567,43,573,43],[596,43,602,43],[625,43,631,43],[71,34,71,39],[113,2,114,41],[113,43,115,43],[142,43,144,43],[171,43,173,43],[345,43,347,43],[403,43,405,43],[406,2,410,41],[406,43,410,43],[374,43,376,43],[515,6,515,8],[622,3,622,33],[535,3,535,33],[361,40,364,40],[535,34,535,39],[370,36,370,39],[399,36,399,39],[506,43,508,43],[477,40,480,40],[477,41,480,41],[477,43,479,43],[680,40,683,40],[680,41,683,41],[680,43,682,43],[651,40,654,40],[651,41,654,41],[651,43,653,43],[109,36,109,39],[167,36,167,39],[196,36,196,39],[225,36,225,39],[254,36,254,39],[680,3,680,33],[680,34,680,39],[631,6,631,8],[631,12,631,14],[254,6,254,8],[254,12,254,14],[254,18,254,20],[254,24,254,26],[254,30,254,32],[283,6,283,8],[283,12,283,14],[374,2,375,41],[506,40,509,40],[506,41,509,41],[464,2,468,41],[573,24,573,26],[622,34,622,39],[312,6,312,8],[312,12,312,14],[312,18,312,20],[312,24,312,26],[312,30,312,32],[283,36,283,39],[312,36,312,39],[138,30,138,32],[187,34,187,39],[245,34,245,39],[274,34,274,39],[187,3,187,33],[274,3,274,33],[138,6,138,8],[196,6,196,8],[196,12,196,14],[196,18,196,20],[196,24,196,26],[196,30,196,32],[216,3,216,33],[216,34,216,39],[225,6,225,8],[225,12,225,14],[225,18,225,20],[225,24,225,26],[225,30,225,32],[390,41,393,41],[432,43,434,43],[461,2,462,41],[461,43,463,43],[464,43,468,43],[564,3,564,33],[564,34,564,39],[573,6,573,8],[370,6,370,8],[370,12,370,14],[370,18,370,20],[370,24,370,26],[370,30,370,32],[390,3,390,33],[390,34,390,39],[419,3,419,33],[419,34,419,39],[428,6,428,8],[428,12,428,14],[428,18,428,20],[428,24,428,26],[428,30,428,32],[457,24,457,26],[506,3,506,33],[544,6,544,8],[544,12,544,14],[544,18,544,20],[544,24,544,26],[544,30,544,32],[515,36,515,39],[544,36,544,39],[519,2,520,41],[593,43,595,43],[564,40,567,40],[564,41,567,41],[564,43,566,43],[535,40,538,40],[535,41,538,41],[535,43,537,43],[480,43,486,43],[419,41,422,41],[419,43,421,43],[477,3,477,33],[448,34,448,39],[477,34,477,39],[457,6,457,8],[457,12,457,14],[457,18,457,20],[448,3,448,33],[457,30,457,32],[486,6,486,8],[486,12,486,14],[486,18,486,20],[486,24,486,26],[486,30,486,32],[428,36,428,39],[457,36,457,39]],"merged_total":1167,"flags":["merged_cut"]}
[null,"（別紙４）",null,null,null,null,null,null,null,null,null,null,null,null,null,null,null,null,null,null,null,null,null,null,null,null,null,null,null,null,null,null,null,null,null,null,null,null,null,null,null,null,null,null,null,null,null,null,null,null,null,"（別紙４）",null,null,null,null,null,null,null,null,null,null,null,null,null,null,null,null,null,null,null,null,null,null,null,null,null,null,null,null,null,null,null,null,null,null,null,null,null,null,null,null,null,null,null,null,null,null,null,"（別紙４）"]
[null,null,"休日（現場閉所）取得計画実績表",null,null,null,null,null,null,null,null,null,null,null,null,null,null,null,null,null,null,null,null,null,null,null,null,null,null,null,null,null,null,null,null,null,null,null,null,null,null,null,null,null,null,null,null,null,null,null,null,null,"休日（現場閉所）取得計画実績表",null,null,null,null,null,null,null,null,null,null,null,null,null,null,null,null,null,null,null,null,null,null,null,null,null,null,null,null,null,null,null,null,null,null,null,null,null,null,null,null,null,null,null,null,null,null,null,"休日（現場閉所）取得計画実績表"]
[]
[null,null,{"$f":"\"工事名：\"&入力表!B3","v":"工事名："},null,null,null,null,null,null,null,null,null,null,null,null,null,null,null,null,null,null,null,null,null,null,null,null,null,null,null,null,null,null,null,null,null,null,null,null,null,null,null,null,null,null,null,null,null,null,null,null,null,{"$f":"\"工事名：\"&入力表!BA3","v":"工事名："},null,null,null,null,null,null,null,null,null,null,null,null,null,null,null,null,null,null,null,null,null,null,null,null,null,null,null,null,null,null,null,null,null,null,null,null,null,null,null,null,null,null,null,null,null,null,null,{"$f":"\"工事名：\"&入力表!CW3","v":"工事名："}]
[null,null,{"$f":"\"期   間：\"&IF(入力表!B6=\"\",\"令和　　年　　月　　日\",TEXT(入力表!B6,\"ggge年m月d日\"))&\"　～　\"&IF(入力表!E6=\"\",\"令和　　年　　月　　日\",TEXT(入力表!E6,\"ggge年m月d日\"))","v":"期   間：令和　　年　　月　　日　～　令和　　年　　月　　日"},null,null,null,null,null,null,null,null,null,null,null,null,null,null,null,null,null,null,null,null,null,null,null,null,null,null,null,null,null,null,null,null,null,null,null,null,null,null,null,null,null,null,null,null,null,"一覧表へ戻る",null,null,null,"期   間：",null,null,"2025-04-20",null,null,null,null,null,"～",null,"2026-03-25",null,null,null,null,null,null,null,null,null,null,null,null,null,null,null,null,null,null,null,null,null,null,null,null,null,null,null,null,null,null,null,null,null,null,null,null,"期   間：",null,null,"2025-04-20",null,null,null,null,null,"～",null,"2026-03-25"]
[null,null,null,null,null,null,null,null,null,null,null,null,null,null,null,null,null,null,null,null,null,null,null,null,null,null,null,null,null,null,null,null,null,null,null,null,null,null,null,null,null,null,null,null,null,null,null,null,"入力表へ戻る"]
[null,null,"カレンダー開始日",null,null,null,null,{"$f":"IF(入力表!B6=\"\",DATE(IF(MONTH(TODAY())>=4,YEAR(TODAY()),YEAR(TODAY())-1),4,1),DATE(YEAR(入力表!B6),MONTH(入力表!B6),1))","v":"2025-04-01"},null,null,null,null,null,null,null,null,null,null,null,null,null,null,null,null,null,null,null,"【凡例】",null,null,null,null,null,null,null,null,null,null,null,null,null,null,null,null,null,null,null,null,"記載例へ",null,null,null,"カレンダー開始日",null,null,null,null,"2025-04-01",null,null,null,"年",null,null,null,null,null,null,null,null,null,null,null,null,null,null,null,"【凡例】",null,null,null,null,null,null,null,null,null,null,null,null,null,null,null,null,null,null,null,null,null,null,"カレンダー開始日",null,null,null,null,"2025-04-01",null,null,null,"年",null,null,null,null,null,null,null,null,null,null,null,null,null,null,null,"【凡例】"]
[null,null,null,null,null,null,null,null,null,null,null,null,null,null,null,null,null,null,null,null,null,null,null,null,null,null,null,"○","休日（予定）",null,null,null,null,null,null,null,null,null,null,null,null,null,null,null,null,null,null,null,null,null,null,null,null,null,null,null,null,null,null,null,null,null,null,null,null,null,null,null,null,null,null,null,null,null,null,null,null,"○","休日（予定）",null,null,null,null,null,null,null,null,null,null,null,null,null,null,null,null,null,null,null,null,null,null,null,null,null,null,null,null,null,null,null,null,null,null,null,null,null,null,null,null,null,null,null,null,null,null,"○","休日（予定）"]
[null,null,null,null,null,null,null,null,null,null,null,null,null,null,null,null,null,null,null,null,null,null,null,null,null,null,null,"●","休日（実施）",null,null,null,null,null,null,null,null,null,null,null,null,null,null,null,null,null,null,null,null,null,null,null,null,null,null,null,null,null,null,null,null,null,null,null,null,null,null,null,null,null,null,null,null,null,null,null,null,"●","休日（実施）",null,null,null,null,null,null,null,null,null,null,null,null,null,null,null,null,null,null,null,null,null,null,null,null,null,null,null,null,null,null,null,null,null,null,null,null,null,null,null,null,null,null,null,null,null,null,"●","休日（実施）"]
[null,null,null,null,null,null,null,null,null,null,null,null,null,null,null,null,null,null,null,null,null,null,null,null,null,null,null,null,"作業日（※空欄）",null,null,null,null,null,null,null,null,null,null,null,null,null,null,null,null,null,null,null,null,null,null,null,null,null,null,null,null,null,null,null,null,null,null,null,null,null,null,null,null,null,null,null,null,null,null,null,null,null,"作業日（※空欄）",null,null,null,null,null,null,null,null,null,null,null,null,null,null,null,null,null,null,null,null,null,null,null,null,null,null,null,null,null,null,null,null,null,null,null,null,null,null,null,null,null,null,null,null,null,null,null,"作業日（※空欄）"]
[null,null,null,null,null,null,null,null,null,null,null,null,null,null,null,null,null,null,null,null,null,null,null,null,null,null,null,"／","対象期間外",null,null,null,null,null,null,null,null,null,null,null,null,null,null,null,null,null,null,null,null,null,null,null,null,null,null,null,null,null,null,null,null,null,null,null,null,null,null,null,null,null,null,null,null,null,null,null,null,"／","対象期間外",null,null,null,null,null,null,null,null,null,null,null,null,null,null,null,null,null,null,null,null,null,null,null,null,null,null,null,null,null,null,null,null,null,null,null,null,null,null,null,null,null,null,null,null,null,null,"／","対象期間外"]
[]
["対象期間選択",null,null,null,null,null,null,null,null,null,null,null,null,null,null,null,null,null,null,null,null,null,null,null,null,null,null,null,null,null,null,null,null,null,null,null,null,null,null,null,null,null,null,"月毎の確認",null,null,null,null,null,null,null,null,null,null,null,null,null,null,null,null,null,null,null,null,null,null,null,null,null,null,null,null,null,null,null,null,null,null,null,null,null,null,null,null,null,null,null,null,null,null,null,null,null,"月毎の確認",null,null,null,null,null,null,null,null,null,null,null,null,null,null,null,null,null,null,null,null,null,null,null,null,null,null,null,null,null,null,null,null,null,null,null,null,null,null,null,null,null,null,null,null,null,null,null,"月毎の確認"]
[{"$f":"IF($AT$14=\"\",\"\",\"対象期間\")","v":""},null,"月",{"$f":"DATE(YEAR(H7),MONTH(H7),1)","v":"2025-04-01"},null,null,null,null,null,null,null,null,null,null,null,null,null,null,null,null,null,null,null,null,null,null,null,null,null,null,null,null,null,null,{"$f":"DATE(YEAR(D14),MONTH(D14)+1,1)","v":"2025-05-01"},null,null,null,null,null,"現場閉所計","現場閉所累計",null,"計画","対象期間",{"$f":"IF(IF(MONTH(入力表!$E$6)=12,YEAR(入力表!$E$6)+1&\"01\",YEAR(入力表!$E$6)&TEXT(MONTH(入力表!$E$6)+1,\"00\"))>YEAR($D14)&TEXT(MONTH($D14),\"00\"),COUNTIF(D18:AH18,\"\")+COUNTIF(D18:AH18,\"○\"),\"\")","v":""},{"$f":"IF(COUNTIF(D15:AH15,\"／\")=0,\"\",IF(COUNTIF(D15:AH15,\"／\")=1,IF(AH18=\"／\",\"\",\"月末「／」漏れ\"),IF(COUNTIF(D15:AH15,\"／\")=2,IF(AND(AG18=\"／\",AH18=\"／\"),\"\",\"月末「／」漏れ\"),IF(AND(AF18=\"／\",AG18=\"／\",AH18=\"／\"),\"\",\"月末「／」漏れ\"))))","v":"月末「／」漏れ"},null,null,null,null,null,"月",{"$f":"DATE(YEAR(BF7),MONTH(BF7),1)","v":"2025-04-01"},null,null,null,null,null,null,null,null,null,null,null,null,null,null,null,null,null,null,null,null,null,null,null,null,null,null,null,null,null,null,{"$f":"DATE(YEAR(BB14),MONTH(BB14)+1,1)","v":"2025-05-01"},null,null,null,null,null,"現場閉所計","現場閉所累計",null,"計画","対象期間",{"$f":"IF(IF(MONTH(入力表!$E$6)=12,YEAR(入力表!$E$6)+1&\"01\",YEAR(入力表!$E$6)&TEXT(MONTH(入力表!$E$6)+1,\"00\"))>YEAR($BB14)&TEXT(MONTH($BB14),\"00\"),COUNTIF(BB18:CF18,\"\")+COUNTIF(BB18:CF18,\"○\"),\"\")","v":""},{"$f":"IF(COUNTIF(BB15:CF15,\"／\")=0,\"\",IF(COUNTIF(BB15:CF15,\"／\")=1,IF(CF18=\"／\",\"\",\"月末「／」漏れ\"),IF(COUNTIF(BB15:CF15,\"／\")=2,IF(AND(CE18=\"／\",CF18=\"／\"),\"\",\"月末「／」漏れ\"),IF(AND(CD18=\"／\",CE18=\"／\",CF18=\"／\"),\"\",\"月末「／」漏れ\"))))","v":""},null,null,null,"月",{"$f":"DATE(YEAR(DB7),MONTH(DB7),1)","v":"2025-04-01"},null,null,null,null,null,null,null,null,null,null,null,null,null,null,null,null,null,null,null,null,null,null,null,null,null,null,null,null,null,null,{"$f":"DATE(YEAR(CX14),MONTH(CX14)+1,1)","v":"2025-05-01"},null,null,null,null,null,"現場閉所計","現場閉所累計",null,"計画","対象期間",{"$f":"IF(IF(MONTH($BL$5)=12,YEAR($BL$5)+1&\"01\",YEAR($BL$5)&TEXT(MONTH($BL$5)+1,\"00\"))>YEAR($CX14)&TEXT(MONTH($CX14),\"00\"),COUNTIF(CX18:EB18,\"\")+COUNTIF(CX18:EB18,\"○\"),\"\")","v":0},{"$f":"IF(COUNTIF(CX15:EB15,\"／\")=0,\"\",IF(COUNTIF(CX15:EB15,\"／\")=1,IF(EB18=\"／\",\"\",\"月末「／」漏れ\"),IF(COUNTIF(CX15:EB15,\"／\")=2,IF(AND(EA18=\"／\",EB18=\"／\"),\"\",\"月末「／」漏れ\"),IF(AND(DZ18=\"／\",EA18=\"／\",EB18=\"／\"),\"\",\"月末「／」漏れ\"))))","v":""}]
[{"$f":"IF($AT$14=\"\",\"\",\"対象期間\")","v":""},null,"日",{"$f":"D14","v":"2025-04-01"},{"$f":"D15+1","v":"2025-04-02"},{"$f":"E15+1","v":"2025-04-03"},{"$f":"F15+1","v":"2025-04-04"},"2025-04-05","2025-04-06","2025-04-07","2025-04-08","2025-04-09","2025-04-10","2025-04-11","2025-04-12","2025-04-13","2025-04-14","2025-04-15","2025-04-16","2025-04-17","2025-04-18","2025-04-19","2025-04-20","2025-04-21","2025-04-22","2025-04-23","2025-04-24","2025-04-25","2025-04-26","2025-04-27","2025-04-28",{"$f":"IF(AE15=\"／\",\"／\",IF(YEAR($D14)&TEXT(MONTH($D14),\"00\")<YEAR(AE15+1)&TEXT(MONTH(AE15+1),\"00\"),\"／\",AE15+1))","v":"2025-04-29"},{"$f":"IF(AF15=\"／\",\"／\",IF(YEAR($D14)&TEXT(MONTH($D14),\"00\")<YEAR(AF15+1)&TEXT(MONTH(AF15+1),\"00\"),\"／\",AF15+1))","v":"2025-04-30"},"／",{"$f":"AI14","v":"2025-05-01"},{"$f":"AI15+1","v":"2025-05-02"},"2025-05-03","2025-05-04","2025-05-05","2025-05-06",null,null,null,null,"閉所日数",{"$f":"IF(IF(MONTH(入力表!$E$6)=12,YEAR(入力表!$E$6)+1&\"01\",YEAR(入力表!$E$6)&TEXT(MONTH(入力表!$E$6)+1,\"00\"))>YEAR($D14)&TEXT(MONTH($D14),\"00\"),COUNTIF(D18:AH18,\"○\"),\"\")","v":""},{"$f":"IF(OR(MONTH(D14)=1,MONTH(D14)=8,MONTH(D14)=12),IF(COUNTIF(D18:AH18,\"／\")>=3,\"\",\"算定除外「／」漏れ\"),\"\")","v":""},null,null,null,null,null,"日",{"$f":"BB14","v":"2025-04-01"},{"$f":"BB15+1","v":"2025-04-02"},{"$f":"BC15+1","v":"2025-04-03"},{"$f":"BD15+1","v":"2025-04-04"},{"$f":"BE15+1","v":"2025-04-05"},{"$f":"BF15+1","v":"2025-04-06"},{"$f":"BG15+1","v":"2025-04-07"},{"$f":"BH15+1","v":"2025-04-08"},{"$f":"BI15+1","v":"2025-04-09"},{"$f":"BJ15+1","v":"2025-04-10"},{"$f":"BK15+1","v":"2025-04-11"},{"$f":"BL15+1","v":"2025-04-12"},{"$f":"BM15+1","v":"2025-04-13"},{"$f":"BN15+1","v":"2025-04-14"},{"$f":"BO15+1","v":"2025-04-15"},{"$f":"BP15+1","v":"2025-04-16"},{"$f":"BQ15+1","v":"2025-04-17"},{"$f":"BR15+1","v":"2025-04-18"},{"$f":"BS15+1","v":"2025-04-19"},{"$f":"BT15+1","v":"2025-04-20"},{"$f":"BU15+1","v":"2025-04-21"},{"$f":"BV15+1","v":"2025-04-22"},{"$f":"BW15+1","v":"2025-04-23"},{"$f":"BX15+1","v":"2025-04-24"},{"$f":"BY15+1","v":"2025-04-25"},{"$f":"BZ15+1","v":"2025-04-26"},{"$f":"CA15+1","v":"2025-04-27"},{"$f":"CB15+1","v":"2025-04-28"},{"$f":"IF(CC15=\"／\",\"／\",IF(YEAR(BB14)&TEXT(MONTH(BB14),\"00\")<YEAR(CC15+1)&TEXT(MONTH(CC15+1),\"00\"),\"／\",CC15+1))","v":"2025-04-29"},{"$f":"IF(CD15=\"／\",\"／\",IF(YEAR(BB14)&TEXT(MONTH(BB14),\"00\")<YEAR(CD15+1)&TEXT(MONTH(CD15+1),\"00\"),\"／\",CD15+1))","v":"2025-04-30"},{"$f":"IF(CE15=\"／\",\"／\",IF(YEAR(BB14)&TEXT(MONTH(BB14),\"00\")<YEAR(CE15+1)&TEXT(MONTH(CE15+1),\"00\"),\"／\",CE15+1))","v":"／"},{"$f":"CG14","v":"2025-05-01"},{"$f":"CG15+1","v":"2025-05-02"},{"$f":"CH15+1","v":"2025-05-03"},{"$f":"CI15+1","v":"2025-05-04"},{"$f":"CJ15+1","v":"2025-05-05"},{"$f":"CK15+1","v":"2025-05-06"},null,null,null,null,"閉所日数",{"$f":"IF(IF(MONTH(入力表!$E$6)=12,YEAR(入力表!$E$6)+1&\"01\",YEAR(入力表!$E$6)&TEXT(MONTH(入力表!$E$6)+1,\"00\"))>YEAR($BB14)&TEXT(MONTH($BB14),\"00\"),COUNTIF(BB18:CF18,\"○\"),\"\")","v":""},{"$f":"IF(OR(MONTH(BB14)=1,MONTH(BB14)=8,MONTH(BB14)=12),IF(COUNTIF(BB18:CF18,\"／\")>=3,\"\",\"算定除外「／」漏れ\"),\"\")","v":""},null,null,null,"日",{"$f":"CX14","v":"2025-04-01"},{"$f":"CX15+1","v":"2025-04-02"},{"$f":"CY15+1","v":"2025-04-03"},{"$f":"CZ15+1","v":"2025-04-04"},{"$f":"DA15+1","v":"2025-04-05"},{"$f":"DB15+1","v":"2025-04-06"},{"$f":"DC15+1","v":"2025-04-07"},{"$f":"DD15+1","v":"2025-04-08"},{"$f":"DE15+1","v":"2025-04-09"},{"$f":"DF15+1","v":"2025-04-10"},{"$f":"DG15+1","v":"2025-04-11"},{"$f":"DH15+1","v":"2025-04-12"},{"$f":"DI15+1","v":"2025-04-13"},{"$f":"DJ15+1","v":"2025-04-14"},{"$f":"DK15+1","v":"2025-04-15"},{"$f":"DL15+1","v":"2025-04-16"},{"$f":"DM15+1","v":"2025-04-17"},{"$f":"DN15+1","v":"2025-04-18"},{"$f":"DO15+1","v":"2025-04-19"},{"$f":"DP15+1","v":"2025-04-20"},{"$f":"DQ15+1","v":"2025-04-21"},{"$f":"DR15+1","v":"2025-04-22"},{"$f":"DS15+1","v":"2025-04-23"},{"$f":"DT15+1","v":"2025-04-24"},{"$f":"DU15+1","v":"2025-04-25"},{"$f":"DV15+1","v":"2025-04-26"},{"$f":"DW15+1","v":"2025-04-27"},{"$f":"DX15+1","v":"2025-04-28"},{"$f":"IF(DY15=\"／\",\"／\",IF(YEAR(CX14)&TEXT(MONTH(CX14),\"00\")<YEAR(DY15+1)&TEXT(MONTH(DY15+1),\"00\"),\"／\",DY15+1))","v":"2025-04-29"},{"$f":"IF(DZ15=\"／\",\"／\",IF(YEAR(CX14)&TEXT(MONTH(CX14),\"00\")<YEAR(DZ15+1)&TEXT(MONTH(DZ15+1),\"00\"),\"／\",DZ15+1))","v":"2025-04-30"},{"$f":"IF(EA15=\"／\",\"／\",IF(YEAR(CX14)&TEXT(MONTH(CX14),\"00\")<YEAR(EA15+1)&TEXT(MONTH(EA15+1),\"00\"),\"／\",EA15+1))","v":"／"},{"$f":"EC14","v":"2025-05-01"},{"$f":"EC15+1","v":"2025-05-02"},{"$f":"ED15+1","v":"2025-05-03"},{"$f":"EE15+1","v":"2025-05-04"},{"$f":"EF15+1","v":"2025-05-05"},{"$f":"EG15+1","v":"2025-05-06"},null,null,null,null,"閉所日数",{"$f":"IF(IF(MONTH($BL$5)=12,YEAR($BL$5)+1&\"01\",YEAR($BL$5)&TEXT(MONTH($BL$5)+1,\"00\"))>YEAR($CX14)&TEXT(MONTH($CX14),\"00\"),COUNTIF(CX18:EB18,\"○\"),\"\")","v":0},{"$f":"IF(OR(MONTH(CX14)=1,MONTH(CX14)=8,MONTH(CX14)=12),IF(COUNTIF(CX18:EB18,\"／\")>=3,\"\",\"算定除外「／」漏れ\"),\"\")","v":""}]
["",null,"曜日",{"$f":"TEXT(WEEKDAY(+D15),\"aaa\")","v":"火"},{"$f":"TEXT(WEEKDAY(+E15),\"aaa\")","v":"水"},"木","金","土",{"$f":"TEXT(WEEKDAY(+I15),\"aaa\")","v":"日"},"月","火","水","木","金","土","日","月","火","水","木","金","土","日","月","火",{"$f":"TEXT(WEEKDAY(+Z15),\"aaa\")","v":"水"},"木","金","土","日","月",{"$f":"IF(AF15=\"／\",\"／\",TEXT(WEEKDAY(+AF15),\"aaa\"))","v":"火"},{"$f":"IF(AG15=\"／\",\"／\",TEXT(WEEKDAY(+AG15),\"aaa\"))","v":"水"},"／",{"$f":"TEXT(WEEKDAY(+AI15),\"aaa\")","v":"木"},{"$f":"TEXT(WEEKDAY(+AJ15),\"aaa\")","v":"金"},"土","日","月","火",null,null,null,null,"現場閉所率",{"$f":"IFERROR(+AT15/AT14,\"\")","v":""},{"$f":"IF(AT16=\"\",\"\",IF(COUNTIF(D18:AH18,\"○\")>=COUNTIF(D21:AH21,\"◎\"),\"4週8休以上\",IF(AT16>=0.285,\"4週8休以上\",\"週休2日未達成\")))","v":""},null,null,null,null,null,"曜日",{"$f":"TEXT(WEEKDAY(+BB15),\"aaa\")","v":"火"},{"$f":"TEXT(WEEKDAY(+BC15),\"aaa\")","v":"水"},"木","金","土",{"$f":"TEXT(WEEKDAY(+BG15),\"aaa\")","v":"日"},{"$f":"TEXT(WEEKDAY(+BH15),\"aaa\")","v":"月"},"火","水","木","金","土","日","月","火","水","木","金","土","日","月","火",{"$f":"TEXT(WEEKDAY(+BX15),\"aaa\")","v":"水"},{"$f":"TEXT(WEEKDAY(+BY15),\"aaa\")","v":"木"},"金","土","日","月",{"$f":"IF(CD15=\"／\",\"／\",TEXT(WEEKDAY(+CD15),\"aaa\"))","v":"火"},{"$f":"IF(CE15=\"／\",\"／\",TEXT(WEEKDAY(+CE15),\"aaa\"))","v":"水"},"／",{"$f":"TEXT(WEEKDAY(+CG15),\"aaa\")","v":"木"},{"$f":"TEXT(WEEKDAY(+CH15),\"aaa\")","v":"金"},"土","日","月","火",null,null,null,null,"現場閉所率",{"$f":"IFERROR(+CR15/CR14,\"\")","v":""},{"$f":"IF(CR16=\"\",\"\",IF(COUNTIF(BB18:CF18,\"○\")>=COUNTIF(BB21:CF21,\"◎\"),\"4週8休以上\",IF(CR16>=0.285,\"4週8休以上\",\"週休2日未達成\")))","v":""},null,null,null,"曜日",{"$f":"TEXT(WEEKDAY(+CX15),\"aaa\")","v":"火"},{"$f":"TEXT(WEEKDAY(+CY15),\"aaa\")","v":"水"},"木","金","土",{"$f":"TEXT(WEEKDAY(+DC15),\"aaa\")","v":"日"},{"$f":"TEXT(WEEKDAY(+DD15),\"aaa\")","v":"月"},"火","水","木","金","土","日","月","火","水","木","金","土","日","月","火",{"$f":"TEXT(WEEKDAY(+DT15),\"aaa\")","v":"水"},{"$f":"TEXT(WEEKDAY(+DU15),\"aaa\")","v":"木"},"金","土","日","月",{"$f":"IF(DZ15=\"／\",\"／\",TEXT(WEEKDAY(+DZ15),\"aaa\"))","v":"火"},{"$f":"IF(EA15=\"／\",\"／\",TEXT(WEEKDAY(+EA15),\"aaa\"))","v":"水"},"／",{"$f":"TEXT(WEEKDAY(+EC15),\"aaa\")","v":"木"},{"$f":"TEXT(WEEKDAY(+ED15),\"aaa\")","v":"金"},"土","日","月","火",null,null,null,null,"現場閉所率",{"$f":"IFERROR(+EN15/EN14,\"\")","v":""},{"$f":"IF(EN16=\"\",\"\",IF(COUNTIF(CX18:EB18,\"○\")>=COUNTIF(CX21:EB21,\"◎\"),\"4週8休以上\",IF(EN16>=0.285,\"4週8休以上\",\"週休2日未達成\")))","v":""}]
["",null,"行事",null,null,null,null,null,null,null,null,null,null,null,null,null,null,null,null,null,null,null,null,null,null,null,null,null,null,null,null,null,null,null,{"$f":"IF(D46=\"\",\"\",D46)","v":""},{"$f":"IF(E46=\"\",\"\",E46)","v":""},{"$f":"IF(F46=\"\",\"\",F46)","v":""},{"$f":"IF(G46=\"\",\"\",G46)","v":""},{"$f":"IF(H46=\"\",\"\",H46)","v":""},{"$f":"IF(I46=\"\",\"\",I46)","v":""},null,null,null,"実施","対象期間",{"$f":"IF(IF(MONTH(入力表!$E$6)=12,YEAR(入力表!$E$6)+1&\"01\",YEAR(入力表!$E$6)&TEXT(MONTH(入力表!$E$6)+1,\"00\"))>YEAR($D14)&TEXT(MONTH($D14),\"00\"),COUNTIF(D19:AH19,\"\")+COUNTIF(D19:AH19,\"●\"),\"\")","v":""},{"$f":"IF(COUNTIF(D15:AH15,\"／\")=0,\"\",IF(COUNTIF(D15:AH15,\"／\")=1,IF(AH19=\"／\",\"\",\"月末「／」漏れ\"),IF(COUNTIF(D15:AH15,\"／\")=2,IF(AND(AG19=\"／\",AH19=\"／\"),\"\",\"月末「／」漏れ\"),IF(AND(AF19=\"／\",AG19=\"／\",AH19=\"／\"),\"\",\"月末「／」漏れ\"))))","v":"月末「／」漏れ"},null,null,null,null,null,"行事",null,null,null,null,null,null,null,null,null,null,null,null,null,null,null,null,null,null,null,null,null,null,null,null,null,null,null,null,null,null,null,{"$f":"IF(BB46=\"\",\"\",BB46)","v":""},{"$f":"IF(BC46=\"\",\"\",BC46)","v":""},{"$f":"IF(BD46=\"\",\"\",BD46)","v":""},{"$f":"IF(BE46=\"\",\"\",BE46)","v":""},{"$f":"IF(BF46=\"\",\"\",BF46)","v":""},{"$f":"IF(BG46=\"\",\"\",BG46)","v":""},null,null,null,"実施","対象期間",{"$f":"IF(IF(MONTH(入力表!$E$6)=12,YEAR(入力表!$E$6)+1&\"01\",YEAR(入力表!$E$6)&TEXT(MONTH(入力表!$E$6)+1,\"00\"))>YEAR($BB14)&TEXT(MONTH($BB14),\"00\"),COUNTIF(BB19:CF19,\"\")+COUNTIF(BB19:CF19,\"●\"),\"\")","v":""},{"$f":"IF(COUNTIF(BB15:CF15,\"／\")=0,\"\",IF(COUNTIF(BB15:CF15,\"／\")=1,IF(CF19=\"／\",\"\",\"月末「／」漏れ\"),IF(COUNTIF(BB15:CF15,\"／\")=2,IF(AND(CE19=\"／\",CF19=\"／\"),\"\",\"月末「／」漏れ\"),IF(AND(CD19=\"／\",CE19=\"／\",CF19=\"／\"),\"\",\"月末「／」漏れ\"))))","v":""},null,null,null,"行事",null,null,null,null,null,null,null,null,null,null,null,null,null,null,null,null,null,null,null,null,null,null,null,null,null,null,null,null,null,null,null,{"$f":"IF(CX46=\"\",\"\",CX46)","v":""},{"$f":"IF(CY46=\"\",\"\",CY46)","v":""},{"$f":"IF(CZ46=\"\",\"\",CZ46)","v":""},{"$f":"IF(DA46=\"\",\"\",DA46)","v":""},{"$f":"IF(DB46=\"\",\"\",DB46)","v":""},{"$f":"IF(DC46=\"\",\"\",DC46)","v":""},null,null,null,"実施","対象期間",{"$f":"IF(IF(MONTH($BL$5)=12,YEAR($BL$5)+1&\"01\",YEAR($BL$5)&TEXT(MONTH($BL$5)+1,\"00\"))>YEAR($CX14)&TEXT(MONTH($CX14),\"00\"),COUNTIF(CX19:EB19,\"\")+COUNTIF(CX19:EB19,\"●\"),\"\")","v":0},{"$f":"IF(COUNTIF(CX15:EB15,\"／\")=0,\"\",IF(COUNTIF(CX15:EB15,\"／\")=1,IF(EB19=\"／\",\"\",\"月末「／」漏れ\"),IF(COUNTIF(CX15:EB15,\"／\")=2,IF(AND(EA19=\"／\",EB19=\"／\"),\"\",\"月末「／」漏れ\"),IF(AND(DZ19=\"／\",EA19=\"／\",EB19=\"／\"),\"\",\"月末「／」漏れ\"))))","v":""}]
["",null,"計画",null,null,null,null,null,null,null,null,null,null,null,null,null,null,null,null,null,null,null,null,null,null,null,null,null,null,null,null,null,null,null,{"$f":"IF(D47=\"\",\"\",D47)","v":""},{"$f":"IF(E47=\"\",\"\",E47)","v":""},"","","","",{"$f":"COUNTIF(D18:AG18,\"○\")","v":0},{"$f":"+AO18","v":0},null,null,"閉所日数",{"$f":"IF(IF(MONTH(入力表!$E$6)=12,YEAR(入力表!$E$6)+1&\"01\",YEAR(入力表!$E$6)&TEXT(MONTH(入力表!$E$6)+1,\"00\"))>YEAR($D14)&TEXT(MONTH($D14),\"00\"),COUNTIF(D19:AH19,\"●\"),\"\")","v":""},{"$f":"IF(OR(MONTH(D14)=1,MONTH(D14)=8,MONTH(D14)=12),IF(COUNTIF(D19:AH19,\"／\")>=3,\"\",\"算定除外「／」漏れ\"),\"\")","v":""},null,null,null,null,null,"計画","／","／","／","／","／","／","／","／","／","／","／","／","／","／","／","／","／","／","／","／","／","／","／","／","／","／","／","／","／","／","／",{"$f":"IF(BB47=\"\",\"\",BB47)","v":"／"},"／","／","／","／","／",{"$f":"COUNTIF(BB18:CE18,\"○\")","v":0},{"$f":"+CM18","v":0},null,null,"閉所日数",{"$f":"IF(IF(MONTH(入力表!$E$6)=12,YEAR(入力表!$E$6)+1&\"01\",YEAR(入力表!$E$6)&TEXT(MONTH(入力表!$E$6)+1,\"00\"))>YEAR($BB14)&TEXT(MONTH($BB14),\"00\"),COUNTIF(BB19:CF19,\"●\"),\"\")","v":""},{"$f":"IF(OR(MONTH(BB14)=1,MONTH(BB14)=8,MONTH(BB14)=12),IF(COUNTIF(BB19:CF19,\"／\")>=3,\"\",\"算定除外「／」漏れ\"),\"\")","v":""},null,null,null,"計画","／","／","／","／","／","／","／","／","／","／","／","／","／","／","／","／","／","／","／","／","／","／","／","／","／","／","／","／","／","／","／",{"$f":"IF(CX47=\"\",\"\",CX47)","v":"／"},"／","／","／","／","／",{"$f":"COUNTIF(CX18:EA18,\"○\")","v":0},{"$f":"+EI18","v":0},null,null,"閉所日数",{"$f":"IF(IF(MONTH($BL$5)=12,YEAR($BL$5)+1&\"01\",YEAR($BL$5)&TEXT(MONTH($BL$5)+1,\"00\"))>YEAR($CX14)&TEXT(MONTH($CX14),\"00\"),COUNTIF(CX19:EB19,\"●\"),\"\")","v":0},{"$f":"IF(OR(MONTH(CX14)=1,MONTH(CX14)=8,MONTH(CX14)=12),IF(COUNTIF(CX19:EB19,\"／\")>=3,\"\",\"算定除外「／」漏れ\"),\"\")","v":""}]
["",null,"実施",null,null,null,null,null,null,null,null,null,null,null,null,null,null,null,null,null,null,null,null,null,null,null,null,null,null,null,null,null,null,null,{"$f":"IF(D48=\"\",\"\",D48)","v":""},{"$f":"IF(E48=\"\",\"\",E48)","v":""},{"$f":"IF(F48=\"\",\"\",F48)","v":""},{"$f":"IF(G48=\"\",\"\",G48)","v":""},{"$f":"IF(H48=\"\",\"\",H48)","v":""},{"$f":"IF(I48=\"\",\"\",I48)","v":""},{"$f":"COUNTIF(D19:AG19,\"●\")","v":0},{"$f":"+AO19","v":0},null,null,"現場閉所率",{"$f":"IFERROR(+AT18/AT17,\"\")","v":""},{"$f":"IF(AT19=\"\",\"\",IF(COUNTIF(D19:AH19,\"●\")>=COUNTIF(D22:AH22,\"◎\"),\"4週8休以上\",IF(AT19>=0.285,\"4週8休以上\",\"週休2日未達成\")))","v":""},null,null,null,null,null,"実施","／","／","／","／","／","／","／","／","／","／","／","／","／","／","／","／","／","／","／","／","／","／","／","／","／","／","／","／","／","／","／",{"$f":"IF(BB48=\"\",\"\",BB48)","v":"／"},{"$f":"IF(BC48=\"\",\"\",BC48)","v":"／"},{"$f":"IF(BD48=\"\",\"\",BD48)","v":"／"},{"$f":"IF(BE48=\"\",\"\",BE48)","v":"／"},{"$f":"IF(BF48=\"\",\"\",BF48)","v":"／"},{"$f":"IF(BG48=\"\",\"\",BG48)","v":"／"},{"$f":"COUNTIF(BB19:CE19,\"●\")","v":0},{"$f":"+CM19","v":0},null,null,"現場閉所率",{"$f":"IFERROR(+CR18/CR17,\"\")","v":""},{"$f":"IF(CR19=\"\",\"\",IF(COUNTIF(BB19:CF19,\"●\")>=COUNTIF(BB22:CF22,\"◎\"),\"4週8休以上\",IF(CR19>=0.285,\"4週8休以上\",\"週休2日未達成\")))","v":""},null,null,null,"実施","／","／","／","／","／","／","／","／","／","／","／","／","／","／","／","／","／","／","／","／","／","／","／","／","／","／","／","／","／","／","／",{"$f":"IF(CX48=\"\",\"\",CX48)","v":"／"},{"$f":"IF(CY48=\"\",\"\",CY48)","v":"／"},{"$f":"IF(CZ48=\"\",\"\",CZ48)","v":"／"},{"$f":"IF(DA48=\"\",\"\",DA48)","v":"／"},{"$f":"IF(DB48=\"\",\"\",DB48)","v":"／"},{"$f":"IF(DC48=\"\",\"\",DC48)","v":"／"},{"$f":"COUNTIF(CX19:EA19,\"●\")","v":0},{"$f":"+EI19","v":0},null,null,"現場閉所率",{"$f":"IFERROR(+EN18/EN17,\"\")","v":""},{"$f":"IF(EN19=\"\",\"\",IF(COUNTIF(CX19:EB19,\"●\")>=COUNTIF(CX22:EB22,\"◎\"),\"4週8休以上\",IF(EN19>=0.285,\"4週8休以上\",\"週休2日未達成\")))","v":""}]
[null,null,null,1,2,3,4,5,6,7,8,9,10,11,12,13,14,15,16,17,18,19,20,21,22,23,24,25,26,27,28,29,30,31,32,33,34,35,36,37,null,null,null,null,{"$f":"AU19","v":""},null,null,null,null,null,null,null,null,1,2,3,4,5,6,7,8,9,10,11,12,13,14,15,16,17,18,19,20,21,22,23,24,25,26,27,28,29,30,31,32,33,34,35,36,37,null,null,null,null,{"$f":"CS19","v":""},null,null,null,null,null,null,1,2,3,4,5,6,7,8,9,10,11,12,13,14,15,16,17,18,19,20,21,22,23,24,25,26,27,28,29,30,31,32,33,34,35,36,37,null,null,null,null,{"$f":"EO19","v":""}]
[null,null,"計画",{"$f":"IF(D18=\"／\",\"／\",IF(OR(D16=\"土\",D16=\"日\"),\"◎\",\"\"))","v":""},"","","","◎","◎","","","","","","◎",{"$f":"IF(P18=\"／\",\"／\",IF(OR(P16=\"土\",P16=\"日\"),\"◎\",\"\"))","v":"◎"},"","","","","","◎","◎","","","","","","◎",{"$f":"IF(AD18=\"／\",\"／\",IF(OR(AD16=\"土\",AD16=\"日\"),\"◎\",\"\"))","v":"◎"},{"$f":"IF(AE18=\"／\",\"／\",IF(OR(AE16=\"土\",AE16=\"日\"),\"◎\",\"\"))","v":""},"","","","","","◎","◎","","",null,null,null,null,{"$f":"AT23","v":""},null,null,null,null,null,null,null,"計画",{"$f":"IF(BB18=\"／\",\"／\",IF(OR(BB16=\"土\",BB16=\"日\"),\"◎\",\"\"))","v":"／"},"／","／","／","／","／","／","／","／","／","／","／",{"$f":"IF(BN18=\"／\",\"／\",IF(OR(BN16=\"土\",BN16=\"日\"),\"◎\",\"\"))","v":"／"},{"$f":"IF(BO18=\"／\",\"／\",IF(OR(BO16=\"土\",BO16=\"日\"),\"◎\",\"\"))","v":"／"},"／","／","／","／","／","／","／","／","／","／","／","／",{"$f":"IF(CB18=\"／\",\"／\",IF(OR(CB16=\"土\",CB16=\"日\"),\"◎\",\"\"))","v":"／"},{"$f":"IF(CC18=\"／\",\"／\",IF(OR(CC16=\"土\",CC16=\"日\"),\"◎\",\"\"))","v":"／"},"／","／","／","／","／","／","／","／","／",null,null,null,null,{"$f":"CR23","v":""},null,null,null,null,null,"計画",{"$f":"IF(CX18=\"／\",\"／\",IF(OR(CX16=\"土\",CX16=\"日\"),\"◎\",\"\"))","v":"／"},"／","／","／","／","／","／","／","／","／","／","／",{"$f":"IF(DJ18=\"／\",\"／\",IF(OR(DJ16=\"土\",DJ16=\"日\"),\"◎\",\"\"))","v":"／"},{"$f":"IF(DK18=\"／\",\"／\",IF(OR(DK16=\"土\",DK16=\"日\"),\"◎\",\"\"))","v":"／"},"／","／","／","／","／","／","／","／","／","／","／","／",{"$f":"IF(DX18=\"／\",\"／\",IF(OR(DX16=\"土\",DX16=\"日\"),\"◎\",\"\"))","v":"／"},{"$f":"IF(DY18=\"／\",\"／\",IF(OR(DY16=\"土\",DY16=\"日\"),\"◎\",\"\"))","v":"／"},"／","／","／","／","／","／","／","／","／",null,null,null,null,{"$f":"EN23","v":"OK"}]
[null,null,"実施",{"$f":"IF(D19=\"／\",\"／\",IF(OR(D16=\"土\",D16=\"日\"),\"◎\",\"\"))","v":""},{"$f":"IF(E19=\"／\",\"／\",IF(OR(E16=\"土\",E16=\"日\"),\"◎\",\"\"))","v":""},"","","◎","◎","","","","","","◎","◎","","","","","","◎","◎","","","","","","◎","◎","","","","","","","◎","◎","","",null,null,null,null,null,null,null,null,null,null,null,null,"実施",{"$f":"IF(BB19=\"／\",\"／\",IF(OR(BB16=\"土\",BB16=\"日\"),\"◎\",\"\"))","v":"／"},{"$f":"IF(BC19=\"／\",\"／\",IF(OR(BC16=\"土\",BC16=\"日\"),\"◎\",\"\"))","v":"／"},"／","／","／","／","／","／","／","／","／","／","／","／","／","／","／","／","／","／","／","／","／","／","／","／","／","／","／","／","／","／","／","／","／","／","／",null,null,null,null,null,null,null,null,null,null,"実施",{"$f":"IF(CX19=\"／\",\"／\",IF(OR(CX16=\"土\",CX16=\"日\"),\"◎\",\"\"))","v":"／"},{"$f":"IF(CY19=\"／\",\"／\",IF(OR(CY16=\"土\",CY16=\"日\"),\"◎\",\"\"))","v":"／"},"／","／","／","／","／","／","／","／","／","／","／","／","／","／","／","／","／","／","／","／","／","／","／","／","／","／","／","／","／","／","／","／","／","／","／"]
["",null,"完全",{"$f":"D14","v":"2025-04-01"},"～",{"$f":"DATE(YEAR(D14),MONTH(D14),1)+MOD(7-WEEKDAY(DATE(YEAR(D14),MONTH(D14),1),2),7)","v":"2025-04-06"},{"$f":"IF(COUNTIF(INDEX($D$19:$AN$19,DAY(D23)):INDEX($D$19:$AN$19,HLOOKUP(F23,D15:AN20,6,FALSE)),\"\")+COUNTIF(INDEX($D$19:$AN$19,DAY(D23)):INDEX($D$19:$AN$19,HLOOKUP(F23,D15:AN20,6,FALSE)),\"●\")=7,IF(COUNTIF(INDEX($D$19:$AN$19,DAY(D23)):INDEX($D$19:$AN$19,HLOOKUP(F23,D15:AN20,6,FALSE)),\"●\")>=2,\"OK\",\"OUT\"),\"対象外\")","v":"対象外"},null,null,{"$f":"F23+1","v":"2025-04-07"},"～",{"$f":"F23+7","v":"2025-04-13"},{"$f":"IF(COUNTIF(INDEX(D19:AN19,DAY(J23)):INDEX(D19:AN19,HLOOKUP(L23,D15:AN20,6,FALSE)),\"\")+COUNTIF(INDEX(D19:AN19,DAY(J23)):INDEX(D19:AN19,HLOOKUP(L23,D15:AN20,6,FALSE)),\"●\")=7,IF(COUNTIF(INDEX(D19:AN19,DAY(J23)):INDEX(D19:AN19,HLOOKUP(L23,D15:AN20,6,FALSE)),\"●\")>=2,\"OK\",\"OUT\"),\"対象外\")","v":"OUT"},null,null,{"$f":"L23+1","v":"2025-04-14"},"～",{"$f":"L23+7","v":"2025-04-20"},{"$f":"IF(COUNTIF(INDEX(D19:AN19,DAY(P23)):INDEX(D19:AN19,HLOOKUP(R23,D15:AN20,6,FALSE)),\"\")+COUNTIF(INDEX(D19:AN19,DAY(P23)):INDEX(D19:AN19,HLOOKUP(R23,D15:AN20,6,FALSE)),\"●\")=7,IF(COUNTIF(INDEX(D19:AN19,DAY(P23)):INDEX(D19:AN19,HLOOKUP(R23,D15:AN20,6,FALSE)),\"●\")>=2,\"OK\",\"OUT\"),\"対象外\")","v":"OUT"},null,null,{"$f":"R23+1","v":"2025-04-21"},"～",{"$f":"R23+7","v":"2025-04-27"},{"$f":"IF(COUNTIF(INDEX(D19:AN19,DAY(V23)):INDEX(D19:AN19,HLOOKUP(X23,D15:AN20,6,FALSE)),\"\")+COUNTIF(INDEX(D19:AN19,DAY(V23)):INDEX(D19:AN19,HLOOKUP(X23,D15:AN20,6,FALSE)),\"●\")=7,IF(COUNTIF(INDEX(D19:AN19,DAY(V23)):INDEX(D19:AN19,HLOOKUP(X23,D15:AN20,6,FALSE)),\"●\")>=2,\"OK\",\"OUT\"),\"対象外\")","v":"OUT"},null,null,{"$f":"IF(AND(DAY(X23+7)<23,DAY(X23+7)>=7),\"\",X23+1)","v":"2025-04-28"},{"$f":"IF(AND(DAY(X23+7)<23,DAY(X23+7)>=7),\"\",\"～\")","v":"～"},{"$f":"IF(AND(DAY(X23+7)<23,DAY(X23+7)>=7),\"\",X23+7)","v":"2025-05-04"},{"$f":"IF(AND(DAY(X23+7)<23,DAY(X23+7)>=7),\"\",IF(COUNTIF(INDEX(D19:AN19,DAY(AB23)):INDEX(D19:AN19,HLOOKUP(AD23,D15:AN20,6,FALSE)),\"\")+COUNTIF(INDEX(D19:AN19,DAY(AB23)):INDEX(D19:AN19,HLOOKUP(AD23,D15:AN20,6,FALSE)),\"●\")=7,IF(COUNTIF(INDEX(D19:AN19,DAY(AB23)):INDEX(D19:AN19,HLOOKUP(AD23,D15:AN20,6,FALSE)),\"●\")>=2,\"OK\",\"OUT\"),IF(COUNTIF(INDEX(D19:AN19,DAY(AB23)):INDEX(D19:AN19,HLOOKUP(AD23,D15:AN20,6,FALSE)),\"\")+COUNTIF(INDEX(D19:AN19,DAY(AB23)):INDEX(D19:AN19,HLOOKUP(AD23,D15:AN20,6,FALSE)),\"●\")>7,\"「／」漏れ\",\"対象外\")))","v":"「／」漏れ"},null,null,{"$f":"IF(AE23=\"\",\"\",IF(AND(DAY(AD23+7)<23,DAY(AD23+7)>=7),\"\",AD23+1))","v":""},{"$f":"IF(AE23=\"\",\"\",IF(AND(DAY(AD23+7)<23,DAY(AD23+7)>=7),\"\",\"～\"))","v":""},{"$f":"IF(AE23=\"\",\"\",IF(AND(DAY(AD23+7)<23,DAY(AD23+7)>=7),\"\",AD23+7))","v":""},{"$f":"IF(AE23=\"\",\"\",IF(AND(DAY(AD23+7)<23,DAY(AD23+7)>=7),\"\",IF(COUNTIF(INDEX(D19:AN19,DAY(AH23)):INDEX(D19:AN19,HLOOKUP(AJ23,D15:AN20,6,FALSE)),\"\")+COUNTIF(INDEX(D19:AN19,DAY(AH23)):INDEX(D19:AN19,HLOOKUP(AJ23,D15:AN20,6,FALSE)),\"●\")=7,IF(COUNTIF(INDEX(D19:AN19,DAY(AH23)):INDEX(D19:AN19,HLOOKUP(AJ23,D15:AN20,6,FALSE)),\"●\")>=2,\"OK\",\"OUT\"),IF(COUNTIF(INDEX(D19:AN19,HLOOKUP(AH23,D15:AN20,6,FALSE)):INDEX(D19:AN19,HLOOKUP(AJ23,D15:AN20,6,FALSE)),\"\")+COUNTIF(INDEX(D19:AN19,HLOOKUP(AH23,D15:AN20,6,FALSE)):INDEX(D19:AN19,HLOOKUP(AJ23,D15:AN20,6,FALSE)),\"●\")>7,\"「／」漏れ\",\"対象外\"))))","v":""},null,null,null,null,null,null,null,"完全週休二日",{"$f":"IF(AT14=\"\",\"\",IF(COUNTIF(D23:AN23,\"OUT\")>=1,\"OUT\",\"OK\"))","v":""},null,null,null,null,null,null,"完全",{"$f":"BB14","v":"2025-04-01"},"～",{"$f":"DATE(YEAR(BB14),MONTH(BB14),1)+MOD(7-WEEKDAY(DATE(YEAR(BB14),MONTH(BB14),1),2),7)","v":"2025-04-06"},{"$f":"IF(COUNTIF(INDEX($D$19:$AN$19,DAY(BB23)):INDEX($D$19:$AN$19,HLOOKUP(BD23,BB15:CL20,6,FALSE)),\"\")+COUNTIF(INDEX($D$19:$AN$19,DAY(BB23)):INDEX($D$19:$AN$19,HLOOKUP(BD23,BB15:CL20,6,FALSE)),\"●\")=7,IF(COUNTIF(INDEX($D$19:$AN$19,DAY(BB23)):INDEX($D$19:$AN$19,HLOOKUP(BD23,BB15:CL20,6,FALSE)),\"●\")>=2,\"OK\",\"OUT\"),\"対象外\")","v":"対象外"},null,null,{"$f":"BD23+1","v":"2025-04-07"},"～",{"$f":"BD23+7","v":"2025-04-13"},{"$f":"IF(COUNTIF(INDEX(BB19:CL19,DAY(BH23)):INDEX(BB19:CL19,HLOOKUP(BJ23,BB15:CL20,6,FALSE)),\"\")+COUNTIF(INDEX(BB19:CL19,DAY(BH23)):INDEX(BB19:CL19,HLOOKUP(BJ23,BB15:CL20,6,FALSE)),\"●\")=7,IF(COUNTIF(INDEX(BB19:CL19,DAY(BH23)):INDEX(BB19:CL19,HLOOKUP(BJ23,BB15:CL20,6,FALSE)),\"●\")>=2,\"OK\",\"OUT\"),\"対象外\")","v":"対象外"},null,null,{"$f":"BJ23+1","v":"2025-04-14"},"～",{"$f":"BJ23+7","v":"2025-04-20"},{"$f":"IF(COUNTIF(INDEX(BB19:CL19,DAY(BN23)):INDEX(BB19:CL19,HLOOKUP(BP23,BB15:CL20,6,FALSE)),\"\")+COUNTIF(INDEX(BB19:CL19,DAY(BN23)):INDEX(BB19:CL19,HLOOKUP(BP23,BB15:CL20,6,FALSE)),\"●\")=7,IF(COUNTIF(INDEX(BB19:CL19,DAY(BN23)):INDEX(BB19:CL19,HLOOKUP(BP23,BB15:CL20,6,FALSE)),\"●\")>=2,\"OK\",\"OUT\"),\"対象外\")","v":"対象外"},null,null,{"$f":"BP23+1","v":"2025-04-21"},"～",{"$f":"BP23+7","v":"2025-04-27"},{"$f":"IF(COUNTIF(INDEX(BB19:CL19,DAY(BT23)):INDEX(BB19:CL19,HLOOKUP(BV23,BB15:CL20,6,FALSE)),\"\")+COUNTIF(INDEX(BB19:CL19,DAY(BT23)):INDEX(BB19:CL19,HLOOKUP(BV23,BB15:CL20,6,FALSE)),\"●\")=7,IF(COUNTIF(INDEX(BB19:CL19,DAY(BT23)):INDEX(BB19:CL19,HLOOKUP(BV23,BB15:CL20,6,FALSE)),\"●\")>=2,\"OK\",\"OUT\"),\"対象外\")","v":"対象外"},null,null,{"$f":"IF(AND(DAY(BV23+7)<23,DAY(BV23+7)>=7),\"\",BV23+1)","v":"2025-04-28"},{"$f":"IF(AND(DAY(BV23+7)<23,DAY(BV23+7)>=7),\"\",\"～\")","v":"～"},{"$f":"IF(AND(DAY(BV23+7)<23,DAY(BV23+7)>=7),\"\",BV23+7)","v":"2025-05-04"},{"$f":"IF(AND(DAY(BV23+7)<23,DAY(BV23+7)>=7),\"\",IF(COUNTIF(INDEX(BB19:CL19,DAY(BZ23)):INDEX(BB19:CL19,HLOOKUP(CB23,BB15:CL20,6,FALSE)),\"\")+COUNTIF(INDEX(BB19:CL19,DAY(BZ23)):INDEX(BB19:CL19,HLOOKUP(CB23,BB15:CL20,6,FALSE)),\"●\")=7,IF(COUNTIF(INDEX(BB19:CL19,DAY(BZ23)):INDEX(BB19:CL19,HLOOKUP(CB23,BB15:CL20,6,FALSE)),\"●\")>=2,\"OK\",\"OUT\"),IF(COUNTIF(INDEX(BB19:CL19,DAY(BZ23)):INDEX(BB19:CL19,HLOOKUP(CB23,BB15:CL20,6,FALSE)),\"\")+COUNTIF(INDEX(BB19:CL19,DAY(BZ23)):INDEX(BB19:CL19,HLOOKUP(CB23,BB15:CL20,6,FALSE)),\"●\")>7,\"「／」漏れ\",\"対象外\")))","v":"対象外"},null,null,{"$f":"IF(CC23=\"\",\"\",IF(AND(DAY(CB23+7)<23,DAY(CB23+7)>=7),\"\",CB23+1))","v":""},{"$f":"IF(CC23=\"\",\"\",IF(AND(DAY(CB23+7)<23,DAY(CB23+7)>=7),\"\",\"～\"))","v":""},{"$f":"IF(CC23=\"\",\"\",IF(AND(DAY(CB23+7)<23,DAY(CB23+7)>=7),\"\",CB23+7))","v":""},{"$f":"IF(CC23=\"\",\"\",IF(AND(DAY(CB23+7)<23,DAY(CB23+7)>=7),\"\",IF(COUNTIF(INDEX(BB19:CL19,DAY(CF23)):INDEX(BB19:CL19,HLOOKUP(CH23,BB15:CL20,6,FALSE)),\"\")+COUNTIF(INDEX(BB19:CL19,DAY(CF23)):INDEX(BB19:CL19,HLOOKUP(CH23,BB15:CL20,6,FALSE)),\"●\")=7,IF(COUNTIF(INDEX(BB19:CL19,DAY(CF23)):INDEX(BB19:CL19,HLOOKUP(CH23,BB15:CL20,6,FALSE)),\"●\")>=2,\"OK\",\"OUT\"),IF(COUNTIF(INDEX(BB19:CL19,HLOOKUP(CF23,BB15:CL20,6,FALSE)):INDEX(BB19:CL19,HLOOKUP(CH23,BB15:CL20,6,FALSE)),\"\")+COUNTIF(INDEX(BB19:CL19,HLOOKUP(CF23,BB15:CL20,6,FALSE)):INDEX(BB19:CL19,HLOOKUP(CH23,BB15:CL20,6,FALSE)),\"●\")>7,\"「／」漏れ\",\"対象外\"))))","v":""},null,null,null,null,null,null,null,"完全週休二日",{"$f":"IF(CR14=\"\",\"\",IF(COUNTIF(BB23:CL23,\"OUT\")>=1,\"OUT\",\"OK\"))","v":""},null,null,null,null,"完全",{"$f":"CX14","v":"2025-04-01"},"～",{"$f":"DATE(YEAR(CX14),MONTH(CX14),1)+MOD(7-WEEKDAY(DATE(YEAR(CX14),MONTH(CX14),1),2),7)","v":"2025-04-06"},{"$f":"IF(COUNTIF(INDEX($D$19:$AN$19,DAY(CX23)):INDEX($D$19:$AN$19,HLOOKUP(CZ23,CX15:EH20,6,FALSE)),\"\")+COUNTIF(INDEX($D$19:$AN$19,DAY(CX23)):INDEX($D$19:$AN$19,HLOOKUP(CZ23,CX15:EH20,6,FALSE)),\"●\")=7,IF(COUNTIF(INDEX($D$19:$AN$19,DAY(CX23)):INDEX($D$19:$AN$19,HLOOKUP(CZ23,CX15:EH20,6,FALSE)),\"●\")>=2,\"OK\",\"OUT\"),\"対象外\")","v":"対象外"},null,null,{"$f":"CZ23+1","v":"2025-04-07"},"～",{"$f":"CZ23+7","v":"2025-04-13"},{"$f":"IF(COUNTIF(INDEX(CX19:EH19,DAY(DD23)):INDEX(CX19:EH19,HLOOKUP(DF23,CX15:EH20,6,FALSE)),\"\")+COUNTIF(INDEX(CX19:EH19,DAY(DD23)):INDEX(CX19:EH19,HLOOKUP(DF23,CX15:EH20,6,FALSE)),\"●\")=7,IF(COUNTIF(INDEX(CX19:EH19,DAY(DD23)):INDEX(CX19:EH19,HLOOKUP(DF23,CX15:EH20,6,FALSE)),\"●\")>=2,\"OK\",\"OUT\"),\"対象外\")","v":"対象外"},null,null,{"$f":"DF23+1","v":"2025-04-14"},"～",{"$f":"DF23+7","v":"2025-04-20"},{"$f":"IF(COUNTIF(INDEX(CX19:EH19,DAY(DJ23)):INDEX(CX19:EH19,HLOOKUP(DL23,CX15:EH20,6,FALSE)),\"\")+COUNTIF(INDEX(CX19:EH19,DAY(DJ23)):INDEX(CX19:EH19,HLOOKUP(DL23,CX15:EH20,6,FALSE)),\"●\")=7,IF(COUNTIF(INDEX(CX19:EH19,DAY(DJ23)):INDEX(CX19:EH19,HLOOKUP(DL23,CX15:EH20,6,FALSE)),\"●\")>=2,\"OK\",\"OUT\"),\"対象外\")","v":"対象外"},null,null,{"$f":"DL23+1","v":"2025-04-21"},"～",{"$f":"DL23+7","v":"2025-04-27"},{"$f":"IF(COUNTIF(INDEX(CX19:EH19,DAY(DP23)):INDEX(CX19:EH19,HLOOKUP(DR23,CX15:EH20,6,FALSE)),\"\")+COUNTIF(INDEX(CX19:EH19,DAY(DP23)):INDEX(CX19:EH19,HLOOKUP(DR23,CX15:EH20,6,FALSE)),\"●\")=7,IF(COUNTIF(INDEX(CX19:EH19,DAY(DP23)):INDEX(CX19:EH19,HLOOKUP(DR23,CX15:EH20,6,FALSE)),\"●\")>=2,\"OK\",\"OUT\"),\"対象外\")","v":"対象外"},null,null,{"$f":"IF(AND(DAY(DR23+7)<23,DAY(DR23+7)>=7),\"\",DR23+1)","v":"2025-04-28"},{"$f":"IF(AND(DAY(DR23+7)<23,DAY(DR23+7)>=7),\"\",\"～\")","v":"～"},{"$f":"IF(AND(DAY(DR23+7)<23,DAY(DR23+7)>=7),\"\",DR23+7)","v":"2025-05-04"},{"$f":"IF(AND(DAY(DR23+7)<23,DAY(DR23+7)>=7),\"\",IF(COUNTIF(INDEX(CX19:EH19,DAY(DV23)):INDEX(CX19:EH19,HLOOKUP(DX23,CX15:EH20,6,FALSE)),\"\")+COUNTIF(INDEX(CX19:EH19,DAY(DV23)):INDEX(CX19:EH19,HLOOKUP(DX23,CX15:EH20,6,FALSE)),\"●\")=7,IF(COUNTIF(INDEX(CX19:EH19,DAY(DV23)):INDEX(CX19:EH19,HLOOKUP(DX23,CX15:EH20,6,FALSE)),\"●\")>=2,\"OK\",\"OUT\"),IF(COUNTIF(INDEX(CX19:EH19,DAY(DV23)):INDEX(CX19:EH19,HLOOKUP(DX23,CX15:EH20,6,FALSE)),\"\")+COUNTIF(INDEX(CX19:EH19,DAY(DV23)):INDEX(CX19:EH19,HLOOKUP(DX23,CX15:EH20,6,FALSE)),\"●\")>7,\"「／」漏れ\",\"対象外\")))","v":"対象外"},null,null,{"$f":"IF(DY23=\"\",\"\",IF(AND(DAY(DX23+7)<23,DAY(DX23+7)>=7),\"\",DX23+1))","v":""},{"$f":"IF(DY23=\"\",\"\",IF(AND(DAY(DX23+7)<23,DAY(DX23+7)>=7),\"\",\"～\"))","v":""},{"$f":"IF(DY23=\"\",\"\",IF(AND(DAY(DX23+7)<23,DAY(DX23+7)>=7),\"\",DX23+7))","v":""},{"$f":"IF(DY23=\"\",\"\",IF(AND(DAY(DX23+7)<23,DAY(DX23+7)>=7),\"\",IF(COUNTIF(INDEX(CX19:EH19,DAY(EB23)):INDEX(CX19:EH19,HLOOKUP(ED23,CX15:EH20,6,FALSE)),\"\")+COUNTIF(INDEX(CX19:EH19,DAY(EB23)):INDEX(CX19:EH19,HLOOKUP(ED23,CX15:EH20,6,FALSE)),\"●\")=7,IF(COUNTIF(INDEX(CX19:EH19,DAY(EB23)):INDEX(CX19:EH19,HLOOKUP(ED23,CX15:EH20,6,FALSE)),\"●\")>=2,\"OK\",\"OUT\"),IF(COUNTIF(INDEX(CX19:EH19,HLOOKUP(EB23,CX15:EH20,6,FALSE)):INDEX(CX19:EH19,HLOOKUP(ED23,CX15:EH20,6,FALSE)),\"\")+COUNTIF(INDEX(CX19:EH19,HLOOKUP(EB23,CX15:EH20,6,FALSE)):INDEX(CX19:EH19,HLOOKUP(ED23,CX15:EH20,6,FALSE)),\"●\")>7,\"「／」漏れ\",\"対象外\"))))","v":""},null,null,null,null,null,null,null,"完全週休二日",{"$f":"IF(EN14=\"\",\"\",IF(COUNTIF(CX23:EH23,\"OUT\")>=1,\"OUT\",\"OK\"))","v":"OK"}]
[""]
[{"$f":"IF(AND(NOT($AT$14=\"\"),$AT$43=\"\"),\"対象期間\",\"\")","v":""}]
[{"$f":"IF(AND(NOT($AT$14=\"\"),$AT$43=\"\"),\"対象期間\",\"\")","v":""},null,"※１工事着手日：始期日以降に準備工事（現場事務所の建設・測量等）、工場製作を含む工事における工場製作工に着手した日",null,null,null,null,null,null,null,null,null,null,null,null,null,null,null,null,null,null,null,null,null,null,null,null,null,null,null,null,null,null,null,null,null,null,null,null,null,null,null,null,"工事全体の確認",null,null,null,null,null,null,null,null,"※１工事着手日：始期日以降に準備工事（現場事務所の建設・測量等）、工場製作を含む工事における工場製作工に着手した日",null,null,null,null,null,null,null,null,null,null,null,null,null,null,null,null,null,null,null,null,null,null,null,null,null,null,null,null,null,null,null,null,null,null,null,null,null,null,null,null,"工事全体の確認",null,null,null,null,null,null,"※１工事着手日：始期日以降に準備工事（現場事務所の建設・測量等）、工場製作を含む工事における工場製作工に着手した日",null,null,null,null,null,null,null,null,null,null,null,null,null,null,null,null,null,null,null,null,null,null,null,null,null,null,null,null,null,null,null,null,null,null,null,null,null,null,null,null,"工事全体の確認"]
["",null,"※２作業完了日：工事施工範囲内で全ての作業（後片付けを含む）が完了した日\n　　　　　　　　　  （工事現場事務所は工事施工範囲外に設置するため、ここでいう後片付けの対象に含まない）",null,null,null,null,null,null,null,null,null,null,null,null,null,null,null,null,null,null,null,null,null,null,null,null,null,null,null,null,null,null,null,null,null,null,null,null,null,null,null,null,"計画","全対象期間",{"$f":"AT14","v":""},null,null,null,null,null,null,"※２作業完了日：工事施工範囲内で全ての作業（後片付けを含む）が完了した日\n　　　　　　　　　  （工事現場事務所は工事施工範囲外に設置するため、ここでいう後片付けの対象に含まない）",null,null,null,null,null,null,null,null,null,null,null,null,null,null,null,null,null,null,null,null,null,null,null,null,null,null,null,null,null,null,null,null,null,null,null,null,null,null,null,null,"計画","全対象期間",{"$f":"CR14","v":""},null,null,null,null,"※２作業完了日：工事施工範囲内で全ての作業（後片付けを含む）が完了した日\n　　　　　　　　　  （工事現場事務所は工事施工範囲外に設置するため、ここでいう後片付けの対象に含まない）",null,null,null,null,null,null,null,null,null,null,null,null,null,null,null,null,null,null,null,null,null,null,null,null,null,null,null,null,null,null,null,null,null,null,null,null,null,null,null,null,"計画","全対象期間",{"$f":"EN14","v":0}]
["",null,null,null,null,null,null,null,null,null,null,null,null,null,null,null,null,null,null,null,null,null,null,null,null,null,null,null,null,null,null,null,null,null,null,null,null,null,null,null,null,null,null,null,"全現場閉所日数",{"$f":"AT15","v":""},null,null,null,null,null,null,null,null,null,null,null,null,null,null,null,null,null,null,null,null,null,null,null,null,null,null,null,null,null,null,null,null,null,null,null,null,null,null,null,null,null,null,null,null,null,null,null,null,"全現場閉所日数",{"$f":"CR15","v":""},null,null,null,null,null,null,null,null,null,null,null,null,null,null,null,null,null,null,null,null,null,null,null,null,null,null,null,null,null,null,null,null,null,null,null,null,null,null,null,null,null,null,null,null,null,null,"全現場閉所日数",{"$f":"EN15","v":0}]
["",null,"【算定除外期間】：夏季休暇（8月13日～8月15日）、年末年始（12月29日～翌年1月3日）は算定期間の分母・分子に含めない",null,null,null,null,null,null,null,null,null,null,null,null,null,null,null,null,null,null,null,null,null,null,null,null,null,null,null,null,null,null,null,null,null,null,null,null,null,null,null,null,null,"現場閉所率",{"$f":"IFERROR(+AT28/AT27,\"\")","v":""},{"$f":"IF(AT29>=0.285,\"4週8休以上\",\"週休2日未達成\")","v":"4週8休以上"},null,null,null,null,null,"【算定除外期間】：夏季休暇（8月13日～8月15日）、年末年始（12月29日～翌年1月3日）は算定期間の分母・分子に含めない",null,null,null,null,null,null,null,null,null,null,null,null,null,null,null,null,null,null,null,null,null,null,null,null,null,null,null,null,null,null,null,null,null,null,null,null,null,null,null,null,null,"現場閉所率",{"$f":"IFERROR(+CR28/CR27,\"\")","v":""},{"$f":"IF(CR29>=0.285,\"4週8休以上\",\"週休2日未達成\")","v":"4週8休以上"},null,null,null,"【算定除外期間】：夏季休暇（8月13日～8月15日）、年末年始（12月29日～翌年1月3日）は算定期間の分母・分子に含めない",null,null,null,null,null,null,null,null,null,null,null,null,null,null,null,null,null,null,null,null,null,null,null,null,null,null,null,null,null,null,null,null,null,null,null,null,null,null,null,null,null,"現場閉所率",{"$f":"IFERROR(+EN28/EN27,\"\")","v":""},{"$f":"IF(EN29>=0.285,\"4週8休以上\",\"週休2日未達成\")","v":"4週8休以上"}]
["",null,"※３工事期間の全ての月において、達成状況を確認し、一度でも達成できない月があれば、４週８休以上（月単位）は「未達成」となり、補正の対象とならない。\n　　月によっては、土日を全て閉所しても現場閉所率が28.5％に満たない場合があるが、その月の対象期間の土日日数以上閉所していれば達成とみなす。\n\n※４工事対象期間のうち、一度でも完全週休２日（月～日で２日以上の現場閉所）を達成できなければ、\n　　 完全週休２日は「未達成」となり、補正の対象とならない。\n　　 なお、工期始期・終期、年末年始、夏季休暇などにより、７日間に満たない期間は完全週休２日の達成判断の対象外とする。",null,null,null,null,null,null,null,null,null,null,null,null,null,null,null,null,null,null,null,null,null,null,null,null,null,null,null,null,null,null,null,null,null,null,null,null,null,null,null,null,"実施","全対象期間",{"$f":"AT17","v":""},null,null,null,null,null,null,"※３工事期間の全ての月において、達成状況を確認し、一度でも達成できない月があれば、４週８休以上（月単位）は「未達成」となり、補正の対象とならない。\n　　月によっては、土日を全て閉所しても現場閉所率が28.5％に満たない場合があるが、その月の対象期間の土日日数以上閉所していれば達成とみなす。\n\n※４工事対象期間のうち、一度でも完全週休２日（月～日で２日以上の現場閉所）を達成できなければ、\n　　 完全週休２日は「未達成」となり、補正の対象とならない。\n　　 なお、工期始期・終期、年末年始、夏季休暇などにより、７日間に満たない期間は完全週休２日の達成判断の対象外とする。",null,null,null,null,null,null,null,null,null,null,null,null,null,null,null,null,null,null,null,null,null,null,null,null,null,null,null,null,null,null,null,null,null,null,null,null,null,null,null,null,"実施","全対象期間",{"$f":"CR17","v":""},null,null,null,null,"※３工事期間の全ての月において、達成状況を確認し、一度でも達成できない月があれば、４週８休以上（月単位）は「未達成」となり、補正の対象とならない。\n　　月によっては、土日を全て閉所しても現場閉所率が28.5％に満たない場合があるが、その月の対象期間の土日日数以上閉所していれば達成とみなす。\n\n※４工事対象期間のうち、一度でも完全週休２日（月～日で２日以上の現場閉所）を達成できなければ、\n　　 完全週休２日は「未達成」となり、補正の対象とならない。\n　　 なお、工期始期・終期、年末年始、夏季休暇などにより、７日間に満たない期間は完全週休２日の達成判断の対象外とする。",null,null,null,null,null,null,null,null,null,null,null,null,null,null,null,null,null,null,null,null,null,null,null,null,null,null,null,null,null,null,null,null,null,null,null,null,null,null,null,null,"実施","全対象期間",{"$f":"EN17","v":0}]
["",null,null,null,null,null,null,null,null,null,null,null,null,null,null,null,null,null,null,null,null,null,null,null,null,null,null,null,null,null,null,null,null,null,null,null,null,null,null,null,null,null,null,null,"全現場閉所日数",{"$f":"AT18","v":""},null,null,null,null,null,null,null,null,null,null,null,null,null,null,null,null,null,null,null,null,null,null,null,null,null,null,null,null,null,null,null,null,null,null,null,null,null,null,null,null,null,null,null,null,null,null,null,null,"全現場閉所日数",{"$f":"CR18","v":""},null,null,null,null,null,null,null,null,null,null,null,null,null,null,null,null,null,null,null,null,null,null,null,null,null,null,null,null,null,null,null,null,null,null,null,null,null,null,null,null,null,null,null,null,null,null,"全現場閉所日数",{"$f":"EN18","v":0}]
["",null,null,null,null,null,null,null,null,null,null,null,null,null,null,null,null,null,null,null,null,null,null,null,null,null,null,null,null,null,null,null,null,null,null,null,null,null,null,null,null,null,null,null,"現場閉所率",{"$f":"IFERROR(+AT31/AT30,\"\")","v":""},{"$f":"IF(AT32>=0.285,\"4週8休以上\",\"週休2日未達成\")","v":"4週8休以上"},null,null,null,null,null,null,null,null,null,null,null,null,null,null,null,null,null,null,null,null,null,null,null,null,null,null,null,null,null,null,null,null,null,null,null,null,null,null,null,null,null,null,null,null,null,null,null,"現場閉所率",{"$f":"IFERROR(+CR31/CR30,\"\")","v":""},{"$f":"IF(CR32>=0.285,\"4週8休以上\",\"週休2日未達成\")","v":"4週8休以上"},null,null,null,null,null,null,null,null,null,null,null,null,null,null,null,null,null,null,null,null,null,null,null,null,null,null,null,null,null,null,null,null,null,null,null,null,null,null,null,null,null,null,null,null,null,"現場閉所率",{"$f":"IFERROR(+EN31/EN30,\"\")","v":""},{"$f":"IF(EN32>=0.285,\"4週8休以上\",\"週休2日未達成\")","v":"4週8休以上"}]
["",null,null,null,null,null,null,null,null,null,null,null,null,null,null,null,null,null,null,null,null,null,null,null,null,null,null,null,null,null,null,null,null,null,null,null,null,null,null,null,null,null,null,null,"閉所（月単位）",{"$f":"IFERROR(COUNTIF(AS14:AS23,\"4週8休以上\")/(COUNTIF(AS14:AS23,\"4週8休以上\")+COUNTIF(AS14:AS23,\"週休2日未達成\")),\"\")","v":""},{"$f":"IF(OR(AT33=100%,AT33=\"\"),\"達成\",\"未達成\")","v":"達成"},null,null,null,null,null,null,null,null,null,null,null,null,null,null,null,null,null,null,null,null,null,null,null,null,null,null,null,null,null,null,null,null,null,null,null,null,null,null,null,null,null,null,null,null,null,null,null,"閉所（月単位）",{"$f":"IFERROR(COUNTIF(CQ14:CQ23,\"4週8休以上\")/(COUNTIF(CQ14:CQ23,\"4週8休以上\")+COUNTIF(CQ14:CQ23,\"週休2日未達成\")),\"\")","v":""},{"$f":"IF(OR(CR33=100%,CR33=\"\"),\"達成\",\"未達成\")","v":"達成"},null,null,null,null,null,null,null,null,null,null,null,null,null,null,null,null,null,null,null,null,null,null,null,null,null,null,null,null,null,null,null,null,null,null,null,null,null,null,null,null,null,null,null,null,null,"閉所（月単位）",{"$f":"IFERROR(COUNTIF(EM14:EM23,\"4週8休以上\")/(COUNTIF(EM14:EM23,\"4週8休以上\")+COUNTIF(EM14:EM23,\"週休2日未達成\")),\"\")","v":""},{"$f":"IF(OR(EN33=100%,EN33=\"\"),\"達成\",\"未達成\")","v":"達成"}]
["",null,null,null,null,null,null,null,null,null,null,null,null,null,null,null,null,null,null,null,null,null,null,null,null,null,null,null,null,null,null,null,null,null,null,null,null,null,null,null,null,null,null,null,"完全週休二日",{"$f":"IF(COUNTIF(AS14:AS23,\"OUT\")>=1,\"OUT\",\"OK\")","v":"OK"},{"$f":"IF(AT34=\"OK\",\"達成\",\"未達成\")","v":"達成"},null,null,null,null,null,null,null,null,null,null,null,null,null,null,null,null,null,null,null,null,null,null,null,null,null,null,null,null,null,null,null,null,null,null,null,null,null,null,null,null,null,null,null,null,null,null,null,"完全週休二日",{"$f":"IF(COUNTIF(CQ14:CQ23,\"OUT\")>=1,\"OUT\",\"OK\")","v":"OK"},{"$f":"IF(CR34=\"OK\",\"達成\",\"未達成\")","v":"達成"},null,null,null,null,null,null,null,null,null,null,null,null,null,null,null,null,null,null,null,null,null,null,null,null,null,null,null,null,null,null,null,null,null,null,null,null,null,null,null,null,null,null,null,null,null,"完全週休二日",{"$f":"IF(COUNTIF(EM14:EM23,\"OUT\")>=1,\"OUT\",\"OK\")","v":"OK"},{"$f":"IF(EN34=\"OK\",\"達成\",\"未達成\")","v":"達成"}]
["",null,"※必要に応じて各月の完全週休2日（月～日）の達成判定の行を修正してください。（曜日に合わせて修正）",null,null,null,null,null,null,null,null,null,null,null,null,null,null,null,null,null,null,null,null,null,null,null,null,null,null,null,null,null,null,null,null,null,null,null,null,null,null,null,null,null,null,null,null,null,null,null,null,null,"※必要に応じて各月の完全週休2日（月～日）の達成判定の行を修正してください。（曜日に合わせて修正）",null,null,null,null,null,null,null,null,null,null,null,null,null,null,null,null,null,null,null,null,null,null,null,null,null,null,null,null,null,null,null,null,null,null,null,null,null,null,null,null,null,null,null,null,null,null,null,"※必要に応じて各月の完全週休2日（月～日）の達成判定の行を修正してください。（曜日に合わせて修正）"]
[""]
[""]
[""]
[""]
[""]
["",null,"算定除外期間以外の祝日（ＧＷ含む）は、算定期間（分母）の対象＝現場閉所の場合は分子にカウントして現場閉所率を算定",null,null,null,null,null,null,null,null,null,null,null,null,null,null,null,null,null,null,null,null,null,null,null,null,null,null,null,null,null,null,null,null,null,null,null,null,null,null,null,null,null,null,null,null,null,null,null,null,null,"算定除外期間以外の祝日（ＧＷ含む）は、算定期間（分母）の対象＝現場閉所の場合は分子にカウントして現場閉所率を算定",null,null,null,null,null,null,null,null,null,null,null,null,null,null,null,null,null,null,null,null,null,null,null,null,null,null,null,null,null,null,null,null,null,null,null,null,null,null,null,null,null,null,null,null,null,null,null,"算定除外期間以外の祝日（ＧＷ含む）は、算定期間（分母）の対象＝現場閉所の場合は分子にカウントして現場閉所率を算定"]
[""]
[{"$f":"IF($AT$43=\"\",\"\",\"対象期間\")","v":""},null,"月",{"$f":"DATE(YEAR(D14),MONTH(D14)+1,1)","v":"2025-05-01"},null,null,null,null,null,null,null,null,null,null,null,null,null,null,null,null,null,null,null,null,null,null,null,null,null,null,null,null,null,null,{"$f":"DATE(YEAR(D43),MONTH(D43)+1,1)","v":"2025-06-01"},null,null,null,null,null,"現場閉所計","現場閉所累計",null,"計画","対象期間",{"$f":"IF(IF(MONTH(入力表!$E$6)=12,YEAR(入力表!$E$6)+1&\"01\",YEAR(入力表!$E$6)&TEXT(MONTH(入力表!$E$6)+1,\"00\"))>YEAR($D43)&TEXT(MONTH($D43),\"00\"),COUNTIF(D47:AH47,\"\")+COUNTIF(D47:AH47,\"○\"),\"\")","v":""},{"$f":"IF(COUNTIF(D44:AH44,\"／\")=0,\"\",IF(COUNTIF(D44:AH44,\"／\")=1,IF(AH47=\"／\",\"\",\"月末「／」漏れ\"),IF(COUNTIF(D44:AH44,\"／\")=2,IF(AND(AG47=\"／\",AH47=\"／\"),\"\",\"月末「／」漏れ\"),IF(AND(AF47=\"／\",AG47=\"／\",AH47=\"／\"),\"\",\"月末「／」漏れ\"))))","v":""},null,null,null,null,null,"月",{"$f":"DATE(YEAR(BB14),MONTH(BB14)+1,1)","v":"2025-05-01"},null,null,null,null,null,null,null,null,null,null,null,null,null,null,null,null,null,null,null,null,null,null,null,null,null,null,null,null,null,null,{"$f":"DATE(YEAR(BB43),MONTH(BB43)+1,1)","v":"2025-06-01"},null,null,null,null,null,"現場閉所計","現場閉所累計",null,"計画","対象期間",{"$f":"IF(IF(MONTH($BL$5)=12,YEAR($BL$5)+1&\"01\",YEAR($BL$5)&TEXT(MONTH($BL$5)+1,\"00\"))>YEAR(BB43)&TEXT(MONTH(BB43),\"00\"),COUNTIF(BB47:CF47,\"\")+COUNTIF(BB47:CF47,\"○\"),\"\")","v":20},{"$f":"IF(COUNTIF(BB44:CF44,\"／\")=0,\"\",IF(COUNTIF(BB44:CF44,\"／\")=1,IF(CF47=\"／\",\"\",\"月末「／」漏れ\"),IF(COUNTIF(BB44:CF44,\"／\")=2,IF(AND(CE47=\"／\",CF47=\"／\"),\"\",\"月末「／」漏れ\"),IF(AND(CD47=\"／\",CE47=\"／\",CF47=\"／\"),\"\",\"月末「／」漏れ\"))))","v":""},null,null,null,"月",{"$f":"DATE(YEAR(CX14),MONTH(CX14)+1,1)","v":"2025-05-01"},null,null,null,null,null,null,null,null,null,null,null,null,null,null,null,null,null,null,null,null,null,null,null,null,null,null,null,null,null,null,{"$f":"DATE(YEAR(CX43),MONTH(CX43)+1,1)","v":"2025-06-01"},null,null,null,null,null,"現場閉所計","現場閉所累計",null,"計画","対象期間",{"$f":"IF(IF(MONTH($BL$5)=12,YEAR($BL$5)+1&\"01\",YEAR($BL$5)&TEXT(MONTH($BL$5)+1,\"00\"))>YEAR($CX43)&TEXT(MONTH($CX43),\"00\"),COUNTIF(CX47:EB47,\"\")+COUNTIF(CX47:EB47,\"○\"),\"\")","v":20},{"$f":"IF(COUNTIF(CX44:EB44,\"／\")=0,\"\",IF(COUNTIF(CX44:EB44,\"／\")=1,IF(EB47=\"／\",\"\",\"月末「／」漏れ\"),IF(COUNTIF(CX44:EB44,\"／\")=2,IF(AND(EA47=\"／\",EB47=\"／\"),\"\",\"月末「／」漏れ\"),IF(AND(DZ47=\"／\",EA47=\"／\",EB47=\"／\"),\"\",\"月末「／」漏れ\"))))","v":""}]
[{"$f":"IF($AT$43=\"\",\"\",\"対象期間\")","v":""},null,"日",{"$f":"D43","v":"2025-05-01"},{"$f":"D44+1","v":"2025-05-02"},{"$f":"E44+1","v":"2025-05-03"},{"$f":"F44+1","v":"2025-05-04"},{"$f":"G44+1","v":"2025-05-05"},{"$f":"H44+1","v":"2025-05-06"},{"$f":"I44+1","v":"2025-05-07"},{"$f":"J44+1","v":"2025-05-08"},{"$f":"K44+1","v":"2025-05-09"},{"$f":"L44+1","v":"2025-05-10"},{"$f":"M44+1","v":"2025-05-11"},{"$f":"N44+1","v":"2025-05-12"},{"$f":"O44+1","v":"2025-05-13"},{"$f":"P44+1","v":"2025-05-14"},{"$f":"Q44+1","v":"2025-05-15"},{"$f":"R44+1","v":"2025-05-16"},{"$f":"S44+1","v":"2025-05-17"},{"$f":"T44+1","v":"2025-05-18"},{"$f":"U44+1","v":"2025-05-19"},{"$f":"V44+1","v":"2025-05-20"},{"$f":"W44+1","v":"2025-05-21"},{"$f":"X44+1","v":"2025-05-22"},{"$f":"Y44+1","v":"2025-05-23"},{"$f":"Z44+1","v":"2025-05-24"},{"$f":"AA44+1","v":"2025-05-25"},{"$f":"AB44+1","v":"2025-05-26"},{"$f":"AC44+1","v":"2025-05-27"},{"$f":"AD44+1","v":"2025-05-28"},{"$f":"IF(AE44=\"／\",\"／\",IF(YEAR($D43)&TEXT(MONTH($D43),\"00\")<YEAR(AE44+1)&TEXT(MONTH(AE44+1),\"00\"),\"／\",AE44+1))","v":"2025-05-29"},{"$f":"IF(AF44=\"／\",\"／\",IF(YEAR($D43)&TEXT(MONTH($D43),\"00\")<YEAR(AF44+1)&TEXT(MONTH(AF44+1),\"00\"),\"／\",AF44+1))","v":"2025-05-30"},{"$f":"IF(AG44=\"／\",\"／\",IF(YEAR($D43)&TEXT(MONTH($D43),\"00\")<YEAR(AG44+1)&TEXT(MONTH(AG44+1),\"00\"),\"／\",AG44+1))","v":"2025-05-31"},{"$f":"AI43","v":"2025-06-01"},{"$f":"AI44+1","v":"2025-06-02"},{"$f":"AJ44+1","v":"2025-06-03"},{"$f":"AK44+1","v":"2025-06-04"},{"$f":"AL44+1","v":"2025-06-05"},{"$f":"AM44+1","v":"2025-06-06"},null,null,null,null,"閉所日数",{"$f":"IF(IF(MONTH(入力表!$E$6)=12,YEAR(入力表!$E$6)+1&\"01\",YEAR(入力表!$E$6)&TEXT(MONTH(入力表!$E$6)+1,\"00\"))>YEAR($D43)&TEXT(MONTH($D43),\"00\"),COUNTIF(D47:AH47,\"○\"),\"\")","v":""},{"$f":"IF(OR(MONTH(D43)=1,MONTH(D43)=8,MONTH(D43)=12),IF(COUNTIF(D47:AH47,\"／\")>=3,\"\",\"算定除外「／」漏れ\"),\"\")","v":""},null,null,null,null,null,"日",{"$f":"BB43","v":"2025-05-01"},{"$f":"BB44+1","v":"2025-05-02"},{"$f":"BC44+1","v":"2025-05-03"},{"$f":"BD44+1","v":"2025-05-04"},{"$f":"BE44+1","v":"2025-05-05"},{"$f":"BF44+1","v":"2025-05-06"},{"$f":"BG44+1","v":"2025-05-07"},{"$f":"BH44+1","v":"2025-05-08"},{"$f":"BI44+1","v":"2025-05-09"},{"$f":"BJ44+1","v":"2025-05-10"},{"$f":"BK44+1","v":"2025-05-11"},{"$f":"BL44+1","v":"2025-05-12"},{"$f":"BM44+1","v":"2025-05-13"},{"$f":"BN44+1","v":"2025-05-14"},{"$f":"BO44+1","v":"2025-05-15"},{"$f":"BP44+1","v":"2025-05-16"},{"$f":"BQ44+1","v":"2025-05-17"},{"$f":"BR44+1","v":"2025-05-18"},{"$f":"BS44+1","v":"2025-05-19"},{"$f":"BT44+1","v":"2025-05-20"},{"$f":"BU44+1","v":"2025-05-21"},{"$f":"BV44+1","v":"2025-05-22"},{"$f":"BW44+1","v":"2025-05-23"},{"$f":"BX44+1","v":"2025-05-24"},{"$f":"BY44+1","v":"2025-05-25"},{"$f":"BZ44+1","v":"2025-05-26"},{"$f":"CA44+1","v":"2025-05-27"},{"$f":"CB44+1","v":"2025-05-28"},{"$f":"IF(CC44=\"／\",\"／\",IF(YEAR(BB43)&TEXT(MONTH(BB43),\"00\")<YEAR(CC44+1)&TEXT(MONTH(CC44+1),\"00\"),\"／\",CC44+1))","v":"2025-05-29"},{"$f":"IF(CD44=\"／\",\"／\",IF(YEAR(BB43)&TEXT(MONTH(BB43),\"00\")<YEAR(CD44+1)&TEXT(MONTH(CD44+1),\"00\"),\"／\",CD44+1))","v":"2025-05-30"},{"$f":"IF(CE44=\"／\",\"／\",IF(YEAR(BB43)&TEXT(MONTH(BB43),\"00\")<YEAR(CE44+1)&TEXT(MONTH(CE44+1),\"00\"),\"／\",CE44+1))","v":"2025-05-31"},{"$f":"CG43","v":"2025-06-01"},{"$f":"CG44+1","v":"2025-06-02"},{"$f":"CH44+1","v":"2025-06-03"},{"$f":"CI44+1","v":"2025-06-04"},{"$f":"CJ44+1","v":"2025-06-05"},{"$f":"CK44+1","v":"2025-06-06"},null,null,null,null,"閉所日数",{"$f":"IF(IF(MONTH($BL$5)=12,YEAR($BL$5)+1&\"01\",YEAR($BL$5)&TEXT(MONTH($BL$5)+1,\"00\"))>YEAR(BB43)&TEXT(MONTH(BB43),\"00\"),COUNTIF(BB47:CF47,\"○\"),\"\")","v":6},{"$f":"IF(OR(MONTH(BB43)=1,MONTH(BB43)=8,MONTH(BB43)=12),IF(COUNTIF(BB47:CF47,\"／\")>=3,\"\",\"算定除外「／」漏れ\"),\"\")","v":""},null,null,null,"日",{"$f":"CX43","v":"2025-05-01"},{"$f":"CX44+1","v":"2025-05-02"},{"$f":"CY44+1","v":"2025-05-03"},{"$f":"CZ44+1","v":"2025-05-04"},{"$f":"DA44+1","v":"2025-05-05"},{"$f":"DB44+1","v":"2025-05-06"},{"$f":"DC44+1","v":"2025-05-07"},{"$f":"DD44+1","v":"2025-05-08"},{"$f":"DE44+1","v":"2025-05-09"},{"$f":"DF44+1","v":"2025-05-10"},{"$f":"DG44+1","v":"2025-05-11"},{"$f":"DH44+1","v":"2025-05-12"},{"$f":"DI44+1","v":"2025-05-13"},{"$f":"DJ44+1","v":"2025-05-14"},{"$f":"DK44+1","v":"2025-05-15"},{"$f":"DL44+1","v":"2025-05-16"},{"$f":"DM44+1","v":"2025-05-17"},{"$f":"DN44+1","v":"2025-05-18"},{"$f":"DO44+1","v":"2025-05-19"},{"$f":"DP44+1","v":"2025-05-20"},{"$f":"DQ44+1","v":"2025-05-21"},{"$f":"DR44+1","v":"2025-05-22"},{"$f":"DS44+1","v":"2025-05-23"},{"$f":"DT44+1","v":"2025-05-24"},{"$f":"DU44+1","v":"2025-05-25"},{"$f":"DV44+1","v":"2025-05-26"},{"$f":"DW44+1","v":"2025-05-27"},{"$f":"DX44+1","v":"2025-05-28"},{"$f":"IF(DY44=\"／\",\"／\",IF(YEAR(CX43)&TEXT(MONTH(CX43),\"00\")<YEAR(DY44+1)&TEXT(MONTH(DY44+1),\"00\"),\"／\",DY44+1))","v":"2025-05-29"},{"$f":"IF(DZ44=\"／\",\"／\",IF(YEAR(CX43)&TEXT(MONTH(CX43),\"00\")<YEAR(DZ44+1)&TEXT(MONTH(DZ44+1),\"00\"),\"／\",DZ44+1))","v":"2025-05-30"},{"$f":"IF(EA44=\"／\",\"／\",IF(YEAR(CX43)&TEXT(MONTH(CX43),\"00\")<YEAR(EA44+1)&TEXT(MONTH(EA44+1),\"00\"),\"／\",EA44+1))","v":"2025-05-31"},{"$f":"EC43","v":"2025-06-01"},{"$f":"EC44+1","v":"2025-06-02"},{"$f":"ED44+1","v":"2025-06-03"},{"$f":"EE44+1","v":"2025-06-04"},{"$f":"EF44+1","v":"2025-06-05"},{"$f":"EG44+1","v":"2025-06-06"},null,null,null,null,"閉所日数",{"$f":"IF(IF(MONTH($BL$5)=12,YEAR($BL$5)+1&\"01\",YEAR($BL$5)&TEXT(MONTH($BL$5)+1,\"00\"))>YEAR($CX43)&TEXT(MONTH($CX43),\"00\"),COUNTIF(CX47:EB47,\"○\"),\"\")","v":6},{"$f":"IF(OR(MONTH(CX43)=1,MONTH(CX43)=8,MONTH(CX43)=12),IF(COUNTIF(CX47:EB47,\"／\")>=3,\"\",\"算定除外「／」漏れ\"),\"\")","v":""}]
["",null,"曜日",{"$f":"TEXT(WEEKDAY(+D44),\"aaa\")","v":"木"},{"$f":"TEXT(WEEKDAY(+E44),\"aaa\")","v":"金"},"土","日","月",{"$f":"TEXT(WEEKDAY(+I44),\"aaa\")","v":"火"},{"$f":"TEXT(WEEKDAY(+J44),\"aaa\")","v":"水"},"木","金","土","日","月","火","水","木","金","土","日","月","火","水","木",{"$f":"TEXT(WEEKDAY(+Z44),\"aaa\")","v":"金"},{"$f":"TEXT(WEEKDAY(+AA44),\"aaa\")","v":"土"},"日","月","火","水",{"$f":"IF(AF44=\"／\",\"／\",TEXT(WEEKDAY(+AF44),\"aaa\"))","v":"木"},{"$f":"IF(AG44=\"／\",\"／\",TEXT(WEEKDAY(+AG44),\"aaa\"))","v":"金"},"土",{"$f":"TEXT(WEEKDAY(+AI44),\"aaa\")","v":"日"},{"$f":"TEXT(WEEKDAY(+AJ44),\"aaa\")","v":"月"},"火","水","木","金",null,null,null,null,"現場閉所率",{"$f":"IFERROR(+AT44/AT43,\"\")","v":""},{"$f":"IF(AT45=\"\",\"\",IF(COUNTIF(D47:AH47,\"○\")>=COUNTIF(D50:AH50,\"◎\"),\"4週8休以上\",IF(AT45>=0.285,\"4週8休以上\",\"週休2日未達成\")))","v":""},null,null,null,null,null,"曜日",{"$f":"TEXT(WEEKDAY(+BB44),\"aaa\")","v":"木"},{"$f":"TEXT(WEEKDAY(+BC44),\"aaa\")","v":"金"},"土","日","月",{"$f":"TEXT(WEEKDAY(+BG44),\"aaa\")","v":"火"},{"$f":"TEXT(WEEKDAY(+BH44),\"aaa\")","v":"水"},"木","金","土","日","月","火","水","木","金","土","日","月","火","水","木",{"$f":"TEXT(WEEKDAY(+BX44),\"aaa\")","v":"金"},{"$f":"TEXT(WEEKDAY(+BY44),\"aaa\")","v":"土"},"日","月","火","水",{"$f":"IF(CD44=\"／\",\"／\",TEXT(WEEKDAY(+CD44),\"aaa\"))","v":"木"},{"$f":"IF(CE44=\"／\",\"／\",TEXT(WEEKDAY(+CE44),\"aaa\"))","v":"金"},"土",{"$f":"TEXT(WEEKDAY(+CG44),\"aaa\")","v":"日"},{"$f":"TEXT(WEEKDAY(+CH44),\"aaa\")","v":"月"},"火","水","木","金",null,null,null,null,"現場閉所率",{"$f":"IFERROR(+CR44/CR43,\"\")","v":0.3},{"$f":"IF(CR45=\"\",\"\",IF(COUNTIF(BB47:CF47,\"○\")>=COUNTIF(BB50:CF50,\"◎\"),\"4週8休以上\",IF(CR45>=0.285,\"4週8休以上\",\"週休2日未達成\")))","v":"4週8休以上"},null,null,null,"曜日",{"$f":"TEXT(WEEKDAY(+CX44),\"aaa\")","v":"木"},{"$f":"TEXT(WEEKDAY(+CY44),\"aaa\")","v":"金"},"土","日","月",{"$f":"TEXT(WEEKDAY(+DC44),\"aaa\")","v":"火"},{"$f":"TEXT(WEEKDAY(+DD44),\"aaa\")","v":"水"},"木","金","土","日","月","火","水","木","金","土","日","月","火","水","木",{"$f":"TEXT(WEEKDAY(+DT44),\"aaa\")","v":"金"},{"$f":"TEXT(WEEKDAY(+DU44),\"aaa\")","v":"土"},"日","月","火","水",{"$f":"IF(DZ44=\"／\",\"／\",TEXT(WEEKDAY(+DZ44),\"aaa\"))","v":"木"},{"$f":"IF(EA44=\"／\",\"／\",TEXT(WEEKDAY(+EA44),\"aaa\"))","v":"金"},"土",{"$f":"TEXT(WEEKDAY(+EC44),\"aaa\")","v":"日"},{"$f":"TEXT(WEEKDAY(+ED44),\"aaa\")","v":"月"},"火","水","木","金",null,null,null,null,"現場閉所率",{"$f":"IFERROR(+EN44/EN43,\"\")","v":0.3},{"$f":"IF(EN45=\"\",\"\",IF(COUNTIF(CX47:EB47,\"○\")>=COUNTIF(CX50:EB50,\"◎\"),\"4週8休以上\",IF(EN45>=0.285,\"4週8休以上\",\"週休2日未達成\")))","v":"4週8休以上"}]
["",null,"行事",null,null,null,null,null,null,null,null,null,null,null,null,null,null,null,null,null,null,null,null,null,null,null,null,null,null,null,null,null,null,null,{"$f":"IF(D75=\"\",\"\",D75)","v":""},{"$f":"IF(E75=\"\",\"\",E75)","v":""},{"$f":"IF(F75=\"\",\"\",F75)","v":""},{"$f":"IF(G75=\"\",\"\",G75)","v":""},{"$f":"IF(H75=\"\",\"\",H75)","v":""},{"$f":"IF(I75=\"\",\"\",I75)","v":""},null,null,null,"実施","対象期間",{"$f":"IF(IF(MONTH(入力表!$E$6)=12,YEAR(入力表!$E$6)+1&\"01\",YEAR(入力表!$E$6)&TEXT(MONTH(入力表!$E$6)+1,\"00\"))>YEAR($D43)&TEXT(MONTH($D43),\"00\"),COUNTIF(D48:AH48,\"\")+COUNTIF(D48:AH48,\"●\"),\"\")","v":""},{"$f":"IF(COUNTIF(D44:AH44,\"／\")=0,\"\",IF(COUNTIF(D44:AH44,\"／\")=1,IF(AH48=\"／\",\"\",\"月末「／」漏れ\"),IF(COUNTIF(D44:AH44,\"／\")=2,IF(AND(AG48=\"／\",AH48=\"／\"),\"\",\"月末「／」漏れ\"),IF(AND(AF48=\"／\",AG48=\"／\",AH48=\"／\"),\"\",\"月末「／」漏れ\"))))","v":""},null,null,null,null,null,"行事",null,null,null,null,null,null,null,null,null,null,null,"工事着手日",null,null,null,null,null,null,null,null,null,null,null,null,null,null,null,null,null,null,null,{"$f":"IF(BB75=\"\",\"\",BB75)","v":""},{"$f":"IF(BC75=\"\",\"\",BC75)","v":""},{"$f":"IF(BD75=\"\",\"\",BD75)","v":""},{"$f":"IF(BE75=\"\",\"\",BE75)","v":""},{"$f":"IF(BF75=\"\",\"\",BF75)","v":""},{"$f":"IF(BG75=\"\",\"\",BG75)","v":""},null,null,null,"実施","対象期間",{"$f":"IF(IF(MONTH($BL$5)=12,YEAR($BL$5)+1&\"01\",YEAR($BL$5)&TEXT(MONTH($BL$5)+1,\"00\"))>YEAR(BB43)&TEXT(MONTH(BB43),\"00\"),COUNTIF(BB48:CF48,\"\")+COUNTIF(BB48:CF48,\"●\"),\"\")","v":20},{"$f":"IF(COUNTIF(BB44:CF44,\"／\")=0,\"\",IF(COUNTIF(BB44:CF44,\"／\")=1,IF(CF48=\"／\",\"\",\"月末「／」漏れ\"),IF(COUNTIF(BB44:CF44,\"／\")=2,IF(AND(CE48=\"／\",CF48=\"／\"),\"\",\"月末「／」漏れ\"),IF(AND(CD48=\"／\",CE48=\"／\",CF48=\"／\"),\"\",\"月末「／」漏れ\"))))","v":""},null,null,null,"行事",null,null,null,null,null,null,null,null,null,null,null,"工事着手日",null,null,null,null,null,null,null,null,null,null,null,null,null,null,null,null,null,null,null,{"$f":"IF(CX75=\"\",\"\",CX75)","v":""},{"$f":"IF(CY75=\"\",\"\",CY75)","v":""},{"$f":"IF(CZ75=\"\",\"\",CZ75)","v":""},{"$f":"IF(DA75=\"\",\"\",DA75)","v":""},{"$f":"IF(DB75=\"\",\"\",DB75)","v":""},{"$f":"IF(DC75=\"\",\"\",DC75)","v":""},null,null,null,"実施","対象期間",{"$f":"IF(IF(MONTH($BL$5)=12,YEAR($BL$5)+1&\"01\",YEAR($BL$5)&TEXT(MONTH($BL$5)+1,\"00\"))>YEAR($CX43)&TEXT(MONTH($CX43),\"00\"),COUNTIF(CX48:EB48,\"\")+COUNTIF(CX48:EB48,\"●\"),\"\")","v":20},{"$f":"IF(COUNTIF(CX44:EB44,\"／\")=0,\"\",IF(COUNTIF(CX44:EB44,\"／\")=1,IF(EB48=\"／\",\"\",\"月末「／」漏れ\"),IF(COUNTIF(CX44:EB44,\"／\")=2,IF(AND(EA48=\"／\",EB48=\"／\"),\"\",\"月末「／」漏れ\"),IF(AND(DZ48=\"／\",EA48=\"／\",EB48=\"／\"),\"\",\"月末「／」漏れ\"))))","v":""}]
["",null,"計画",null,null,null,null,null,null,null,null,null,null,null,null,null,null,null,null,null,null,null,null,null,null,null,null,null,null,null,null,null,null,null,{"$f":"IF(D76=\"\",\"\",D76)","v":""},{"$f":"IF(E76=\"\",\"\",E76)","v":""},{"$f":"IF(F76=\"\",\"\",F76)","v":""},{"$f":"IF(G76=\"\",\"\",G76)","v":""},{"$f":"IF(H76=\"\",\"\",H76)","v":""},{"$f":"IF(I76=\"\",\"\",I76)","v":""},{"$f":"COUNTIF(D47:AG47,\"○\")","v":0},{"$f":"+AO47","v":0},null,null,"閉所日数",{"$f":"IF(IF(MONTH(入力表!$E$6)=12,YEAR(入力表!$E$6)+1&\"01\",YEAR(入力表!$E$6)&TEXT(MONTH(入力表!$E$6)+1,\"00\"))>YEAR($D43)&TEXT(MONTH($D43),\"00\"),COUNTIF(D48:AH48,\"●\"),\"\")","v":""},{"$f":"IF(OR(MONTH(D43)=1,MONTH(D43)=8,MONTH(D43)=12),IF(COUNTIF(D48:AH48,\"／\")>=3,\"\",\"算定除外「／」漏れ\"),\"\")","v":""},null,null,null,null,null,"計画","／","／","／","／","／","／","／","／","／","／","／",null,null,null,null,null,"○","○","○",null,null,null,null,"○","○",null,null,null,null,null,"○",{"$f":"IF(BB76=\"\",\"\",BB76)","v":"○"},"","","","","",{"$f":"COUNTIF(BB47:CE47,\"○\")","v":5},{"$f":"+CM47","v":5},null,null,"閉所日数",{"$f":"IF(IF(MONTH($BL$5)=12,YEAR($BL$5)+1&\"01\",YEAR($BL$5)&TEXT(MONTH($BL$5)+1,\"00\"))>YEAR(BB43)&TEXT(MONTH(BB43),\"00\"),COUNTIF(BB48:CF48,\"●\"),\"\")","v":0},{"$f":"IF(OR(MONTH(BB43)=1,MONTH(BB43)=8,MONTH(BB43)=12),IF(COUNTIF(BB48:CF48,\"／\")>=3,\"\",\"算定除外「／」漏れ\"),\"\")","v":""},null,null,null,"計画","／","／","／","／","／","／","／","／","／","／","／",null,null,null,null,null,"○","○","○",null,null,null,null,"○","○",null,null,null,null,null,"○",{"$f":"IF(CX76=\"\",\"\",CX76)","v":"○"},"","","","","",{"$f":"COUNTIF(CX47:EA47,\"○\")","v":5},{"$f":"+EI47","v":5},null,null,"閉所日数",{"$f":"IF(IF(MONTH($BL$5)=12,YEAR($BL$5)+1&\"01\",YEAR($BL$5)&TEXT(MONTH($BL$5)+1,\"00\"))>YEAR($CX43)&TEXT(MONTH($CX43),\"00\"),COUNTIF(CX48:EB48,\"●\"),\"\")","v":6},{"$f":"IF(OR(MONTH(CX43)=1,MONTH(CX43)=8,MONTH(CX43)=12),IF(COUNTIF(CX48:EB48,\"／\")>=3,\"\",\"算定除外「／」漏れ\"),\"\")","v":""}]
["",null,"実施",null,null,null,null,null,null,null,null,null,null,null,null,null,null,null,null,null,null,null,null,null,null,null,null,null,null,null,null,null,null,null,{"$f":"IF(D77=\"\",\"\",D77)","v":""},{"$f":"IF(E77=\"\",\"\",E77)","v":""},{"$f":"IF(F77=\"\",\"\",F77)","v":""},{"$f":"IF(G77=\"\",\"\",G77)","v":""},{"$f":"IF(H77=\"\",\"\",H77)","v":""},{"$f":"IF(I77=\"\",\"\",I77)","v":""},{"$f":"COUNTIF(D48:AG48,\"●\")","v":0},{"$f":"+AO48","v":0},null,null,"現場閉所率",{"$f":"IFERROR(+AT47/AT46,\"\")","v":""},{"$f":"IF(AT48=\"\",\"\",IF(COUNTIF(D48:AH48,\"●\")>=COUNTIF(D51:AH51,\"◎\"),\"4週8休以上\",IF(AT48>=0.285,\"4週8休以上\",\"週休2日未達成\")))","v":""},null,null,null,null,null,"実施","／","／","／","／","／","／","／","／","／","／","／",null,null,null,null,null,null,null,null,null,null,null,null,null,null,null,null,null,null,null,null,{"$f":"IF(BB77=\"\",\"\",BB77)","v":""},{"$f":"IF(BC77=\"\",\"\",BC77)","v":""},{"$f":"IF(BD77=\"\",\"\",BD77)","v":""},{"$f":"IF(BE77=\"\",\"\",BE77)","v":""},{"$f":"IF(BF77=\"\",\"\",BF77)","v":""},{"$f":"IF(BG77=\"\",\"\",BG77)","v":""},{"$f":"COUNTIF(BB48:CE48,\"●\")","v":0},{"$f":"+CM48","v":0},null,null,"現場閉所率",{"$f":"IFERROR(+CR47/CR46,\"\")","v":0},{"$f":"IF(CR48=\"\",\"\",IF(COUNTIF(BB48:CF48,\"●\")>=COUNTIF(BB51:CF51,\"◎\"),\"4週8休以上\",IF(CR48>=0.285,\"4週8休以上\",\"週休2日未達成\")))","v":"週休2日未達成"},null,null,null,"実施","／","／","／","／","／","／","／","／","／","／","／",null,null,null,null,null,"●","●","●",null,null,"●",null,null,"●",null,null,null,null,null,"●",{"$f":"IF(CX77=\"\",\"\",CX77)","v":"●"},{"$f":"IF(CY77=\"\",\"\",CY77)","v":""},{"$f":"IF(CZ77=\"\",\"\",CZ77)","v":""},{"$f":"IF(DA77=\"\",\"\",DA77)","v":""},{"$f":"IF(DB77=\"\",\"\",DB77)","v":""},{"$f":"IF(DC77=\"\",\"\",DC77)","v":""},{"$f":"COUNTIF(CX48:EA48,\"●\")","v":5},{"$f":"+EI48","v":5},null,null,"現場閉所率",{"$f":"IFERROR(+EN47/EN46,\"\")","v":0.3},{"$f":"IF(EN48=\"\",\"\",IF(COUNTIF(CX48:EB48,\"●\")>=COUNTIF(CX51:EB51,\"◎\"),\"4週8休以上\",IF(EN48>=0.285,\"4週8休以上\",\"週休2日未達成\")))","v":"4週8休以上"}]
[null,null,null,1,2,3,4,5,6,7,8,9,10,11,12,13,14,15,16,17,18,19,20,21,22,23,24,25,26,27,28,29,30,31,32,33,34,35,36,37,null,null,null,null,{"$f":"AU48","v":""},null,null,null,null,null,null,null,null,1,2,3,4,5,6,7,8,9,10,11,12,13,14,15,16,17,18,19,20,21,22,23,24,25,26,27,28,29,30,31,32,33,34,35,36,37,null,null,null,null,{"$f":"CS48","v":"週休2日未達成"},null,null,null,null,null,null,1,2,3,4,5,6,7,8,9,10,11,12,13,14,15,16,17,18,19,20,21,22,23,24,25,26,27,28,29,30,31,32,33,34,35,36,37,null,null,null,null,{"$f":"EO48","v":"4週8休以上"}]
[null,null,"計画",{"$f":"IF(D47=\"／\",\"／\",IF(OR(D45=\"土\",D45=\"日\"),\"◎\",\"\"))","v":""},"","◎","◎","","","","","","◎","◎","","","","","","◎","◎","","","","","","◎","◎","",{"$f":"IF(AD47=\"／\",\"／\",IF(OR(AD45=\"土\",AD45=\"日\"),\"◎\",\"\"))","v":""},{"$f":"IF(AE47=\"／\",\"／\",IF(OR(AE45=\"土\",AE45=\"日\"),\"◎\",\"\"))","v":""},"","","◎","◎","","","","","",null,null,null,null,{"$f":"AT52","v":""},null,null,null,null,null,null,null,"計画",{"$f":"IF(BB47=\"／\",\"／\",IF(OR(BB45=\"土\",BB45=\"日\"),\"◎\",\"\"))","v":"／"},"／","／","／","／","／","／","／","／","／","／","",{"$f":"IF(BN47=\"／\",\"／\",IF(OR(BN45=\"土\",BN45=\"日\"),\"◎\",\"\"))","v":""},{"$f":"IF(BO47=\"／\",\"／\",IF(OR(BO45=\"土\",BO45=\"日\"),\"◎\",\"\"))","v":""},"","","◎","◎","","","","","","◎","◎","",{"$f":"IF(CB47=\"／\",\"／\",IF(OR(CB45=\"土\",CB45=\"日\"),\"◎\",\"\"))","v":""},{"$f":"IF(CC47=\"／\",\"／\",IF(OR(CC45=\"土\",CC45=\"日\"),\"◎\",\"\"))","v":""},"","","◎","◎","","","","","",null,null,null,null,{"$f":"CR52","v":"OUT"},null,null,null,null,null,"計画",{"$f":"IF(CX47=\"／\",\"／\",IF(OR(CX45=\"土\",CX45=\"日\"),\"◎\",\"\"))","v":"／"},"／","／","／","／","／","／","／","／","／","／","",{"$f":"IF(DJ47=\"／\",\"／\",IF(OR(DJ45=\"土\",DJ45=\"日\"),\"◎\",\"\"))","v":""},{"$f":"IF(DK47=\"／\",\"／\",IF(OR(DK45=\"土\",DK45=\"日\"),\"◎\",\"\"))","v":""},"","","◎","◎","","","","","","◎","◎","",{"$f":"IF(DX47=\"／\",\"／\",IF(OR(DX45=\"土\",DX45=\"日\"),\"◎\",\"\"))","v":""},{"$f":"IF(DY47=\"／\",\"／\",IF(OR(DY45=\"土\",DY45=\"日\"),\"◎\",\"\"))","v":""},"","","◎","◎","","","","","",null,null,null,null,{"$f":"EN52","v":"OK"}]
[null,null,"実施",{"$f":"IF(D48=\"／\",\"／\",IF(OR(D45=\"土\",D45=\"日\"),\"◎\",\"\"))","v":""},{"$f":"IF(E48=\"／\",\"／\",IF(OR(E45=\"土\",E45=\"日\"),\"◎\",\"\"))","v":""},"◎","◎","","","","","","◎","◎","","","","","","◎","◎","","","","","","◎","◎","","","","","","◎","◎","","","","","",null,null,null,null,null,null,null,null,null,null,null,null,"実施",{"$f":"IF(BB48=\"／\",\"／\",IF(OR(BB45=\"土\",BB45=\"日\"),\"◎\",\"\"))","v":"／"},{"$f":"IF(BC48=\"／\",\"／\",IF(OR(BC45=\"土\",BC45=\"日\"),\"◎\",\"\"))","v":"／"},"／","／","／","／","／","／","／","／","／","","","","","","◎","◎","","","","","","◎","◎","","","","","","◎","◎","","","","","",null,null,null,null,null,null,null,null,null,null,"実施",{"$f":"IF(CX48=\"／\",\"／\",IF(OR(CX45=\"土\",CX45=\"日\"),\"◎\",\"\"))","v":"／"},{"$f":"IF(CY48=\"／\",\"／\",IF(OR(CY45=\"土\",CY45=\"日\"),\"◎\",\"\"))","v":"／"},"／","／","／","／","／","／","／","／","／","","","","","","◎","◎","","","","","","◎","◎","","","","","","◎","◎","","","","",""]
["",null,"完全",{"$f":"IF(WEEKDAY(DATE(YEAR(D43),MONTH(D43),1),2)=1,DATE(YEAR(D43),MONTH(D43),1),EOMONTH(D43,-1)-MOD(WEEKDAY(EOMONTH(D43,-1),2)+6,7))","v":"2025-04-28"},"～",{"$f":"DATE(YEAR(D43),MONTH(D43),1)+MOD(7-WEEKDAY(DATE(YEAR(D43),MONTH(D43),1),2),7)","v":"2025-05-04"},{"$f":"IF(DAY(D52)=1,IF(COUNTIF(D48:J48,\"／\")>=1,\"対象外\",IF(COUNTIF(INDEX(D48:AN48,DAY(D52)):INDEX(D48:AN48,HLOOKUP(F52,D44:AN49,6,FALSE)),\"\")+COUNTIF(INDEX(D48:AN48,DAY(D52)):INDEX(D48:AN48,HLOOKUP(F52,D44:AN49,6,FALSE)),\"●\")=7,IF(COUNTIF(INDEX(D48:AN48,DAY(D52)):INDEX(D48:AN48,HLOOKUP(F52,D44:AN49,6,FALSE)),\"●\")>=2,\"OK\",\"OUT\"),IF(COUNTIF(INDEX(D48:AN48,DAY(D52)):INDEX(D48:AN48,HLOOKUP(F52,D44:AN49,6,FALSE)),\"●\")>=COUNTIF(INDEX(D51:AN51,DAY(D52)):INDEX(D51:AN51,HLOOKUP(F52,D44:AN49,6,FALSE)),\"○\"),\"OK\",\"OUT\"))),IF(AND(AK23=\"\",AE23=\"\"),Y23,IF(AK23=\"\",AE23,AK23)))","v":"「／」漏れ"},null,null,{"$f":"F52+1","v":"2025-05-05"},"～",{"$f":"F52+7","v":"2025-05-11"},{"$f":"IF(COUNTIF(INDEX(D48:AN48,DAY(J52)):INDEX(D48:AN48,HLOOKUP(L52,D44:AN49,6,FALSE)),\"\")+COUNTIF(INDEX(D48:AN48,DAY(J52)):INDEX(D48:AN48,HLOOKUP(L52,D44:AN49,6,FALSE)),\"●\")=7,IF(COUNTIF(INDEX(D48:AN48,DAY(J52)):INDEX(D48:AN48,HLOOKUP(L52,D44:AN49,6,FALSE)),\"●\")>=2,\"OK\",\"OUT\"),\"対象外\")","v":"OUT"},null,null,{"$f":"L52+1","v":"2025-05-12"},"～",{"$f":"L52+7","v":"2025-05-18"},{"$f":"IF(COUNTIF(INDEX(D48:AN48,DAY(P52)):INDEX(D48:AN48,HLOOKUP(R52,D44:AN49,6,FALSE)),\"\")+COUNTIF(INDEX(D48:AN48,DAY(P52)):INDEX(D48:AN48,HLOOKUP(R52,D44:AN49,6,FALSE)),\"●\")=7,IF(COUNTIF(INDEX(D48:AN48,DAY(P52)):INDEX(D48:AN48,HLOOKUP(R52,D44:AN49,6,FALSE)),\"●\")>=2,\"OK\",\"OUT\"),\"対象外\")","v":"OUT"},null,null,{"$f":"R52+1","v":"2025-05-19"},"～",{"$f":"R52+7","v":"2025-05-25"},{"$f":"IF(COUNTIF(INDEX(D48:AN48,DAY(V52)):INDEX(D48:AN48,HLOOKUP(X52,D44:AN49,6,FALSE)),\"\")+COUNTIF(INDEX(D48:AN48,DAY(V52)):INDEX(D48:AN48,HLOOKUP(X52,D44:AN49,6,FALSE)),\"●\")=7,IF(COUNTIF(INDEX(D48:AN48,DAY(V52)):INDEX(D48:AN48,HLOOKUP(X52,D44:AN49,6,FALSE)),\"●\")>=2,\"OK\",\"OUT\"),\"対象外\")","v":"OUT"},null,null,{"$f":"IF(AND(DAY(X52+7)<23,DAY(X52+7)>=7),\"\",X52+1)","v":"2025-05-26"},{"$f":"IF(AND(DAY(X52+7)<23,DAY(X52+7)>=7),\"\",\"～\")","v":"～"},{"$f":"IF(AND(DAY(X52+7)<23,DAY(X52+7)>=7),\"\",X52+7)","v":"2025-06-01"},{"$f":"IF(AND(DAY(X52+7)<23,DAY(X52+7)>=7),\"\",IF(COUNTIF(INDEX(D48:AN48,DAY(AB52)):INDEX(D48:AN48,HLOOKUP(AD52,D44:AN49,6,FALSE)),\"\")+COUNTIF(INDEX(D48:AN48,DAY(AB52)):INDEX(D48:AN48,HLOOKUP(AD52,D44:AN49,6,FALSE)),\"●\")=7,IF(COUNTIF(INDEX(D48:AN48,DAY(AB52)):INDEX(D48:AN48,HLOOKUP(AD52,D44:AN49,6,FALSE)),\"●\")>=2,\"OK\",\"OUT\"),IF(COUNTIF(INDEX(D48:AN48,DAY(AB52)):INDEX(D48:AN48,HLOOKUP(AD52,D44:AN49,6,FALSE)),\"\")+COUNTIF(INDEX(D48:AN48,DAY(AB52)):INDEX(D48:AN48,HLOOKUP(AD52,D44:AN49,6,FALSE)),\"●\")>7,\"「／」漏れ\",\"対象外\")))","v":"OUT"},null,null,{"$f":"IF(AE52=\"\",\"\",IF(AND(DAY(AD52+7)<23,DAY(AD52+7)>=7),\"\",AD52+1))","v":""},{"$f":"IF(AE52=\"\",\"\",IF(AND(DAY(AD52+7)<23,DAY(AD52+7)>=7),\"\",\"～\"))","v":""},{"$f":"IF(AE52=\"\",\"\",IF(AND(DAY(AD52+7)<23,DAY(AD52+7)>=7),\"\",AD52+7))","v":""},{"$f":"IF(AE52=\"\",\"\",IF(AND(DAY(AD52+7)<23,DAY(AD52+7)>=7),\"\",IF(COUNTIF(INDEX(D48:AN48,DAY(AH52)):INDEX(D48:AN48,HLOOKUP(AJ52,D44:AN49,6,FALSE)),\"\")+COUNTIF(INDEX(D48:AN48,DAY(AH52)):INDEX(D48:AN48,HLOOKUP(AJ52,D44:AN49,6,FALSE)),\"●\")=7,IF(COUNTIF(INDEX(D48:AN48,DAY(AH52)):INDEX(D48:AN48,HLOOKUP(AJ52,D44:AN49,6,FALSE)),\"●\")>=2,\"OK\",\"OUT\"),IF(COUNTIF(INDEX(D48:AN48,HLOOKUP(AH52,D44:AN49,6,FALSE)):INDEX(D48:AN48,HLOOKUP(AJ52,D44:AN49,6,FALSE)),\"\")+COUNTIF(INDEX(D48:AN48,HLOOKUP(AH52,D44:AN49,6,FALSE)):INDEX(D48:AN48,HLOOKUP(AJ52,D44:AN49,6,FALSE)),\"●\")>7,\"「／」漏れ\",\"対象外\"))))","v":""},null,null,null,null,null,null,null,"完全週休二日",{"$f":"IF(AT43=\"\",\"\",IF(COUNTIF(D52:AN52,\"OUT\")>=1,\"OUT\",\"OK\"))","v":""},null,null,null,null,null,null,"完全",{"$f":"IF(WEEKDAY(DATE(YEAR(BB43),MONTH(BB43),1),2)=1,DATE(YEAR(BB43),MONTH(BB43),1),EOMONTH(BB43,-1)-MOD(WEEKDAY(EOMONTH(BB43,-1),2)+6,7))","v":"2025-04-28"},"～",{"$f":"DATE(YEAR(BB43),MONTH(BB43),1)+MOD(7-WEEKDAY(DATE(YEAR(BB43),MONTH(BB43),1),2),7)","v":"2025-05-04"},{"$f":"IF(DAY(BB52)=1,IF(COUNTIF(BB48:BH48,\"／\")>=1,\"対象外\",IF(COUNTIF(INDEX(BB48:CL48,DAY(BB52)):INDEX(BB48:CL48,HLOOKUP(BD52,BB44:CL49,6,FALSE)),\"\")+COUNTIF(INDEX(BB48:CL48,DAY(BB52)):INDEX(BB48:CL48,HLOOKUP(BD52,BB44:CL49,6,FALSE)),\"●\")=7,IF(COUNTIF(INDEX(BB48:CL48,DAY(BB52)):INDEX(BB48:CL48,HLOOKUP(BD52,BB44:CL49,6,FALSE)),\"●\")>=2,\"OK\",\"OUT\"),IF(COUNTIF(INDEX(BB48:CL48,DAY(BB52)):INDEX(BB48:CL48,HLOOKUP(BD52,BB44:CL49,6,FALSE)),\"●\")>=COUNTIF(INDEX(BB51:CL51,DAY(BB52)):INDEX(BB51:CL51,HLOOKUP(BD52,BB44:CL49,6,FALSE)),\"○\"),\"OK\",\"OUT\"))),IF(AND(CI23=\"\",CC23=\"\"),BW23,IF(CI23=\"\",CC23,CI23)))","v":"対象外"},null,null,{"$f":"BD52+1","v":"2025-05-05"},"～",{"$f":"BD52+7","v":"2025-05-11"},{"$f":"IF(COUNTIF(INDEX(BB48:CL48,DAY(BH52)):INDEX(BB48:CL48,HLOOKUP(BJ52,BB44:CL49,6,FALSE)),\"\")+COUNTIF(INDEX(BB48:CL48,DAY(BH52)):INDEX(BB48:CL48,HLOOKUP(BJ52,BB44:CL49,6,FALSE)),\"●\")=7,IF(COUNTIF(INDEX(BB48:CL48,DAY(BH52)):INDEX(BB48:CL48,HLOOKUP(BJ52,BB44:CL49,6,FALSE)),\"●\")>=2,\"OK\",\"OUT\"),\"対象外\")","v":"対象外"},null,null,{"$f":"BJ52+1","v":"2025-05-12"},"～",{"$f":"BJ52+7","v":"2025-05-18"},{"$f":"IF(COUNTIF(INDEX(BB48:CL48,DAY(BN52)):INDEX(BB48:CL48,HLOOKUP(BP52,BB44:CL49,6,FALSE)),\"\")+COUNTIF(INDEX(BB48:CL48,DAY(BN52)):INDEX(BB48:CL48,HLOOKUP(BP52,BB44:CL49,6,FALSE)),\"●\")=7,IF(COUNTIF(INDEX(BB48:CL48,DAY(BN52)):INDEX(BB48:CL48,HLOOKUP(BP52,BB44:CL49,6,FALSE)),\"●\")>=2,\"OK\",\"OUT\"),\"対象外\")","v":"OUT"},null,null,{"$f":"BP52+1","v":"2025-05-19"},"～",{"$f":"BP52+7","v":"2025-05-25"},{"$f":"IF(COUNTIF(INDEX(BB48:CL48,DAY(BT52)):INDEX(BB48:CL48,HLOOKUP(BV52,BB44:CL49,6,FALSE)),\"\")+COUNTIF(INDEX(BB48:CL48,DAY(BT52)):INDEX(BB48:CL48,HLOOKUP(BV52,BB44:CL49,6,FALSE)),\"●\")=7,IF(COUNTIF(INDEX(BB48:CL48,DAY(BT52)):INDEX(BB48:CL48,HLOOKUP(BV52,BB44:CL49,6,FALSE)),\"●\")>=2,\"OK\",\"OUT\"),\"対象外\")","v":"OUT"},null,null,{"$f":"IF(AND(DAY(BV52+7)<23,DAY(BV52+7)>=7),\"\",BV52+1)","v":"2025-05-26"},{"$f":"IF(AND(DAY(BV52+7)<23,DAY(BV52+7)>=7),\"\",\"～\")","v":"～"},{"$f":"IF(AND(DAY(BV52+7)<23,DAY(BV52+7)>=7),\"\",BV52+7)","v":"2025-06-01"},{"$f":"IF(AND(DAY(BV52+7)<23,DAY(BV52+7)>=7),\"\",IF(COUNTIF(INDEX(BB48:CL48,DAY(BZ52)):INDEX(BB48:CL48,HLOOKUP(CB52,BB44:CL49,6,FALSE)),\"\")+COUNTIF(INDEX(BB48:CL48,DAY(BZ52)):INDEX(BB48:CL48,HLOOKUP(CB52,BB44:CL49,6,FALSE)),\"●\")=7,IF(COUNTIF(INDEX(BB48:CL48,DAY(BZ52)):INDEX(BB48:CL48,HLOOKUP(CB52,BB44:CL49,6,FALSE)),\"●\")>=2,\"OK\",\"OUT\"),IF(COUNTIF(INDEX(BB48:CL48,DAY(BZ52)):INDEX(BB48:CL48,HLOOKUP(CB52,BB44:CL49,6,FALSE)),\"\")+COUNTIF(INDEX(BB48:CL48,DAY(BZ52)):INDEX(BB48:CL48,HLOOKUP(CB52,BB44:CL49,6,FALSE)),\"●\")>7,\"「／」漏れ\",\"対象外\")))","v":"OUT"},null,null,{"$f":"IF(CC52=\"\",\"\",IF(AND(DAY(CB52+7)<23,DAY(CB52+7)>=7),\"\",CB52+1))","v":""},{"$f":"IF(CC52=\"\",\"\",IF(AND(DAY(CB52+7)<23,DAY(CB52+7)>=7),\"\",\"～\"))","v":""},{"$f":"IF(CC52=\"\",\"\",IF(AND(DAY(CB52+7)<23,DAY(CB52+7)>=7),\"\",CB52+7))","v":""},{"$f":"IF(CC52=\"\",\"\",IF(AND(DAY(CB52+7)<23,DAY(CB52+7)>=7),\"\",IF(COUNTIF(INDEX(BB48:CL48,DAY(CF52)):INDEX(BB48:CL48,HLOOKUP(CH52,BB44:CL49,6,FALSE)),\"\")+COUNTIF(INDEX(BB48:CL48,DAY(CF52)):INDEX(BB48:CL48,HLOOKUP(CH52,BB44:CL49,6,FALSE)),\"●\")=7,IF(COUNTIF(INDEX(BB48:CL48,DAY(CF52)):INDEX(BB48:CL48,HLOOKUP(CH52,BB44:CL49,6,FALSE)),\"●\")>=2,\"OK\",\"OUT\"),IF(COUNTIF(INDEX(BB48:CL48,HLOOKUP(CF52,BB44:CL49,6,FALSE)):INDEX(BB48:CL48,HLOOKUP(CH52,BB44:CL49,6,FALSE)),\"\")+COUNTIF(INDEX(BB48:CL48,HLOOKUP(CF52,BB44:CL49,6,FALSE)):INDEX(BB48:CL48,HLOOKUP(CH52,BB44:CL49,6,FALSE)),\"●\")>7,\"「／」漏れ\",\"対象外\"))))","v":""},null,null,null,null,null,null,null,"完全週休二日",{"$f":"IF(CR43=\"\",\"\",IF(COUNTIF(BB52:CL52,\"OUT\")>=1,\"OUT\",\"OK\"))","v":"OUT"},null,null,null,null,"完全",{"$f":"IF(WEEKDAY(DATE(YEAR(CX43),MONTH(CX43),1),2)=1,DATE(YEAR(CX43),MONTH(CX43),1),EOMONTH(CX43,-1)-MOD(WEEKDAY(EOMONTH(CX43,-1),2)+6,7))","v":"2025-04-28"},"～",{"$f":"DATE(YEAR(CX43),MONTH(CX43),1)+MOD(7-WEEKDAY(DATE(YEAR(CX43),MONTH(CX43),1),2),7)","v":"2025-05-04"},{"$f":"IF(DAY(CX52)=1,IF(COUNTIF(CX48:DD48,\"／\")>=1,\"対象外\",IF(COUNTIF(INDEX(CX48:EH48,DAY(CX52)):INDEX(CX48:EH48,HLOOKUP(CZ52,CX44:EH49,6,FALSE)),\"\")+COUNTIF(INDEX(CX48:EH48,DAY(CX52)):INDEX(CX48:EH48,HLOOKUP(CZ52,CX44:EH49,6,FALSE)),\"●\")=7,IF(COUNTIF(INDEX(CX48:EH48,DAY(CX52)):INDEX(CX48:EH48,HLOOKUP(CZ52,CX44:EH49,6,FALSE)),\"●\")>=2,\"OK\",\"OUT\"),IF(COUNTIF(INDEX(CX48:EH48,DAY(CX52)):INDEX(CX48:EH48,HLOOKUP(CZ52,CX44:EH49,6,FALSE)),\"●\")>=COUNTIF(INDEX(CX51:EH51,DAY(CX52)):INDEX(CX51:EH51,HLOOKUP(CZ52,CX44:EH49,6,FALSE)),\"○\"),\"OK\",\"OUT\"))),IF(AND(EE23=\"\",DY23=\"\"),DS23,IF(EE23=\"\",DY23,EE23)))","v":"対象外"},null,null,{"$f":"CZ52+1","v":"2025-05-05"},"～",{"$f":"CZ52+7","v":"2025-05-11"},{"$f":"IF(COUNTIF(INDEX(CX48:EH48,DAY(DD52)):INDEX(CX48:EH48,HLOOKUP(DF52,CX44:EH49,6,FALSE)),\"\")+COUNTIF(INDEX(CX48:EH48,DAY(DD52)):INDEX(CX48:EH48,HLOOKUP(DF52,CX44:EH49,6,FALSE)),\"●\")=7,IF(COUNTIF(INDEX(CX48:EH48,DAY(DD52)):INDEX(CX48:EH48,HLOOKUP(DF52,CX44:EH49,6,FALSE)),\"●\")>=2,\"OK\",\"OUT\"),\"対象外\")","v":"対象外"},null,null,{"$f":"DF52+1","v":"2025-05-12"},"～",{"$f":"DF52+7","v":"2025-05-18"},{"$f":"IF(COUNTIF(INDEX(CX48:EH48,DAY(DJ52)):INDEX(CX48:EH48,HLOOKUP(DL52,CX44:EH49,6,FALSE)),\"\")+COUNTIF(INDEX(CX48:EH48,DAY(DJ52)):INDEX(CX48:EH48,HLOOKUP(DL52,CX44:EH49,6,FALSE)),\"●\")=7,IF(COUNTIF(INDEX(CX48:EH48,DAY(DJ52)):INDEX(CX48:EH48,HLOOKUP(DL52,CX44:EH49,6,FALSE)),\"●\")>=2,\"OK\",\"OUT\"),\"対象外\")","v":"OK"},null,null,{"$f":"DL52+1","v":"2025-05-19"},"～",{"$f":"DL52+7","v":"2025-05-25"},{"$f":"IF(COUNTIF(INDEX(CX48:EH48,DAY(DP52)):INDEX(CX48:EH48,HLOOKUP(DR52,CX44:EH49,6,FALSE)),\"\")+COUNTIF(INDEX(CX48:EH48,DAY(DP52)):INDEX(CX48:EH48,HLOOKUP(DR52,CX44:EH49,6,FALSE)),\"●\")=7,IF(COUNTIF(INDEX(CX48:EH48,DAY(DP52)):INDEX(CX48:EH48,HLOOKUP(DR52,CX44:EH49,6,FALSE)),\"●\")>=2,\"OK\",\"OUT\"),\"対象外\")","v":"OK"},null,null,{"$f":"IF(AND(DAY(DR52+7)<23,DAY(DR52+7)>=7),\"\",DR52+1)","v":"2025-05-26"},{"$f":"IF(AND(DAY(DR52+7)<23,DAY(DR52+7)>=7),\"\",\"～\")","v":"～"},{"$f":"IF(AND(DAY(DR52+7)<23,DAY(DR52+7)>=7),\"\",DR52+7)","v":"2025-06-01"},{"$f":"IF(AND(DAY(DR52+7)<23,DAY(DR52+7)>=7),\"\",IF(COUNTIF(INDEX(CX48:EH48,DAY(DV52)):INDEX(CX48:EH48,HLOOKUP(DX52,CX44:EH49,6,FALSE)),\"\")+COUNTIF(INDEX(CX48:EH48,DAY(DV52)):INDEX(CX48:EH48,HLOOKUP(DX52,CX44:EH49,6,FALSE)),\"●\")=7,IF(COUNTIF(INDEX(CX48:EH48,DAY(DV52)):INDEX(CX48:EH48,HLOOKUP(DX52,CX44:EH49,6,FALSE)),\"●\")>=2,\"OK\",\"OUT\"),IF(COUNTIF(INDEX(CX48:EH48,DAY(DV52)):INDEX(CX48:EH48,HLOOKUP(DX52,CX44:EH49,6,FALSE)),\"\")+COUNTIF(INDEX(CX48:EH48,DAY(DV52)):INDEX(CX48:EH48,HLOOKUP(DX52,CX44:EH49,6,FALSE)),\"●\")>7,\"「／」漏れ\",\"対象外\")))","v":"OK"},null,null,{"$f":"IF(DY52=\"\",\"\",IF(AND(DAY(DX52+7)<23,DAY(DX52+7)>=7),\"\",DX52+1))","v":""},{"$f":"IF(DY52=\"\",\"\",IF(AND(DAY(DX52+7)<23,DAY(DX52+7)>=7),\"\",\"～\"))","v":""},{"$f":"IF(DY52=\"\",\"\",IF(AND(DAY(DX52+7)<23,DAY(DX52+7)>=7),\"\",DX52+7))","v":""},{"$f":"IF(DY52=\"\",\"\",IF(AND(DAY(DX52+7)<23,DAY(DX52+7)>=7),\"\",IF(COUNTIF(INDEX(CX48:EH48,DAY(EB52)):INDEX(CX48:EH48,HLOOKUP(ED52,CX44:EH49,6,FALSE)),\"\")+COUNTIF(INDEX(CX48:EH48,DAY(EB52)):INDEX(CX48:EH48,HLOOKUP(ED52,CX44:EH49,6,FALSE)),\"●\")=7,IF(COUNTIF(INDEX(CX48:EH48,DAY(EB52)):INDEX(CX48:EH48,HLOOKUP(ED52,CX44:EH49,6,FALSE)),\"●\")>=2,\"OK\",\"OUT\"),IF(COUNTIF(INDEX(CX48:EH48,HLOOKUP(EB52,CX44:EH49,6,FALSE)):INDEX(CX48:EH48,HLOOKUP(ED52,CX44:EH49,6,FALSE)),\"\")+COUNTIF(INDEX(CX48:EH48,HLOOKUP(EB52,CX44:EH49,6,FALSE)):INDEX(CX48:EH48,HLOOKUP(ED52,CX44:EH49,6,FALSE)),\"●\")>7,\"「／」漏れ\",\"対象外\"))))","v":""},null,null,null,null,null,null,null,"完全週休二日",{"$f":"IF(EN43=\"\",\"\",IF(COUNTIF(CX52:EH52,\"OUT\")>=1,\"OUT\",\"OK\"))","v":"OK"}]
[""]
[{"$f":"IF(AND(NOT($AT$43=\"\"),$AT$72=\"\"),\"対象期間\",\"\")","v":""}]
[{"$f":"IF(AND(NOT($AT$43=\"\"),$AT$72=\"\"),\"対象期間\",\"\")","v":""},null,"※１工事着手日：始期日以降に準備工事（現場事務所の建設・測量等）、工場製作を含む工事における工場製作工に着手した日",null,null,null,null,null,null,null,null,null,null,null,null,null,null,null,null,null,null,null,null,null,null,null,null,null,null,null,null,null,null,null,null,null,null,null,null,null,null,null,null,"工事全体の確認",null,null,null,null,null,null,null,null,"※１工事着手日：始期日以降に準備工事（現場事務所の建設・測量等）、工場製作を含む工事における工場製作工に着手した日",null,null,null,null,null,null,null,null,null,null,null,null,null,null,null,null,null,null,null,null,null,null,null,null,null,null,null,null,null,null,null,null,null,null,null,null,null,null,null,null,"工事全体の確認",null,null,null,null,null,null,"※１工事着手日：始期日以降に準備工事（現場事務所の建設・測量等）、工場製作を含む工事における工場製作工に着手した日",null,null,null,null,null,null,null,null,null,null,null,null,null,null,null,null,null,null,null,null,null,null,null,null,null,null,null,null,null,null,null,null,null,null,null,null,null,null,null,null,"工事全体の確認"]
["",null,"※２作業完了日：工事施工範囲内で全ての作業（後片付けを含む）が完了した日\n　　　　　　　　　  （工事現場事務所は工事施工範囲外に設置するため、ここでいう後片付けの対象に含まない）",null,null,null,null,null,null,null,null,null,null,null,null,null,null,null,null,null,null,null,null,null,null,null,null,null,null,null,null,null,null,null,null,null,null,null,null,null,null,null,null,"計画","全対象期間",{"$f":"IFERROR(AT27+AT43,\"\")","v":""},null,null,null,null,null,null,"※２作業完了日：工事施工範囲内で全ての作業（後片付けを含む）が完了した日\n　　　　　　　　　  （工事現場事務所は工事施工範囲外に設置するため、ここでいう後片付けの対象に含まない）",null,null,null,null,null,null,null,null,null,null,null,null,null,null,null,null,null,null,null,null,null,null,null,null,null,null,null,null,null,null,null,null,null,null,null,null,null,null,null,null,"計画","全対象期間",{"$f":"IFERROR(CR27+CR43,\"\")","v":""},null,null,null,null,"※２作業完了日：工事施工範囲内で全ての作業（後片付けを含む）が完了した日\n　　　　　　　　　  （工事現場事務所は工事施工範囲外に設置するため、ここでいう後片付けの対象に含まない）",null,null,null,null,null,null,null,null,null,null,null,null,null,null,null,null,null,null,null,null,null,null,null,null,null,null,null,null,null,null,null,null,null,null,null,null,null,null,null,null,"計画","全対象期間",{"$f":"IFERROR(EN27+EN43,\"\")","v":20}]
["",null,null,null,null,null,null,null,null,null,null,null,null,null,null,null,null,null,null,null,null,null,null,null,null,null,null,null,null,null,null,null,null,null,null,null,null,null,null,null,null,null,null,null,"全現場閉所日数",{"$f":"IFERROR(AT28+AT44,\"\")","v":""},null,null,null,null,null,null,null,null,null,null,null,null,null,null,null,null,null,null,null,null,null,null,null,null,null,null,null,null,null,null,null,null,null,null,null,null,null,null,null,null,null,null,null,null,null,null,null,null,"全現場閉所日数",{"$f":"IFERROR(CR28+CR44,\"\")","v":""},null,null,null,null,null,null,null,null,null,null,null,null,null,null,null,null,null,null,null,null,null,null,null,null,null,null,null,null,null,null,null,null,null,null,null,null,null,null,null,null,null,null,null,null,null,null,"全現場閉所日数",{"$f":"IFERROR(EN28+EN44,\"\")","v":6}]
["",null,"【算定除外期間】：夏季休暇（8月13日～8月15日）、年末年始（12月29日～翌年1月3日）は算定期間の分母・分子に含めない",null,null,null,null,null,null,null,null,null,null,null,null,null,null,null,null,null,null,null,null,null,null,null,null,null,null,null,null,null,null,null,null,null,null,null,null,null,null,null,null,null,"現場閉所率",{"$f":"IFERROR(+AT57/AT56,\"\")","v":""},{"$f":"IF(AT58>=0.285,\"4週8休以上\",\"週休2日未達成\")","v":"4週8休以上"},null,null,null,null,null,"【算定除外期間】：夏季休暇（8月13日～8月15日）、年末年始（12月29日～翌年1月3日）は算定期間の分母・分子に含めない",null,null,null,null,null,null,null,null,null,null,null,null,null,null,null,null,null,null,null,null,null,null,null,null,null,null,null,null,null,null,null,null,null,null,null,null,null,null,null,null,null,"現場閉所率",{"$f":"IFERROR(+CR57/CR56,\"\")","v":""},{"$f":"IF(CR58>=0.285,\"4週8休以上\",\"週休2日未達成\")","v":"4週8休以上"},null,null,null,"【算定除外期間】：夏季休暇（8月13日～8月15日）、年末年始（12月29日～翌年1月3日）は算定期間の分母・分子に含めない",null,null,null,null,null,null,null,null,null,null,null,null,null,null,null,null,null,null,null,null,null,null,null,null,null,null,null,null,null,null,null,null,null,null,null,null,null,null,null,null,null,"現場閉所率",{"$f":"IFERROR(+EN57/EN56,\"\")","v":0.3},{"$f":"IF(EN58>=0.285,\"4週8休以上\",\"週休2日未達成\")","v":"4週8休以上"}]
["",null,"※３工事期間の全ての月において、達成状況を確認し、一度でも達成できない月があれば、４週８休以上（月単位）は「未達成」となり、補正の対象とならない。\n　　月によっては、土日を全て閉所しても現場閉所率が28.5％に満たない場合があるが、その月の対象期間の土日日数以上閉所していれば達成とみなす。\n\n※４工事対象期間のうち、一度でも完全週休２日（月～日で２日以上の現場閉所）を達成できなければ、\n　　 完全週休２日は「未達成」となり、補正の対象とならない。\n　　 なお、工期始期・終期、年末年始、夏季休暇などにより、７日間に満たない期間は完全週休２日の達成判断の対象外とする。",null,null,null,null,null,null,null,null,null,null,null,null,null,null,null,null,null,null,null,null,null,null,null,null,null,null,null,null,null,null,null,null,null,null,null,null,null,null,null,null,"実施","全対象期間",{"$f":"IFERROR(AT30+AT46,\"\")","v":""},null,null,null,null,null,null,"※３工事期間の全ての月において、達成状況を確認し、一度でも達成できない月があれば、４週８休以上（月単位）は「未達成」となり、補正の対象とならない。\n　　月によっては、土日を全て閉所しても現場閉所率が28.5％に満たない場合があるが、その月の対象期間の土日日数以上閉所していれば達成とみなす。\n\n※４工事対象期間のうち、一度でも完全週休２日（月～日で２日以上の現場閉所）を達成できなければ、\n　　 完全週休２日は「未達成」となり、補正の対象とならない。\n　　 なお、工期始期・終期、年末年始、夏季休暇などにより、７日間に満たない期間は完全週休２日の達成判断の対象外とする。",null,null,null,null,null,null,null,null,null,null,null,null,null,null,null,null,null,null,null,null,null,null,null,null,null,null,null,null,null,null,null,null,null,null,null,null,null,null,null,null,"実施","全対象期間",{"$f":"IFERROR(CR30+CR46,\"\")","v":""},null,null,null,null,"※３工事期間の全ての月において、達成状況を確認し、一度でも達成できない月があれば、４週８休以上（月単位）は「未達成」となり、補正の対象とならない。\n　　月によっては、土日を全て閉所しても現場閉所率が28.5％に満たない場合があるが、その月の対象期間の土日日数以上閉所していれば達成とみなす。\n\n※４工事対象期間のうち、一度でも完全週休２日（月～日で２日以上の現場閉所）を達成できなければ、\n　　 完全週休２日は「未達成」となり、補正の対象とならない。\n　　 なお、工期始期・終期、年末年始、夏季休暇などにより、７日間に満たない期間は完全週休２日の達成判断の対象外とする。",null,null,null,null,null,null,null,null,null,null,null,null,null,null,null,null,null,null,null,null,null,null,null,null,null,null,null,null,null,null,null,null,null,null,null,null,null,null,null,null,"実施","全対象期間",{"$f":"IFERROR(EN30+EN46,\"\")","v":20}]
["",null,null,null,null,null,null,null,null,null,null,null,null,null,null,null,null,null,null,null,null,null,null,null,null,null,null,null,null,null,null,null,null,null,null,null,null,null,null,null,null,null,null,null,"全現場閉所日数",{"$f":"IFERROR(AT31+AT47,\"\")","v":""},null,null,null,null,null,null,null,null,null,null,null,null,null,null,null,null,null,null,null,null,null,null,null,null,null,null,null,null,null,null,null,null,null,null,null,null,null,null,null,null,null,null,null,null,null,null,null,null,"全現場閉所日数",{"$f":"IFERROR(CR31+CR47,\"\")","v":""},null,null,null,null,null,null,null,null,null,null,null,null,null,null,null,null,null,null,null,null,null,null,null,null,null,null,null,null,null,null,null,null,null,null,null,null,null,null,null,null,null,null,null,null,null,null,"全現場閉所日数",{"$f":"IFERROR(EN31+EN47,\"\")","v":6}]
["",null,null,null,null,null,null,null,null,null,null,null,null,null,null,null,null,null,null,null,null,null,null,null,null,null,null,null,null,null,null,null,null,null,null,null,null,null,null,null,null,null,null,null,"現場閉所率",{"$f":"IFERROR(+AT60/AT59,\"\")","v":""},{"$f":"IF(AT61>=0.285,\"4週8休以上\",\"週休2日未達成\")","v":"4週8休以上"},null,null,null,null,null,null,null,null,null,null,null,null,null,null,null,null,null,null,null,null,null,null,null,null,null,null,null,null,null,null,null,null,null,null,null,null,null,null,null,null,null,null,null,null,null,null,null,"現場閉所率",{"$f":"IFERROR(+CR60/CR59,\"\")","v":""},{"$f":"IF(CR61>=0.285,\"4週8休以上\",\"週休2日未達成\")","v":"4週8休以上"},null,null,null,null,null,null,null,null,null,null,null,null,null,null,null,null,null,null,null,null,null,null,null,null,null,null,null,null,null,null,null,null,null,null,null,null,null,null,null,null,null,null,null,null,null,"現場閉所率",{"$f":"IFERROR(+EN60/EN59,\"\")","v":0.3},{"$f":"IF(EN61>=0.285,\"4週8休以上\",\"週休2日未達成\")","v":"4週8休以上"}]
["",null,null,null,null,null,null,null,null,null,null,null,null,null,null,null,null,null,null,null,null,null,null,null,null,null,null,null,null,null,null,null,null,null,null,null,null,null,null,null,null,null,null,null,"閉所（月単位）",{"$f":"IFERROR(COUNTIF(AS$14:$AS52,\"4週8休以上\")/(COUNTIF(AS$14:$AS52,\"4週8休以上\")+COUNTIF(AS$14:$AS52,\"週休2日未達成\")),\"\")","v":""},{"$f":"IF(OR(AT62=100%,AT62=\"\"),\"達成\",\"未達成\")","v":"達成"},null,null,null,null,null,null,null,null,null,null,null,null,null,null,null,null,null,null,null,null,null,null,null,null,null,null,null,null,null,null,null,null,null,null,null,null,null,null,null,null,null,null,null,null,null,null,null,"閉所（月単位）",{"$f":"IFERROR(COUNTIF(CQ$14:$CQ52,\"4週8休以上\")/(COUNTIF(CQ$14:$CQ52,\"4週8休以上\")+COUNTIF(CQ$14:$CQ52,\"週休2日未達成\")),\"\")","v":0},{"$f":"IF(OR(CR62=100%,CR62=\"\"),\"達成\",\"未達成\")","v":"未達成"},null,null,null,null,null,null,null,null,null,null,null,null,null,null,null,null,null,null,null,null,null,null,null,null,null,null,null,null,null,null,null,null,null,null,null,null,null,null,null,null,null,null,null,null,null,"閉所（月単位）",{"$f":"IFERROR(COUNTIF($EM$14:EM52,\"4週8休以上\")/(COUNTIF($EM$14:EM52,\"4週8休以上\")+COUNTIF($EM$14:EM52,\"週休2日未達成\")),\"\")","v":1},{"$f":"IF(OR(EN62=100%,EN62=\"\"),\"達成\",\"未達成\")","v":"達成"}]
["",null,null,null,null,null,null,null,null,null,null,null,null,null,null,null,null,null,null,null,null,null,null,null,null,null,null,null,null,null,null,null,null,null,null,null,null,null,null,null,null,null,null,null,"完全週休二日",{"$f":"IF(COUNTIF(AS$14:$AS52,\"OUT\")>=1,\"OUT\",\"OK\")","v":"OK"},{"$f":"IF(AT63=\"OK\",\"達成\",\"未達成\")","v":"達成"},null,null,null,null,null,null,null,null,null,null,null,null,null,null,null,null,null,null,null,null,null,null,null,null,null,null,null,null,null,null,null,null,null,null,null,null,null,null,null,null,null,null,null,null,null,null,null,"完全週休二日",{"$f":"IF(COUNTIF(CQ$14:$CQ52,\"OUT\")>=1,\"OUT\",\"OK\")","v":"OUT"},{"$f":"IF(CR63=\"OK\",\"達成\",\"未達成\")","v":"未達成"},null,null,null,null,null,null,null,null,null,null,null,null,null,null,null,null,null,null,null,null,null,null,null,null,null,null,null,null,null,null,null,null,null,null,null,null,null,null,null,null,null,null,null,null,null,"完全週休二日",{"$f":"IF(COUNTIF($EM$14:EM52,\"OUT\")>=1,\"OUT\",\"OK\")","v":"OK"},{"$f":"IF(EN63=\"OK\",\"達成\",\"未達成\")","v":"達成"}]
["",null,"※必要に応じて各月の完全週休2日（月～日）の達成判定の行を修正してください。（曜日に合わせて修正）",null,null,null,null,null,null,null,null,null,null,null,null,null,null,null,null,null,null,null,null,null,null,null,null,null,null,null,null,null,null,null,null,null,null,null,null,null,null,null,null,null,null,null,null,null,null,null,null,null,"※必要に応じて各月の完全週休2日（月～日）の達成判定の行を修正してください。（曜日に合わせて修正）",null,null,null,null,null,null,null,null,null,null,null,null,null,null,null,null,null,null,null,null,null,null,null,null,null,null,null,null,null,null,null,null,null,null,null,null,null,null,null,null,null,null,null,null,null,null,null,"※必要に応じて各月の完全週休2日（月～日）の達成判定の行を修正してください。（曜日に合わせて修正）"]
[""]
[""]
[""]
[""]
[""]
["",null,"算定除外期間以外の祝日（ＧＷ含む）は、算定期間（分母）の対象＝現場閉所の場合は分子にカウントして現場閉所率を算定",null,null,null,null,null,null,null,null,null,null,null,null,null,null,null,null,null,null,null,null,null,null,null,null,null,null,null,null,null,null,null,null,null,null,null,null,null,null,null,null,null,null,null,null,null,null,null,null,null,"算定除外期間以外の祝日（ＧＷ含む）は、算定期間（分母）の対象＝現場閉所の場合は分子にカウントして現場閉所率を算定",null,null,null,null,null,null,null,null,null,null,null,null,null,null,null,null,null,null,null,null,null,null,null,null,null,null,null,null,null,null,null,null,null,null,null,null,null,null,null,null,null,null,null,null,null,null,null,"算定除外期間以外の祝日（ＧＷ含む）は、算定期間（分母）の対象＝現場閉所の場合は分子にカウントして現場閉所率を算定"]
[""]
[{"$f":"IF($AT$72=\"\",\"\",\"対象期間\")","v":""},null,"月",{"$f":"DATE(YEAR(D43),MONTH(D43)+1,1)","v":"2025-06-01"},null,null,null,null,null,null,null,null,null,null,null,null,null,null,null,null,null,null,null,null,null,null,null,null,null,null,null,null,null,null,{"$f":"DATE(YEAR(D72),MONTH(D72)+1,1)","v":"2025-07-01"},null,null,null,null,null,"現場閉所計","現場閉所累計",null,"計画","対象期間",{"$f":"IF(IF(MONTH(入力表!$E$6)=12,YEAR(入力表!$E$6)+1&\"01\",YEAR(入力表!$E$6)&TEXT(MONTH(入力表!$E$6)+1,\"00\"))>YEAR($D72)&TEXT(MONTH($D72),\"00\"),COUNTIF(D76:AH76,\"\")+COUNTIF(D76:AH76,\"○\"),\"\")","v":""},{"$f":"IF(COUNTIF(D73:AH73,\"／\")=0,\"\",IF(COUNTIF(D73:AH73,\"／\")=1,IF(AH76=\"／\",\"\",\"月末「／」漏れ\"),IF(COUNTIF(D73:AH73,\"／\")=2,IF(AND(AG76=\"／\",AH76=\"／\"),\"\",\"月末「／」漏れ\"),IF(AND(AF76=\"／\",AG76=\"／\",AH76=\"／\"),\"\",\"月末「／」漏れ\"))))","v":"月末「／」漏れ"},null,null,null,null,null,"月",{"$f":"DATE(YEAR(BB43),MONTH(BB43)+1,1)","v":"2025-06-01"},null,null,null,null,null,null,null,null,null,null,null,null,null,null,null,null,null,null,null,null,null,null,null,null,null,null,null,null,null,null,{"$f":"DATE(YEAR(BB72),MONTH(BB72)+1,1)","v":"2025-07-01"},null,null,null,null,null,"現場閉所計","現場閉所累計",null,"計画","対象期間",{"$f":"IF(IF(MONTH($BL$5)=12,YEAR($BL$5)+1&\"01\",YEAR($BL$5)&TEXT(MONTH($BL$5)+1,\"00\"))>YEAR(BB72)&TEXT(MONTH(BB72),\"00\"),COUNTIF(BB76:CF76,\"\")+COUNTIF(BB76:CF76,\"○\"),\"\")","v":30},{"$f":"IF(COUNTIF(BB73:CF73,\"／\")=0,\"\",IF(COUNTIF(BB73:CF73,\"／\")=1,IF(CF76=\"／\",\"\",\"月末「／」漏れ\"),IF(COUNTIF(BB73:CF73,\"／\")=2,IF(AND(CE76=\"／\",CF76=\"／\"),\"\",\"月末「／」漏れ\"),IF(AND(CD76=\"／\",CE76=\"／\",CF76=\"／\"),\"\",\"月末「／」漏れ\"))))","v":""},null,null,null,"月",{"$f":"DATE(YEAR(CX43),MONTH(CX43)+1,1)","v":"2025-06-01"},null,null,null,null,null,null,null,null,null,null,null,null,null,null,null,null,null,null,null,null,null,null,null,null,null,null,null,null,null,null,{"$f":"DATE(YEAR(CX72),MONTH(CX72)+1,1)","v":"2025-07-01"},null,null,null,null,null,"現場閉所計","現場閉所累計",null,"計画","対象期間",{"$f":"IF(IF(MONTH($BL$5)=12,YEAR($BL$5)+1&\"01\",YEAR($BL$5)&TEXT(MONTH($BL$5)+1,\"00\"))>YEAR($CX72)&TEXT(MONTH($CX72),\"00\"),COUNTIF(CX76:EB76,\"\")+COUNTIF(CX76:EB76,\"○\"),\"\")","v":30},{"$f":"IF(COUNTIF(CX73:EB73,\"／\")=0,\"\",IF(COUNTIF(CX73:EB73,\"／\")=1,IF(EB76=\"／\",\"\",\"月末「／」漏れ\"),IF(COUNTIF(CX73:EB73,\"／\")=2,IF(AND(EA76=\"／\",EB76=\"／\"),\"\",\"月末「／」漏れ\"),IF(AND(DZ76=\"／\",EA76=\"／\",EB76=\"／\"),\"\",\"月末「／」漏れ\"))))","v":""}]
[{"$f":"IF($AT$72=\"\",\"\",\"対象期間\")","v":""},null,"日",{"$f":"D72","v":"2025-06-01"},{"$f":"D73+1","v":"2025-06-02"},{"$f":"E73+1","v":"2025-06-03"},{"$f":"F73+1","v":"2025-06-04"},{"$f":"G73+1","v":"2025-06-05"},{"$f":"H73+1","v":"2025-06-06"},{"$f":"I73+1","v":"2025-06-07"},{"$f":"J73+1","v":"2025-06-08"},{"$f":"K73+1","v":"2025-06-09"},{"$f":"L73+1","v":"2025-06-10"},{"$f":"M73+1","v":"2025-06-11"},{"$f":"N73+1","v":"2025-06-12"},{"$f":"O73+1","v":"2025-06-13"},{"$f":"P73+1","v":"2025-06-14"},{"$f":"Q73+1","v":"2025-06-15"},{"$f":"R73+1","v":"2025-06-16"},{"$f":"S73+1","v":"2025-06-17"},{"$f":"T73+1","v":"2025-06-18"},{"$f":"U73+1","v":"2025-06-19"},{"$f":"V73+1","v":"2025-06-20"},{"$f":"W73+1","v":"2025-06-21"},{"$f":"X73+1","v":"2025-06-22"},{"$f":"Y73+1","v":"2025-06-23"},{"$f":"Z73+1","v":"2025-06-24"},{"$f":"AA73+1","v":"2025-06-25"},{"$f":"AB73+1","v":"2025-06-26"},{"$f":"AC73+1","v":"2025-06-27"},{"$f":"AD73+1","v":"2025-06-28"},{"$f":"IF(AE73=\"／\",\"／\",IF(YEAR($D72)&TEXT(MONTH($D72),\"00\")<YEAR(AE73+1)&TEXT(MONTH(AE73+1),\"00\"),\"／\",AE73+1))","v":"2025-06-29"},{"$f":"IF(AF73=\"／\",\"／\",IF(YEAR($D72)&TEXT(MONTH($D72),\"00\")<YEAR(AF73+1)&TEXT(MONTH(AF73+1),\"00\"),\"／\",AF73+1))","v":"2025-06-30"},{"$f":"IF(AG73=\"／\",\"／\",IF(YEAR($D72)&TEXT(MONTH($D72),\"00\")<YEAR(AG73+1)&TEXT(MONTH(AG73+1),\"00\"),\"／\",AG73+1))","v":"／"},{"$f":"AI72","v":"2025-07-01"},{"$f":"AI73+1","v":"2025-07-02"},{"$f":"AJ73+1","v":"2025-07-03"},{"$f":"AK73+1","v":"2025-07-04"},{"$f":"AL73+1","v":"2025-07-05"},{"$f":"AM73+1","v":"2025-07-06"},null,null,null,null,"閉所日数",{"$f":"IF(IF(MONTH(入力表!$E$6)=12,YEAR(入力表!$E$6)+1&\"01\",YEAR(入力表!$E$6)&TEXT(MONTH(入力表!$E$6)+1,\"00\"))>YEAR($D72)&TEXT(MONTH($D72),\"00\"),COUNTIF(D76:AH76,\"○\"),\"\")","v":""},{"$f":"IF(OR(MONTH(D72)=1,MONTH(D72)=8,MONTH(D72)=12),IF(COUNTIF(D76:AH76,\"／\")>=3,\"\",\"算定除外「／」漏れ\"),\"\")","v":""},null,null,null,null,null,"日",{"$f":"BB72","v":"2025-06-01"},{"$f":"BB73+1","v":"2025-06-02"},{"$f":"BC73+1","v":"2025-06-03"},{"$f":"BD73+1","v":"2025-06-04"},{"$f":"BE73+1","v":"2025-06-05"},{"$f":"BF73+1","v":"2025-06-06"},{"$f":"BG73+1","v":"2025-06-07"},{"$f":"BH73+1","v":"2025-06-08"},{"$f":"BI73+1","v":"2025-06-09"},{"$f":"BJ73+1","v":"2025-06-10"},{"$f":"BK73+1","v":"2025-06-11"},{"$f":"BL73+1","v":"2025-06-12"},{"$f":"BM73+1","v":"2025-06-13"},{"$f":"BN73+1","v":"2025-06-14"},{"$f":"BO73+1","v":"2025-06-15"},{"$f":"BP73+1","v":"2025-06-16"},{"$f":"BQ73+1","v":"2025-06-17"},{"$f":"BR73+1","v":"2025-06-18"},{"$f":"BS73+1","v":"2025-06-19"},{"$f":"BT73+1","v":"2025-06-20"},{"$f":"BU73+1","v":"2025-06-21"},{"$f":"BV73+1","v":"2025-06-22"},{"$f":"BW73+1","v":"2025-06-23"},{"$f":"BX73+1","v":"2025-06-24"},{"$f":"BY73+1","v":"2025-06-25"},{"$f":"BZ73+1","v":"2025-06-26"},{"$f":"CA73+1","v":"2025-06-27"},{"$f":"CB73+1","v":"2025-06-28"},{"$f":"IF(CC73=\"／\",\"／\",IF(YEAR(BB72)&TEXT(MONTH(BB72),\"00\")<YEAR(CC73+1)&TEXT(MONTH(CC73+1),\"00\"),\"／\",CC73+1))","v":"2025-06-29"},{"$f":"IF(CD73=\"／\",\"／\",IF(YEAR(BB72)&TEXT(MONTH(BB72),\"00\")<YEAR(CD73+1)&TEXT(MONTH(CD73+1),\"00\"),\"／\",CD73+1))","v":"2025-06-30"},{"$f":"IF(CE73=\"／\",\"／\",IF(YEAR(BB72)&TEXT(MONTH(BB72),\"00\")<YEAR(CE73+1)&TEXT(MONTH(CE73+1),\"00\"),\"／\",CE73+1))","v":"／"},{"$f":"CG72","v":"2025-07-01"},{"$f":"CG73+1","v":"2025-07-02"},{"$f":"CH73+1","v":"2025-07-03"},{"$f":"CI73+1","v":"2025-07-04"},{"$f":"CJ73+1","v":"2025-07-05"},{"$f":"CK73+1","v":"2025-07-06"},null,null,null,null,"閉所日数",{"$f":"IF(IF(MONTH($BL$5)=12,YEAR($BL$5)+1&\"01\",YEAR($BL$5)&TEXT(MONTH($BL$5)+1,\"00\"))>YEAR(BB72)&TEXT(MONTH(BB72),\"00\"),COUNTIF(BB76:CF76,\"○\"),\"\")","v":9},{"$f":"IF(OR(MONTH(BB72)=1,MONTH(BB72)=8,MONTH(BB72)=12),IF(COUNTIF(BB76:CF76,\"／\")>=3,\"\",\"算定除外「／」漏れ\"),\"\")","v":""},null,null,null,"日",{"$f":"CX72","v":"2025-06-01"},{"$f":"CX73+1","v":"2025-06-02"},{"$f":"CY73+1","v":"2025-06-03"},{"$f":"CZ73+1","v":"2025-06-04"},{"$f":"DA73+1","v":"2025-06-05"},{"$f":"DB73+1","v":"2025-06-06"},{"$f":"DC73+1","v":"2025-06-07"},{"$f":"DD73+1","v":"2025-06-08"},{"$f":"DE73+1","v":"2025-06-09"},{"$f":"DF73+1","v":"2025-06-10"},{"$f":"DG73+1","v":"2025-06-11"},{"$f":"DH73+1","v":"2025-06-12"},{"$f":"DI73+1","v":"2025-06-13"},{"$f":"DJ73+1","v":"2025-06-14"},{"$f":"DK73+1","v":"2025-06-15"},{"$f":"DL73+1","v":"2025-06-16"},{"$f":"DM73+1","v":"2025-06-17"},{"$f":"DN73+1","v":"2025-06-18"},{"$f":"DO73+1","v":"2025-06-19"},{"$f":"DP73+1","v":"2025-06-20"},{"$f":"DQ73+1","v":"2025-06-21"},{"$f":"DR73+1","v":"2025-06-22"},{"$f":"DS73+1","v":"2025-06-23"},{"$f":"DT73+1","v":"2025-06-24"},{"$f":"DU73+1","v":"2025-06-25"},{"$f":"DV73+1","v":"2025-06-26"},{"$f":"DW73+1","v":"2025-06-27"},{"$f":"DX73+1","v":"2025-06-28"},{"$f":"IF(DY73=\"／\",\"／\",IF(YEAR(CX72)&TEXT(MONTH(CX72),\"00\")<YEAR(DY73+1)&TEXT(MONTH(DY73+1),\"00\"),\"／\",DY73+1))","v":"2025-06-29"},{"$f":"IF(DZ73=\"／\",\"／\",IF(YEAR(CX72)&TEXT(MONTH(CX72),\"00\")<YEAR(DZ73+1)&TEXT(MONTH(DZ73+1),\"00\"),\"／\",DZ73+1))","v":"2025-06-30"},{"$f":"IF(EA73=\"／\",\"／\",IF(YEAR(CX72)&TEXT(MONTH(CX72),\"00\")<YEAR(EA73+1)&TEXT(MONTH(EA73+1),\"00\"),\"／\",EA73+1))","v":"／"},{"$f":"EC72","v":"2025-07-01"},{"$f":"EC73+1","v":"2025-07-02"},{"$f":"ED73+1","v":"2025-07-03"},{"$f":"EE73+1","v":"2025-07-04"},{"$f":"EF73+1","v":"2025-07-05"},{"$f":"EG73+1","v":"2025-07-06"},null,null,null,null,"閉所日数",{"$f":"IF(IF(MONTH($BL$5)=12,YEAR($BL$5)+1&\"01\",YEAR($BL$5)&TEXT(MONTH($BL$5)+1,\"00\"))>YEAR($CX72)&TEXT(MONTH($CX72),\"00\"),COUNTIF(CX76:EB76,\"○\"),\"\")","v":9},{"$f":"IF(OR(MONTH(CX72)=1,MONTH(CX72)=8,MONTH(CX72)=12),IF(COUNTIF(CX76:EB76,\"／\")>=3,\"\",\"算定除外「／」漏れ\"),\"\")","v":""}]
["",null,"曜日",{"$f":"TEXT(WEEKDAY(+D73),\"aaa\")","v":"日"},{"$f":"TEXT(WEEKDAY(+E73),\"aaa\")","v":"月"},"火","水","木",{"$f":"TEXT(WEEKDAY(+I73),\"aaa\")","v":"金"},{"$f":"TEXT(WEEKDAY(+J73),\"aaa\")","v":"土"},"日","月","火","水","木","金","土","日","月","火","水","木","金","土","日",{"$f":"TEXT(WEEKDAY(+Z73),\"aaa\")","v":"月"},{"$f":"TEXT(WEEKDAY(+AA73),\"aaa\")","v":"火"},"水","木","金","土",{"$f":"IF(AF73=\"／\",\"／\",TEXT(WEEKDAY(+AF73),\"aaa\"))","v":"日"},{"$f":"IF(AG73=\"／\",\"／\",TEXT(WEEKDAY(+AG73),\"aaa\"))","v":"月"},"／",{"$f":"TEXT(WEEKDAY(+AI73),\"aaa\")","v":"火"},{"$f":"TEXT(WEEKDAY(+AJ73),\"aaa\")","v":"水"},"木","金","土","日",null,null,null,null,"現場閉所率",{"$f":"IFERROR(+AT73/AT72,\"\")","v":""},{"$f":"IF(AT74=\"\",\"\",IF(COUNTIF(D76:AH76,\"○\")>=COUNTIF(D79:AH79,\"◎\"),\"4週8休以上\",IF(AT74>=0.285,\"4週8休以上\",\"週休2日未達成\")))","v":""},null,null,null,null,null,"曜日",{"$f":"TEXT(WEEKDAY(+BB73),\"aaa\")","v":"日"},{"$f":"TEXT(WEEKDAY(+BC73),\"aaa\")","v":"月"},"火","水","木",{"$f":"TEXT(WEEKDAY(+BG73),\"aaa\")","v":"金"},{"$f":"TEXT(WEEKDAY(+BH73),\"aaa\")","v":"土"},"日","月","火","水","木","金","土","日","月","火","水","木","金","土","日",{"$f":"TEXT(WEEKDAY(+BX73),\"aaa\")","v":"月"},{"$f":"TEXT(WEEKDAY(+BY73),\"aaa\")","v":"火"},"水","木","金","土",{"$f":"IF(CD73=\"／\",\"／\",TEXT(WEEKDAY(+CD73),\"aaa\"))","v":"日"},{"$f":"IF(CE73=\"／\",\"／\",TEXT(WEEKDAY(+CE73),\"aaa\"))","v":"月"},"／",{"$f":"TEXT(WEEKDAY(+CG73),\"aaa\")","v":"火"},{"$f":"TEXT(WEEKDAY(+CH73),\"aaa\")","v":"水"},"木","金","土","日",null,null,null,null,"現場閉所率",{"$f":"IFERROR(+CR73/CR72,\"\")","v":0.3},{"$f":"IF(CR74=\"\",\"\",IF(COUNTIF(BB76:CF76,\"○\")>=COUNTIF(BB79:CF79,\"◎\"),\"4週8休以上\",IF(CR74>=0.285,\"4週8休以上\",\"週休2日未達成\")))","v":"4週8休以上"},null,null,null,"曜日",{"$f":"TEXT(WEEKDAY(+CX73),\"aaa\")","v":"日"},{"$f":"TEXT(WEEKDAY(+CY73),\"aaa\")","v":"月"},"火","水","木",{"$f":"TEXT(WEEKDAY(+DC73),\"aaa\")","v":"金"},{"$f":"TEXT(WEEKDAY(+DD73),\"aaa\")","v":"土"},"日","月","火","水","木","金","土","日","月","火","水","木","金","土","日",{"$f":"TEXT(WEEKDAY(+DT73),\"aaa\")","v":"月"},{"$f":"TEXT(WEEKDAY(+DU73),\"aaa\")","v":"火"},"水","木","金","土",{"$f":"IF(DZ73=\"／\",\"／\",TEXT(WEEKDAY(+DZ73),\"aaa\"))","v":"日"},{"$f":"IF(EA73=\"／\",\"／\",TEXT(WEEKDAY(+EA73),\"aaa\"))","v":"月"},"／",{"$f":"TEXT(WEEKDAY(+EC73),\"aaa\")","v":"火"},{"$f":"TEXT(WEEKDAY(+ED73),\"aaa\")","v":"水"},"木","金","土","日",null,null,null,null,"現場閉所率",{"$f":"IFERROR(+EN73/EN72,\"\")","v":0.3},{"$f":"IF(EN74=\"\",\"\",IF(COUNTIF(CX76:EB76,\"○\")>=COUNTIF(CX79:EB79,\"◎\"),\"4週8休以上\",IF(EN74>=0.285,\"4週8休以上\",\"週休2日未達成\")))","v":"4週8休以上"}]
["",null,"行事",null,null,null,null,null,null,null,null,null,null,null,null,null,null,null,null,null,null,null,null,null,null,null,null,null,null,null,null,null,null,null,{"$f":"IF(D104=\"\",\"\",D104)","v":""},{"$f":"IF(E104=\"\",\"\",E104)","v":""},{"$f":"IF(F104=\"\",\"\",F104)","v":""},{"$f":"IF(G104=\"\",\"\",G104)","v":""},{"$f":"IF(H104=\"\",\"\",H104)","v":""},{"$f":"IF(I104=\"\",\"\",I104)","v":""},null,null,null,"実施","対象期間",{"$f":"IF(IF(MONTH(入力表!$E$6)=12,YEAR(入力表!$E$6)+1&\"01\",YEAR(入力表!$E$6)&TEXT(MONTH(入力表!$E$6)+1,\"00\"))>YEAR($D72)&TEXT(MONTH($D72),\"00\"),COUNTIF(D77:AH77,\"\")+COUNTIF(D77:AH77,\"●\"),\"\")","v":""},{"$f":"IF(COUNTIF(D73:AH73,\"／\")=0,\"\",IF(COUNTIF(D73:AH73,\"／\")=1,IF(AH77=\"／\",\"\",\"月末「／」漏れ\"),IF(COUNTIF(D73:AH73,\"／\")=2,IF(AND(AG77=\"／\",AH77=\"／\"),\"\",\"月末「／」漏れ\"),IF(AND(AF77=\"／\",AG77=\"／\",AH77=\"／\"),\"\",\"月末「／」漏れ\"))))","v":"月末「／」漏れ"},null,null,null,null,null,"行事",null,null,null,null,null,null,null,null,null,null,null,null,null,null,null,null,null,null,null,null,null,null,null,null,null,null,null,null,null,null,null,{"$f":"IF(BB104=\"\",\"\",BB104)","v":""},{"$f":"IF(BC104=\"\",\"\",BC104)","v":""},{"$f":"IF(BD104=\"\",\"\",BD104)","v":""},{"$f":"IF(BE104=\"\",\"\",BE104)","v":""},{"$f":"IF(BF104=\"\",\"\",BF104)","v":""},{"$f":"IF(BG104=\"\",\"\",BG104)","v":""},null,null,null,"実施","対象期間",{"$f":"IF(IF(MONTH($BL$5)=12,YEAR($BL$5)+1&\"01\",YEAR($BL$5)&TEXT(MONTH($BL$5)+1,\"00\"))>YEAR(BB72)&TEXT(MONTH(BB72),\"00\"),COUNTIF(BB77:CF77,\"\")+COUNTIF(BB77:CF77,\"●\"),\"\")","v":30},{"$f":"IF(COUNTIF(BB73:CF73,\"／\")=0,\"\",IF(COUNTIF(BB73:CF73,\"／\")=1,IF(CF77=\"／\",\"\",\"月末「／」漏れ\"),IF(COUNTIF(BB73:CF73,\"／\")=2,IF(AND(CE77=\"／\",CF77=\"／\"),\"\",\"月末「／」漏れ\"),IF(AND(CD77=\"／\",CE77=\"／\",CF77=\"／\"),\"\",\"月末「／」漏れ\"))))","v":""},null,null,null,"行事",null,null,null,null,null,null,null,null,null,null,null,null,null,null,null,null,null,null,null,null,null,null,null,null,null,null,null,null,null,null,null,{"$f":"IF(CX104=\"\",\"\",CX104)","v":""},{"$f":"IF(CY104=\"\",\"\",CY104)","v":""},{"$f":"IF(CZ104=\"\",\"\",CZ104)","v":""},{"$f":"IF(DA104=\"\",\"\",DA104)","v":""},{"$f":"IF(DB104=\"\",\"\",DB104)","v":""},{"$f":"IF(DC104=\"\",\"\",DC104)","v":""},null,null,null,"実施","対象期間",{"$f":"IF(IF(MONTH($BL$5)=12,YEAR($BL$5)+1&\"01\",YEAR($BL$5)&TEXT(MONTH($BL$5)+1,\"00\"))>YEAR($CX72)&TEXT(MONTH($CX72),\"00\"),COUNTIF(CX77:EB77,\"\")+COUNTIF(CX77:EB77,\"●\"),\"\")","v":30},{"$f":"IF(COUNTIF(CX73:EB73,\"／\")=0,\"\",IF(COUNTIF(CX73:EB73,\"／\")=1,IF(EB77=\"／\",\"\",\"月末「／」漏れ\"),IF(COUNTIF(CX73:EB73,\"／\")=2,IF(AND(EA77=\"／\",EB77=\"／\"),\"\",\"月末「／」漏れ\"),IF(AND(DZ77=\"／\",EA77=\"／\",EB77=\"／\"),\"\",\"月末「／」漏れ\"))))","v":""}]
["",null,"計画",null,null,null,null,null,null,null,null,null,null,null,null,null,null,null,null,null,null,null,null,null,null,null,null,null,null,null,null,null,null,null,{"$f":"IF(D105=\"\",\"\",D105)","v":""},{"$f":"IF(E105=\"\",\"\",E105)","v":""},{"$f":"IF(F105=\"\",\"\",F105)","v":""},{"$f":"IF(G105=\"\",\"\",G105)","v":""},{"$f":"IF(H105=\"\",\"\",H105)","v":""},{"$f":"IF(I105=\"\",\"\",I105)","v":""},{"$f":"COUNTIF(D76:AG76,\"○\")","v":0},{"$f":"+AO76+AP47","v":0},null,null,"閉所日数",{"$f":"IF(IF(MONTH(入力表!$E$6)=12,YEAR(入力表!$E$6)+1&\"01\",YEAR(入力表!$E$6)&TEXT(MONTH(入力表!$E$6)+1,\"00\"))>YEAR($D72)&TEXT(MONTH($D72),\"00\"),COUNTIF(D77:AH77,\"●\"),\"\")","v":""},{"$f":"IF(OR(MONTH(D72)=1,MONTH(D72)=8,MONTH(D72)=12),IF(COUNTIF(D77:AH77,\"／\")>=3,\"\",\"算定除外「／」漏れ\"),\"\")","v":""},null,null,null,null,null,"計画","○",null,null,null,null,null,"○","○",null,null,null,null,null,"○","○",null,null,null,null,null,"○","○",null,null,null,null,null,"○","○",null,"／",{"$f":"IF(BB105=\"\",\"\",BB105)","v":""},"","","","○","○",{"$f":"COUNTIF(BB76:CE76,\"○\")","v":9},{"$f":"+CM76+CN47","v":14},null,null,"閉所日数",{"$f":"IF(IF(MONTH($BL$5)=12,YEAR($BL$5)+1&\"01\",YEAR($BL$5)&TEXT(MONTH($BL$5)+1,\"00\"))>YEAR(BB72)&TEXT(MONTH(BB72),\"00\"),COUNTIF(BB77:CF77,\"●\"),\"\")","v":0},{"$f":"IF(OR(MONTH(BB72)=1,MONTH(BB72)=8,MONTH(BB72)=12),IF(COUNTIF(BB77:CF77,\"／\")>=3,\"\",\"算定除外「／」漏れ\"),\"\")","v":""},null,null,null,"計画","○",null,null,null,null,null,"○","○",null,null,null,null,null,"○","○",null,null,null,null,null,"○","○",null,null,null,null,null,"○","○",null,"／",{"$f":"IF(CX105=\"\",\"\",CX105)","v":""},"","","","○","○",{"$f":"COUNTIF(CX76:EA76,\"○\")","v":9},{"$f":"+EI76+EJ47","v":14},null,null,"閉所日数",{"$f":"IF(IF(MONTH($BL$5)=12,YEAR($BL$5)+1&\"01\",YEAR($BL$5)&TEXT(MONTH($BL$5)+1,\"00\"))>YEAR($CX72)&TEXT(MONTH($CX72),\"00\"),COUNTIF(CX77:EB77,\"●\"),\"\")","v":10},{"$f":"IF(OR(MONTH(CX72)=1,MONTH(CX72)=8,MONTH(CX72)=12),IF(COUNTIF(CX77:EB77,\"／\")>=3,\"\",\"算定除外「／」漏れ\"),\"\")","v":""}]
["",null,"実施",null,null,null,null,null,null,null,null,null,null,null,null,null,null,null,null,null,null,null,null,null,null,null,null,null,null,null,null,null,null,null,{"$f":"IF(D106=\"\",\"\",D106)","v":""},{"$f":"IF(E106=\"\",\"\",E106)","v":""},{"$f":"IF(F106=\"\",\"\",F106)","v":""},{"$f":"IF(G106=\"\",\"\",G106)","v":""},{"$f":"IF(H106=\"\",\"\",H106)","v":""},{"$f":"IF(I106=\"\",\"\",I106)","v":""},{"$f":"COUNTIF(D77:AG77,\"●\")","v":0},{"$f":"+AO77+AP48","v":0},null,null,"現場閉所率",{"$f":"IFERROR(+AT76/AT75,\"\")","v":""},{"$f":"IF(AT77=\"\",\"\",IF(COUNTIF(D77:AH77,\"●\")>=COUNTIF(D80:AH80,\"◎\"),\"4週8休以上\",IF(AT77>=0.285,\"4週8休以上\",\"週休2日未達成\")))","v":""},null,null,null,null,null,"実施",null,null,null,null,null,null,null,null,null,null,null,null,null,null,null,null,null,null,null,null,null,null,null,null,null,null,null,null,null,null,"／",{"$f":"IF(BB106=\"\",\"\",BB106)","v":""},{"$f":"IF(BC106=\"\",\"\",BC106)","v":""},{"$f":"IF(BD106=\"\",\"\",BD106)","v":""},{"$f":"IF(BE106=\"\",\"\",BE106)","v":""},{"$f":"IF(BF106=\"\",\"\",BF106)","v":""},{"$f":"IF(BG106=\"\",\"\",BG106)","v":""},{"$f":"COUNTIF(BB77:CE77,\"●\")","v":0},{"$f":"+CM77+CN48","v":0},null,null,"現場閉所率",{"$f":"IFERROR(+CR76/CR75,\"\")","v":0},{"$f":"IF(CR77=\"\",\"\",IF(COUNTIF(BB77:CF77,\"●\")>=COUNTIF(BB80:CF80,\"◎\"),\"4週8休以上\",IF(CR77>=0.285,\"4週8休以上\",\"週休2日未達成\")))","v":"週休2日未達成"},null,null,null,"実施","●",null,null,null,null,null,"●","●",null,null,null,null,null,"●","●","●",null,null,null,null,"●","●",null,null,null,null,null,"●","●",null,"／",{"$f":"IF(CX106=\"\",\"\",CX106)","v":""},{"$f":"IF(CY106=\"\",\"\",CY106)","v":""},{"$f":"IF(CZ106=\"\",\"\",CZ106)","v":""},{"$f":"IF(DA106=\"\",\"\",DA106)","v":""},{"$f":"IF(DB106=\"\",\"\",DB106)","v":"●"},{"$f":"IF(DC106=\"\",\"\",DC106)","v":"●"},{"$f":"COUNTIF(CX77:EA77,\"●\")","v":10},{"$f":"+EI77+EJ48","v":15},null,null,"現場閉所率",{"$f":"IFERROR(+EN76/EN75,\"\")","v":0.33333333333333331},{"$f":"IF(EN77=\"\",\"\",IF(COUNTIF(CX77:EB77,\"●\")>=COUNTIF(CX80:EB80,\"◎\"),\"4週8休以上\",IF(EN77>=0.285,\"4週8休以上\",\"週休2日未達成\")))","v":"4週8休以上"}]
[null,null,null,1,2,3,4,5,6,7,8,9,10,11,12,13,14,15,16,17,18,19,20,21,22,23,24,25,26,27,28,29,30,31,32,33,34,35,36,37,null,null,null,null,{"$f":"AU77","v":""},null,null,null,null,null,null,null,null,1,2,3,4,5,6,7,8,9,10,11,12,13,14,15,16,17,18,19,20,21,22,23,24,25,26,27,28,29,30,31,32,33,34,35,36,37,null,null,null,null,{"$f":"CS77","v":"週休2日未達成"},null,null,null,null,null,null,1,2,3,4,5,6,7,8,9,10,11,12,13,14,15,16,17,18,19,20,21,22,23,24,25,26,27,28,29,30,31,32,33,34,35,36,37,null,null,null,null,{"$f":"EO77","v":"4週8休以上"}]
[null,null,"計画",{"$f":"IF(D76=\"／\",\"／\",IF(OR(D74=\"土\",D74=\"日\"),\"◎\",\"\"))","v":"◎"},"","","","","","◎","◎","","","","","","◎","◎","","","","","","◎","◎","","","","",{"$f":"IF(AD76=\"／\",\"／\",IF(OR(AD74=\"土\",AD74=\"日\"),\"◎\",\"\"))","v":""},{"$f":"IF(AE76=\"／\",\"／\",IF(OR(AE74=\"土\",AE74=\"日\"),\"◎\",\"\"))","v":"◎"},"◎","","","","","","","◎","◎",null,null,null,null,{"$f":"AT81","v":""},null,null,null,null,null,null,null,"計画",{"$f":"IF(BB76=\"／\",\"／\",IF(OR(BB74=\"土\",BB74=\"日\"),\"◎\",\"\"))","v":"◎"},"","","","","","◎","◎","","","","",{"$f":"IF(BN76=\"／\",\"／\",IF(OR(BN74=\"土\",BN74=\"日\"),\"◎\",\"\"))","v":""},{"$f":"IF(BO76=\"／\",\"／\",IF(OR(BO74=\"土\",BO74=\"日\"),\"◎\",\"\"))","v":"◎"},"◎","","","","","","◎","◎","","","","",{"$f":"IF(CB76=\"／\",\"／\",IF(OR(CB74=\"土\",CB74=\"日\"),\"◎\",\"\"))","v":""},{"$f":"IF(CC76=\"／\",\"／\",IF(OR(CC74=\"土\",CC74=\"日\"),\"◎\",\"\"))","v":"◎"},"◎","","／","","","","","◎","◎",null,null,null,null,{"$f":"CR81","v":"OUT"},null,null,null,null,null,"計画",{"$f":"IF(CX76=\"／\",\"／\",IF(OR(CX74=\"土\",CX74=\"日\"),\"◎\",\"\"))","v":"◎"},"","","","","","◎","◎","","","","",{"$f":"IF(DJ76=\"／\",\"／\",IF(OR(DJ74=\"土\",DJ74=\"日\"),\"◎\",\"\"))","v":""},{"$f":"IF(DK76=\"／\",\"／\",IF(OR(DK74=\"土\",DK74=\"日\"),\"◎\",\"\"))","v":"◎"},"◎","","","","","","◎","◎","","","","",{"$f":"IF(DX76=\"／\",\"／\",IF(OR(DX74=\"土\",DX74=\"日\"),\"◎\",\"\"))","v":""},{"$f":"IF(DY76=\"／\",\"／\",IF(OR(DY74=\"土\",DY74=\"日\"),\"◎\",\"\"))","v":"◎"},"◎","","／","","","","","◎","◎",null,null,null,null,{"$f":"EN81","v":"OK"}]
[null,null,"実施",{"$f":"IF(D77=\"／\",\"／\",IF(OR(D74=\"土\",D74=\"日\"),\"◎\",\"\"))","v":"◎"},{"$f":"IF(E77=\"／\",\"／\",IF(OR(E74=\"土\",E74=\"日\"),\"◎\",\"\"))","v":""},"","","","","◎","◎","","","","","","◎","◎","","","","","","◎","◎","","","","","","◎","◎","","","","","","","◎","◎",null,null,null,null,null,null,null,null,null,null,null,null,"実施",{"$f":"IF(BB77=\"／\",\"／\",IF(OR(BB74=\"土\",BB74=\"日\"),\"◎\",\"\"))","v":"◎"},{"$f":"IF(BC77=\"／\",\"／\",IF(OR(BC74=\"土\",BC74=\"日\"),\"◎\",\"\"))","v":""},"","","","","◎","◎","","","","","","◎","◎","","","","","","◎","◎","","","","","","◎","◎","","／","","","","","◎","◎",null,null,null,null,null,null,null,null,null,null,"実施",{"$f":"IF(CX77=\"／\",\"／\",IF(OR(CX74=\"土\",CX74=\"日\"),\"◎\",\"\"))","v":"◎"},{"$f":"IF(CY77=\"／\",\"／\",IF(OR(CY74=\"土\",CY74=\"日\"),\"◎\",\"\"))","v":""},"","","","","◎","◎","","","","","","◎","◎","","","","","","◎","◎","","","","","","◎","◎","","／","","","","","◎","◎"]
["",null,"完全",{"$f":"IF(WEEKDAY(DATE(YEAR(D72),MONTH(D72),1),2)=1,DATE(YEAR(D72),MONTH(D72),1),EOMONTH(D72,-1)-MOD(WEEKDAY(EOMONTH(D72,-1),2)+6,7))","v":"2025-05-26"},"～",{"$f":"DATE(YEAR(D72),MONTH(D72),1)+MOD(7-WEEKDAY(DATE(YEAR(D72),MONTH(D72),1),2),7)","v":"2025-06-01"},{"$f":"IF(DAY(D81)=1,IF(COUNTIF(D77:J77,\"／\")>=1,\"対象外\",IF(COUNTIF(INDEX(D77:AN77,DAY(D81)):INDEX(D77:AN77,HLOOKUP(F81,D73:AN78,6,FALSE)),\"\")+COUNTIF(INDEX(D77:AN77,DAY(D81)):INDEX(D77:AN77,HLOOKUP(F81,D73:AN78,6,FALSE)),\"●\")=7,IF(COUNTIF(INDEX(D77:AN77,DAY(D81)):INDEX(D77:AN77,HLOOKUP(F81,D73:AN78,6,FALSE)),\"●\")>=2,\"OK\",\"OUT\"),IF(COUNTIF(INDEX(D77:AN77,DAY(D81)):INDEX(D77:AN77,HLOOKUP(F81,D73:AN78,6,FALSE)),\"●\")>=COUNTIF(INDEX(D80:AN80,DAY(D81)):INDEX(D80:AN80,HLOOKUP(F81,D73:AN78,6,FALSE)),\"○\"),\"OK\",\"OUT\"))),IF(AND(AK52=\"\",AE52=\"\"),Y52,IF(AK52=\"\",AE52,AK52)))","v":"OUT"},null,null,{"$f":"F81+1","v":"2025-06-02"},"～",{"$f":"F81+7","v":"2025-06-08"},{"$f":"IF(COUNTIF(INDEX(D77:AN77,DAY(J81)):INDEX(D77:AN77,HLOOKUP(L81,D73:AN78,6,FALSE)),\"\")+COUNTIF(INDEX(D77:AN77,DAY(J81)):INDEX(D77:AN77,HLOOKUP(L81,D73:AN78,6,FALSE)),\"●\")=7,IF(COUNTIF(INDEX(D77:AN77,DAY(J81)):INDEX(D77:AN77,HLOOKUP(L81,D73:AN78,6,FALSE)),\"●\")>=2,\"OK\",\"OUT\"),\"対象外\")","v":"OUT"},null,null,{"$f":"L81+1","v":"2025-06-09"},"～",{"$f":"L81+7","v":"2025-06-15"},{"$f":"IF(COUNTIF(INDEX(D77:AN77,DAY(P81)):INDEX(D77:AN77,HLOOKUP(R81,D73:AN78,6,FALSE)),\"\")+COUNTIF(INDEX(D77:AN77,DAY(P81)):INDEX(D77:AN77,HLOOKUP(R81,D73:AN78,6,FALSE)),\"●\")=7,IF(COUNTIF(INDEX(D77:AN77,DAY(P81)):INDEX(D77:AN77,HLOOKUP(R81,D73:AN78,6,FALSE)),\"●\")>=2,\"OK\",\"OUT\"),\"対象外\")","v":"OUT"},null,null,{"$f":"R81+1","v":"2025-06-16"},"～",{"$f":"R81+7","v":"2025-06-22"},{"$f":"IF(COUNTIF(INDEX(D77:AN77,DAY(V81)):INDEX(D77:AN77,HLOOKUP(X81,D73:AN78,6,FALSE)),\"\")+COUNTIF(INDEX(D77:AN77,DAY(V81)):INDEX(D77:AN77,HLOOKUP(X81,D73:AN78,6,FALSE)),\"●\")=7,IF(COUNTIF(INDEX(D77:AN77,DAY(V81)):INDEX(D77:AN77,HLOOKUP(X81,D73:AN78,6,FALSE)),\"●\")>=2,\"OK\",\"OUT\"),\"対象外\")","v":"OUT"},null,null,{"$f":"IF(AND(DAY(X81+7)<23,DAY(X81+7)>=7),\"\",X81+1)","v":"2025-06-23"},{"$f":"IF(AND(DAY(X81+7)<23,DAY(X81+7)>=7),\"\",\"～\")","v":"～"},{"$f":"IF(AND(DAY(X81+7)<23,DAY(X81+7)>=7),\"\",X81+7)","v":"2025-06-29"},{"$f":"IF(AND(DAY(X81+7)<23,DAY(X81+7)>=7),\"\",IF(COUNTIF(INDEX(D77:AN77,DAY(AB81)):INDEX(D77:AN77,HLOOKUP(AD81,D73:AN78,6,FALSE)),\"\")+COUNTIF(INDEX(D77:AN77,DAY(AB81)):INDEX(D77:AN77,HLOOKUP(AD81,D73:AN78,6,FALSE)),\"●\")=7,IF(COUNTIF(INDEX(D77:AN77,DAY(AB81)):INDEX(D77:AN77,HLOOKUP(AD81,D73:AN78,6,FALSE)),\"●\")>=2,\"OK\",\"OUT\"),IF(COUNTIF(INDEX(D77:AN77,DAY(AB81)):INDEX(D77:AN77,HLOOKUP(AD81,D73:AN78,6,FALSE)),\"\")+COUNTIF(INDEX(D77:AN77,DAY(AB81)):INDEX(D77:AN77,HLOOKUP(AD81,D73:AN78,6,FALSE)),\"●\")>7,\"「／」漏れ\",\"対象外\")))","v":"OUT"},null,null,{"$f":"IF(AE81=\"\",\"\",IF(AND(DAY(AD81+7)<23,DAY(AD81+7)>=7),\"\",AD81+1))","v":"2025-06-30"},{"$f":"IF(AE81=\"\",\"\",IF(AND(DAY(AD81+7)<23,DAY(AD81+7)>=7),\"\",\"～\"))","v":"～"},{"$f":"IF(AE81=\"\",\"\",IF(AND(DAY(AD81+7)<23,DAY(AD81+7)>=7),\"\",AD81+7))","v":"2025-07-06"},{"$f":"IF(AE81=\"\",\"\",IF(AND(DAY(AD81+7)<23,DAY(AD81+7)>=7),\"\",IF(COUNTIF(INDEX(D77:AN77,DAY(AH81)):INDEX(D77:AN77,HLOOKUP(AJ81,D73:AN78,6,FALSE)),\"\")+COUNTIF(INDEX(D77:AN77,DAY(AH81)):INDEX(D77:AN77,HLOOKUP(AJ81,D73:AN78,6,FALSE)),\"●\")=7,IF(COUNTIF(INDEX(D77:AN77,DAY(AH81)):INDEX(D77:AN77,HLOOKUP(AJ81,D73:AN78,6,FALSE)),\"●\")>=2,\"OK\",\"OUT\"),IF(COUNTIF(INDEX(D77:AN77,HLOOKUP(AH81,D73:AN78,6,FALSE)):INDEX(D77:AN77,HLOOKUP(AJ81,D73:AN78,6,FALSE)),\"\")+COUNTIF(INDEX(D77:AN77,HLOOKUP(AH81,D73:AN78,6,FALSE)):INDEX(D77:AN77,HLOOKUP(AJ81,D73:AN78,6,FALSE)),\"●\")>7,\"「／」漏れ\",\"対象外\"))))","v":"「／」漏れ"},null,null,null,null,null,null,null,"完全週休二日",{"$f":"IF(AT72=\"\",\"\",IF(COUNTIF(D81:AN81,\"OUT\")>=1,\"OUT\",\"OK\"))","v":""},null,null,null,null,null,null,"完全",{"$f":"IF(WEEKDAY(DATE(YEAR(BB72),MONTH(BB72),1),2)=1,DATE(YEAR(BB72),MONTH(BB72),1),EOMONTH(BB72,-1)-MOD(WEEKDAY(EOMONTH(BB72,-1),2)+6,7))","v":"2025-05-26"},"～",{"$f":"DATE(YEAR(BB72),MONTH(BB72),1)+MOD(7-WEEKDAY(DATE(YEAR(BB72),MONTH(BB72),1),2),7)","v":"2025-06-01"},{"$f":"IF(DAY(BB81)=1,IF(COUNTIF(BB77:BH77,\"／\")>=1,\"対象外\",IF(COUNTIF(INDEX(BB77:CL77,DAY(BB81)):INDEX(BB77:CL77,HLOOKUP(BD81,BB73:CL78,6,FALSE)),\"\")+COUNTIF(INDEX(BB77:CL77,DAY(BB81)):INDEX(BB77:CL77,HLOOKUP(BD81,BB73:CL78,6,FALSE)),\"●\")=7,IF(COUNTIF(INDEX(BB77:CL77,DAY(BB81)):INDEX(BB77:CL77,HLOOKUP(BD81,BB73:CL78,6,FALSE)),\"●\")>=2,\"OK\",\"OUT\"),IF(COUNTIF(INDEX(BB77:CL77,DAY(BB81)):INDEX(BB77:CL77,HLOOKUP(BD81,BB73:CL78,6,FALSE)),\"●\")>=COUNTIF(INDEX(BB80:CL80,DAY(BB81)):INDEX(BB80:CL80,HLOOKUP(BD81,BB73:CL78,6,FALSE)),\"○\"),\"OK\",\"OUT\"))),IF(AND(CI52=\"\",CC52=\"\"),BW52,IF(CI52=\"\",CC52,CI52)))","v":"OUT"},null,null,{"$f":"BD81+1","v":"2025-06-02"},"～",{"$f":"BD81+7","v":"2025-06-08"},{"$f":"IF(COUNTIF(INDEX(BB77:CL77,DAY(BH81)):INDEX(BB77:CL77,HLOOKUP(BJ81,BB73:CL78,6,FALSE)),\"\")+COUNTIF(INDEX(BB77:CL77,DAY(BH81)):INDEX(BB77:CL77,HLOOKUP(BJ81,BB73:CL78,6,FALSE)),\"●\")=7,IF(COUNTIF(INDEX(BB77:CL77,DAY(BH81)):INDEX(BB77:CL77,HLOOKUP(BJ81,BB73:CL78,6,FALSE)),\"●\")>=2,\"OK\",\"OUT\"),\"対象外\")","v":"OUT"},null,null,{"$f":"BJ81+1","v":"2025-06-09"},"～",{"$f":"BJ81+7","v":"2025-06-15"},{"$f":"IF(COUNTIF(INDEX(BB77:CL77,DAY(BN81)):INDEX(BB77:CL77,HLOOKUP(BP81,BB73:CL78,6,FALSE)),\"\")+COUNTIF(INDEX(BB77:CL77,DAY(BN81)):INDEX(BB77:CL77,HLOOKUP(BP81,BB73:CL78,6,FALSE)),\"●\")=7,IF(COUNTIF(INDEX(BB77:CL77,DAY(BN81)):INDEX(BB77:CL77,HLOOKUP(BP81,BB73:CL78,6,FALSE)),\"●\")>=2,\"OK\",\"OUT\"),\"対象外\")","v":"OUT"},null,null,{"$f":"BP81+1","v":"2025-06-16"},"～",{"$f":"BP81+7","v":"2025-06-22"},{"$f":"IF(COUNTIF(INDEX(BB77:CL77,DAY(BT81)):INDEX(BB77:CL77,HLOOKUP(BV81,BB73:CL78,6,FALSE)),\"\")+COUNTIF(INDEX(BB77:CL77,DAY(BT81)):INDEX(BB77:CL77,HLOOKUP(BV81,BB73:CL78,6,FALSE)),\"●\")=7,IF(COUNTIF(INDEX(BB77:CL77,DAY(BT81)):INDEX(BB77:CL77,HLOOKUP(BV81,BB73:CL78,6,FALSE)),\"●\")>=2,\"OK\",\"OUT\"),\"対象外\")","v":"OUT"},null,null,{"$f":"IF(AND(DAY(BV81+7)<23,DAY(BV81+7)>=7),\"\",BV81+1)","v":"2025-06-23"},{"$f":"IF(AND(DAY(BV81+7)<23,DAY(BV81+7)>=7),\"\",\"～\")","v":"～"},{"$f":"IF(AND(DAY(BV81+7)<23,DAY(BV81+7)>=7),\"\",BV81+7)","v":"2025-06-29"},{"$f":"IF(AND(DAY(BV81+7)<23,DAY(BV81+7)>=7),\"\",IF(COUNTIF(INDEX(BB77:CL77,DAY(BZ81)):INDEX(BB77:CL77,HLOOKUP(CB81,BB73:CL78,6,FALSE)),\"\")+COUNTIF(INDEX(BB77:CL77,DAY(BZ81)):INDEX(BB77:CL77,HLOOKUP(CB81,BB73:CL78,6,FALSE)),\"●\")=7,IF(COUNTIF(INDEX(BB77:CL77,DAY(BZ81)):INDEX(BB77:CL77,HLOOKUP(CB81,BB73:CL78,6,FALSE)),\"●\")>=2,\"OK\",\"OUT\"),IF(COUNTIF(INDEX(BB77:CL77,DAY(BZ81)):INDEX(BB77:CL77,HLOOKUP(CB81,BB73:CL78,6,FALSE)),\"\")+COUNTIF(INDEX(BB77:CL77,DAY(BZ81)):INDEX(BB77:CL77,HLOOKUP(CB81,BB73:CL78,6,FALSE)),\"●\")>7,\"「／」漏れ\",\"対象外\")))","v":"OUT"},null,null,{"$f":"IF(CC81=\"\",\"\",IF(AND(DAY(CB81+7)<23,DAY(CB81+7)>=7),\"\",CB81+1))","v":"2025-06-30"},{"$f":"IF(CC81=\"\",\"\",IF(AND(DAY(CB81+7)<23,DAY(CB81+7)>=7),\"\",\"～\"))","v":"～"},{"$f":"IF(CC81=\"\",\"\",IF(AND(DAY(CB81+7)<23,DAY(CB81+7)>=7),\"\",CB81+7))","v":"2025-07-06"},{"$f":"IF(CC81=\"\",\"\",IF(AND(DAY(CB81+7)<23,DAY(CB81+7)>=7),\"\",IF(COUNTIF(INDEX(BB77:CL77,DAY(CF81)):INDEX(BB77:CL77,HLOOKUP(CH81,BB73:CL78,6,FALSE)),\"\")+COUNTIF(INDEX(BB77:CL77,DAY(CF81)):INDEX(BB77:CL77,HLOOKUP(CH81,BB73:CL78,6,FALSE)),\"●\")=7,IF(COUNTIF(INDEX(BB77:CL77,DAY(CF81)):INDEX(BB77:CL77,HLOOKUP(CH81,BB73:CL78,6,FALSE)),\"●\")>=2,\"OK\",\"OUT\"),IF(COUNTIF(INDEX(BB77:CL77,HLOOKUP(CF81,BB73:CL78,6,FALSE)):INDEX(BB77:CL77,HLOOKUP(CH81,BB73:CL78,6,FALSE)),\"\")+COUNTIF(INDEX(BB77:CL77,HLOOKUP(CF81,BB73:CL78,6,FALSE)):INDEX(BB77:CL77,HLOOKUP(CH81,BB73:CL78,6,FALSE)),\"●\")>7,\"「／」漏れ\",\"対象外\"))))","v":"OUT"},null,null,null,null,null,null,null,"完全週休二日",{"$f":"IF(CR72=\"\",\"\",IF(COUNTIF(BB81:CL81,\"OUT\")>=1,\"OUT\",\"OK\"))","v":"OUT"},null,null,null,null,"完全",{"$f":"IF(WEEKDAY(DATE(YEAR(CX72),MONTH(CX72),1),2)=1,DATE(YEAR(CX72),MONTH(CX72),1),EOMONTH(CX72,-1)-MOD(WEEKDAY(EOMONTH(CX72,-1),2)+6,7))","v":"2025-05-26"},"～",{"$f":"DATE(YEAR(CX72),MONTH(CX72),1)+MOD(7-WEEKDAY(DATE(YEAR(CX72),MONTH(CX72),1),2),7)","v":"2025-06-01"},{"$f":"IF(DAY(CX81)=1,IF(COUNTIF(CX77:DD77,\"／\")>=1,\"対象外\",IF(COUNTIF(INDEX(CX77:EH77,DAY(CX81)):INDEX(CX77:EH77,HLOOKUP(CZ81,CX73:EH78,6,FALSE)),\"\")+COUNTIF(INDEX(CX77:EH77,DAY(CX81)):INDEX(CX77:EH77,HLOOKUP(CZ81,CX73:EH78,6,FALSE)),\"●\")=7,IF(COUNTIF(INDEX(CX77:EH77,DAY(CX81)):INDEX(CX77:EH77,HLOOKUP(CZ81,CX73:EH78,6,FALSE)),\"●\")>=2,\"OK\",\"OUT\"),IF(COUNTIF(INDEX(CX77:EH77,DAY(CX81)):INDEX(CX77:EH77,HLOOKUP(CZ81,CX73:EH78,6,FALSE)),\"●\")>=COUNTIF(INDEX(CX80:EH80,DAY(CX81)):INDEX(CX80:EH80,HLOOKUP(CZ81,CX73:EH78,6,FALSE)),\"○\"),\"OK\",\"OUT\"))),IF(AND(EE52=\"\",DY52=\"\"),DS52,IF(EE52=\"\",DY52,EE52)))","v":"OK"},null,null,{"$f":"CZ81+1","v":"2025-06-02"},"～",{"$f":"CZ81+7","v":"2025-06-08"},{"$f":"IF(COUNTIF(INDEX(CX77:EH77,DAY(DD81)):INDEX(CX77:EH77,HLOOKUP(DF81,CX73:EH78,6,FALSE)),\"\")+COUNTIF(INDEX(CX77:EH77,DAY(DD81)):INDEX(CX77:EH77,HLOOKUP(DF81,CX73:EH78,6,FALSE)),\"●\")=7,IF(COUNTIF(INDEX(CX77:EH77,DAY(DD81)):INDEX(CX77:EH77,HLOOKUP(DF81,CX73:EH78,6,FALSE)),\"●\")>=2,\"OK\",\"OUT\"),\"対象外\")","v":"OK"},null,null,{"$f":"DF81+1","v":"2025-06-09"},"～",{"$f":"DF81+7","v":"2025-06-15"},{"$f":"IF(COUNTIF(INDEX(CX77:EH77,DAY(DJ81)):INDEX(CX77:EH77,HLOOKUP(DL81,CX73:EH78,6,FALSE)),\"\")+COUNTIF(INDEX(CX77:EH77,DAY(DJ81)):INDEX(CX77:EH77,HLOOKUP(DL81,CX73:EH78,6,FALSE)),\"●\")=7,IF(COUNTIF(INDEX(CX77:EH77,DAY(DJ81)):INDEX(CX77:EH77,HLOOKUP(DL81,CX73:EH78,6,FALSE)),\"●\")>=2,\"OK\",\"OUT\"),\"対象外\")","v":"OK"},null,null,{"$f":"DL81+1","v":"2025-06-16"},"～",{"$f":"DL81+7","v":"2025-06-22"},{"$f":"IF(COUNTIF(INDEX(CX77:EH77,DAY(DP81)):INDEX(CX77:EH77,HLOOKUP(DR81,CX73:EH78,6,FALSE)),\"\")+COUNTIF(INDEX(CX77:EH77,DAY(DP81)):INDEX(CX77:EH77,HLOOKUP(DR81,CX73:EH78,6,FALSE)),\"●\")=7,IF(COUNTIF(INDEX(CX77:EH77,DAY(DP81)):INDEX(CX77:EH77,HLOOKUP(DR81,CX73:EH78,6,FALSE)),\"●\")>=2,\"OK\",\"OUT\"),\"対象外\")","v":"OK"},null,null,{"$f":"IF(AND(DAY(DR81+7)<23,DAY(DR81+7)>=7),\"\",DR81+1)","v":"2025-06-23"},{"$f":"IF(AND(DAY(DR81+7)<23,DAY(DR81+7)>=7),\"\",\"～\")","v":"～"},{"$f":"IF(AND(DAY(DR81+7)<23,DAY(DR81+7)>=7),\"\",DR81+7)","v":"2025-06-29"},{"$f":"IF(AND(DAY(DR81+7)<23,DAY(DR81+7)>=7),\"\",IF(COUNTIF(INDEX(CX77:EH77,DAY(DV81)):INDEX(CX77:EH77,HLOOKUP(DX81,CX73:EH78,6,FALSE)),\"\")+COUNTIF(INDEX(CX77:EH77,DAY(DV81)):INDEX(CX77:EH77,HLOOKUP(DX81,CX73:EH78,6,FALSE)),\"●\")=7,IF(COUNTIF(INDEX(CX77:EH77,DAY(DV81)):INDEX(CX77:EH77,HLOOKUP(DX81,CX73:EH78,6,FALSE)),\"●\")>=2,\"OK\",\"OUT\"),IF(COUNTIF(INDEX(CX77:EH77,DAY(DV81)):INDEX(CX77:EH77,HLOOKUP(DX81,CX73:EH78,6,FALSE)),\"\")+COUNTIF(INDEX(CX77:EH77,DAY(DV81)):INDEX(CX77:EH77,HLOOKUP(DX81,CX73:EH78,6,FALSE)),\"●\")>7,\"「／」漏れ\",\"対象外\")))","v":"OK"},null,null,{"$f":"IF(DY81=\"\",\"\",IF(AND(DAY(DX81+7)<23,DAY(DX81+7)>=7),\"\",DX81+1))","v":"2025-06-30"},{"$f":"IF(DY81=\"\",\"\",IF(AND(DAY(DX81+7)<23,DAY(DX81+7)>=7),\"\",\"～\"))","v":"～"},{"$f":"IF(DY81=\"\",\"\",IF(AND(DAY(DX81+7)<23,DAY(DX81+7)>=7),\"\",DX81+7))","v":"2025-07-06"},{"$f":"IF(DY81=\"\",\"\",IF(AND(DAY(DX81+7)<23,DAY(DX81+7)>=7),\"\",IF(COUNTIF(INDEX(CX77:EH77,DAY(EB81)):INDEX(CX77:EH77,HLOOKUP(ED81,CX73:EH78,6,FALSE)),\"\")+COUNTIF(INDEX(CX77:EH77,DAY(EB81)):INDEX(CX77:EH77,HLOOKUP(ED81,CX73:EH78,6,FALSE)),\"●\")=7,IF(COUNTIF(INDEX(CX77:EH77,DAY(EB81)):INDEX(CX77:EH77,HLOOKUP(ED81,CX73:EH78,6,FALSE)),\"●\")>=2,\"OK\",\"OUT\"),IF(COUNTIF(INDEX(CX77:EH77,HLOOKUP(EB81,CX73:EH78,6,FALSE)):INDEX(CX77:EH77,HLOOKUP(ED81,CX73:EH78,6,FALSE)),\"\")+COUNTIF(INDEX(CX77:EH77,HLOOKUP(EB81,CX73:EH78,6,FALSE)):INDEX(CX77:EH77,HLOOKUP(ED81,CX73:EH78,6,FALSE)),\"●\")>7,\"「／」漏れ\",\"対象外\"))))","v":"OK"},null,null,null,null,null,null,null,"完全週休二日",{"$f":"IF(EN72=\"\",\"\",IF(COUNTIF(CX81:EH81,\"OUT\")>=1,\"OUT\",\"OK\"))","v":"OK"}]
[""]
[{"$f":"IF(AND(NOT($AT$72=\"\"),$AT$101=\"\"),\"対象期間\",\"\")","v":""}]
[{"$f":"IF(AND(NOT($AT$72=\"\"),$AT$101=\"\"),\"対象期間\",\"\")","v":""},null,"※１工事着手日：始期日以降に準備工事（現場事務所の建設・測量等）、工場製作を含む工事における工場製作工に着手した日",null,null,null,null,null,null,null,null,null,null,null,null,null,null,null,null,null,null,null,null,null,null,null,null,null,null,null,null,null,null,null,null,null,null,null,null,null,null,null,null,"工事全体の確認",null,null,null,null,null,null,null,null,"※１工事着手日：始期日以降に準備工事（現場事務所の建設・測量等）、工場製作を含む工事における工場製作工に着手した日",null,null,null,null,null,null,null,null,null,null,null,null,null,null,null,null,null,null,null,null,null,null,null,null,null,null,null,null,null,null,null,null,null,null,null,null,null,null,null,null,"工事全体の確認",null,null,null,null,null,null,"※１工事着手日：始期日以降に準備工事（現場事務所の建設・測量等）、工場製作を含む工事における工場製作工に着手した日",null,null,null,null,null,null,null,null,null,null,null,null,null,null,null,null,null,null,null,null,null,null,null,null,null,null,null,null,null,null,null,null,null,null,null,null,null,null,null,null,"工事全体の確認"]
["",null,"※２作業完了日：工事施工範囲内で全ての作業（後片付けを含む）が完了した日\n　　　　　　　　　  （工事現場事務所は工事施工範囲外に設置するため、ここでいう後片付けの対象に含まない）",null,null,null,null,null,null,null,null,null,null,null,null,null,null,null,null,null,null,null,null,null,null,null,null,null,null,null,null,null,null,null,null,null,null,null,null,null,null,null,null,"計画","全対象期間",{"$f":"IFERROR(AT56+AT72,\"\")","v":""},null,null,null,null,null,null,"※２作業完了日：工事施工範囲内で全ての作業（後片付けを含む）が完了した日\n　　　　　　　　　  （工事現場事務所は工事施工範囲外に設置するため、ここでいう後片付けの対象に含まない）",null,null,null,null,null,null,null,null,null,null,null,null,null,null,null,null,null,null,null,null,null,null,null,null,null,null,null,null,null,null,null,null,null,null,null,null,null,null,null,null,"計画","全対象期間",{"$f":"IFERROR(CR56+CR72,\"\")","v":""},null,null,null,null,"※２作業完了日：工事施工範囲内で全ての作業（後片付けを含む）が完了した日\n　　　　　　　　　  （工事現場事務所は工事施工範囲外に設置するため、ここでいう後片付けの対象に含まない）",null,null,null,null,null,null,null,null,null,null,null,null,null,null,null,null,null,null,null,null,null,null,null,null,null,null,null,null,null,null,null,null,null,null,null,null,null,null,null,null,"計画","全対象期間",{"$f":"IFERROR(EN56+EN72,\"\")","v":50}]
["",null,null,null,null,null,null,null,null,null,null,null,null,null,null,null,null,null,null,null,null,null,null,null,null,null,null,null,null,null,null,null,null,null,null,null,null,null,null,null,null,null,null,null,"全現場閉所日数",{"$f":"IFERROR(AT57+AT73,\"\")","v":""},null,null,null,null,null,null,null,null,null,null,null,null,null,null,null,null,null,null,null,null,null,null,null,null,null,null,null,null,null,null,null,null,null,null,null,null,null,null,null,null,null,null,null,null,null,null,null,null,"全現場閉所日数",{"$f":"IFERROR(CR57+CR73,\"\")","v":""},null,null,null,null,null,null,null,null,null,null,null,null,null,null,null,null,null,null,null,null,null,null,null,null,null,null,null,null,null,null,null,null,null,null,null,null,null,null,null,null,null,null,null,null,null,null,"全現場閉所日数",{"$f":"IFERROR(EN57+EN73,\"\")","v":15}]
["",null,"【算定除外期間】：夏季休暇（8月13日～8月15日）、年末年始（12月29日～翌年1月3日）は算定期間の分母・分子に含めない",null,null,null,null,null,null,null,null,null,null,null,null,null,null,null,null,null,null,null,null,null,null,null,null,null,null,null,null,null,null,null,null,null,null,null,null,null,null,null,null,null,"現場閉所率",{"$f":"IFERROR(+AT86/AT85,\"\")","v":""},{"$f":"IF(AT87>=0.285,\"4週8休以上\",\"週休2日未達成\")","v":"4週8休以上"},null,null,null,null,null,"【算定除外期間】：夏季休暇（8月13日～8月15日）、年末年始（12月29日～翌年1月3日）は算定期間の分母・分子に含めない",null,null,null,null,null,null,null,null,null,null,null,null,null,null,null,null,null,null,null,null,null,null,null,null,null,null,null,null,null,null,null,null,null,null,null,null,null,null,null,null,null,"現場閉所率",{"$f":"IFERROR(+CR86/CR85,\"\")","v":""},{"$f":"IF(CR87>=0.285,\"4週8休以上\",\"週休2日未達成\")","v":"4週8休以上"},null,null,null,"【算定除外期間】：夏季休暇（8月13日～8月15日）、年末年始（12月29日～翌年1月3日）は算定期間の分母・分子に含めない",null,null,null,null,null,null,null,null,null,null,null,null,null,null,null,null,null,null,null,null,null,null,null,null,null,null,null,null,null,null,null,null,null,null,null,null,null,null,null,null,null,"現場閉所率",{"$f":"IFERROR(+EN86/EN85,\"\")","v":0.3},{"$f":"IF(EN87>=0.285,\"4週8休以上\",\"週休2日未達成\")","v":"4週8休以上"}]
["",null,"※３工事期間の全ての月において、達成状況を確認し、一度でも達成できない月があれば、４週８休以上（月単位）は「未達成」となり、補正の対象とならない。\n　　月によっては、土日を全て閉所しても現場閉所率が28.5％に満たない場合があるが、その月の対象期間の土日日数以上閉所していれば達成とみなす。\n\n※４工事対象期間のうち、一度でも完全週休２日（月～日で２日以上の現場閉所）を達成できなければ、\n　　 完全週休２日は「未達成」となり、補正の対象とならない。\n　　 なお、工期始期・終期、年末年始、夏季休暇などにより、７日間に満たない期間は完全週休２日の達成判断の対象外とする。",null,null,null,null,null,null,null,null,null,null,null,null,null,null,null,null,null,null,null,null,null,null,null,null,null,null,null,null,null,null,null,null,null,null,null,null,null,null,null,null,"実施","全対象期間",{"$f":"IFERROR(AT59+AT75,\"\")","v":""},null,null,null,null,null,null,"※３工事期間の全ての月において、達成状況を確認し、一度でも達成できない月があれば、４週８休以上（月単位）は「未達成」となり、補正の対象とならない。\n　　月によっては、土日を全て閉所しても現場閉所率が28.5％に満たない場合があるが、その月の対象期間の土日日数以上閉所していれば達成とみなす。\n\n※４工事対象期間のうち、一度でも完全週休２日（月～日で２日以上の現場閉所）を達成できなければ、\n　　 完全週休２日は「未達成」となり、補正の対象とならない。\n　　 なお、工期始期・終期、年末年始、夏季休暇などにより、７日間に満たない期間は完全週休２日の達成判断の対象外とする。",null,null,null,null,null,null,null,null,null,null,null,null,null,null,null,null,null,null,null,null,null,null,null,null,null,null,null,null,null,null,null,null,null,null,null,null,null,null,null,null,"実施","全対象期間",{"$f":"IFERROR(CR59+CR75,\"\")","v":""},null,null,null,null,"※３工事期間の全ての月において、達成状況を確認し、一度でも達成できない月があれば、４週８休以上（月単位）は「未達成」となり、補正の対象とならない。\n　　月によっては、土日を全て閉所しても現場閉所率が28.5％に満たない場合があるが、その月の対象期間の土日日数以上閉所していれば達成とみなす。\n\n※４工事対象期間のうち、一度でも完全週休２日（月～日で２日以上の現場閉所）を達成できなければ、\n　　 完全週休２日は「未達成」となり、補正の対象とならない。\n　　 なお、工期始期・終期、年末年始、夏季休暇などにより、７日間に満たない期間は完全週休２日の達成判断の対象外とする。",null,null,null,null,null,null,null,null,null,null,null,null,null,null,null,null,null,null,null,null,null,null,null,null,null,null,null,null,null,null,null,null,null,null,null,null,null,null,null,null,"実施","全対象期間",{"$f":"IFERROR(EN59+EN75,\"\")","v":50}]
["",null,null,null,null,null,null,null,null,null,null,null,null,null,null,null,null,null,null,null,null,null,null,null,null,null,null,null,null,null,null,null,null,null,null,null,null,null,null,null,null,null,null,null,"全現場閉所日数",{"$f":"IFERROR(AT60+AT76,\"\")","v":""},null,null,null,null,null,null,null,null,null,null,null,null,null,null,null,null,null,null,null,null,null,null,null,null,null,null,null,null,null,null,null,null,null,null,null,null,null,null,null,null,null,null,null,null,null,null,null,null,"全現場閉所日数",{"$f":"IFERROR(CR60+CR76,\"\")","v":""},null,null,null,null,null,null,null,null,null,null,null,null,null,null,null,null,null,null,null,null,null,null,null,null,null,null,null,null,null,null,null,null,null,null,null,null,null,null,null,null,null,null,null,null,null,null,"全現場閉所日数",{"$f":"IFERROR(EN60+EN76,\"\")","v":16}]
["",null,null,null,null,null,null,null,null,null,null,null,null,null,null,null,null,null,null,null,null,null,null,null,null,null,null,null,null,null,null,null,null,null,null,null,null,null,null,null,null,null,null,null,"現場閉所率",{"$f":"IFERROR(+AT89/AT88,\"\")","v":""},{"$f":"IF(AT90>=0.285,\"4週8休以上\",\"週休2日未達成\")","v":"4週8休以上"},null,null,null,null,null,null,null,null,null,null,null,null,null,null,null,null,null,null,null,null,null,null,null,null,null,null,null,null,null,null,null,null,null,null,null,null,null,null,null,null,null,null,null,null,null,null,null,"現場閉所率",{"$f":"IFERROR(+CR89/CR88,\"\")","v":""},{"$f":"IF(CR90>=0.285,\"4週8休以上\",\"週休2日未達成\")","v":"4週8休以上"},null,null,null,null,null,null,null,null,null,null,null,null,null,null,null,null,null,null,null,null,null,null,null,null,null,null,null,null,null,null,null,null,null,null,null,null,null,null,null,null,null,null,null,null,null,"現場閉所率",{"$f":"IFERROR(+EN89/EN88,\"\")","v":0.32},{"$f":"IF(EN90>=0.285,\"4週8休以上\",\"週休2日未達成\")","v":"4週8休以上"}]
["",null,null,null,null,null,null,null,null,null,null,null,null,null,null,null,null,null,null,null,null,null,null,null,null,null,null,null,null,null,null,null,null,null,null,null,null,null,null,null,null,null,null,null,"閉所（月単位）",{"$f":"IFERROR(COUNTIF(AS$14:$AS81,\"4週8休以上\")/(COUNTIF(AS$14:$AS81,\"4週8休以上\")+COUNTIF(AS$14:$AS81,\"週休2日未達成\")),\"\")","v":""},{"$f":"IF(OR(AT91=100%,AT91=\"\"),\"達成\",\"未達成\")","v":"達成"},null,null,null,null,null,null,null,null,null,null,null,null,null,null,null,null,null,null,null,null,null,null,null,null,null,null,null,null,null,null,null,null,null,null,null,null,null,null,null,null,null,null,null,null,null,null,null,"閉所（月単位）",{"$f":"IFERROR(COUNTIF(CQ$14:$CQ81,\"4週8休以上\")/(COUNTIF(CQ$14:$CQ81,\"4週8休以上\")+COUNTIF(CQ$14:$CQ81,\"週休2日未達成\")),\"\")","v":0},{"$f":"IF(OR(CR91=100%,CR91=\"\"),\"達成\",\"未達成\")","v":"未達成"},null,null,null,null,null,null,null,null,null,null,null,null,null,null,null,null,null,null,null,null,null,null,null,null,null,null,null,null,null,null,null,null,null,null,null,null,null,null,null,null,null,null,null,null,null,"閉所（月単位）",{"$f":"IFERROR(COUNTIF($EM$14:EM81,\"4週8休以上\")/(COUNTIF($EM$14:EM81,\"4週8休以上\")+COUNTIF($EM$14:EM81,\"週休2日未達成\")),\"\")","v":1},{"$f":"IF(OR(EN91=100%,EN91=\"\"),\"達成\",\"未達成\")","v":"達成"}]
["",null,null,null,null,null,null,null,null,null,null,null,null,null,null,null,null,null,null,null,null,null,null,null,null,null,null,null,null,null,null,null,null,null,null,null,null,null,null,null,null,null,null,null,"完全週休二日",{"$f":"IF(COUNTIF(AS$14:$AS81,\"OUT\")>=1,\"OUT\",\"OK\")","v":"OK"},{"$f":"IF(AT92=\"OK\",\"達成\",\"未達成\")","v":"達成"},null,null,null,null,null,null,null,null,null,null,null,null,null,null,null,null,null,null,null,null,null,null,null,null,null,null,null,null,null,null,null,null,null,null,null,null,null,null,null,null,null,null,null,null,null,null,null,"完全週休二日",{"$f":"IF(COUNTIF(CQ$14:$CQ81,\"OUT\")>=1,\"OUT\",\"OK\")","v":"OUT"},{"$f":"IF(CR92=\"OK\",\"達成\",\"未達成\")","v":"未達成"},null,null,null,null,null,null,null,null,null,null,null,null,null,null,null,null,null,null,null,null,null,null,null,null,null,null,null,null,null,null,null,null,null,null,null,null,null,null,null,null,null,null,null,null,null,"完全週休二日",{"$f":"IF(COUNTIF($EM$14:EM81,\"OUT\")>=1,\"OUT\",\"OK\")","v":"OK"},{"$f":"IF(EN92=\"OK\",\"達成\",\"未達成\")","v":"達成"}]
["",null,"※必要に応じて各月の完全週休2日（月～日）の達成判定の行を修正してください。（曜日に合わせて修正）",null,null,null,null,null,null,null,null,null,null,null,null,null,null,null,null,null,null,null,null,null,null,null,null,null,null,null,null,null,null,null,null,null,null,null,null,null,null,null,null,null,null,null,null,null,null,null,null,null,"※必要に応じて各月の完全週休2日（月～日）の達成判定の行を修正してください。（曜日に合わせて修正）",null,null,null,null,null,null,null,null,null,null,null,null,null,null,null,null,null,null,null,null,null,null,null,null,null,null,null,null,null,null,null,null,null,null,null,null,null,null,null,null,null,null,null,null,null,null,null,"※必要に応じて各月の完全週休2日（月～日）の達成判定の行を修正してください。（曜日に合わせて修正）"]
[""]
[""]
[""]
[""]
[""]
["",null,"算定除外期間以外の祝日（ＧＷ含む）は、算定期間（分母）の対象＝現場閉所の場合は分子にカウントして現場閉所率を算定",null,null,null,null,null,null,null,null,null,null,null,null,null,null,null,null,null,null,null,null,null,null,null,null,null,null,null,null,null,null,null,null,null,null,null,null,null,null,null,null,null,null,null,null,null,null,null,null,null,"算定除外期間以外の祝日（ＧＷ含む）は、算定期間（分母）の対象＝現場閉所の場合は分子にカウントして現場閉所率を算定",null,null,null,null,null,null,null,null,null,null,null,null,null,null,null,null,null,null,null,null,null,null,null,null,null,null,null,null,null,null,null,null,null,null,null,null,null,null,null,null,null,null,null,null,null,null,null,"算定除外期間以外の祝日（ＧＷ含む）は、算定期間（分母）の対象＝現場閉所の場合は分子にカウントして現場閉所率を算定"]
[""]
[{"$f":"IF($AT$101=\"\",\"\",\"対象期間\")","v":""},null,"月",{"$f":"DATE(YEAR(D72),MONTH(D72)+1,1)","v":"2025-07-01"},null,null,null,null,null,null,null,null,null,null,null,null,null,null,null,null,null,null,null,null,null,null,null,null,null,null,null,null,null,null,{"$f":"DATE(YEAR(D101),MONTH(D101)+1,1)","v":"2025-08-01"},null,null,null,null,null,"現場閉所計","現場閉所累計",null,"計画","対象期間",{"$f":"IF(IF(MONTH(入力表!$E$6)=12,YEAR(入力表!$E$6)+1&\"01\",YEAR(入力表!$E$6)&TEXT(MONTH(入力表!$E$6)+1,\"00\"))>YEAR($D101)&TEXT(MONTH($D101),\"00\"),COUNTIF(D105:AH105,\"\")+COUNTIF(D105:AH105,\"○\"),\"\")","v":""},{"$f":"IF(COUNTIF(D102:AH102,\"／\")=0,\"\",IF(COUNTIF(D102:AH102,\"／\")=1,IF(AH105=\"／\",\"\",\"月末「／」漏れ\"),IF(COUNTIF(D102:AH102,\"／\")=2,IF(AND(AG105=\"／\",AH105=\"／\"),\"\",\"月末「／」漏れ\"),IF(AND(AF105=\"／\",AG105=\"／\",AH105=\"／\"),\"\",\"月末「／」漏れ\"))))","v":""},null,null,null,null,null,"月",{"$f":"DATE(YEAR(BB72),MONTH(BB72)+1,1)","v":"2025-07-01"},null,null,null,null,null,null,null,null,null,null,null,null,null,null,null,null,null,null,null,null,null,null,null,null,null,null,null,null,null,null,{"$f":"DATE(YEAR(BB101),MONTH(BB101)+1,1)","v":"2025-08-01"},null,null,null,null,null,"現場閉所計","現場閉所累計",null,"計画","対象期間",{"$f":"IF(IF(MONTH($BL$5)=12,YEAR($BL$5)+1&\"01\",YEAR($BL$5)&TEXT(MONTH($BL$5)+1,\"00\"))>YEAR(BB101)&TEXT(MONTH(BB101),\"00\"),COUNTIF(BB105:CF105,\"\")+COUNTIF(BB105:CF105,\"○\"),\"\")","v":31},{"$f":"IF(COUNTIF(BB102:CF102,\"／\")=0,\"\",IF(COUNTIF(BB102:CF102,\"／\")=1,IF(CF105=\"／\",\"\",\"月末「／」漏れ\"),IF(COUNTIF(BB102:CF102,\"／\")=2,IF(AND(CE105=\"／\",CF105=\"／\"),\"\",\"月末「／」漏れ\"),IF(AND(CD105=\"／\",CE105=\"／\",CF105=\"／\"),\"\",\"月末「／」漏れ\"))))","v":""},null,null,null,"月",{"$f":"DATE(YEAR(CX72),MONTH(CX72)+1,1)","v":"2025-07-01"},null,null,null,null,null,null,null,null,null,null,null,null,null,null,null,null,null,null,null,null,null,null,null,null,null,null,null,null,null,null,{"$f":"DATE(YEAR(CX101),MONTH(CX101)+1,1)","v":"2025-08-01"},null,null,null,null,null,"現場閉所計","現場閉所累計",null,"計画","対象期間",{"$f":"IF(IF(MONTH($BL$5)=12,YEAR($BL$5)+1&\"01\",YEAR($BL$5)&TEXT(MONTH($BL$5)+1,\"00\"))>YEAR($CX101)&TEXT(MONTH($CX101),\"00\"),COUNTIF(CX105:EB105,\"\")+COUNTIF(CX105:EB105,\"○\"),\"\")","v":31},{"$f":"IF(COUNTIF(CX102:EB102,\"／\")=0,\"\",IF(COUNTIF(CX102:EB102,\"／\")=1,IF(EB105=\"／\",\"\",\"月末「／」漏れ\"),IF(COUNTIF(CX102:EB102,\"／\")=2,IF(AND(EA105=\"／\",EB105=\"／\"),\"\",\"月末「／」漏れ\"),IF(AND(DZ105=\"／\",EA105=\"／\",EB105=\"／\"),\"\",\"月末「／」漏れ\"))))","v":""}]
[{"$f":"IF($AT$101=\"\",\"\",\"対象期間\")","v":""},null,"日",{"$f":"D101","v":"2025-07-01"},{"$f":"D102+1","v":"2025-07-02"},{"$f":"E102+1","v":"2025-07-03"},{"$f":"F102+1","v":"2025-07-04"},{"$f":"G102+1","v":"2025-07-05"},{"$f":"H102+1","v":"2025-07-06"},{"$f":"I102+1","v":"2025-07-07"},{"$f":"J102+1","v":"2025-07-08"},{"$f":"K102+1","v":"2025-07-09"},{"$f":"L102+1","v":"2025-07-10"},{"$f":"M102+1","v":"2025-07-11"},{"$f":"N102+1","v":"2025-07-12"},{"$f":"O102+1","v":"2025-07-13"},{"$f":"P102+1","v":"2025-07-14"},{"$f":"Q102+1","v":"2025-07-15"},{"$f":"R102+1","v":"2025-07-16"},{"$f":"S102+1","v":"2025-07-17"},{"$f":"T102+1","v":"2025-07-18"},{"$f":"U102+1","v":"2025-07-19"},{"$f":"V102+1","v":"2025-07-20"},{"$f":"W102+1","v":"2025-07-21"},{"$f":"X102+1","v":"2025-07-22"},{"$f":"Y102+1","v":"2025-07-23"},{"$f":"Z102+1","v":"2025-07-24"},{"$f":"AA102+1","v":"2025-07-25"},{"$f":"AB102+1","v":"2025-07-26"},{"$f":"AC102+1","v":"2025-07-27"},{"$f":"AD102+1","v":"2025-07-28"},{"$f":"IF(AE102=\"／\",\"／\",IF(YEAR($D101)&TEXT(MONTH($D101),\"00\")<YEAR(AE102+1)&TEXT(MONTH(AE102+1),\"00\"),\"／\",AE102+1))","v":"2025-07-29"},{"$f":"IF(AF102=\"／\",\"／\",IF(YEAR($D101)&TEXT(MONTH($D101),\"00\")<YEAR(AF102+1)&TEXT(MONTH(AF102+1),\"00\"),\"／\",AF102+1))","v":"2025-07-30"},{"$f":"IF(AG102=\"／\",\"／\",IF(YEAR($D101)&TEXT(MONTH($D101),\"00\")<YEAR(AG102+1)&TEXT(MONTH(AG102+1),\"00\"),\"／\",AG102+1))","v":"2025-07-31"},{"$f":"AI101","v":"2025-08-01"},{"$f":"AI102+1","v":"2025-08-02"},{"$f":"AJ102+1","v":"2025-08-03"},{"$f":"AK102+1","v":"2025-08-04"},{"$f":"AL102+1","v":"2025-08-05"},{"$f":"AM102+1","v":"2025-08-06"},null,null,null,null,"閉所日数",{"$f":"IF(IF(MONTH(入力表!$E$6)=12,YEAR(入力表!$E$6)+1&\"01\",YEAR(入力表!$E$6)&TEXT(MONTH(入力表!$E$6)+1,\"00\"))>YEAR($D101)&TEXT(MONTH($D101),\"00\"),COUNTIF(D105:AH105,\"○\"),\"\")","v":""},{"$f":"IF(OR(MONTH(D101)=1,MONTH(D101)=8,MONTH(D101)=12),IF(COUNTIF(D105:AH105,\"／\")>=3,\"\",\"算定除外「／」漏れ\"),\"\")","v":""},null,null,null,null,null,"日",{"$f":"BB101","v":"2025-07-01"},{"$f":"BB102+1","v":"2025-07-02"},{"$f":"BC102+1","v":"2025-07-03"},{"$f":"BD102+1","v":"2025-07-04"},{"$f":"BE102+1","v":"2025-07-05"},{"$f":"BF102+1","v":"2025-07-06"},{"$f":"BG102+1","v":"2025-07-07"},{"$f":"BH102+1","v":"2025-07-08"},{"$f":"BI102+1","v":"2025-07-09"},{"$f":"BJ102+1","v":"2025-07-10"},{"$f":"BK102+1","v":"2025-07-11"},{"$f":"BL102+1","v":"2025-07-12"},{"$f":"BM102+1","v":"2025-07-13"},{"$f":"BN102+1","v":"2025-07-14"},{"$f":"BO102+1","v":"2025-07-15"},{"$f":"BP102+1","v":"2025-07-16"},{"$f":"BQ102+1","v":"2025-07-17"},{"$f":"BR102+1","v":"2025-07-18"},{"$f":"BS102+1","v":"2025-07-19"},{"$f":"BT102+1","v":"2025-07-20"},{"$f":"BU102+1","v":"2025-07-21"},{"$f":"BV102+1","v":"2025-07-22"},{"$f":"BW102+1","v":"2025-07-23"},{"$f":"BX102+1","v":"2025-07-24"},{"$f":"BY102+1","v":"2025-07-25"},{"$f":"BZ102+1","v":"2025-07-26"},{"$f":"CA102+1","v":"2025-07-27"},{"$f":"CB102+1","v":"2025-07-28"},{"$f":"IF(CC102=\"／\",\"／\",IF(YEAR(BB101)&TEXT(MONTH(BB101),\"00\")<YEAR(CC102+1)&TEXT(MONTH(CC102+1),\"00\"),\"／\",CC102+1))","v":"2025-07-29"},{"$f":"IF(CD102=\"／\",\"／\",IF(YEAR(BB101)&TEXT(MONTH(BB101),\"00\")<YEAR(CD102+1)&TEXT(MONTH(CD102+1),\"00\"),\"／\",CD102+1))","v":"2025-07-30"},{"$f":"IF(CE102=\"／\",\"／\",IF(YEAR(BB101)&TEXT(MONTH(BB101),\"00\")<YEAR(CE102+1)&TEXT(MONTH(CE102+1),\"00\"),\"／\",CE102+1))","v":"2025-07-31"},{"$f":"CG101","v":"2025-08-01"},{"$f":"CG102+1","v":"2025-08-02"},{"$f":"CH102+1","v":"2025-08-03"},{"$f":"CI102+1","v":"2025-08-04"},{"$f":"CJ102+1","v":"2025-08-05"},{"$f":"CK102+1","v":"2025-08-06"},null,null,null,null,"閉所日数",{"$f":"IF(IF(MONTH($BL$5)=12,YEAR($BL$5)+1&\"01\",YEAR($BL$5)&TEXT(MONTH($BL$5)+1,\"00\"))>YEAR(BB101)&TEXT(MONTH(BB101),\"00\"),COUNTIF(BB105:CF105,\"○\"),\"\")","v":9},{"$f":"IF(OR(MONTH(BB101)=1,MONTH(BB101)=8,MONTH(BB101)=12),IF(COUNTIF(BB105:CF105,\"／\")>=3,\"\",\"算定除外「／」漏れ\"),\"\")","v":""},null,null,null,"日",{"$f":"CX101","v":"2025-07-01"},{"$f":"CX102+1","v":"2025-07-02"},{"$f":"CY102+1","v":"2025-07-03"},{"$f":"CZ102+1","v":"2025-07-04"},{"$f":"DA102+1","v":"2025-07-05"},{"$f":"DB102+1","v":"2025-07-06"},{"$f":"DC102+1","v":"2025-07-07"},{"$f":"DD102+1","v":"2025-07-08"},{"$f":"DE102+1","v":"2025-07-09"},{"$f":"DF102+1","v":"2025-07-10"},{"$f":"DG102+1","v":"2025-07-11"},{"$f":"DH102+1","v":"2025-07-12"},{"$f":"DI102+1","v":"2025-07-13"},{"$f":"DJ102+1","v":"2025-07-14"},{"$f":"DK102+1","v":"2025-07-15"},{"$f":"DL102+1","v":"2025-07-16"},{"$f":"DM102+1","v":"2025-07-17"},{"$f":"DN102+1","v":"2025-07-18"},{"$f":"DO102+1","v":"2025-07-19"},{"$f":"DP102+1","v":"2025-07-20"},{"$f":"DQ102+1","v":"2025-07-21"},{"$f":"DR102+1","v":"2025-07-22"},{"$f":"DS102+1","v":"2025-07-23"},{"$f":"DT102+1","v":"2025-07-24"},{"$f":"DU102+1","v":"2025-07-25"},{"$f":"DV102+1","v":"2025-07-26"},{"$f":"DW102+1","v":"2025-07-27"},{"$f":"DX102+1","v":"2025-07-28"},{"$f":"IF(DY102=\"／\",\"／\",IF(YEAR(CX101)&TEXT(MONTH(CX101),\"00\")<YEAR(DY102+1)&TEXT(MONTH(DY102+1),\"00\"),\"／\",DY102+1))","v":"2025-07-29"},{"$f":"IF(DZ102=\"／\",\"／\",IF(YEAR(CX101)&TEXT(MONTH(CX101),\"00\")<YEAR(DZ102+1)&TEXT(MONTH(DZ102+1),\"00\"),\"／\",DZ102+1))","v":"2025-07-30"},{"$f":"IF(EA102=\"／\",\"／\",IF(YEAR(CX101)&TEXT(MONTH(CX101),\"00\")<YEAR(EA102+1)&TEXT(MONTH(EA102+1),\"00\"),\"／\",EA102+1))","v":"2025-07-31"},{"$f":"EC101","v":"2025-08-01"},{"$f":"EC102+1","v":"2025-08-02"},{"$f":"ED102+1","v":"2025-08-03"},{"$f":"EE102+1","v":"2025-08-04"},{"$f":"EF102+1","v":"2025-08-05"},{"$f":"EG102+1","v":"2025-08-06"},null,null,null,null,"閉所日数",{"$f":"IF(IF(MONTH($BL$5)=12,YEAR($BL$5)+1&\"01\",YEAR($BL$5)&TEXT(MONTH($BL$5)+1,\"00\"))>YEAR($CX101)&TEXT(MONTH($CX101),\"00\"),COUNTIF(CX105:EB105,\"○\"),\"\")","v":9},{"$f":"IF(OR(MONTH(CX101)=1,MONTH(CX101)=8,MONTH(CX101)=12),IF(COUNTIF(CX105:EB105,\"／\")>=3,\"\",\"算定除外「／」漏れ\"),\"\")","v":""}]
["",null,"曜日",{"$f":"TEXT(WEEKDAY(+D102),\"aaa\")","v":"火"},{"$f":"TEXT(WEEKDAY(+E102),\"aaa\")","v":"水"},"木","金","土",{"$f":"TEXT(WEEKDAY(+I102),\"aaa\")","v":"日"},{"$f":"TEXT(WEEKDAY(+J102),\"aaa\")","v":"月"},"火","水","木","金","土","日","月","火","水","木","金","土","日","月","火",{"$f":"TEXT(WEEKDAY(+Z102),\"aaa\")","v":"水"},{"$f":"TEXT(WEEKDAY(+AA102),\"aaa\")","v":"木"},"金","土","日","月",{"$f":"IF(AF102=\"／\",\"／\",TEXT(WEEKDAY(+AF102),\"aaa\"))","v":"火"},{"$f":"IF(AG102=\"／\",\"／\",TEXT(WEEKDAY(+AG102),\"aaa\"))","v":"水"},"木",{"$f":"TEXT(WEEKDAY(+AI102),\"aaa\")","v":"金"},{"$f":"TEXT(WEEKDAY(+AJ102),\"aaa\")","v":"土"},"日","月","火","水",null,null,null,null,"現場閉所率",{"$f":"IFERROR(+AT102/AT101,\"\")","v":""},{"$f":"IF(AT103=\"\",\"\",IF(COUNTIF(D105:AH105,\"○\")>=COUNTIF(D108:AH108,\"◎\"),\"4週8休以上\",IF(AT103>=0.285,\"4週8休以上\",\"週休2日未達成\")))","v":""},null,null,null,null,null,"曜日",{"$f":"TEXT(WEEKDAY(+BB102),\"aaa\")","v":"火"},{"$f":"TEXT(WEEKDAY(+BC102),\"aaa\")","v":"水"},"木","金","土",{"$f":"TEXT(WEEKDAY(+BG102),\"aaa\")","v":"日"},{"$f":"TEXT(WEEKDAY(+BH102),\"aaa\")","v":"月"},"火","水","木","金","土","日","月","火","水","木","金","土","日","月","火",{"$f":"TEXT(WEEKDAY(+BX102),\"aaa\")","v":"水"},{"$f":"TEXT(WEEKDAY(+BY102),\"aaa\")","v":"木"},"金","土","日","月",{"$f":"IF(CD102=\"／\",\"／\",TEXT(WEEKDAY(+CD102),\"aaa\"))","v":"火"},{"$f":"IF(CE102=\"／\",\"／\",TEXT(WEEKDAY(+CE102),\"aaa\"))","v":"水"},"木",{"$f":"TEXT(WEEKDAY(+CG102),\"aaa\")","v":"金"},{"$f":"TEXT(WEEKDAY(+CH102),\"aaa\")","v":"土"},"日","月","火","水",null,null,null,null,"現場閉所率",{"$f":"IFERROR(+CR102/CR101,\"\")","v":0.29032258064516131},{"$f":"IF(CR103=\"\",\"\",IF(COUNTIF(BB105:CF105,\"○\")>=COUNTIF(BB108:CF108,\"◎\"),\"4週8休以上\",IF(CR103>=0.285,\"4週8休以上\",\"週休2日未達成\")))","v":"4週8休以上"},null,null,null,"曜日",{"$f":"TEXT(WEEKDAY(+CX102),\"aaa\")","v":"火"},{"$f":"TEXT(WEEKDAY(+CY102),\"aaa\")","v":"水"},"木","金","土",{"$f":"TEXT(WEEKDAY(+DC102),\"aaa\")","v":"日"},{"$f":"TEXT(WEEKDAY(+DD102),\"aaa\")","v":"月"},"火","水","木","金","土","日","月","火","水","木","金","土","日","月","火",{"$f":"TEXT(WEEKDAY(+DT102),\"aaa\")","v":"水"},{"$f":"TEXT(WEEKDAY(+DU102),\"aaa\")","v":"木"},"金","土","日","月",{"$f":"IF(DZ102=\"／\",\"／\",TEXT(WEEKDAY(+DZ102),\"aaa\"))","v":"火"},{"$f":"IF(EA102=\"／\",\"／\",TEXT(WEEKDAY(+EA102),\"aaa\"))","v":"水"},"木",{"$f":"TEXT(WEEKDAY(+EC102),\"aaa\")","v":"金"},{"$f":"TEXT(WEEKDAY(+ED102),\"aaa\")","v":"土"},"日","月","火","水",null,null,null,null,"現場閉所率",{"$f":"IFERROR(+EN102/EN101,\"\")","v":0.29032258064516131},{"$f":"IF(EN103=\"\",\"\",IF(COUNTIF(CX105:EB105,\"○\")>=COUNTIF(CX108:EB108,\"◎\"),\"4週8休以上\",IF(EN103>=0.285,\"4週8休以上\",\"週休2日未達成\")))","v":"4週8休以上"}]
["",null,"行事",null,null,null,null,null,null,null,null,null,null,null,null,null,null,null,null,null,null,null,null,null,null,null,null,null,null,null,null,null,null,null,{"$f":"IF(D133=\"\",\"\",D133)","v":""},{"$f":"IF(E133=\"\",\"\",E133)","v":""},{"$f":"IF(F133=\"\",\"\",F133)","v":""},{"$f":"IF(G133=\"\",\"\",G133)","v":""},{"$f":"IF(H133=\"\",\"\",H133)","v":""},{"$f":"IF(I133=\"\",\"\",I133)","v":""},null,null,null,"実施","対象期間",{"$f":"IF(IF(MONTH(入力表!$E$6)=12,YEAR(入力表!$E$6)+1&\"01\",YEAR(入力表!$E$6)&TEXT(MONTH(入力表!$E$6)+1,\"00\"))>YEAR($D101)&TEXT(MONTH($D101),\"00\"),COUNTIF(D106:AH106,\"\")+COUNTIF(D106:AH106,\"●\"),\"\")","v":""},{"$f":"IF(COUNTIF(D102:AH102,\"／\")=0,\"\",IF(COUNTIF(D102:AH102,\"／\")=1,IF(AH106=\"／\",\"\",\"月末「／」漏れ\"),IF(COUNTIF(D102:AH102,\"／\")=2,IF(AND(AG106=\"／\",AH106=\"／\"),\"\",\"月末「／」漏れ\"),IF(AND(AF106=\"／\",AG106=\"／\",AH106=\"／\"),\"\",\"月末「／」漏れ\"))))","v":""},null,null,null,null,null,"行事",null,null,null,null,null,null,null,null,null,null,null,null,null,null,null,null,null,null,null,null,null,null,null,null,null,null,null,null,null,null,null,{"$f":"IF(BB133=\"\",\"\",BB133)","v":""},{"$f":"IF(BC133=\"\",\"\",BC133)","v":""},{"$f":"IF(BD133=\"\",\"\",BD133)","v":""},{"$f":"IF(BE133=\"\",\"\",BE133)","v":""},{"$f":"IF(BF133=\"\",\"\",BF133)","v":""},{"$f":"IF(BG133=\"\",\"\",BG133)","v":""},null,null,null,"実施","対象期間",{"$f":"IF(IF(MONTH($BL$5)=12,YEAR($BL$5)+1&\"01\",YEAR($BL$5)&TEXT(MONTH($BL$5)+1,\"00\"))>YEAR(BB101)&TEXT(MONTH(BB101),\"00\"),COUNTIF(BB106:CF106,\"\")+COUNTIF(BB106:CF106,\"●\"),\"\")","v":31},{"$f":"IF(COUNTIF(BB102:CF102,\"／\")=0,\"\",IF(COUNTIF(BB102:CF102,\"／\")=1,IF(CF106=\"／\",\"\",\"月末「／」漏れ\"),IF(COUNTIF(BB102:CF102,\"／\")=2,IF(AND(CE106=\"／\",CF106=\"／\"),\"\",\"月末「／」漏れ\"),IF(AND(CD106=\"／\",CE106=\"／\",CF106=\"／\"),\"\",\"月末「／」漏れ\"))))","v":""},null,null,null,"行事",null,null,null,null,null,null,null,null,null,null,null,null,null,null,null,null,null,null,null,null,null,null,null,null,null,null,null,null,null,null,null,{"$f":"IF(CX133=\"\",\"\",CX133)","v":""},{"$f":"IF(CY133=\"\",\"\",CY133)","v":""},{"$f":"IF(CZ133=\"\",\"\",CZ133)","v":""},{"$f":"IF(DA133=\"\",\"\",DA133)","v":""},{"$f":"IF(DB133=\"\",\"\",DB133)","v":""},{"$f":"IF(DC133=\"\",\"\",DC133)","v":""},null,null,null,"実施","対象期間",{"$f":"IF(IF(MONTH($BL$5)=12,YEAR($BL$5)+1&\"01\",YEAR($BL$5)&TEXT(MONTH($BL$5)+1,\"00\"))>YEAR($CX101)&TEXT(MONTH($CX101),\"00\"),COUNTIF(CX106:EB106,\"\")+COUNTIF(CX106:EB106,\"●\"),\"\")","v":31},{"$f":"IF(COUNTIF(CX102:EB102,\"／\")=0,\"\",IF(COUNTIF(CX102:EB102,\"／\")=1,IF(EB106=\"／\",\"\",\"月末「／」漏れ\"),IF(COUNTIF(CX102:EB102,\"／\")=2,IF(AND(EA106=\"／\",EB106=\"／\"),\"\",\"月末「／」漏れ\"),IF(AND(DZ106=\"／\",EA106=\"／\",EB106=\"／\"),\"\",\"月末「／」漏れ\"))))","v":""}]
["",null,"計画",null,null,null,null,null,null,null,null,null,null,null,null,null,null,null,null,null,null,null,null,null,null,null,null,null,null,null,null,null,null,null,{"$f":"IF(D134=\"\",\"\",D134)","v":""},{"$f":"IF(E134=\"\",\"\",E134)","v":""},{"$f":"IF(F134=\"\",\"\",F134)","v":""},{"$f":"IF(G134=\"\",\"\",G134)","v":""},{"$f":"IF(H134=\"\",\"\",H134)","v":""},{"$f":"IF(I134=\"\",\"\",I134)","v":""},{"$f":"COUNTIF(D105:AH105,\"○\")","v":0},{"$f":"+AO105+AP76","v":0},null,null,"閉所日数",{"$f":"IF(IF(MONTH(入力表!$E$6)=12,YEAR(入力表!$E$6)+1&\"01\",YEAR(入力表!$E$6)&TEXT(MONTH(入力表!$E$6)+1,\"00\"))>YEAR($D101)&TEXT(MONTH($D101),\"00\"),COUNTIF(D106:AH106,\"●\"),\"\")","v":""},{"$f":"IF(OR(MONTH(D101)=1,MONTH(D101)=8,MONTH(D101)=12),IF(COUNTIF(D106:AH106,\"／\")>=3,\"\",\"算定除外「／」漏れ\"),\"\")","v":""},null,null,null,null,null,"計画",null,null,null,null,"○","○",null,null,null,null,null,"○","○",null,null,null,null,null,"○","○","○",null,null,null,null,"○","○",null,null,null,null,{"$f":"IF(BB134=\"\",\"\",BB134)","v":""},"○","○","","","",{"$f":"COUNTIF(BB105:CF105,\"○\")","v":9},{"$f":"+CM105+CN76","v":23},null,null,"閉所日数",{"$f":"IF(IF(MONTH($BL$5)=12,YEAR($BL$5)+1&\"01\",YEAR($BL$5)&TEXT(MONTH($BL$5)+1,\"00\"))>YEAR(BB101)&TEXT(MONTH(BB101),\"00\"),COUNTIF(BB106:CF106,\"●\"),\"\")","v":0},{"$f":"IF(OR(MONTH(BB101)=1,MONTH(BB101)=8,MONTH(BB101)=12),IF(COUNTIF(BB106:CF106,\"／\")>=3,\"\",\"算定除外「／」漏れ\"),\"\")","v":""},null,null,null,"計画",null,null,null,null,"○","○",null,null,null,null,null,"○","○",null,null,null,null,null,"○","○","○",null,null,null,null,"○","○",null,null,null,null,{"$f":"IF(CX134=\"\",\"\",CX134)","v":""},"○","○","","","",{"$f":"COUNTIF(CX105:EB105,\"○\")","v":9},{"$f":"+EI105+EJ76","v":23},null,null,"閉所日数",{"$f":"IF(IF(MONTH($BL$5)=12,YEAR($BL$5)+1&\"01\",YEAR($BL$5)&TEXT(MONTH($BL$5)+1,\"00\"))>YEAR($CX101)&TEXT(MONTH($CX101),\"00\"),COUNTIF(CX106:EB106,\"●\"),\"\")","v":9},{"$f":"IF(OR(MONTH(CX101)=1,MONTH(CX101)=8,MONTH(CX101)=12),IF(COUNTIF(CX106:EB106,\"／\")>=3,\"\",\"算定除外「／」漏れ\"),\"\")","v":""}]
["",null,"実施",null,null,null,null,null,null,null,null,null,null,null,null,null,null,null,null,null,null,null,null,null,null,null,null,null,null,null,null,null,null,null,{"$f":"IF(D135=\"\",\"\",D135)","v":""},{"$f":"IF(E135=\"\",\"\",E135)","v":""},{"$f":"IF(F135=\"\",\"\",F135)","v":""},{"$f":"IF(G135=\"\",\"\",G135)","v":""},{"$f":"IF(H135=\"\",\"\",H135)","v":""},{"$f":"IF(I135=\"\",\"\",I135)","v":""},{"$f":"COUNTIF(D106:AH106,\"●\")","v":0},{"$f":"+AO106+AP77","v":0},null,null,"現場閉所率",{"$f":"IFERROR(+AT105/AT104,\"\")","v":""},{"$f":"IF(AT106=\"\",\"\",IF(COUNTIF(D106:AH106,\"●\")>=COUNTIF(D109:AH109,\"◎\"),\"4週8休以上\",IF(AT106>=0.285,\"4週8休以上\",\"週休2日未達成\")))","v":""},null,null,null,null,null,"実施",null,null,null,null,null,null,null,null,null,null,null,null,null,null,null,null,null,null,null,null,null,null,null,null,null,null,null,null,null,null,null,{"$f":"IF(BB135=\"\",\"\",BB135)","v":""},{"$f":"IF(BC135=\"\",\"\",BC135)","v":""},{"$f":"IF(BD135=\"\",\"\",BD135)","v":""},{"$f":"IF(BE135=\"\",\"\",BE135)","v":""},{"$f":"IF(BF135=\"\",\"\",BF135)","v":""},{"$f":"IF(BG135=\"\",\"\",BG135)","v":""},{"$f":"COUNTIF(BB106:CF106,\"●\")","v":0},{"$f":"+CM106+CN77","v":0},null,null,"現場閉所率",{"$f":"IFERROR(+CR105/CR104,\"\")","v":0},{"$f":"IF(CR106=\"\",\"\",IF(COUNTIF(BB106:CF106,\"●\")>=COUNTIF(BB109:CF109,\"◎\"),\"4週8休以上\",IF(CR106>=0.285,\"4週8休以上\",\"週休2日未達成\")))","v":"週休2日未達成"},null,null,null,"実施",null,null,null,null,"●","●",null,null,null,null,null,"●","●",null,null,null,null,null,"●","●","●",null,null,null,null,"●","●",null,null,null,null,{"$f":"IF(CX135=\"\",\"\",CX135)","v":""},{"$f":"IF(CY135=\"\",\"\",CY135)","v":"●"},{"$f":"IF(CZ135=\"\",\"\",CZ135)","v":"●"},{"$f":"IF(DA135=\"\",\"\",DA135)","v":""},{"$f":"IF(DB135=\"\",\"\",DB135)","v":""},{"$f":"IF(DC135=\"\",\"\",DC135)","v":""},{"$f":"COUNTIF(CX106:EB106,\"●\")","v":9},{"$f":"+EI106+EJ77","v":24},null,null,"現場閉所率",{"$f":"IFERROR(+EN105/EN104,\"\")","v":0.29032258064516131},{"$f":"IF(EN106=\"\",\"\",IF(COUNTIF(CX106:EB106,\"●\")>=COUNTIF(CX109:EB109,\"◎\"),\"4週8休以上\",IF(EN106>=0.285,\"4週8休以上\",\"週休2日未達成\")))","v":"4週8休以上"}]
[null,null,null,1,2,3,4,5,6,7,8,9,10,11,12,13,14,15,16,17,18,19,20,21,22,23,24,25,26,27,28,29,30,31,32,33,34,35,36,37,null,null,null,null,{"$f":"AU106","v":""},null,null,null,null,null,null,null,null,1,2,3,4,5,6,7,8,9,10,11,12,13,14,15,16,17,18,19,20,21,22,23,24,25,26,27,28,29,30,31,32,33,34,35,36,37,null,null,null,null,{"$f":"CS106","v":"週休2日未達成"},null,null,null,null,null,null,1,2,3,4,5,6,7,8,9,10,11,12,13,14,15,16,17,18,19,20,21,22,23,24,25,26,27,28,29,30,31,32,33,34,35,36,37,null,null,null,null,{"$f":"EO106","v":"4週8休以上"}]
[null,null,"計画",{"$f":"IF(D105=\"／\",\"／\",IF(OR(D103=\"土\",D103=\"日\"),\"◎\",\"\"))","v":""},{"$f":"IF(E105=\"／\",\"／\",IF(OR(E103=\"土\",E103=\"日\"),\"◎\",\"\"))","v":""},"","","◎","◎","","","","","","◎","◎","","","","","","◎","◎","","","","","","◎",{"$f":"IF(AD105=\"／\",\"／\",IF(OR(AD103=\"土\",AD103=\"日\"),\"◎\",\"\"))","v":"◎"},{"$f":"IF(AE105=\"／\",\"／\",IF(OR(AE103=\"土\",AE103=\"日\"),\"◎\",\"\"))","v":""},"","","","","◎","◎","","","",null,null,null,null,{"$f":"AT110","v":""},null,null,null,null,null,null,null,"計画",{"$f":"IF(BB105=\"／\",\"／\",IF(OR(BB103=\"土\",BB103=\"日\"),\"◎\",\"\"))","v":""},"","","","◎","◎","","","","","","◎",{"$f":"IF(BN105=\"／\",\"／\",IF(OR(BN103=\"土\",BN103=\"日\"),\"◎\",\"\"))","v":"◎"},{"$f":"IF(BO105=\"／\",\"／\",IF(OR(BO103=\"土\",BO103=\"日\"),\"◎\",\"\"))","v":""},"","","","","◎","◎","","","","","","◎",{"$f":"IF(CB105=\"／\",\"／\",IF(OR(CB103=\"土\",CB103=\"日\"),\"◎\",\"\"))","v":"◎"},{"$f":"IF(CC105=\"／\",\"／\",IF(OR(CC103=\"土\",CC103=\"日\"),\"◎\",\"\"))","v":""},"","","","","◎","◎","","","",null,null,null,null,{"$f":"CR110","v":"OUT"},null,null,null,null,null,"計画",{"$f":"IF(CX105=\"／\",\"／\",IF(OR(CX103=\"土\",CX103=\"日\"),\"◎\",\"\"))","v":""},"","","","◎","◎","","","","","","◎",{"$f":"IF(DJ105=\"／\",\"／\",IF(OR(DJ103=\"土\",DJ103=\"日\"),\"◎\",\"\"))","v":"◎"},{"$f":"IF(DK105=\"／\",\"／\",IF(OR(DK103=\"土\",DK103=\"日\"),\"◎\",\"\"))","v":""},"","","","","◎","◎","","","","","","◎",{"$f":"IF(DX105=\"／\",\"／\",IF(OR(DX103=\"土\",DX103=\"日\"),\"◎\",\"\"))","v":"◎"},{"$f":"IF(DY105=\"／\",\"／\",IF(OR(DY103=\"土\",DY103=\"日\"),\"◎\",\"\"))","v":""},"","","","","◎","◎","","","",null,null,null,null,{"$f":"EN110","v":"OK"}]
[null,null,"実施",{"$f":"IF(D106=\"／\",\"／\",IF(OR(D103=\"土\",D103=\"日\"),\"◎\",\"\"))","v":""},{"$f":"IF(E106=\"／\",\"／\",IF(OR(E103=\"土\",E103=\"日\"),\"◎\",\"\"))","v":""},"","","◎","◎","","","","","","◎","◎","","","","","","◎","◎","","","","","","◎","◎","","","","","","◎","◎","","","",null,null,null,null,null,null,null,null,null,null,null,null,"実施",{"$f":"IF(BB106=\"／\",\"／\",IF(OR(BB103=\"土\",BB103=\"日\"),\"◎\",\"\"))","v":""},{"$f":"IF(BC106=\"／\",\"／\",IF(OR(BC103=\"土\",BC103=\"日\"),\"◎\",\"\"))","v":""},"","","◎","◎","","","","","","◎","◎","","","","","","◎","◎","","","","","","◎","◎","","","","","","◎","◎","","","",null,null,null,null,null,null,null,null,null,null,"実施",{"$f":"IF(CX106=\"／\",\"／\",IF(OR(CX103=\"土\",CX103=\"日\"),\"◎\",\"\"))","v":""},{"$f":"IF(CY106=\"／\",\"／\",IF(OR(CY103=\"土\",CY103=\"日\"),\"◎\",\"\"))","v":""},"","","◎","◎","","","","","","◎","◎","","","","","","◎","◎","","","","","","◎","◎","","","","","","◎","◎","","",""]
["",null,"完全",{"$f":"IF(WEEKDAY(DATE(YEAR(D101),MONTH(D101),1),2)=1,DATE(YEAR(D101),MONTH(D101),1),EOMONTH(D101,-1)-MOD(WEEKDAY(EOMONTH(D101,-1),2)+6,7))","v":"2025-06-30"},"～",{"$f":"DATE(YEAR(D101),MONTH(D101),1)+MOD(7-WEEKDAY(DATE(YEAR(D101),MONTH(D101),1),2),7)","v":"2025-07-06"},{"$f":"IF(DAY(D110)=1,IF(COUNTIF(D106:J106,\"／\")>=1,\"対象外\",IF(COUNTIF(INDEX(D106:AN106,DAY(D110)):INDEX(D106:AN106,HLOOKUP(F110,D102:AN107,6,FALSE)),\"\")+COUNTIF(INDEX(D106:AN106,DAY(D110)):INDEX(D106:AN106,HLOOKUP(F110,D102:AN107,6,FALSE)),\"●\")=7,IF(COUNTIF(INDEX(D106:AN106,DAY(D110)):INDEX(D106:AN106,HLOOKUP(F110,D102:AN107,6,FALSE)),\"●\")>=2,\"OK\",\"OUT\"),IF(COUNTIF(INDEX(D106:AN106,DAY(D110)):INDEX(D106:AN106,HLOOKUP(F110,D102:AN107,6,FALSE)),\"●\")>=COUNTIF(INDEX(D109:AN109,DAY(D110)):INDEX(D109:AN109,HLOOKUP(F110,D102:AN107,6,FALSE)),\"○\"),\"OK\",\"OUT\"))),IF(AND(AK81=\"\",AE81=\"\"),Y81,IF(AK81=\"\",AE81,AK81)))","v":"「／」漏れ"},null,null,{"$f":"F110+1","v":"2025-07-07"},"～",{"$f":"F110+7","v":"2025-07-13"},{"$f":"IF(COUNTIF(INDEX(D106:AN106,DAY(J110)):INDEX(D106:AN106,HLOOKUP(L110,D102:AN107,6,FALSE)),\"\")+COUNTIF(INDEX(D106:AN106,DAY(J110)):INDEX(D106:AN106,HLOOKUP(L110,D102:AN107,6,FALSE)),\"●\")=7,IF(COUNTIF(INDEX(D106:AN106,DAY(J110)):INDEX(D106:AN106,HLOOKUP(L110,D102:AN107,6,FALSE)),\"●\")>=2,\"OK\",\"OUT\"),\"対象外\")","v":"OUT"},null,null,{"$f":"L110+1","v":"2025-07-14"},"～",{"$f":"L110+7","v":"2025-07-20"},{"$f":"IF(COUNTIF(INDEX(D106:AN106,DAY(P110)):INDEX(D106:AN106,HLOOKUP(R110,D102:AN107,6,FALSE)),\"\")+COUNTIF(INDEX(D106:AN106,DAY(P110)):INDEX(D106:AN106,HLOOKUP(R110,D102:AN107,6,FALSE)),\"●\")=7,IF(COUNTIF(INDEX(D106:AN106,DAY(P110)):INDEX(D106:AN106,HLOOKUP(R110,D102:AN107,6,FALSE)),\"●\")>=2,\"OK\",\"OUT\"),\"対象外\")","v":"OUT"},null,null,{"$f":"R110+1","v":"2025-07-21"},"～",{"$f":"R110+7","v":"2025-07-27"},{"$f":"IF(COUNTIF(INDEX(D106:AN106,DAY(V110)):INDEX(D106:AN106,HLOOKUP(X110,D102:AN107,6,FALSE)),\"\")+COUNTIF(INDEX(D106:AN106,DAY(V110)):INDEX(D106:AN106,HLOOKUP(X110,D102:AN107,6,FALSE)),\"●\")=7,IF(COUNTIF(INDEX(D106:AN106,DAY(V110)):INDEX(D106:AN106,HLOOKUP(X110,D102:AN107,6,FALSE)),\"●\")>=2,\"OK\",\"OUT\"),\"対象外\")","v":"OUT"},null,null,{"$f":"IF(AND(DAY(X110+7)<23,DAY(X110+7)>=7),\"\",X110+1)","v":"2025-07-28"},{"$f":"IF(AND(DAY(X110+7)<23,DAY(X110+7)>=7),\"\",\"～\")","v":"～"},{"$f":"IF(AND(DAY(X110+7)<23,DAY(X110+7)>=7),\"\",X110+7)","v":"2025-08-03"},{"$f":"IF(AND(DAY(X110+7)<23,DAY(X110+7)>=7),\"\",IF(COUNTIF(INDEX(D106:AN106,DAY(AB110)):INDEX(D106:AN106,HLOOKUP(AD110,D102:AN107,6,FALSE)),\"\")+COUNTIF(INDEX(D106:AN106,DAY(AB110)):INDEX(D106:AN106,HLOOKUP(AD110,D102:AN107,6,FALSE)),\"●\")=7,IF(COUNTIF(INDEX(D106:AN106,DAY(AB110)):INDEX(D106:AN106,HLOOKUP(AD110,D102:AN107,6,FALSE)),\"●\")>=2,\"OK\",\"OUT\"),IF(COUNTIF(INDEX(D106:AN106,DAY(AB110)):INDEX(D106:AN106,HLOOKUP(AD110,D102:AN107,6,FALSE)),\"\")+COUNTIF(INDEX(D106:AN106,DAY(AB110)):INDEX(D106:AN106,HLOOKUP(AD110,D102:AN107,6,FALSE)),\"●\")>7,\"「／」漏れ\",\"対象外\")))","v":"OUT"},null,null,{"$f":"IF(AE110=\"\",\"\",IF(AND(DAY(AD110+7)<23,DAY(AD110+7)>=7),\"\",AD110+1))","v":""},{"$f":"IF(AE110=\"\",\"\",IF(AND(DAY(AD110+7)<23,DAY(AD110+7)>=7),\"\",\"～\"))","v":""},{"$f":"IF(AE110=\"\",\"\",IF(AND(DAY(AD110+7)<23,DAY(AD110+7)>=7),\"\",AD110+7))","v":""},{"$f":"IF(AE110=\"\",\"\",IF(AND(DAY(AD110+7)<23,DAY(AD110+7)>=7),\"\",IF(COUNTIF(INDEX(D106:AN106,DAY(AH110)):INDEX(D106:AN106,HLOOKUP(AJ110,D102:AN107,6,FALSE)),\"\")+COUNTIF(INDEX(D106:AN106,DAY(AH110)):INDEX(D106:AN106,HLOOKUP(AJ110,D102:AN107,6,FALSE)),\"●\")=7,IF(COUNTIF(INDEX(D106:AN106,DAY(AH110)):INDEX(D106:AN106,HLOOKUP(AJ110,D102:AN107,6,FALSE)),\"●\")>=2,\"OK\",\"OUT\"),IF(COUNTIF(INDEX(D106:AN106,HLOOKUP(AH110,D102:AN107,6,FALSE)):INDEX(D106:AN106,HLOOKUP(AJ110,D102:AN107,6,FALSE)),\"\")+COUNTIF(INDEX(D106:AN106,HLOOKUP(AH110,D102:AN107,6,FALSE)):INDEX(D106:AN106,HLOOKUP(AJ110,D102:AN107,6,FALSE)),\"●\")>7,\"「／」漏れ\",\"対象外\"))))","v":""},null,null,null,null,null,null,null,"完全週休二日",{"$f":"IF(AT101=\"\",\"\",IF(COUNTIF(D110:AN110,\"OUT\")>=1,\"OUT\",\"OK\"))","v":""},null,null,null,null,null,null,"完全",{"$f":"IF(WEEKDAY(DATE(YEAR(BB101),MONTH(BB101),1),2)=1,DATE(YEAR(BB101),MONTH(BB101),1),EOMONTH(BB101,-1)-MOD(WEEKDAY(EOMONTH(BB101,-1),2)+6,7))","v":"2025-06-30"},"～",{"$f":"DATE(YEAR(BB101),MONTH(BB101),1)+MOD(7-WEEKDAY(DATE(YEAR(BB101),MONTH(BB101),1),2),7)","v":"2025-07-06"},{"$f":"IF(DAY(BB110)=1,IF(COUNTIF(BB106:BH106,\"／\")>=1,\"対象外\",IF(COUNTIF(INDEX(BB106:CL106,DAY(BB110)):INDEX(BB106:CL106,HLOOKUP(BD110,BB102:CL107,6,FALSE)),\"\")+COUNTIF(INDEX(BB106:CL106,DAY(BB110)):INDEX(BB106:CL106,HLOOKUP(BD110,BB102:CL107,6,FALSE)),\"●\")=7,IF(COUNTIF(INDEX(BB106:CL106,DAY(BB110)):INDEX(BB106:CL106,HLOOKUP(BD110,BB102:CL107,6,FALSE)),\"●\")>=2,\"OK\",\"OUT\"),IF(COUNTIF(INDEX(BB106:CL106,DAY(BB110)):INDEX(BB106:CL106,HLOOKUP(BD110,BB102:CL107,6,FALSE)),\"●\")>=COUNTIF(INDEX(BB109:CL109,DAY(BB110)):INDEX(BB109:CL109,HLOOKUP(BD110,BB102:CL107,6,FALSE)),\"○\"),\"OK\",\"OUT\"))),IF(AND(CI81=\"\",CC81=\"\"),BW81,IF(CI81=\"\",CC81,CI81)))","v":"OUT"},null,null,{"$f":"BD110+1","v":"2025-07-07"},"～",{"$f":"BD110+7","v":"2025-07-13"},{"$f":"IF(COUNTIF(INDEX(BB106:CL106,DAY(BH110)):INDEX(BB106:CL106,HLOOKUP(BJ110,BB102:CL107,6,FALSE)),\"\")+COUNTIF(INDEX(BB106:CL106,DAY(BH110)):INDEX(BB106:CL106,HLOOKUP(BJ110,BB102:CL107,6,FALSE)),\"●\")=7,IF(COUNTIF(INDEX(BB106:CL106,DAY(BH110)):INDEX(BB106:CL106,HLOOKUP(BJ110,BB102:CL107,6,FALSE)),\"●\")>=2,\"OK\",\"OUT\"),\"対象外\")","v":"OUT"},null,null,{"$f":"BJ110+1","v":"2025-07-14"},"～",{"$f":"BJ110+7","v":"2025-07-20"},{"$f":"IF(COUNTIF(INDEX(BB106:CL106,DAY(BN110)):INDEX(BB106:CL106,HLOOKUP(BP110,BB102:CL107,6,FALSE)),\"\")+COUNTIF(INDEX(BB106:CL106,DAY(BN110)):INDEX(BB106:CL106,HLOOKUP(BP110,BB102:CL107,6,FALSE)),\"●\")=7,IF(COUNTIF(INDEX(BB106:CL106,DAY(BN110)):INDEX(BB106:CL106,HLOOKUP(BP110,BB102:CL107,6,FALSE)),\"●\")>=2,\"OK\",\"OUT\"),\"対象外\")","v":"OUT"},null,null,{"$f":"BP110+1","v":"2025-07-21"},"～",{"$f":"BP110+7","v":"2025-07-27"},{"$f":"IF(COUNTIF(INDEX(BB106:CL106,DAY(BT110)):INDEX(BB106:CL106,HLOOKUP(BV110,BB102:CL107,6,FALSE)),\"\")+COUNTIF(INDEX(BB106:CL106,DAY(BT110)):INDEX(BB106:CL106,HLOOKUP(BV110,BB102:CL107,6,FALSE)),\"●\")=7,IF(COUNTIF(INDEX(BB106:CL106,DAY(BT110)):INDEX(BB106:CL106,HLOOKUP(BV110,BB102:CL107,6,FALSE)),\"●\")>=2,\"OK\",\"OUT\"),\"対象外\")","v":"OUT"},null,null,{"$f":"IF(AND(DAY(BV110+7)<23,DAY(BV110+7)>=7),\"\",BV110+1)","v":"2025-07-28"},{"$f":"IF(AND(DAY(BV110+7)<23,DAY(BV110+7)>=7),\"\",\"～\")","v":"～"},{"$f":"IF(AND(DAY(BV110+7)<23,DAY(BV110+7)>=7),\"\",BV110+7)","v":"2025-08-03"},{"$f":"IF(AND(DAY(BV110+7)<23,DAY(BV110+7)>=7),\"\",IF(COUNTIF(INDEX(BB106:CL106,DAY(BZ110)):INDEX(BB106:CL106,HLOOKUP(CB110,BB102:CL107,6,FALSE)),\"\")+COUNTIF(INDEX(BB106:CL106,DAY(BZ110)):INDEX(BB106:CL106,HLOOKUP(CB110,BB102:CL107,6,FALSE)),\"●\")=7,IF(COUNTIF(INDEX(BB106:CL106,DAY(BZ110)):INDEX(BB106:CL106,HLOOKUP(CB110,BB102:CL107,6,FALSE)),\"●\")>=2,\"OK\",\"OUT\"),IF(COUNTIF(INDEX(BB106:CL106,DAY(BZ110)):INDEX(BB106:CL106,HLOOKUP(CB110,BB102:CL107,6,FALSE)),\"\")+COUNTIF(INDEX(BB106:CL106,DAY(BZ110)):INDEX(BB106:CL106,HLOOKUP(CB110,BB102:CL107,6,FALSE)),\"●\")>7,\"「／」漏れ\",\"対象外\")))","v":"OUT"},null,null,{"$f":"IF(CC110=\"\",\"\",IF(AND(DAY(CB110+7)<23,DAY(CB110+7)>=7),\"\",CB110+1))","v":""},{"$f":"IF(CC110=\"\",\"\",IF(AND(DAY(CB110+7)<23,DAY(CB110+7)>=7),\"\",\"～\"))","v":""},{"$f":"IF(CC110=\"\",\"\",IF(AND(DAY(CB110+7)<23,DAY(CB110+7)>=7),\"\",CB110+7))","v":""},{"$f":"IF(CC110=\"\",\"\",IF(AND(DAY(CB110+7)<23,DAY(CB110+7)>=7),\"\",IF(COUNTIF(INDEX(BB106:CL106,DAY(CF110)):INDEX(BB106:CL106,HLOOKUP(CH110,BB102:CL107,6,FALSE)),\"\")+COUNTIF(INDEX(BB106:CL106,DAY(CF110)):INDEX(BB106:CL106,HLOOKUP(CH110,BB102:CL107,6,FALSE)),\"●\")=7,IF(COUNTIF(INDEX(BB106:CL106,DAY(CF110)):INDEX(BB106:CL106,HLOOKUP(CH110,BB102:CL107,6,FALSE)),\"●\")>=2,\"OK\",\"OUT\"),IF(COUNTIF(INDEX(BB106:CL106,HLOOKUP(CF110,BB102:CL107,6,FALSE)):INDEX(BB106:CL106,HLOOKUP(CH110,BB102:CL107,6,FALSE)),\"\")+COUNTIF(INDEX(BB106:CL106,HLOOKUP(CF110,BB102:CL107,6,FALSE)):INDEX(BB106:CL106,HLOOKUP(CH110,BB102:CL107,6,FALSE)),\"●\")>7,\"「／」漏れ\",\"対象外\"))))","v":""},null,null,null,null,null,null,null,"完全週休二日",{"$f":"IF(CR101=\"\",\"\",IF(COUNTIF(BB110:CL110,\"OUT\")>=1,\"OUT\",\"OK\"))","v":"OUT"},null,null,null,null,"完全",{"$f":"IF(WEEKDAY(DATE(YEAR(CX101),MONTH(CX101),1),2)=1,DATE(YEAR(CX101),MONTH(CX101),1),EOMONTH(CX101,-1)-MOD(WEEKDAY(EOMONTH(CX101,-1),2)+6,7))","v":"2025-06-30"},"～",{"$f":"DATE(YEAR(CX101),MONTH(CX101),1)+MOD(7-WEEKDAY(DATE(YEAR(CX101),MONTH(CX101),1),2),7)","v":"2025-07-06"},{"$f":"IF(DAY(CX110)=1,IF(COUNTIF(CX106:DD106,\"／\")>=1,\"対象外\",IF(COUNTIF(INDEX(CX106:EH106,DAY(CX110)):INDEX(CX106:EH106,HLOOKUP(CZ110,CX102:EH107,6,FALSE)),\"\")+COUNTIF(INDEX(CX106:EH106,DAY(CX110)):INDEX(CX106:EH106,HLOOKUP(CZ110,CX102:EH107,6,FALSE)),\"●\")=7,IF(COUNTIF(INDEX(CX106:EH106,DAY(CX110)):INDEX(CX106:EH106,HLOOKUP(CZ110,CX102:EH107,6,FALSE)),\"●\")>=2,\"OK\",\"OUT\"),IF(COUNTIF(INDEX(CX106:EH106,DAY(CX110)):INDEX(CX106:EH106,HLOOKUP(CZ110,CX102:EH107,6,FALSE)),\"●\")>=COUNTIF(INDEX(CX109:EH109,DAY(CX110)):INDEX(CX109:EH109,HLOOKUP(CZ110,CX102:EH107,6,FALSE)),\"○\"),\"OK\",\"OUT\"))),IF(AND(EE81=\"\",DY81=\"\"),DS81,IF(EE81=\"\",DY81,EE81)))","v":"OK"},null,null,{"$f":"CZ110+1","v":"2025-07-07"},"～",{"$f":"CZ110+7","v":"2025-07-13"},{"$f":"IF(COUNTIF(INDEX(CX106:EH106,DAY(DD110)):INDEX(CX106:EH106,HLOOKUP(DF110,CX102:EH107,6,FALSE)),\"\")+COUNTIF(INDEX(CX106:EH106,DAY(DD110)):INDEX(CX106:EH106,HLOOKUP(DF110,CX102:EH107,6,FALSE)),\"●\")=7,IF(COUNTIF(INDEX(CX106:EH106,DAY(DD110)):INDEX(CX106:EH106,HLOOKUP(DF110,CX102:EH107,6,FALSE)),\"●\")>=2,\"OK\",\"OUT\"),\"対象外\")","v":"OK"},null,null,{"$f":"DF110+1","v":"2025-07-14"},"～",{"$f":"DF110+7","v":"2025-07-20"},{"$f":"IF(COUNTIF(INDEX(CX106:EH106,DAY(DJ110)):INDEX(CX106:EH106,HLOOKUP(DL110,CX102:EH107,6,FALSE)),\"\")+COUNTIF(INDEX(CX106:EH106,DAY(DJ110)):INDEX(CX106:EH106,HLOOKUP(DL110,CX102:EH107,6,FALSE)),\"●\")=7,IF(COUNTIF(INDEX(CX106:EH106,DAY(DJ110)):INDEX(CX106:EH106,HLOOKUP(DL110,CX102:EH107,6,FALSE)),\"●\")>=2,\"OK\",\"OUT\"),\"対象外\")","v":"OK"},null,null,{"$f":"DL110+1","v":"2025-07-21"},"～",{"$f":"DL110+7","v":"2025-07-27"},{"$f":"IF(COUNTIF(INDEX(CX106:EH106,DAY(DP110)):INDEX(CX106:EH106,HLOOKUP(DR110,CX102:EH107,6,FALSE)),\"\")+COUNTIF(INDEX(CX106:EH106,DAY(DP110)):INDEX(CX106:EH106,HLOOKUP(DR110,CX102:EH107,6,FALSE)),\"●\")=7,IF(COUNTIF(INDEX(CX106:EH106,DAY(DP110)):INDEX(CX106:EH106,HLOOKUP(DR110,CX102:EH107,6,FALSE)),\"●\")>=2,\"OK\",\"OUT\"),\"対象外\")","v":"OK"},null,null,{"$f":"IF(AND(DAY(DR110+7)<23,DAY(DR110+7)>=7),\"\",DR110+1)","v":"2025-07-28"},{"$f":"IF(AND(DAY(DR110+7)<23,DAY(DR110+7)>=7),\"\",\"～\")","v":"～"},{"$f":"IF(AND(DAY(DR110+7)<23,DAY(DR110+7)>=7),\"\",DR110+7)","v":"2025-08-03"},{"$f":"IF(AND(DAY(DR110+7)<23,DAY(DR110+7)>=7),\"\",IF(COUNTIF(INDEX(CX106:EH106,DAY(DV110)):INDEX(CX106:EH106,HLOOKUP(DX110,CX102:EH107,6,FALSE)),\"\")+COUNTIF(INDEX(CX106:EH106,DAY(DV110)):INDEX(CX106:EH106,HLOOKUP(DX110,CX102:EH107,6,FALSE)),\"●\")=7,IF(COUNTIF(INDEX(CX106:EH106,DAY(DV110)):INDEX(CX106:EH106,HLOOKUP(DX110,CX102:EH107,6,FALSE)),\"●\")>=2,\"OK\",\"OUT\"),IF(COUNTIF(INDEX(CX106:EH106,DAY(DV110)):INDEX(CX106:EH106,HLOOKUP(DX110,CX102:EH107,6,FALSE)),\"\")+COUNTIF(INDEX(CX106:EH106,DAY(DV110)):INDEX(CX106:EH106,HLOOKUP(DX110,CX102:EH107,6,FALSE)),\"●\")>7,\"「／」漏れ\",\"対象外\")))","v":"OK"},null,null,{"$f":"IF(DY110=\"\",\"\",IF(AND(DAY(DX110+7)<23,DAY(DX110+7)>=7),\"\",DX110+1))","v":""},{"$f":"IF(DY110=\"\",\"\",IF(AND(DAY(DX110+7)<23,DAY(DX110+7)>=7),\"\",\"～\"))","v":""},{"$f":"IF(DY110=\"\",\"\",IF(AND(DAY(DX110+7)<23,DAY(DX110+7)>=7),\"\",DX110+7))","v":""},{"$f":"IF(DY110=\"\",\"\",IF(AND(DAY(DX110+7)<23,DAY(DX110+7)>=7),\"\",IF(COUNTIF(INDEX(CX106:EH106,DAY(EB110)):INDEX(CX106:EH106,HLOOKUP(ED110,CX102:EH107,6,FALSE)),\"\")+COUNTIF(INDEX(CX106:EH106,DAY(EB110)):INDEX(CX106:EH106,HLOOKUP(ED110,CX102:EH107,6,FALSE)),\"●\")=7,IF(COUNTIF(INDEX(CX106:EH106,DAY(EB110)):INDEX(CX106:EH106,HLOOKUP(ED110,CX102:EH107,6,FALSE)),\"●\")>=2,\"OK\",\"OUT\"),IF(COUNTIF(INDEX(CX106:EH106,HLOOKUP(EB110,CX102:EH107,6,FALSE)):INDEX(CX106:EH106,HLOOKUP(ED110,CX102:EH107,6,FALSE)),\"\")+COUNTIF(INDEX(CX106:EH106,HLOOKUP(EB110,CX102:EH107,6,FALSE)):INDEX(CX106:EH106,HLOOKUP(ED110,CX102:EH107,6,FALSE)),\"●\")>7,\"「／」漏れ\",\"対象外\"))))","v":""},null,null,null,null,null,null,null,"完全週休二日",{"$f":"IF(EN101=\"\",\"\",IF(COUNTIF(CX110:EH110,\"OUT\")>=1,\"OUT\",\"OK\"))","v":"OK"}]
[""]
[{"$f":"IF(AND(NOT($AT$101=\"\"),$AT$130=\"\"),\"対象期間\",\"\")","v":""}]
[{"$f":"IF(AND(NOT($AT$101=\"\"),$AT$130=\"\"),\"対象期間\",\"\")","v":""},null,"※１工事着手日：始期日以降に準備工事（現場事務所の建設・測量等）、工場製作を含む工事における工場製作工に着手した日",null,null,null,null,null,null,null,null,null,null,null,null,null,null,null,null,null,null,null,null,null,null,null,null,null,null,null,null,null,null,null,null,null,null,null,null,null,null,null,null,"工事全体の確認",null,null,null,null,null,null,null,null,"※１工事着手日：始期日以降に準備工事（現場事務所の建設・測量等）、工場製作を含む工事における工場製作工に着手した日",null,null,null,null,null,null,null,null,null,null,null,null,null,null,null,null,null,null,null,null,null,null,null,null,null,null,null,null,null,null,null,null,null,null,null,null,null,null,null,null,"工事全体の確認",null,null,null,null,null,null,"※１工事着手日：始期日以降に準備工事（現場事務所の建設・測量等）、工場製作を含む工事における工場製作工に着手した日",null,null,null,null,null,null,null,null,null,null,null,null,null,null,null,null,null,null,null,null,null,null,null,null,null,null,null,null,null,null,null,null,null,null,null,null,null,null,null,null,"工事全体の確認"]
["",null,"※２作業完了日：工事施工範囲内で全ての作業（後片付けを含む）が完了した日\n　　　　　　　　　  （工事現場事務所は工事施工範囲外に設置するため、ここでいう後片付けの対象に含まない）",null,null,null,null,null,null,null,null,null,null,null,null,null,null,null,null,null,null,null,null,null,null,null,null,null,null,null,null,null,null,null,null,null,null,null,null,null,null,null,null,"計画","全対象期間",{"$f":"IFERROR(AT85+AT101,\"\")","v":""},null,null,null,null,null,null,"※２作業完了日：工事施工範囲内で全ての作業（後片付けを含む）が完了した日\n　　　　　　　　　  （工事現場事務所は工事施工範囲外に設置するため、ここでいう後片付けの対象に含まない）",null,null,null,null,null,null,null,null,null,null,null,null,null,null,null,null,null,null,null,null,null,null,null,null,null,null,null,null,null,null,null,null,null,null,null,null,null,null,null,null,"計画","全対象期間",{"$f":"IFERROR(CR85+CR101,\"\")","v":""},null,null,null,null,"※２作業完了日：工事施工範囲内で全ての作業（後片付けを含む）が完了した日\n　　　　　　　　　  （工事現場事務所は工事施工範囲外に設置するため、ここでいう後片付けの対象に含まない）",null,null,null,null,null,null,null,null,null,null,null,null,null,null,null,null,null,null,null,null,null,null,null,null,null,null,null,null,null,null,null,null,null,null,null,null,null,null,null,null,"計画","全対象期間",{"$f":"IFERROR(EN85+EN101,\"\")","v":81}]
["",null,null,null,null,null,null,null,null,null,null,null,null,null,null,null,null,null,null,null,null,null,null,null,null,null,null,null,null,null,null,null,null,null,null,null,null,null,null,null,null,null,null,null,"全現場閉所日数",{"$f":"IFERROR(AT86+AT102,\"\")","v":""},null,null,null,null,null,null,null,null,null,null,null,null,null,null,null,null,null,null,null,null,null,null,null,null,null,null,null,null,null,null,null,null,null,null,null,null,null,null,null,null,null,null,null,null,null,null,null,null,"全現場閉所日数",{"$f":"IFERROR(CR86+CR102,\"\")","v":""},null,null,null,null,null,null,null,null,null,null,null,null,null,null,null,null,null,null,null,null,null,null,null,null,null,null,null,null,null,null,null,null,null,null,null,null,null,null,null,null,null,null,null,null,null,null,"全現場閉所日数",{"$f":"IFERROR(EN86+EN102,\"\")","v":24}]
["",null,"【算定除外期間】：夏季休暇（8月13日～8月15日）、年末年始（12月29日～翌年1月3日）は算定期間の分母・分子に含めない",null,null,null,null,null,null,null,null,null,null,null,null,null,null,null,null,null,null,null,null,null,null,null,null,null,null,null,null,null,null,null,null,null,null,null,null,null,null,null,null,null,"現場閉所率",{"$f":"IFERROR(+AT115/AT114,\"\")","v":""},{"$f":"IF(AT116>=0.285,\"4週8休以上\",\"週休2日未達成\")","v":"4週8休以上"},null,null,null,null,null,"【算定除外期間】：夏季休暇（8月13日～8月15日）、年末年始（12月29日～翌年1月3日）は算定期間の分母・分子に含めない",null,null,null,null,null,null,null,null,null,null,null,null,null,null,null,null,null,null,null,null,null,null,null,null,null,null,null,null,null,null,null,null,null,null,null,null,null,null,null,null,null,"現場閉所率",{"$f":"IFERROR(+CR115/CR114,\"\")","v":""},{"$f":"IF(CR116>=0.285,\"4週8休以上\",\"週休2日未達成\")","v":"4週8休以上"},null,null,null,"【算定除外期間】：夏季休暇（8月13日～8月15日）、年末年始（12月29日～翌年1月3日）は算定期間の分母・分子に含めない",null,null,null,null,null,null,null,null,null,null,null,null,null,null,null,null,null,null,null,null,null,null,null,null,null,null,null,null,null,null,null,null,null,null,null,null,null,null,null,null,null,"現場閉所率",{"$f":"IFERROR(+EN115/EN114,\"\")","v":0.29629629629629628},{"$f":"IF(EN116>=0.285,\"4週8休以上\",\"週休2日未達成\")","v":"4週8休以上"}]
["",null,"※３工事期間の全ての月において、達成状況を確認し、一度でも達成できない月があれば、４週８休以上（月単位）は「未達成」となり、補正の対象とならない。\n　　月によっては、土日を全て閉所しても現場閉所率が28.5％に満たない場合があるが、その月の対象期間の土日日数以上閉所していれば達成とみなす。\n\n※４工事対象期間のうち、一度でも完全週休２日（月～日で２日以上の現場閉所）を達成できなければ、\n　　 完全週休２日は「未達成」となり、補正の対象とならない。\n　　 なお、工期始期・終期、年末年始、夏季休暇などにより、７日間に満たない期間は完全週休２日の達成判断の対象外とする。",null,null,null,null,null,null,null,null,null,null,null,null,null,null,null,null,null,null,null,null,null,null,null,null,null,null,null,null,null,null,null,null,null,null,null,null,null,null,null,null,"実施","全対象期間",{"$f":"IFERROR(AT88+AT104,\"\")","v":""},null,null,null,null,null,null,"※３工事期間の全ての月において、達成状況を確認し、一度でも達成できない月があれば、４週８休以上（月単位）は「未達成」となり、補正の対象とならない。\n　　月によっては、土日を全て閉所しても現場閉所率が28.5％に満たない場合があるが、その月の対象期間の土日日数以上閉所していれば達成とみなす。\n\n※４工事対象期間のうち、一度でも完全週休２日（月～日で２日以上の現場閉所）を達成できなければ、\n　　 完全週休２日は「未達成」となり、補正の対象とならない。\n　　 なお、工期始期・終期、年末年始、夏季休暇などにより、７日間に満たない期間は完全週休２日の達成判断の対象外とする。",null,null,null,null,null,null,null,null,null,null,null,null,null,null,null,null,null,null,null,null,null,null,null,null,null,null,null,null,null,null,null,null,null,null,null,null,null,null,null,null,"実施","全対象期間",{"$f":"IFERROR(CR88+CR104,\"\")","v":""},null,null,null,null,"※３工事期間の全ての月において、達成状況を確認し、一度でも達成できない月があれば、４週８休以上（月単位）は「未達成」となり、補正の対象とならない。\n　　月によっては、土日を全て閉所しても現場閉所率が28.5％に満たない場合があるが、その月の対象期間の土日日数以上閉所していれば達成とみなす。\n\n※４工事対象期間のうち、一度でも完全週休２日（月～日で２日以上の現場閉所）を達成できなければ、\n　　 完全週休２日は「未達成」となり、補正の対象とならない。\n　　 なお、工期始期・終期、年末年始、夏季休暇などにより、７日間に満たない期間は完全週休２日の達成判断の対象外とする。",null,null,null,null,null,null,null,null,null,null,null,null,null,null,null,null,null,null,null,null,null,null,null,null,null,null,null,null,null,null,null,null,null,null,null,null,null,null,null,null,"実施","全対象期間",{"$f":"IFERROR(EN88+EN104,\"\")","v":81}]
["",null,null,null,null,null,null,null,null,null,null,null,null,null,null,null,null,null,null,null,null,null,null,null,null,null,null,null,null,null,null,null,null,null,null,null,null,null,null,null,null,null,null,null,"全現場閉所日数",{"$f":"IFERROR(AT89+AT105,\"\")","v":""},null,null,null,null,null,null,null,null,null,null,null,null,null,null,null,null,null,null,null,null,null,null,null,null,null,null,null,null,null,null,null,null,null,null,null,null,null,null,null,null,null,null,null,null,null,null,null,null,"全現場閉所日数",{"$f":"IFERROR(CR89+CR105,\"\")","v":""},null,null,null,null,null,null,null,null,null,null,null,null,null,null,null,null,null,null,null,null,null,null,null,null,null,null,null,null,null,null,null,null,null,null,null,null,null,null,null,null,null,null,null,null,null,null,"全現場閉所日数",{"$f":"IFERROR(EN89+EN105,\"\")","v":25}]
["",null,null,null,null,null,null,null,null,null,null,null,null,null,null,null,null,null,null,null,null,null,null,null,null,null,null,null,null,null,null,null,null,null,null,null,null,null,null,null,null,null,null,null,"現場閉所率",{"$f":"IFERROR(+AT118/AT117,\"\")","v":""},{"$f":"IF(AT119>=0.285,\"4週8休以上\",\"週休2日未達成\")","v":"4週8休以上"},null,null,null,null,null,null,null,null,null,null,null,null,null,null,null,null,null,null,null,null,null,null,null,null,null,null,null,null,null,null,null,null,null,null,null,null,null,null,null,null,null,null,null,null,null,null,null,"現場閉所率",{"$f":"IFERROR(+CR118/CR117,\"\")","v":""},{"$f":"IF(CR119>=0.285,\"4週8休以上\",\"週休2日未達成\")","v":"4週8休以上"},null,null,null,null,null,null,null,null,null,null,null,null,null,null,null,null,null,null,null,null,null,null,null,null,null,null,null,null,null,null,null,null,null,null,null,null,null,null,null,null,null,null,null,null,null,"現場閉所率",{"$f":"IFERROR(+EN118/EN117,\"\")","v":0.30864197530864196},{"$f":"IF(EN119>=0.285,\"4週8休以上\",\"週休2日未達成\")","v":"4週8休以上"}]
["",null,null,null,null,null,null,null,null,null,null,null,null,null,null,null,null,null,null,null,null,null,null,null,null,null,null,null,null,null,null,null,null,null,null,null,null,null,null,null,null,null,null,null,"閉所（月単位）",{"$f":"IFERROR(COUNTIF(AS$14:$AS110,\"4週8休以上\")/(COUNTIF(AS$14:$AS110,\"4週8休以上\")+COUNTIF(AS$14:$AS110,\"週休2日未達成\")),\"\")","v":""},{"$f":"IF(OR(AT120=100%,AT120=\"\"),\"達成\",\"未達成\")","v":"達成"},null,null,null,null,null,null,null,null,null,null,null,null,null,null,null,null,null,null,null,null,null,null,null,null,null,null,null,null,null,null,null,null,null,null,null,null,null,null,null,null,null,null,null,null,null,null,null,"閉所（月単位）",{"$f":"IFERROR(COUNTIF(CQ$14:$CQ110,\"4週8休以上\")/(COUNTIF(CQ$14:$CQ110,\"4週8休以上\")+COUNTIF(CQ$14:$CQ110,\"週休2日未達成\")),\"\")","v":0},{"$f":"IF(OR(CR120=100%,CR120=\"\"),\"達成\",\"未達成\")","v":"未達成"},null,null,null,null,null,null,null,null,null,null,null,null,null,null,null,null,null,null,null,null,null,null,null,null,null,null,null,null,null,null,null,null,null,null,null,null,null,null,null,null,null,null,null,null,null,"閉所（月単位）",{"$f":"IFERROR(COUNTIF($EM$14:EM110,\"4週8休以上\")/(COUNTIF($EM$14:EM110,\"4週8休以上\")+COUNTIF($EM$14:EM110,\"週休2日未達成\")),\"\")","v":1},{"$f":"IF(OR(EN120=100%,EN120=\"\"),\"達成\",\"未達成\")","v":"達成"}]
["",null,null,null,null,null,null,null,null,null,null,null,null,null,null,null,null,null,null,null,null,null,null,null,null,null,null,null,null,null,null,null,null,null,null,null,null,null,null,null,null,null,null,null,"完全週休二日",{"$f":"IF(COUNTIF(AS$14:$AS110,\"OUT\")>=1,\"OUT\",\"OK\")","v":"OK"},{"$f":"IF(AT121=\"OK\",\"達成\",\"未達成\")","v":"達成"},null,null,null,null,null,null,null,null,null,null,null,null,null,null,null,null,null,null,null,null,null,null,null,null,null,null,null,null,null,null,null,null,null,null,null,null,null,null,null,null,null,null,null,null,null,null,null,"完全週休二日",{"$f":"IF(COUNTIF(CQ$14:$CQ110,\"OUT\")>=1,\"OUT\",\"OK\")","v":"OUT"},{"$f":"IF(CR121=\"OK\",\"達成\",\"未達成\")","v":"未達成"},null,null,null,null,null,null,null,null,null,null,null,null,null,null,null,null,null,null,null,null,null,null,null,null,null,null,null,null,null,null,null,null,null,null,null,null,null,null,null,null,null,null,null,null,null,"完全週休二日",{"$f":"IF(COUNTIF($EM$14:EM110,\"OUT\")>=1,\"OUT\",\"OK\")","v":"OK"},{"$f":"IF(EN121=\"OK\",\"達成\",\"未達成\")","v":"達成"}]
["",null,"※必要に応じて各月の完全週休2日（月～日）の達成判定の行を修正してください。（曜日に合わせて修正）",null,null,null,null,null,null,null,null,null,null,null,null,null,null,null,null,null,null,null,null,null,null,null,null,null,null,null,null,null,null,null,null,null,null,null,null,null,null,null,null,null,null,null,null,null,null,null,null,null,"※必要に応じて各月の完全週休2日（月～日）の達成判定の行を修正してください。（曜日に合わせて修正）",null,null,null,null,null,null,null,null,null,null,null,null,null,null,null,null,null,null,null,null,null,null,null,null,null,null,null,null,null,null,null,null,null,null,null,null,null,null,null,null,null,null,null,null,null,null,null,"※必要に応じて各月の完全週休2日（月～日）の達成判定の行を修正してください。（曜日に合わせて修正）"]
[""]
[""]
[""]
[""]
[""]
["",null,"算定除外期間以外の祝日（ＧＷ含む）は、算定期間（分母）の対象＝現場閉所の場合は分子にカウントして現場閉所率を算定",null,null,null,null,null,null,null,null,null,null,null,null,null,null,null,null,null,null,null,null,null,null,null,null,null,null,null,null,null,null,null,null,null,null,null,null,null,null,null,null,null,null,null,null,null,null,null,null,null,"算定除外期間以外の祝日（ＧＷ含む）は、算定期間（分母）の対象＝現場閉所の場合は分子にカウントして現場閉所率を算定",null,null,null,null,null,null,null,null,null,null,null,null,null,null,null,null,null,null,null,null,null,null,null,null,null,null,null,null,null,null,null,null,null,null,null,null,null,null,null,null,null,null,null,null,null,null,null,"算定除外期間以外の祝日（ＧＷ含む）は、算定期間（分母）の対象＝現場閉所の場合は分子にカウントして現場閉所率を算定"]
[""]
[{"$f":"IF($AT$130=\"\",\"\",\"対象期間\")","v":""},null,"月",{"$f":"DATE(YEAR(D101),MONTH(D101)+1,1)","v":"2025-08-01"},null,null,null,null,null,null,null,null,null,null,null,null,null,null,null,null,null,null,null,null,null,null,null,null,null,null,null,null,null,null,{"$f":"DATE(YEAR(D130),MONTH(D130)+1,1)","v":"2025-09-01"},null,null,null,null,null,"現場閉所計","現場閉所累計",null,"計画","対象期間",{"$f":"IF(IF(MONTH(入力表!$E$6)=12,YEAR(入力表!$E$6)+1&\"01\",YEAR(入力表!$E$6)&TEXT(MONTH(入力表!$E$6)+1,\"00\"))>YEAR($D130)&TEXT(MONTH($D130),\"00\"),COUNTIF(D134:AH134,\"\")+COUNTIF(D134:AH134,\"○\"),\"\")","v":""},{"$f":"IF(COUNTIF(D131:AH131,\"／\")=0,\"\",IF(COUNTIF(D131:AH131,\"／\")=1,IF(AH134=\"／\",\"\",\"月末「／」漏れ\"),IF(COUNTIF(D131:AH131,\"／\")=2,IF(AND(AG134=\"／\",AH134=\"／\"),\"\",\"月末「／」漏れ\"),IF(AND(AF134=\"／\",AG134=\"／\",AH134=\"／\"),\"\",\"月末「／」漏れ\"))))","v":""},null,null,null,null,null,"月",{"$f":"DATE(YEAR(BB101),MONTH(BB101)+1,1)","v":"2025-08-01"},null,null,null,null,null,null,null,null,null,null,null,null,null,null,null,null,null,null,null,null,null,null,null,null,null,null,null,null,null,null,{"$f":"DATE(YEAR(BB130),MONTH(BB130)+1,1)","v":"2025-09-01"},null,null,null,null,null,"現場閉所計","現場閉所累計",null,"計画","対象期間",{"$f":"IF(IF(MONTH($BL$5)=12,YEAR($BL$5)+1&\"01\",YEAR($BL$5)&TEXT(MONTH($BL$5)+1,\"00\"))>YEAR(BB130)&TEXT(MONTH(BB130),\"00\"),COUNTIF(BB134:CF134,\"\")+COUNTIF(BB134:CF134,\"○\"),\"\")","v":28},{"$f":"IF(COUNTIF(BB131:CF131,\"／\")=0,\"\",IF(COUNTIF(BB131:CF131,\"／\")=1,IF(CF134=\"／\",\"\",\"月末「／」漏れ\"),IF(COUNTIF(BB131:CF131,\"／\")=2,IF(AND(CE134=\"／\",CF134=\"／\"),\"\",\"月末「／」漏れ\"),IF(AND(CD134=\"／\",CE134=\"／\",CF134=\"／\"),\"\",\"月末「／」漏れ\"))))","v":""},null,null,null,"月",{"$f":"DATE(YEAR(CX101),MONTH(CX101)+1,1)","v":"2025-08-01"},null,null,null,null,null,null,null,null,null,null,null,null,null,null,null,null,null,null,null,null,null,null,null,null,null,null,null,null,null,null,{"$f":"DATE(YEAR(CX130),MONTH(CX130)+1,1)","v":"2025-09-01"},null,null,null,null,null,"現場閉所計","現場閉所累計",null,"計画","対象期間",{"$f":"IF(IF(MONTH($BL$5)=12,YEAR($BL$5)+1&\"01\",YEAR($BL$5)&TEXT(MONTH($BL$5)+1,\"00\"))>YEAR($CX130)&TEXT(MONTH($CX130),\"00\"),COUNTIF(CX134:EB134,\"\")+COUNTIF(CX134:EB134,\"○\"),\"\")","v":28},{"$f":"IF(COUNTIF(CX131:EB131,\"／\")=0,\"\",IF(COUNTIF(CX131:EB131,\"／\")=1,IF(EB134=\"／\",\"\",\"月末「／」漏れ\"),IF(COUNTIF(CX131:EB131,\"／\")=2,IF(AND(EA134=\"／\",EB134=\"／\"),\"\",\"月末「／」漏れ\"),IF(AND(DZ134=\"／\",EA134=\"／\",EB134=\"／\"),\"\",\"月末「／」漏れ\"))))","v":""}]
[{"$f":"IF($AT$130=\"\",\"\",\"対象期間\")","v":""},null,"日",{"$f":"D130","v":"2025-08-01"},{"$f":"D131+1","v":"2025-08-02"},{"$f":"E131+1","v":"2025-08-03"},{"$f":"F131+1","v":"2025-08-04"},{"$f":"G131+1","v":"2025-08-05"},{"$f":"H131+1","v":"2025-08-06"},{"$f":"I131+1","v":"2025-08-07"},{"$f":"J131+1","v":"2025-08-08"},{"$f":"K131+1","v":"2025-08-09"},{"$f":"L131+1","v":"2025-08-10"},{"$f":"M131+1","v":"2025-08-11"},{"$f":"N131+1","v":"2025-08-12"},{"$f":"O131+1","v":"2025-08-13"},{"$f":"P131+1","v":"2025-08-14"},{"$f":"Q131+1","v":"2025-08-15"},{"$f":"R131+1","v":"2025-08-16"},{"$f":"S131+1","v":"2025-08-17"},{"$f":"T131+1","v":"2025-08-18"},{"$f":"U131+1","v":"2025-08-19"},{"$f":"V131+1","v":"2025-08-20"},{"$f":"W131+1","v":"2025-08-21"},{"$f":"X131+1","v":"2025-08-22"},{"$f":"Y131+1","v":"2025-08-23"},{"$f":"Z131+1","v":"2025-08-24"},{"$f":"AA131+1","v":"2025-08-25"},{"$f":"AB131+1","v":"2025-08-26"},{"$f":"AC131+1","v":"2025-08-27"},{"$f":"AD131+1","v":"2025-08-28"},{"$f":"IF(AE131=\"／\",\"／\",IF(YEAR($D130)&TEXT(MONTH($D130),\"00\")<YEAR(AE131+1)&TEXT(MONTH(AE131+1),\"00\"),\"／\",AE131+1))","v":"2025-08-29"},{"$f":"IF(AF131=\"／\",\"／\",IF(YEAR($D130)&TEXT(MONTH($D130),\"00\")<YEAR(AF131+1)&TEXT(MONTH(AF131+1),\"00\"),\"／\",AF131+1))","v":"2025-08-30"},{"$f":"IF(AG131=\"／\",\"／\",IF(YEAR($D130)&TEXT(MONTH($D130),\"00\")<YEAR(AG131+1)&TEXT(MONTH(AG131+1),\"00\"),\"／\",AG131+1))","v":"2025-08-31"},{"$f":"AI130","v":"2025-09-01"},{"$f":"AI131+1","v":"2025-09-02"},{"$f":"AJ131+1","v":"2025-09-03"},{"$f":"AK131+1","v":"2025-09-04"},{"$f":"AL131+1","v":"2025-09-05"},{"$f":"AM131+1","v":"2025-09-06"},null,null,null,null,"閉所日数",{"$f":"IF(IF(MONTH(入力表!$E$6)=12,YEAR(入力表!$E$6)+1&\"01\",YEAR(入力表!$E$6)&TEXT(MONTH(入力表!$E$6)+1,\"00\"))>YEAR($D130)&TEXT(MONTH($D130),\"00\"),COUNTIF(D134:AH134,\"○\"),\"\")","v":""},{"$f":"IF(OR(MONTH(D130)=1,MONTH(D130)=8,MONTH(D130)=12),IF(COUNTIF(D134:AH134,\"／\")>=3,\"\",\"算定除外「／」漏れ\"),\"\")","v":"算定除外「／」漏れ"},null,null,null,null,null,"日",{"$f":"BB130","v":"2025-08-01"},{"$f":"BB131+1","v":"2025-08-02"},{"$f":"BC131+1","v":"2025-08-03"},{"$f":"BD131+1","v":"2025-08-04"},{"$f":"BE131+1","v":"2025-08-05"},{"$f":"BF131+1","v":"2025-08-06"},{"$f":"BG131+1","v":"2025-08-07"},{"$f":"BH131+1","v":"2025-08-08"},{"$f":"BI131+1","v":"2025-08-09"},{"$f":"BJ131+1","v":"2025-08-10"},{"$f":"BK131+1","v":"2025-08-11"},{"$f":"BL131+1","v":"2025-08-12"},{"$f":"BM131+1","v":"2025-08-13"},{"$f":"BN131+1","v":"2025-08-14"},{"$f":"BO131+1","v":"2025-08-15"},{"$f":"BP131+1","v":"2025-08-16"},{"$f":"BQ131+1","v":"2025-08-17"},{"$f":"BR131+1","v":"2025-08-18"},{"$f":"BS131+1","v":"2025-08-19"},{"$f":"BT131+1","v":"2025-08-20"},{"$f":"BU131+1","v":"2025-08-21"},{"$f":"BV131+1","v":"2025-08-22"},{"$f":"BW131+1","v":"2025-08-23"},{"$f":"BX131+1","v":"2025-08-24"},{"$f":"BY131+1","v":"2025-08-25"},{"$f":"BZ131+1","v":"2025-08-26"},{"$f":"CA131+1","v":"2025-08-27"},{"$f":"CB131+1","v":"2025-08-28"},{"$f":"IF(CC131=\"／\",\"／\",IF(YEAR(BB130)&TEXT(MONTH(BB130),\"00\")<YEAR(CC131+1)&TEXT(MONTH(CC131+1),\"00\"),\"／\",CC131+1))","v":"2025-08-29"},{"$f":"IF(CD131=\"／\",\"／\",IF(YEAR(BB130)&TEXT(MONTH(BB130),\"00\")<YEAR(CD131+1)&TEXT(MONTH(CD131+1),\"00\"),\"／\",CD131+1))","v":"2025-08-30"},{"$f":"IF(CE131=\"／\",\"／\",IF(YEAR(BB130)&TEXT(MONTH(BB130),\"00\")<YEAR(CE131+1)&TEXT(MONTH(CE131+1),\"00\"),\"／\",CE131+1))","v":"2025-08-31"},{"$f":"CG130","v":"2025-09-01"},{"$f":"CG131+1","v":"2025-09-02"},{"$f":"CH131+1","v":"2025-09-03"},{"$f":"CI131+1","v":"2025-09-04"},{"$f":"CJ131+1","v":"2025-09-05"},{"$f":"CK131+1","v":"2025-09-06"},null,null,null,null,"閉所日数",{"$f":"IF(IF(MONTH($BL$5)=12,YEAR($BL$5)+1&\"01\",YEAR($BL$5)&TEXT(MONTH($BL$5)+1,\"00\"))>YEAR(BB130)&TEXT(MONTH(BB130),\"00\"),COUNTIF(BB134:CF134,\"○\"),\"\")","v":10},{"$f":"IF(OR(MONTH(BB130)=1,MONTH(BB130)=8,MONTH(BB130)=12),IF(COUNTIF(BB134:CF134,\"／\")>=3,\"\",\"算定除外「／」漏れ\"),\"\")","v":""},null,null,null,"日",{"$f":"CX130","v":"2025-08-01"},{"$f":"CX131+1","v":"2025-08-02"},{"$f":"CY131+1","v":"2025-08-03"},{"$f":"CZ131+1","v":"2025-08-04"},{"$f":"DA131+1","v":"2025-08-05"},{"$f":"DB131+1","v":"2025-08-06"},{"$f":"DC131+1","v":"2025-08-07"},{"$f":"DD131+1","v":"2025-08-08"},{"$f":"DE131+1","v":"2025-08-09"},{"$f":"DF131+1","v":"2025-08-10"},{"$f":"DG131+1","v":"2025-08-11"},{"$f":"DH131+1","v":"2025-08-12"},{"$f":"DI131+1","v":"2025-08-13"},{"$f":"DJ131+1","v":"2025-08-14"},{"$f":"DK131+1","v":"2025-08-15"},{"$f":"DL131+1","v":"2025-08-16"},{"$f":"DM131+1","v":"2025-08-17"},{"$f":"DN131+1","v":"2025-08-18"},{"$f":"DO131+1","v":"2025-08-19"},{"$f":"DP131+1","v":"2025-08-20"},{"$f":"DQ131+1","v":"2025-08-21"},{"$f":"DR131+1","v":"2025-08-22"},{"$f":"DS131+1","v":"2025-08-23"},{"$f":"DT131+1","v":"2025-08-24"},{"$f":"DU131+1","v":"2025-08-25"},{"$f":"DV131+1","v":"2025-08-26"},{"$f":"DW131+1","v":"2025-08-27"},{"$f":"DX131+1","v":"2025-08-28"},{"$f":"IF(DY131=\"／\",\"／\",IF(YEAR(CX130)&TEXT(MONTH(CX130),\"00\")<YEAR(DY131+1)&TEXT(MONTH(DY131+1),\"00\"),\"／\",DY131+1))","v":"2025-08-29"},{"$f":"IF(DZ131=\"／\",\"／\",IF(YEAR(CX130)&TEXT(MONTH(CX130),\"00\")<YEAR(DZ131+1)&TEXT(MONTH(DZ131+1),\"00\"),\"／\",DZ131+1))","v":"2025-08-30"},{"$f":"IF(EA131=\"／\",\"／\",IF(YEAR(CX130)&TEXT(MONTH(CX130),\"00\")<YEAR(EA131+1)&TEXT(MONTH(EA131+1),\"00\"),\"／\",EA131+1))","v":"2025-08-31"},{"$f":"EC130","v":"2025-09-01"},{"$f":"EC131+1","v":"2025-09-02"},{"$f":"ED131+1","v":"2025-09-03"},{"$f":"EE131+1","v":"2025-09-04"},{"$f":"EF131+1","v":"2025-09-05"},{"$f":"EG131+1","v":"2025-09-06"},null,null,null,null,"閉所日数",{"$f":"IF(IF(MONTH($BL$5)=12,YEAR($BL$5)+1&\"01\",YEAR($BL$5)&TEXT(MONTH($BL$5)+1,\"00\"))>YEAR($CX130)&TEXT(MONTH($CX130),\"00\"),COUNTIF(CX134:EB134,\"○\"),\"\")","v":10},{"$f":"IF(OR(MONTH(CX130)=1,MONTH(CX130)=8,MONTH(CX130)=12),IF(COUNTIF(CX134:EB134,\"／\")>=3,\"\",\"算定除外「／」漏れ\"),\"\")","v":""}]
["",null,"曜日",{"$f":"TEXT(WEEKDAY(+D131),\"aaa\")","v":"金"},{"$f":"TEXT(WEEKDAY(+E131),\"aaa\")","v":"土"},"日","月","火",{"$f":"TEXT(WEEKDAY(+I131),\"aaa\")","v":"水"},{"$f":"TEXT(WEEKDAY(+J131),\"aaa\")","v":"木"},"金","土","日","月","火","水","木","金","土","日","月","火","水","木","金",{"$f":"TEXT(WEEKDAY(+Z131),\"aaa\")","v":"土"},{"$f":"TEXT(WEEKDAY(+AA131),\"aaa\")","v":"日"},"月","火","水","木",{"$f":"IF(AF131=\"／\",\"／\",TEXT(WEEKDAY(+AF131),\"aaa\"))","v":"金"},{"$f":"IF(AG131=\"／\",\"／\",TEXT(WEEKDAY(+AG131),\"aaa\"))","v":"土"},"日",{"$f":"TEXT(WEEKDAY(+AI131),\"aaa\")","v":"月"},{"$f":"TEXT(WEEKDAY(+AJ131),\"aaa\")","v":"火"},"水","木","金","土",null,null,null,null,"現場閉所率",{"$f":"IFERROR(+AT131/AT130,\"\")","v":""},{"$f":"IF(AT132=\"\",\"\",IF(COUNTIF(D134:AH134,\"○\")>=COUNTIF(D137:AH137,\"◎\"),\"4週8休以上\",IF(AT132>=0.285,\"4週8休以上\",\"週休2日未達成\")))","v":""},null,null,null,null,null,"曜日",{"$f":"TEXT(WEEKDAY(+BB131),\"aaa\")","v":"金"},{"$f":"TEXT(WEEKDAY(+BC131),\"aaa\")","v":"土"},"日","月","火",{"$f":"TEXT(WEEKDAY(+BG131),\"aaa\")","v":"水"},{"$f":"TEXT(WEEKDAY(+BH131),\"aaa\")","v":"木"},"金","土","日","月","火","水","木","金","土","日","月","火","水","木","金",{"$f":"TEXT(WEEKDAY(+BX131),\"aaa\")","v":"土"},{"$f":"TEXT(WEEKDAY(+BY131),\"aaa\")","v":"日"},"月","火","水","木",{"$f":"IF(CD131=\"／\",\"／\",TEXT(WEEKDAY(+CD131),\"aaa\"))","v":"金"},{"$f":"IF(CE131=\"／\",\"／\",TEXT(WEEKDAY(+CE131),\"aaa\"))","v":"土"},"日",{"$f":"TEXT(WEEKDAY(+CG131),\"aaa\")","v":"月"},{"$f":"TEXT(WEEKDAY(+CH131),\"aaa\")","v":"火"},"水","木","金","土",null,null,null,null,"現場閉所率",{"$f":"IFERROR(+CR131/CR130,\"\")","v":0.35714285714285715},{"$f":"IF(CR132=\"\",\"\",IF(COUNTIF(BB134:CF134,\"○\")>=COUNTIF(BB137:CF137,\"◎\"),\"4週8休以上\",IF(CR132>=0.285,\"4週8休以上\",\"週休2日未達成\")))","v":"4週8休以上"},null,null,null,"曜日",{"$f":"TEXT(WEEKDAY(+CX131),\"aaa\")","v":"金"},{"$f":"TEXT(WEEKDAY(+CY131),\"aaa\")","v":"土"},"日","月","火",{"$f":"TEXT(WEEKDAY(+DC131),\"aaa\")","v":"水"},{"$f":"TEXT(WEEKDAY(+DD131),\"aaa\")","v":"木"},"金","土","日","月","火","水","木","金","土","日","月","火","水","木","金",{"$f":"TEXT(WEEKDAY(+DT131),\"aaa\")","v":"土"},{"$f":"TEXT(WEEKDAY(+DU131),\"aaa\")","v":"日"},"月","火","水","木",{"$f":"IF(DZ131=\"／\",\"／\",TEXT(WEEKDAY(+DZ131),\"aaa\"))","v":"金"},{"$f":"IF(EA131=\"／\",\"／\",TEXT(WEEKDAY(+EA131),\"aaa\"))","v":"土"},"日",{"$f":"TEXT(WEEKDAY(+EC131),\"aaa\")","v":"月"},{"$f":"TEXT(WEEKDAY(+ED131),\"aaa\")","v":"火"},"水","木","金","土",null,null,null,null,"現場閉所率",{"$f":"IFERROR(+EN131/EN130,\"\")","v":0.35714285714285715},{"$f":"IF(EN132=\"\",\"\",IF(COUNTIF(CX134:EB134,\"○\")>=COUNTIF(CX137:EB137,\"◎\"),\"4週8休以上\",IF(EN132>=0.285,\"4週8休以上\",\"週休2日未達成\")))","v":"4週8休以上"}]
["",null,"行事",null,null,null,null,null,null,null,null,null,null,null,null,null,null,null,null,null,null,null,null,null,null,null,null,null,null,null,null,null,null,null,{"$f":"IF(D162=\"\",\"\",D162)","v":""},{"$f":"IF(E162=\"\",\"\",E162)","v":""},{"$f":"IF(F162=\"\",\"\",F162)","v":""},{"$f":"IF(G162=\"\",\"\",G162)","v":""},{"$f":"IF(H162=\"\",\"\",H162)","v":""},{"$f":"IF(I162=\"\",\"\",I162)","v":""},null,null,null,"実施","対象期間",{"$f":"IF(IF(MONTH(入力表!$E$6)=12,YEAR(入力表!$E$6)+1&\"01\",YEAR(入力表!$E$6)&TEXT(MONTH(入力表!$E$6)+1,\"00\"))>YEAR($D130)&TEXT(MONTH($D130),\"00\"),COUNTIF(D135:AH135,\"\")+COUNTIF(D135:AH135,\"●\"),\"\")","v":""},{"$f":"IF(COUNTIF(D131:AH131,\"／\")=0,\"\",IF(COUNTIF(D131:AH131,\"／\")=1,IF(AH135=\"／\",\"\",\"月末「／」漏れ\"),IF(COUNTIF(D131:AH131,\"／\")=2,IF(AND(AG135=\"／\",AH135=\"／\"),\"\",\"月末「／」漏れ\"),IF(AND(AF135=\"／\",AG135=\"／\",AH135=\"／\"),\"\",\"月末「／」漏れ\"))))","v":""},null,null,null,null,null,"行事",null,null,null,null,null,null,null,null,null,null,null,null,null,null,null,null,null,null,null,null,null,null,null,null,null,null,null,null,null,null,null,{"$f":"IF(BB162=\"\",\"\",BB162)","v":""},{"$f":"IF(BC162=\"\",\"\",BC162)","v":""},{"$f":"IF(BD162=\"\",\"\",BD162)","v":""},{"$f":"IF(BE162=\"\",\"\",BE162)","v":""},{"$f":"IF(BF162=\"\",\"\",BF162)","v":""},{"$f":"IF(BG162=\"\",\"\",BG162)","v":""},null,null,null,"実施","対象期間",{"$f":"IF(IF(MONTH($BL$5)=12,YEAR($BL$5)+1&\"01\",YEAR($BL$5)&TEXT(MONTH($BL$5)+1,\"00\"))>YEAR(BB130)&TEXT(MONTH(BB130),\"00\"),COUNTIF(BB135:CF135,\"\")+COUNTIF(BB135:CF135,\"●\"),\"\")","v":28},{"$f":"IF(COUNTIF(BB131:CF131,\"／\")=0,\"\",IF(COUNTIF(BB131:CF131,\"／\")=1,IF(CF135=\"／\",\"\",\"月末「／」漏れ\"),IF(COUNTIF(BB131:CF131,\"／\")=2,IF(AND(CE135=\"／\",CF135=\"／\"),\"\",\"月末「／」漏れ\"),IF(AND(CD135=\"／\",CE135=\"／\",CF135=\"／\"),\"\",\"月末「／」漏れ\"))))","v":""},null,null,null,"行事",null,null,null,null,null,null,null,null,null,null,null,null,null,null,null,null,null,null,null,null,null,null,null,null,null,null,null,null,null,null,null,{"$f":"IF(CX162=\"\",\"\",CX162)","v":""},{"$f":"IF(CY162=\"\",\"\",CY162)","v":""},{"$f":"IF(CZ162=\"\",\"\",CZ162)","v":""},{"$f":"IF(DA162=\"\",\"\",DA162)","v":""},{"$f":"IF(DB162=\"\",\"\",DB162)","v":""},{"$f":"IF(DC162=\"\",\"\",DC162)","v":""},null,null,null,"実施","対象期間",{"$f":"IF(IF(MONTH($BL$5)=12,YEAR($BL$5)+1&\"01\",YEAR($BL$5)&TEXT(MONTH($BL$5)+1,\"00\"))>YEAR($CX130)&TEXT(MONTH($CX130),\"00\"),COUNTIF(CX135:EB135,\"\")+COUNTIF(CX135:EB135,\"●\"),\"\")","v":28},{"$f":"IF(COUNTIF(CX131:EB131,\"／\")=0,\"\",IF(COUNTIF(CX131:EB131,\"／\")=1,IF(EB135=\"／\",\"\",\"月末「／」漏れ\"),IF(COUNTIF(CX131:EB131,\"／\")=2,IF(AND(EA135=\"／\",EB135=\"／\"),\"\",\"月末「／」漏れ\"),IF(AND(DZ135=\"／\",EA135=\"／\",EB135=\"／\"),\"\",\"月末「／」漏れ\"))))","v":""}]
["",null,"計画",null,null,null,null,null,null,null,null,null,null,null,null,null,null,null,null,null,null,null,null,null,null,null,null,null,null,null,null,null,null,null,{"$f":"IF(D163=\"\",\"\",D163)","v":""},{"$f":"IF(E163=\"\",\"\",E163)","v":""},{"$f":"IF(F163=\"\",\"\",F163)","v":""},{"$f":"IF(G163=\"\",\"\",G163)","v":""},{"$f":"IF(H163=\"\",\"\",H163)","v":""},{"$f":"IF(I163=\"\",\"\",I163)","v":""},{"$f":"COUNTIF(D134:AH134,\"○\")","v":0},{"$f":"+AO134+AP105","v":0},null,null,"閉所日数",{"$f":"IF(IF(MONTH(入力表!$E$6)=12,YEAR(入力表!$E$6)+1&\"01\",YEAR(入力表!$E$6)&TEXT(MONTH(入力表!$E$6)+1,\"00\"))>YEAR($D130)&TEXT(MONTH($D130),\"00\"),COUNTIF(D135:AH135,\"●\"),\"\")","v":""},{"$f":"IF(OR(MONTH(D130)=1,MONTH(D130)=8,MONTH(D130)=12),IF(COUNTIF(D135:AH135,\"／\")>=3,\"\",\"算定除外「／」漏れ\"),\"\")","v":"算定除外「／」漏れ"},null,null,null,null,null,"計画",null,"○","○",null,null,null,null,null,"○","○",null,null,"／","／","／","○","○",null,null,null,null,null,"○","○",null,null,null,null,null,"○","○",{"$f":"IF(BB163=\"\",\"\",BB163)","v":""},"","","","","○",{"$f":"COUNTIF(BB134:CF134,\"○\")","v":10},{"$f":"+CM134+CN105","v":33},null,null,"閉所日数",{"$f":"IF(IF(MONTH($BL$5)=12,YEAR($BL$5)+1&\"01\",YEAR($BL$5)&TEXT(MONTH($BL$5)+1,\"00\"))>YEAR(BB130)&TEXT(MONTH(BB130),\"00\"),COUNTIF(BB135:CF135,\"●\"),\"\")","v":0},{"$f":"IF(OR(MONTH(BB130)=1,MONTH(BB130)=8,MONTH(BB130)=12),IF(COUNTIF(BB135:CF135,\"／\")>=3,\"\",\"算定除外「／」漏れ\"),\"\")","v":""},null,null,null,"計画",null,"○","○",null,null,null,null,null,"○","○",null,null,"／","／","／","○","○",null,null,null,null,null,"○","○",null,null,null,null,null,"○","○",{"$f":"IF(CX163=\"\",\"\",CX163)","v":""},"","","","","○",{"$f":"COUNTIF(CX134:EB134,\"○\")","v":10},{"$f":"+EI134+EJ105","v":33},null,null,"閉所日数",{"$f":"IF(IF(MONTH($BL$5)=12,YEAR($BL$5)+1&\"01\",YEAR($BL$5)&TEXT(MONTH($BL$5)+1,\"00\"))>YEAR($CX130)&TEXT(MONTH($CX130),\"00\"),COUNTIF(CX135:EB135,\"●\"),\"\")","v":10},{"$f":"IF(OR(MONTH(CX130)=1,MONTH(CX130)=8,MONTH(CX130)=12),IF(COUNTIF(CX135:EB135,\"／\")>=3,\"\",\"算定除外「／」漏れ\"),\"\")","v":""}]
["",null,"実施",null,null,null,null,null,null,null,null,null,null,null,null,null,null,null,null,null,null,null,null,null,null,null,null,null,null,null,null,null,null,null,{"$f":"IF(D164=\"\",\"\",D164)","v":""},{"$f":"IF(E164=\"\",\"\",E164)","v":""},{"$f":"IF(F164=\"\",\"\",F164)","v":""},{"$f":"IF(G164=\"\",\"\",G164)","v":""},{"$f":"IF(H164=\"\",\"\",H164)","v":""},{"$f":"IF(I164=\"\",\"\",I164)","v":""},{"$f":"COUNTIF(D135:AH135,\"●\")","v":0},{"$f":"+AO135+AP106","v":0},null,null,"現場閉所率",{"$f":"IFERROR(+AT134/AT133,\"\")","v":""},{"$f":"IF(AT135=\"\",\"\",IF(COUNTIF(D135:AH135,\"●\")>=COUNTIF(D138:AH138,\"◎\"),\"4週8休以上\",IF(AT135>=0.285,\"4週8休以上\",\"週休2日未達成\")))","v":""},null,null,null,null,null,"実施",null,null,null,null,null,null,null,null,null,null,null,null,"／","／","／",null,null,null,null,null,null,null,null,null,null,null,null,null,null,null,null,{"$f":"IF(BB164=\"\",\"\",BB164)","v":""},{"$f":"IF(BC164=\"\",\"\",BC164)","v":""},{"$f":"IF(BD164=\"\",\"\",BD164)","v":""},{"$f":"IF(BE164=\"\",\"\",BE164)","v":""},{"$f":"IF(BF164=\"\",\"\",BF164)","v":""},{"$f":"IF(BG164=\"\",\"\",BG164)","v":""},{"$f":"COUNTIF(BB135:CF135,\"●\")","v":0},{"$f":"+CM135+CN106","v":0},null,null,"現場閉所率",{"$f":"IFERROR(+CR134/CR133,\"\")","v":0},{"$f":"IF(CR135=\"\",\"\",IF(COUNTIF(BB135:CF135,\"●\")>=COUNTIF(BB138:CF138,\"◎\"),\"4週8休以上\",IF(CR135>=0.285,\"4週8休以上\",\"週休2日未達成\")))","v":"週休2日未達成"},null,null,null,"実施",null,"●","●",null,null,null,null,null,"●","●",null,null,"／","／","／","●","●",null,null,null,null,null,"●","●",null,null,null,null,null,"●","●",{"$f":"IF(CX164=\"\",\"\",CX164)","v":""},{"$f":"IF(CY164=\"\",\"\",CY164)","v":""},{"$f":"IF(CZ164=\"\",\"\",CZ164)","v":""},{"$f":"IF(DA164=\"\",\"\",DA164)","v":""},{"$f":"IF(DB164=\"\",\"\",DB164)","v":""},{"$f":"IF(DC164=\"\",\"\",DC164)","v":"●"},{"$f":"COUNTIF(CX135:EB135,\"●\")","v":10},{"$f":"+EI135+EJ106","v":34},null,null,"現場閉所率",{"$f":"IFERROR(+EN134/EN133,\"\")","v":0.35714285714285715},{"$f":"IF(EN135=\"\",\"\",IF(COUNTIF(CX135:EB135,\"●\")>=COUNTIF(CX138:EB138,\"◎\"),\"4週8休以上\",IF(EN135>=0.285,\"4週8休以上\",\"週休2日未達成\")))","v":"4週8休以上"}]
[null,null,null,1,2,3,4,5,6,7,8,9,10,11,12,13,14,15,16,17,18,19,20,21,22,23,24,25,26,27,28,29,30,31,32,33,34,35,36,37,null,null,null,null,{"$f":"AU135","v":""},null,null,null,null,null,null,null,null,1,2,3,4,5,6,7,8,9,10,11,12,13,14,15,16,17,18,19,20,21,22,23,24,25,26,27,28,29,30,31,32,33,34,35,36,37,null,null,null,null,{"$f":"CS135","v":"週休2日未達成"},null,null,null,null,null,null,1,2,3,4,5,6,7,8,9,10,11,12,13,14,15,16,17,18,19,20,21,22,23,24,25,26,27,28,29,30,31,32,33,34,35,36,37,null,null,null,null,{"$f":"EO135","v":"4週8休以上"}]
[null,null,"計画",{"$f":"IF(D134=\"／\",\"／\",IF(OR(D132=\"土\",D132=\"日\"),\"◎\",\"\"))","v":""},{"$f":"IF(E134=\"／\",\"／\",IF(OR(E132=\"土\",E132=\"日\"),\"◎\",\"\"))","v":"◎"},"◎","","","","","","◎","◎","","","","","","◎","◎","","","","","","◎","◎","","",{"$f":"IF(AD134=\"／\",\"／\",IF(OR(AD132=\"土\",AD132=\"日\"),\"◎\",\"\"))","v":""},{"$f":"IF(AE134=\"／\",\"／\",IF(OR(AE132=\"土\",AE132=\"日\"),\"◎\",\"\"))","v":""},"","◎","◎","","","","","","◎",null,null,null,null,{"$f":"AT139","v":""},null,null,null,null,null,null,null,"計画",{"$f":"IF(BB134=\"／\",\"／\",IF(OR(BB132=\"土\",BB132=\"日\"),\"◎\",\"\"))","v":""},"◎","◎","","","","","","◎","◎","","",{"$f":"IF(BN134=\"／\",\"／\",IF(OR(BN132=\"土\",BN132=\"日\"),\"◎\",\"\"))","v":"／"},{"$f":"IF(BO134=\"／\",\"／\",IF(OR(BO132=\"土\",BO132=\"日\"),\"◎\",\"\"))","v":"／"},"／","◎","◎","","","","","","◎","◎","","",{"$f":"IF(CB134=\"／\",\"／\",IF(OR(CB132=\"土\",CB132=\"日\"),\"◎\",\"\"))","v":""},{"$f":"IF(CC134=\"／\",\"／\",IF(OR(CC132=\"土\",CC132=\"日\"),\"◎\",\"\"))","v":""},"","◎","◎","","","","","","◎",null,null,null,null,{"$f":"CR139","v":"OUT"},null,null,null,null,null,"計画",{"$f":"IF(CX134=\"／\",\"／\",IF(OR(CX132=\"土\",CX132=\"日\"),\"◎\",\"\"))","v":""},"◎","◎","","","","","","◎","◎","","",{"$f":"IF(DJ134=\"／\",\"／\",IF(OR(DJ132=\"土\",DJ132=\"日\"),\"◎\",\"\"))","v":"／"},{"$f":"IF(DK134=\"／\",\"／\",IF(OR(DK132=\"土\",DK132=\"日\"),\"◎\",\"\"))","v":"／"},"／","◎","◎","","","","","","◎","◎","","",{"$f":"IF(DX134=\"／\",\"／\",IF(OR(DX132=\"土\",DX132=\"日\"),\"◎\",\"\"))","v":""},{"$f":"IF(DY134=\"／\",\"／\",IF(OR(DY132=\"土\",DY132=\"日\"),\"◎\",\"\"))","v":""},"","◎","◎","","","","","","◎",null,null,null,null,{"$f":"EN139","v":"OK"}]
[null,null,"実施",{"$f":"IF(D135=\"／\",\"／\",IF(OR(D132=\"土\",D132=\"日\"),\"◎\",\"\"))","v":""},{"$f":"IF(E135=\"／\",\"／\",IF(OR(E132=\"土\",E132=\"日\"),\"◎\",\"\"))","v":"◎"},"◎","","","","","","◎","◎","","","","","","◎","◎","","","","","","◎","◎","","","","","","◎","◎","","","","","","◎",null,null,null,null,null,null,null,null,null,null,null,null,"実施",{"$f":"IF(BB135=\"／\",\"／\",IF(OR(BB132=\"土\",BB132=\"日\"),\"◎\",\"\"))","v":""},{"$f":"IF(BC135=\"／\",\"／\",IF(OR(BC132=\"土\",BC132=\"日\"),\"◎\",\"\"))","v":"◎"},"◎","","","","","","◎","◎","","","／","／","／","◎","◎","","","","","","◎","◎","","","","","","◎","◎","","","","","","◎",null,null,null,null,null,null,null,null,null,null,"実施",{"$f":"IF(CX135=\"／\",\"／\",IF(OR(CX132=\"土\",CX132=\"日\"),\"◎\",\"\"))","v":""},{"$f":"IF(CY135=\"／\",\"／\",IF(OR(CY132=\"土\",CY132=\"日\"),\"◎\",\"\"))","v":"◎"},"◎","","","","","","◎","◎","","","／","／","／","◎","◎","","","","","","◎","◎","","","","","","◎","◎","","","","","","◎"]
["",null,"完全",{"$f":"IF(WEEKDAY(DATE(YEAR(D130),MONTH(D130),1),2)=1,DATE(YEAR(D130),MONTH(D130),1),EOMONTH(D130,-1)-MOD(WEEKDAY(EOMONTH(D130,-1),2)+6,7))","v":"2025-07-28"},"～",{"$f":"DATE(YEAR(D130),MONTH(D130),1)+MOD(7-WEEKDAY(DATE(YEAR(D130),MONTH(D130),1),2),7)","v":"2025-08-03"},{"$f":"IF(DAY(D139)=1,IF(COUNTIF(D135:J135,\"／\")>=1,\"対象外\",IF(COUNTIF(INDEX(D135:AN135,DAY(D139)):INDEX(D135:AN135,HLOOKUP(F139,D131:AN136,6,FALSE)),\"\")+COUNTIF(INDEX(D135:AN135,DAY(D139)):INDEX(D135:AN135,HLOOKUP(F139,D131:AN136,6,FALSE)),\"●\")=7,IF(COUNTIF(INDEX(D135:AN135,DAY(D139)):INDEX(D135:AN135,HLOOKUP(F139,D131:AN136,6,FALSE)),\"●\")>=2,\"OK\",\"OUT\"),IF(COUNTIF(INDEX(D135:AN135,DAY(D139)):INDEX(D135:AN135,HLOOKUP(F139,D131:AN136,6,FALSE)),\"●\")>=COUNTIF(INDEX(D138:AN138,DAY(D139)):INDEX(D138:AN138,HLOOKUP(F139,D131:AN136,6,FALSE)),\"○\"),\"OK\",\"OUT\"))),IF(AND(AK110=\"\",AE110=\"\"),Y110,IF(AK110=\"\",AE110,AK110)))","v":"OUT"},null,null,{"$f":"F139+1","v":"2025-08-04"},"～",{"$f":"F139+7","v":"2025-08-10"},{"$f":"IF(COUNTIF(INDEX(D135:AN135,DAY(J139)):INDEX(D135:AN135,HLOOKUP(L139,D131:AN136,6,FALSE)),\"\")+COUNTIF(INDEX(D135:AN135,DAY(J139)):INDEX(D135:AN135,HLOOKUP(L139,D131:AN136,6,FALSE)),\"●\")=7,IF(COUNTIF(INDEX(D135:AN135,DAY(J139)):INDEX(D135:AN135,HLOOKUP(L139,D131:AN136,6,FALSE)),\"●\")>=2,\"OK\",\"OUT\"),\"対象外\")","v":"OUT"},null,null,{"$f":"L139+1","v":"2025-08-11"},"～",{"$f":"L139+7","v":"2025-08-17"},{"$f":"IF(COUNTIF(INDEX(D135:AN135,DAY(P139)):INDEX(D135:AN135,HLOOKUP(R139,D131:AN136,6,FALSE)),\"\")+COUNTIF(INDEX(D135:AN135,DAY(P139)):INDEX(D135:AN135,HLOOKUP(R139,D131:AN136,6,FALSE)),\"●\")=7,IF(COUNTIF(INDEX(D135:AN135,DAY(P139)):INDEX(D135:AN135,HLOOKUP(R139,D131:AN136,6,FALSE)),\"●\")>=2,\"OK\",\"OUT\"),\"対象外\")","v":"OUT"},null,null,{"$f":"R139+1","v":"2025-08-18"},"～",{"$f":"R139+7","v":"2025-08-24"},{"$f":"IF(COUNTIF(INDEX(D135:AN135,DAY(V139)):INDEX(D135:AN135,HLOOKUP(X139,D131:AN136,6,FALSE)),\"\")+COUNTIF(INDEX(D135:AN135,DAY(V139)):INDEX(D135:AN135,HLOOKUP(X139,D131:AN136,6,FALSE)),\"●\")=7,IF(COUNTIF(INDEX(D135:AN135,DAY(V139)):INDEX(D135:AN135,HLOOKUP(X139,D131:AN136,6,FALSE)),\"●\")>=2,\"OK\",\"OUT\"),\"対象外\")","v":"OUT"},null,null,{"$f":"IF(AND(DAY(X139+7)<23,DAY(X139+7)>=7),\"\",X139+1)","v":"2025-08-25"},{"$f":"IF(AND(DAY(X139+7)<23,DAY(X139+7)>=7),\"\",\"～\")","v":"～"},{"$f":"IF(AND(DAY(X139+7)<23,DAY(X139+7)>=7),\"\",X139+7)","v":"2025-08-31"},{"$f":"IF(AND(DAY(X139+7)<23,DAY(X139+7)>=7),\"\",IF(COUNTIF(INDEX(D135:AN135,DAY(AB139)):INDEX(D135:AN135,HLOOKUP(AD139,D131:AN136,6,FALSE)),\"\")+COUNTIF(INDEX(D135:AN135,DAY(AB139)):INDEX(D135:AN135,HLOOKUP(AD139,D131:AN136,6,FALSE)),\"●\")=7,IF(COUNTIF(INDEX(D135:AN135,DAY(AB139)):INDEX(D135:AN135,HLOOKUP(AD139,D131:AN136,6,FALSE)),\"●\")>=2,\"OK\",\"OUT\"),IF(COUNTIF(INDEX(D135:AN135,DAY(AB139)):INDEX(D135:AN135,HLOOKUP(AD139,D131:AN136,6,FALSE)),\"\")+COUNTIF(INDEX(D135:AN135,DAY(AB139)):INDEX(D135:AN135,HLOOKUP(AD139,D131:AN136,6,FALSE)),\"●\")>7,\"「／」漏れ\",\"対象外\")))","v":"OUT"},null,null,{"$f":"IF(AE139=\"\",\"\",IF(AND(DAY(AD139+7)<23,DAY(AD139+7)>=7),\"\",AD139+1))","v":""},{"$f":"IF(AE139=\"\",\"\",IF(AND(DAY(AD139+7)<23,DAY(AD139+7)>=7),\"\",\"～\"))","v":""},{"$f":"IF(AE139=\"\",\"\",IF(AND(DAY(AD139+7)<23,DAY(AD139+7)>=7),\"\",AD139+7))","v":""},{"$f":"IF(AE139=\"\",\"\",IF(AND(DAY(AD139+7)<23,DAY(AD139+7)>=7),\"\",IF(COUNTIF(INDEX(D135:AN135,DAY(AH139)):INDEX(D135:AN135,HLOOKUP(AJ139,D131:AN136,6,FALSE)),\"\")+COUNTIF(INDEX(D135:AN135,DAY(AH139)):INDEX(D135:AN135,HLOOKUP(AJ139,D131:AN136,6,FALSE)),\"●\")=7,IF(COUNTIF(INDEX(D135:AN135,DAY(AH139)):INDEX(D135:AN135,HLOOKUP(AJ139,D131:AN136,6,FALSE)),\"●\")>=2,\"OK\",\"OUT\"),IF(COUNTIF(INDEX(D135:AN135,HLOOKUP(AH139,D131:AN136,6,FALSE)):INDEX(D135:AN135,HLOOKUP(AJ139,D131:AN136,6,FALSE)),\"\")+COUNTIF(INDEX(D135:AN135,HLOOKUP(AH139,D131:AN136,6,FALSE)):INDEX(D135:AN135,HLOOKUP(AJ139,D131:AN136,6,FALSE)),\"●\")>7,\"「／」漏れ\",\"対象外\"))))","v":""},null,null,null,null,null,null,null,"完全週休二日",{"$f":"IF(AT130=\"\",\"\",IF(COUNTIF(D139:AN139,\"OUT\")>=1,\"OUT\",\"OK\"))","v":""},null,null,null,null,null,null,"完全",{"$f":"IF(WEEKDAY(DATE(YEAR(BB130),MONTH(BB130),1),2)=1,DATE(YEAR(BB130),MONTH(BB130),1),EOMONTH(BB130,-1)-MOD(WEEKDAY(EOMONTH(BB130,-1),2)+6,7))","v":"2025-07-28"},"～",{"$f":"DATE(YEAR(BB130),MONTH(BB130),1)+MOD(7-WEEKDAY(DATE(YEAR(BB130),MONTH(BB130),1),2),7)","v":"2025-08-03"},{"$f":"IF(DAY(BB139)=1,IF(COUNTIF(BB135:BH135,\"／\")>=1,\"対象外\",IF(COUNTIF(INDEX(BB135:CL135,DAY(BB139)):INDEX(BB135:CL135,HLOOKUP(BD139,BB131:CL136,6,FALSE)),\"\")+COUNTIF(INDEX(BB135:CL135,DAY(BB139)):INDEX(BB135:CL135,HLOOKUP(BD139,BB131:CL136,6,FALSE)),\"●\")=7,IF(COUNTIF(INDEX(BB135:CL135,DAY(BB139)):INDEX(BB135:CL135,HLOOKUP(BD139,BB131:CL136,6,FALSE)),\"●\")>=2,\"OK\",\"OUT\"),IF(COUNTIF(INDEX(BB135:CL135,DAY(BB139)):INDEX(BB135:CL135,HLOOKUP(BD139,BB131:CL136,6,FALSE)),\"●\")>=COUNTIF(INDEX(BB138:CL138,DAY(BB139)):INDEX(BB138:CL138,HLOOKUP(BD139,BB131:CL136,6,FALSE)),\"○\"),\"OK\",\"OUT\"))),IF(AND(CI110=\"\",CC110=\"\"),BW110,IF(CI110=\"\",CC110,CI110)))","v":"OUT"},null,null,{"$f":"BD139+1","v":"2025-08-04"},"～",{"$f":"BD139+7","v":"2025-08-10"},{"$f":"IF(COUNTIF(INDEX(BB135:CL135,DAY(BH139)):INDEX(BB135:CL135,HLOOKUP(BJ139,BB131:CL136,6,FALSE)),\"\")+COUNTIF(INDEX(BB135:CL135,DAY(BH139)):INDEX(BB135:CL135,HLOOKUP(BJ139,BB131:CL136,6,FALSE)),\"●\")=7,IF(COUNTIF(INDEX(BB135:CL135,DAY(BH139)):INDEX(BB135:CL135,HLOOKUP(BJ139,BB131:CL136,6,FALSE)),\"●\")>=2,\"OK\",\"OUT\"),\"対象外\")","v":"OUT"},null,null,{"$f":"BJ139+1","v":"2025-08-11"},"～",{"$f":"BJ139+7","v":"2025-08-17"},{"$f":"IF(COUNTIF(INDEX(BB135:CL135,DAY(BN139)):INDEX(BB135:CL135,HLOOKUP(BP139,BB131:CL136,6,FALSE)),\"\")+COUNTIF(INDEX(BB135:CL135,DAY(BN139)):INDEX(BB135:CL135,HLOOKUP(BP139,BB131:CL136,6,FALSE)),\"●\")=7,IF(COUNTIF(INDEX(BB135:CL135,DAY(BN139)):INDEX(BB135:CL135,HLOOKUP(BP139,BB131:CL136,6,FALSE)),\"●\")>=2,\"OK\",\"OUT\"),\"対象外\")","v":"対象外"},null,null,{"$f":"BP139+1","v":"2025-08-18"},"～",{"$f":"BP139+7","v":"2025-08-24"},{"$f":"IF(COUNTIF(INDEX(BB135:CL135,DAY(BT139)):INDEX(BB135:CL135,HLOOKUP(BV139,BB131:CL136,6,FALSE)),\"\")+COUNTIF(INDEX(BB135:CL135,DAY(BT139)):INDEX(BB135:CL135,HLOOKUP(BV139,BB131:CL136,6,FALSE)),\"●\")=7,IF(COUNTIF(INDEX(BB135:CL135,DAY(BT139)):INDEX(BB135:CL135,HLOOKUP(BV139,BB131:CL136,6,FALSE)),\"●\")>=2,\"OK\",\"OUT\"),\"対象外\")","v":"OUT"},null,null,{"$f":"IF(AND(DAY(BV139+7)<23,DAY(BV139+7)>=7),\"\",BV139+1)","v":"2025-08-25"},{"$f":"IF(AND(DAY(BV139+7)<23,DAY(BV139+7)>=7),\"\",\"～\")","v":"～"},{"$f":"IF(AND(DAY(BV139+7)<23,DAY(BV139+7)>=7),\"\",BV139+7)","v":"2025-08-31"},{"$f":"IF(AND(DAY(BV139+7)<23,DAY(BV139+7)>=7),\"\",IF(COUNTIF(INDEX(BB135:CL135,DAY(BZ139)):INDEX(BB135:CL135,HLOOKUP(CB139,BB131:CL136,6,FALSE)),\"\")+COUNTIF(INDEX(BB135:CL135,DAY(BZ139)):INDEX(BB135:CL135,HLOOKUP(CB139,BB131:CL136,6,FALSE)),\"●\")=7,IF(COUNTIF(INDEX(BB135:CL135,DAY(BZ139)):INDEX(BB135:CL135,HLOOKUP(CB139,BB131:CL136,6,FALSE)),\"●\")>=2,\"OK\",\"OUT\"),IF(COUNTIF(INDEX(BB135:CL135,DAY(BZ139)):INDEX(BB135:CL135,HLOOKUP(CB139,BB131:CL136,6,FALSE)),\"\")+COUNTIF(INDEX(BB135:CL135,DAY(BZ139)):INDEX(BB135:CL135,HLOOKUP(CB139,BB131:CL136,6,FALSE)),\"●\")>7,\"「／」漏れ\",\"対象外\")))","v":"OUT"},null,null,{"$f":"IF(CC139=\"\",\"\",IF(AND(DAY(CB139+7)<23,DAY(CB139+7)>=7),\"\",CB139+1))","v":""},{"$f":"IF(CC139=\"\",\"\",IF(AND(DAY(CB139+7)<23,DAY(CB139+7)>=7),\"\",\"～\"))","v":""},{"$f":"IF(CC139=\"\",\"\",IF(AND(DAY(CB139+7)<23,DAY(CB139+7)>=7),\"\",CB139+7))","v":""},{"$f":"IF(CC139=\"\",\"\",IF(AND(DAY(CB139+7)<23,DAY(CB139+7)>=7),\"\",IF(COUNTIF(INDEX(BB135:CL135,DAY(CF139)):INDEX(BB135:CL135,HLOOKUP(CH139,BB131:CL136,6,FALSE)),\"\")+COUNTIF(INDEX(BB135:CL135,DAY(CF139)):INDEX(BB135:CL135,HLOOKUP(CH139,BB131:CL136,6,FALSE)),\"●\")=7,IF(COUNTIF(INDEX(BB135:CL135,DAY(CF139)):INDEX(BB135:CL135,HLOOKUP(CH139,BB131:CL136,6,FALSE)),\"●\")>=2,\"OK\",\"OUT\"),IF(COUNTIF(INDEX(BB135:CL135,HLOOKUP(CF139,BB131:CL136,6,FALSE)):INDEX(BB135:CL135,HLOOKUP(CH139,BB131:CL136,6,FALSE)),\"\")+COUNTIF(INDEX(BB135:CL135,HLOOKUP(CF139,BB131:CL136,6,FALSE)):INDEX(BB135:CL135,HLOOKUP(CH139,BB131:CL136,6,FALSE)),\"●\")>7,\"「／」漏れ\",\"対象外\"))))","v":""},null,null,null,null,null,null,null,"完全週休二日",{"$f":"IF(CR130=\"\",\"\",IF(COUNTIF(BB139:CL139,\"OUT\")>=1,\"OUT\",\"OK\"))","v":"OUT"},null,null,null,null,"完全",{"$f":"IF(WEEKDAY(DATE(YEAR(CX130),MONTH(CX130),1),2)=1,DATE(YEAR(CX130),MONTH(CX130),1),EOMONTH(CX130,-1)-MOD(WEEKDAY(EOMONTH(CX130,-1),2)+6,7))","v":"2025-07-28"},"～",{"$f":"DATE(YEAR(CX130),MONTH(CX130),1)+MOD(7-WEEKDAY(DATE(YEAR(CX130),MONTH(CX130),1),2),7)","v":"2025-08-03"},{"$f":"IF(DAY(CX139)=1,IF(COUNTIF(CX135:DD135,\"／\")>=1,\"対象外\",IF(COUNTIF(INDEX(CX135:EH135,DAY(CX139)):INDEX(CX135:EH135,HLOOKUP(CZ139,CX131:EH136,6,FALSE)),\"\")+COUNTIF(INDEX(CX135:EH135,DAY(CX139)):INDEX(CX135:EH135,HLOOKUP(CZ139,CX131:EH136,6,FALSE)),\"●\")=7,IF(COUNTIF(INDEX(CX135:EH135,DAY(CX139)):INDEX(CX135:EH135,HLOOKUP(CZ139,CX131:EH136,6,FALSE)),\"●\")>=2,\"OK\",\"OUT\"),IF(COUNTIF(INDEX(CX135:EH135,DAY(CX139)):INDEX(CX135:EH135,HLOOKUP(CZ139,CX131:EH136,6,FALSE)),\"●\")>=COUNTIF(INDEX(CX138:EH138,DAY(CX139)):INDEX(CX138:EH138,HLOOKUP(CZ139,CX131:EH136,6,FALSE)),\"○\"),\"OK\",\"OUT\"))),IF(AND(EE110=\"\",DY110=\"\"),DS110,IF(EE110=\"\",DY110,EE110)))","v":"OK"},null,null,{"$f":"CZ139+1","v":"2025-08-04"},"～",{"$f":"CZ139+7","v":"2025-08-10"},{"$f":"IF(COUNTIF(INDEX(CX135:EH135,DAY(DD139)):INDEX(CX135:EH135,HLOOKUP(DF139,CX131:EH136,6,FALSE)),\"\")+COUNTIF(INDEX(CX135:EH135,DAY(DD139)):INDEX(CX135:EH135,HLOOKUP(DF139,CX131:EH136,6,FALSE)),\"●\")=7,IF(COUNTIF(INDEX(CX135:EH135,DAY(DD139)):INDEX(CX135:EH135,HLOOKUP(DF139,CX131:EH136,6,FALSE)),\"●\")>=2,\"OK\",\"OUT\"),\"対象外\")","v":"OK"},null,null,{"$f":"DF139+1","v":"2025-08-11"},"～",{"$f":"DF139+7","v":"2025-08-17"},{"$f":"IF(COUNTIF(INDEX(CX135:EH135,DAY(DJ139)):INDEX(CX135:EH135,HLOOKUP(DL139,CX131:EH136,6,FALSE)),\"\")+COUNTIF(INDEX(CX135:EH135,DAY(DJ139)):INDEX(CX135:EH135,HLOOKUP(DL139,CX131:EH136,6,FALSE)),\"●\")=7,IF(COUNTIF(INDEX(CX135:EH135,DAY(DJ139)):INDEX(CX135:EH135,HLOOKUP(DL139,CX131:EH136,6,FALSE)),\"●\")>=2,\"OK\",\"OUT\"),\"対象外\")","v":"対象外"},null,null,{"$f":"DL139+1","v":"2025-08-18"},"～",{"$f":"DL139+7","v":"2025-08-24"},{"$f":"IF(COUNTIF(INDEX(CX135:EH135,DAY(DP139)):INDEX(CX135:EH135,HLOOKUP(DR139,CX131:EH136,6,FALSE)),\"\")+COUNTIF(INDEX(CX135:EH135,DAY(DP139)):INDEX(CX135:EH135,HLOOKUP(DR139,CX131:EH136,6,FALSE)),\"●\")=7,IF(COUNTIF(INDEX(CX135:EH135,DAY(DP139)):INDEX(CX135:EH135,HLOOKUP(DR139,CX131:EH136,6,FALSE)),\"●\")>=2,\"OK\",\"OUT\"),\"対象外\")","v":"OK"},null,null,{"$f":"IF(AND(DAY(DR139+7)<23,DAY(DR139+7)>=7),\"\",DR139+1)","v":"2025-08-25"},{"$f":"IF(AND(DAY(DR139+7)<23,DAY(DR139+7)>=7),\"\",\"～\")","v":"～"},{"$f":"IF(AND(DAY(DR139+7)<23,DAY(DR139+7)>=7),\"\",DR139+7)","v":"2025-08-31"},{"$f":"IF(AND(DAY(DR139+7)<23,DAY(DR139+7)>=7),\"\",IF(COUNTIF(INDEX(CX135:EH135,DAY(DV139)):INDEX(CX135:EH135,HLOOKUP(DX139,CX131:EH136,6,FALSE)),\"\")+COUNTIF(INDEX(CX135:EH135,DAY(DV139)):INDEX(CX135:EH135,HLOOKUP(DX139,CX131:EH136,6,FALSE)),\"●\")=7,IF(COUNTIF(INDEX(CX135:EH135,DAY(DV139)):INDEX(CX135:EH135,HLOOKUP(DX139,CX131:EH136,6,FALSE)),\"●\")>=2,\"OK\",\"OUT\"),IF(COUNTIF(INDEX(CX135:EH135,DAY(DV139)):INDEX(CX135:EH135,HLOOKUP(DX139,CX131:EH136,6,FALSE)),\"\")+COUNTIF(INDEX(CX135:EH135,DAY(DV139)):INDEX(CX135:EH135,HLOOKUP(DX139,CX131:EH136,6,FALSE)),\"●\")>7,\"「／」漏れ\",\"対象外\")))","v":"OK"},null,null,{"$f":"IF(DY139=\"\",\"\",IF(AND(DAY(DX139+7)<23,DAY(DX139+7)>=7),\"\",DX139+1))","v":""},{"$f":"IF(DY139=\"\",\"\",IF(AND(DAY(DX139+7)<23,DAY(DX139+7)>=7),\"\",\"～\"))","v":""},{"$f":"IF(DY139=\"\",\"\",IF(AND(DAY(DX139+7)<23,DAY(DX139+7)>=7),\"\",DX139+7))","v":""},{"$f":"IF(DY139=\"\",\"\",IF(AND(DAY(DX139+7)<23,DAY(DX139+7)>=7),\"\",IF(COUNTIF(INDEX(CX135:EH135,DAY(EB139)):INDEX(CX135:EH135,HLOOKUP(ED139,CX131:EH136,6,FALSE)),\"\")+COUNTIF(INDEX(CX135:EH135,DAY(EB139)):INDEX(CX135:EH135,HLOOKUP(ED139,CX131:EH136,6,FALSE)),\"●\")=7,IF(COUNTIF(INDEX(CX135:EH135,DAY(EB139)):INDEX(CX135:EH135,HLOOKUP(ED139,CX131:EH136,6,FALSE)),\"●\")>=2,\"OK\",\"OUT\"),IF(COUNTIF(INDEX(CX135:EH135,HLOOKUP(EB139,CX131:EH136,6,FALSE)):INDEX(CX135:EH135,HLOOKUP(ED139,CX131:EH136,6,FALSE)),\"\")+COUNTIF(INDEX(CX135:EH135,HLOOKUP(EB139,CX131:EH136,6,FALSE)):INDEX(CX135:EH135,HLOOKUP(ED139,CX131:EH136,6,FALSE)),\"●\")>7,\"「／」漏れ\",\"対象外\"))))","v":""},null,null,null,null,null,null,null,"完全週休二日",{"$f":"IF(EN130=\"\",\"\",IF(COUNTIF(CX139:EH139,\"OUT\")>=1,\"OUT\",\"OK\"))","v":"OK"}]
[""]
[{"$f":"IF(AND(NOT($AT$130=\"\"),$AT$159=\"\"),\"対象期間\",\"\")","v":""}]
[{"$f":"IF(AND(NOT($AT$130=\"\"),$AT$159=\"\"),\"対象期間\",\"\")","v":""},null,"※１工事着手日：始期日以降に準備工事（現場事務所の建設・測量等）、工場製作を含む工事における工場製作工に着手した日",null,null,null,null,null,null,null,null,null,null,null,null,null,null,null,null,null,null,null,null,null,null,null,null,null,null,null,null,null,null,null,null,null,null,null,null,null,null,null,null,"工事全体の確認",null,null,null,null,null,null,null,null,"※１工事着手日：始期日以降に準備工事（現場事務所の建設・測量等）、工場製作を含む工事における工場製作工に着手した日",null,null,null,null,null,null,null,null,null,null,null,null,null,null,null,null,null,null,null,null,null,null,null,null,null,null,null,null,null,null,null,null,null,null,null,null,null,null,null,null,"工事全体の確認",null,null,null,null,null,null,"※１工事着手日：始期日以降に準備工事（現場事務所の建設・測量等）、工場製作を含む工事における工場製作工に着手した日",null,null,null,null,null,null,null,null,null,null,null,null,null,null,null,null,null,null,null,null,null,null,null,null,null,null,null,null,null,null,null,null,null,null,null,null,null,null,null,null,"工事全体の確認"]
["",null,"※２作業完了日：工事施工範囲内で全ての作業（後片付けを含む）が完了した日\n　　　　　　　　　  （工事現場事務所は工事施工範囲外に設置するため、ここでいう後片付けの対象に含まない）",null,null,null,null,null,null,null,null,null,null,null,null,null,null,null,null,null,null,null,null,null,null,null,null,null,null,null,null,null,null,null,null,null,null,null,null,null,null,null,null,"計画","全対象期間",{"$f":"IFERROR(AT114+AT130,\"\")","v":""},null,null,null,null,null,null,"※２作業完了日：工事施工範囲内で全ての作業（後片付けを含む）が完了した日\n　　　　　　　　　  （工事現場事務所は工事施工範囲外に設置するため、ここでいう後片付けの対象に含まない）",null,null,null,null,null,null,null,null,null,null,null,null,null,null,null,null,null,null,null,null,null,null,null,null,null,null,null,null,null,null,null,null,null,null,null,null,null,null,null,null,"計画","全対象期間",{"$f":"IFERROR(CR114+CR130,\"\")","v":""},null,null,null,null,"※２作業完了日：工事施工範囲内で全ての作業（後片付けを含む）が完了した日\n　　　　　　　　　  （工事現場事務所は工事施工範囲外に設置するため、ここでいう後片付けの対象に含まない）",null,null,null,null,null,null,null,null,null,null,null,null,null,null,null,null,null,null,null,null,null,null,null,null,null,null,null,null,null,null,null,null,null,null,null,null,null,null,null,null,"計画","全対象期間",{"$f":"IFERROR(EN114+EN130,\"\")","v":109}]
["",null,null,null,null,null,null,null,null,null,null,null,null,null,null,null,null,null,null,null,null,null,null,null,null,null,null,null,null,null,null,null,null,null,null,null,null,null,null,null,null,null,null,null,"全現場閉所日数",{"$f":"IFERROR(AT115+AT131,\"\")","v":""},null,null,null,null,null,null,null,null,null,null,null,null,null,null,null,null,null,null,null,null,null,null,null,null,null,null,null,null,null,null,null,null,null,null,null,null,null,null,null,null,null,null,null,null,null,null,null,null,"全現場閉所日数",{"$f":"IFERROR(CR115+CR131,\"\")","v":""},null,null,null,null,null,null,null,null,null,null,null,null,null,null,null,null,null,null,null,null,null,null,null,null,null,null,null,null,null,null,null,null,null,null,null,null,null,null,null,null,null,null,null,null,null,null,"全現場閉所日数",{"$f":"IFERROR(EN115+EN131,\"\")","v":34}]
["",null,"【算定除外期間】：夏季休暇（8月13日～8月15日）、年末年始（12月29日～翌年1月3日）は算定期間の分母・分子に含めない",null,null,null,null,null,null,null,null,null,null,null,null,null,null,null,null,null,null,null,null,null,null,null,null,null,null,null,null,null,null,null,null,null,null,null,null,null,null,null,null,null,"現場閉所率",{"$f":"IFERROR(+AT144/AT143,\"\")","v":""},{"$f":"IF(AT145>=0.285,\"4週8休以上\",\"週休2日未達成\")","v":"4週8休以上"},null,null,null,null,null,"【算定除外期間】：夏季休暇（8月13日～8月15日）、年末年始（12月29日～翌年1月3日）は算定期間の分母・分子に含めない",null,null,null,null,null,null,null,null,null,null,null,null,null,null,null,null,null,null,null,null,null,null,null,null,null,null,null,null,null,null,null,null,null,null,null,null,null,null,null,null,null,"現場閉所率",{"$f":"IFERROR(+CR144/CR143,\"\")","v":""},{"$f":"IF(CR145>=0.285,\"4週8休以上\",\"週休2日未達成\")","v":"4週8休以上"},null,null,null,"【算定除外期間】：夏季休暇（8月13日～8月15日）、年末年始（12月29日～翌年1月3日）は算定期間の分母・分子に含めない",null,null,null,null,null,null,null,null,null,null,null,null,null,null,null,null,null,null,null,null,null,null,null,null,null,null,null,null,null,null,null,null,null,null,null,null,null,null,null,null,null,"現場閉所率",{"$f":"IFERROR(+EN144/EN143,\"\")","v":0.31192660550458717},{"$f":"IF(EN145>=0.285,\"4週8休以上\",\"週休2日未達成\")","v":"4週8休以上"}]
["",null,"※３工事期間の全ての月において、達成状況を確認し、一度でも達成できない月があれば、４週８休以上（月単位）は「未達成」となり、補正の対象とならない。\n　　月によっては、土日を全て閉所しても現場閉所率が28.5％に満たない場合があるが、その月の対象期間の土日日数以上閉所していれば達成とみなす。\n\n※４工事対象期間のうち、一度でも完全週休２日（月～日で２日以上の現場閉所）を達成できなければ、\n　　 完全週休２日は「未達成」となり、補正の対象とならない。\n　　 なお、工期始期・終期、年末年始、夏季休暇などにより、７日間に満たない期間は完全週休２日の達成判断の対象外とする。",null,null,null,null,null,null,null,null,null,null,null,null,null,null,null,null,null,null,null,null,null,null,null,null,null,null,null,null,null,null,null,null,null,null,null,null,null,null,null,null,"実施","全対象期間",{"$f":"IFERROR(AT117+AT133,\"\")","v":""},null,null,null,null,null,null,"※３工事期間の全ての月において、達成状況を確認し、一度でも達成できない月があれば、４週８休以上（月単位）は「未達成」となり、補正の対象とならない。\n　　月によっては、土日を全て閉所しても現場閉所率が28.5％に満たない場合があるが、その月の対象期間の土日日数以上閉所していれば達成とみなす。\n\n※４工事対象期間のうち、一度でも完全週休２日（月～日で２日以上の現場閉所）を達成できなければ、\n　　 完全週休２日は「未達成」となり、補正の対象とならない。\n　　 なお、工期始期・終期、年末年始、夏季休暇などにより、７日間に満たない期間は完全週休２日の達成判断の対象外とする。",null,null,null,null,null,null,null,null,null,null,null,null,null,null,null,null,null,null,null,null,null,null,null,null,null,null,null,null,null,null,null,null,null,null,null,null,null,null,null,null,"実施","全対象期間",{"$f":"IFERROR(CR117+CR133,\"\")","v":""},null,null,null,null,"※３工事期間の全ての月において、達成状況を確認し、一度でも達成できない月があれば、４週８休以上（月単位）は「未達成」となり、補正の対象とならない。\n　　月によっては、土日を全て閉所しても現場閉所率が28.5％に満たない場合があるが、その月の対象期間の土日日数以上閉所していれば達成とみなす。\n\n※４工事対象期間のうち、一度でも完全週休２日（月～日で２日以上の現場閉所）を達成できなければ、\n　　 完全週休２日は「未達成」となり、補正の対象とならない。\n　　 なお、工期始期・終期、年末年始、夏季休暇などにより、７日間に満たない期間は完全週休２日の達成判断の対象外とする。",null,null,null,null,null,null,null,null,null,null,null,null,null,null,null,null,null,null,null,null,null,null,null,null,null,null,null,null,null,null,null,null,null,null,null,null,null,null,null,null,"実施","全対象期間",{"$f":"IFERROR(EN117+EN133,\"\")","v":109}]
["",null,null,null,null,null,null,null,null,null,null,null,null,null,null,null,null,null,null,null,null,null,null,null,null,null,null,null,null,null,null,null,null,null,null,null,null,null,null,null,null,null,null,null,"全現場閉所日数",{"$f":"IFERROR(AT118+AT134,\"\")","v":""},null,null,null,null,null,null,null,null,null,null,null,null,null,null,null,null,null,null,null,null,null,null,null,null,null,null,null,null,null,null,null,null,null,null,null,null,null,null,null,null,null,null,null,null,null,null,null,null,"全現場閉所日数",{"$f":"IFERROR(CR118+CR134,\"\")","v":""},null,null,null,null,null,null,null,null,null,null,null,null,null,null,null,null,null,null,null,null,null,null,null,null,null,null,null,null,null,null,null,null,null,null,null,null,null,null,null,null,null,null,null,null,null,null,"全現場閉所日数",{"$f":"IFERROR(EN118+EN134,\"\")","v":35}]
["",null,null,null,null,null,null,null,null,null,null,null,null,null,null,null,null,null,null,null,null,null,null,null,null,null,null,null,null,null,null,null,null,null,null,null,null,null,null,null,null,null,null,null,"現場閉所率",{"$f":"IFERROR(+AT147/AT146,\"\")","v":""},{"$f":"IF(AT148>=0.285,\"4週8休以上\",\"週休2日未達成\")","v":"4週8休以上"},null,null,null,null,null,null,null,null,null,null,null,null,null,null,null,null,null,null,null,null,null,null,null,null,null,null,null,null,null,null,null,null,null,null,null,null,null,null,null,null,null,null,null,null,null,null,null,"現場閉所率",{"$f":"IFERROR(+CR147/CR146,\"\")","v":""},{"$f":"IF(CR148>=0.285,\"4週8休以上\",\"週休2日未達成\")","v":"4週8休以上"},null,null,null,null,null,null,null,null,null,null,null,null,null,null,null,null,null,null,null,null,null,null,null,null,null,null,null,null,null,null,null,null,null,null,null,null,null,null,null,null,null,null,null,null,null,"現場閉所率",{"$f":"IFERROR(+EN147/EN146,\"\")","v":0.32110091743119268},{"$f":"IF(EN148>=0.285,\"4週8休以上\",\"週休2日未達成\")","v":"4週8休以上"}]
["",null,null,null,null,null,null,null,null,null,null,null,null,null,null,null,null,null,null,null,null,null,null,null,null,null,null,null,null,null,null,null,null,null,null,null,null,null,null,null,null,null,null,null,"閉所（月単位）",{"$f":"IFERROR(COUNTIF(AS$14:$AS139,\"4週8休以上\")/(COUNTIF(AS$14:$AS139,\"4週8休以上\")+COUNTIF(AS$14:$AS139,\"週休2日未達成\")),\"\")","v":""},{"$f":"IF(OR(AT149=100%,AT149=\"\"),\"達成\",\"未達成\")","v":"達成"},null,null,null,null,null,null,null,null,null,null,null,null,null,null,null,null,null,null,null,null,null,null,null,null,null,null,null,null,null,null,null,null,null,null,null,null,null,null,null,null,null,null,null,null,null,null,null,"閉所（月単位）",{"$f":"IFERROR(COUNTIF(CQ$14:$CQ139,\"4週8休以上\")/(COUNTIF(CQ$14:$CQ139,\"4週8休以上\")+COUNTIF(CQ$14:$CQ139,\"週休2日未達成\")),\"\")","v":0},{"$f":"IF(OR(CR149=100%,CR149=\"\"),\"達成\",\"未達成\")","v":"未達成"},null,null,null,null,null,null,null,null,null,null,null,null,null,null,null,null,null,null,null,null,null,null,null,null,null,null,null,null,null,null,null,null,null,null,null,null,null,null,null,null,null,null,null,null,null,"閉所（月単位）",{"$f":"IFERROR(COUNTIF($EM$14:EM139,\"4週8休以上\")/(COUNTIF($EM$14:EM139,\"4週8休以上\")+COUNTIF($EM$14:EM139,\"週休2日未達成\")),\"\")","v":1},{"$f":"IF(OR(EN149=100%,EN149=\"\"),\"達成\",\"未達成\")","v":"達成"}]
["",null,null,null,null,null,null,null,null,null,null,null,null,null,null,null,null,null,null,null,null,null,null,null,null,null,null,null,null,null,null,null,null,null,null,null,null,null,null,null,null,null,null,null,"完全週休二日",{"$f":"IF(COUNTIF(AS$14:$AS139,\"OUT\")>=1,\"OUT\",\"OK\")","v":"OK"},{"$f":"IF(AT150=\"OK\",\"達成\",\"未達成\")","v":"達成"},null,null,null,null,null,null,null,null,null,null,null,null,null,null,null,null,null,null,null,null,null,null,null,null,null,null,null,null,null,null,null,null,null,null,null,null,null,null,null,null,null,null,null,null,null,null,null,"完全週休二日",{"$f":"IF(COUNTIF(CQ$14:$CQ139,\"OUT\")>=1,\"OUT\",\"OK\")","v":"OUT"},{"$f":"IF(CR150=\"OK\",\"達成\",\"未達成\")","v":"未達成"},null,null,null,null,null,null,null,null,null,null,null,null,null,null,null,null,null,null,null,null,null,null,null,null,null,null,null,null,null,null,null,null,null,null,null,null,null,null,null,null,null,null,null,null,null,"完全週休二日",{"$f":"IF(COUNTIF($EM$14:EM139,\"OUT\")>=1,\"OUT\",\"OK\")","v":"OK"},{"$f":"IF(EN150=\"OK\",\"達成\",\"未達成\")","v":"達成"}]
["",null,"※必要に応じて各月の完全週休2日（月～日）の達成判定の行を修正してください。（曜日に合わせて修正）",null,null,null,null,null,null,null,null,null,null,null,null,null,null,null,null,null,null,null,null,null,null,null,null,null,null,null,null,null,null,null,null,null,null,null,null,null,null,null,null,null,null,null,null,null,null,null,null,null,"※必要に応じて各月の完全週休2日（月～日）の達成判定の行を修正してください。（曜日に合わせて修正）",null,null,null,null,null,null,null,null,null,null,null,null,null,null,null,null,null,null,null,null,null,null,null,null,null,null,null,null,null,null,null,null,null,null,null,null,null,null,null,null,null,null,null,null,null,null,null,"※必要に応じて各月の完全週休2日（月～日）の達成判定の行を修正してください。（曜日に合わせて修正）"]
[""]
[""]
[""]
[""]
[""]
["",null,"算定除外期間以外の祝日（ＧＷ含む）は、算定期間（分母）の対象＝現場閉所の場合は分子にカウントして現場閉所率を算定",null,null,null,null,null,null,null,null,null,null,null,null,null,null,null,null,null,null,null,null,null,null,null,null,null,null,null,null,null,null,null,null,null,null,null,null,null,null,null,null,null,null,null,null,null,null,null,null,null,"算定除外期間以外の祝日（ＧＷ含む）は、算定期間（分母）の対象＝現場閉所の場合は分子にカウントして現場閉所率を算定",null,null,null,null,null,null,null,null,null,null,null,null,null,null,null,null,null,null,null,null,null,null,null,null,null,null,null,null,null,null,null,null,null,null,null,null,null,null,null,null,null,null,null,null,null,null,null,"算定除外期間以外の祝日（ＧＷ含む）は、算定期間（分母）の対象＝現場閉所の場合は分子にカウントして現場閉所率を算定"]
[""]
[{"$f":"IF($AT$159=\"\",\"\",\"対象期間\")","v":""},null,"月",{"$f":"DATE(YEAR(D130),MONTH(D130)+1,1)","v":"2025-09-01"},null,null,null,null,null,null,null,null,null,null,null,null,null,null,null,null,null,null,null,null,null,null,null,null,null,null,null,null,null,null,{"$f":"DATE(YEAR(D159),MONTH(D159)+1,1)","v":"2025-10-01"},null,null,null,null,null,"現場閉所計","現場閉所累計",null,"計画","対象期間",{"$f":"IF(IF(MONTH(入力表!$E$6)=12,YEAR(入力表!$E$6)+1&\"01\",YEAR(入力表!$E$6)&TEXT(MONTH(入力表!$E$6)+1,\"00\"))>YEAR($D159)&TEXT(MONTH($D159),\"00\"),COUNTIF(D163:AH163,\"\")+COUNTIF(D163:AH163,\"○\"),\"\")","v":""},{"$f":"IF(COUNTIF(D160:AH160,\"／\")=0,\"\",IF(COUNTIF(D160:AH160,\"／\")=1,IF(AH163=\"／\",\"\",\"月末「／」漏れ\"),IF(COUNTIF(D160:AH160,\"／\")=2,IF(AND(AG163=\"／\",AH163=\"／\"),\"\",\"月末「／」漏れ\"),IF(AND(AF163=\"／\",AG163=\"／\",AH163=\"／\"),\"\",\"月末「／」漏れ\"))))","v":"月末「／」漏れ"},null,null,null,null,null,"月",{"$f":"DATE(YEAR(BB130),MONTH(BB130)+1,1)","v":"2025-09-01"},null,null,null,null,null,null,null,null,null,null,null,null,null,null,null,null,null,null,null,null,null,null,null,null,null,null,null,null,null,null,{"$f":"DATE(YEAR(BB159),MONTH(BB159)+1,1)","v":"2025-10-01"},null,null,null,null,null,"現場閉所計","現場閉所累計",null,"計画","対象期間",{"$f":"IF(IF(MONTH($BL$5)=12,YEAR($BL$5)+1&\"01\",YEAR($BL$5)&TEXT(MONTH($BL$5)+1,\"00\"))>YEAR(BB159)&TEXT(MONTH(BB159),\"00\"),COUNTIF(BB163:CF163,\"\")+COUNTIF(BB163:CF163,\"○\"),\"\")","v":30},{"$f":"IF(COUNTIF(BB160:CF160,\"／\")=0,\"\",IF(COUNTIF(BB160:CF160,\"／\")=1,IF(CF163=\"／\",\"\",\"月末「／」漏れ\"),IF(COUNTIF(BB160:CF160,\"／\")=2,IF(AND(CE163=\"／\",CF163=\"／\"),\"\",\"月末「／」漏れ\"),IF(AND(CD163=\"／\",CE163=\"／\",CF163=\"／\"),\"\",\"月末「／」漏れ\"))))","v":""},null,null,null,"月",{"$f":"DATE(YEAR(CX130),MONTH(CX130)+1,1)","v":"2025-09-01"},null,null,null,null,null,null,null,null,null,null,null,null,null,null,null,null,null,null,null,null,null,null,null,null,null,null,null,null,null,null,{"$f":"DATE(YEAR(CX159),MONTH(CX159)+1,1)","v":"2025-10-01"},null,null,null,null,null,"現場閉所計","現場閉所累計",null,"計画","対象期間",{"$f":"IF(IF(MONTH($BL$5)=12,YEAR($BL$5)+1&\"01\",YEAR($BL$5)&TEXT(MONTH($BL$5)+1,\"00\"))>YEAR($CX159)&TEXT(MONTH($CX159),\"00\"),COUNTIF(CX163:EB163,\"\")+COUNTIF(CX163:EB163,\"○\"),\"\")","v":30},{"$f":"IF(COUNTIF(CX160:EB160,\"／\")=0,\"\",IF(COUNTIF(CX160:EB160,\"／\")=1,IF(EB163=\"／\",\"\",\"月末「／」漏れ\"),IF(COUNTIF(CX160:EB160,\"／\")=2,IF(AND(EA163=\"／\",EB163=\"／\"),\"\",\"月末「／」漏れ\"),IF(AND(DZ163=\"／\",EA163=\"／\",EB163=\"／\"),\"\",\"月末「／」漏れ\"))))","v":""}]
[{"$f":"IF($AT$159=\"\",\"\",\"対象期間\")","v":""},null,"日",{"$f":"D159","v":"2025-09-01"},{"$f":"D160+1","v":"2025-09-02"},{"$f":"E160+1","v":"2025-09-03"},{"$f":"F160+1","v":"2025-09-04"},{"$f":"G160+1","v":"2025-09-05"},{"$f":"H160+1","v":"2025-09-06"},{"$f":"I160+1","v":"2025-09-07"},{"$f":"J160+1","v":"2025-09-08"},{"$f":"K160+1","v":"2025-09-09"},{"$f":"L160+1","v":"2025-09-10"},{"$f":"M160+1","v":"2025-09-11"},{"$f":"N160+1","v":"2025-09-12"},{"$f":"O160+1","v":"2025-09-13"},{"$f":"P160+1","v":"2025-09-14"},{"$f":"Q160+1","v":"2025-09-15"},{"$f":"R160+1","v":"2025-09-16"},{"$f":"S160+1","v":"2025-09-17"},{"$f":"T160+1","v":"2025-09-18"},{"$f":"U160+1","v":"2025-09-19"},{"$f":"V160+1","v":"2025-09-20"},{"$f":"W160+1","v":"2025-09-21"},{"$f":"X160+1","v":"2025-09-22"},{"$f":"Y160+1","v":"2025-09-23"},{"$f":"Z160+1","v":"2025-09-24"},{"$f":"AA160+1","v":"2025-09-25"},{"$f":"AB160+1","v":"2025-09-26"},{"$f":"AC160+1","v":"2025-09-27"},{"$f":"AD160+1","v":"2025-09-28"},{"$f":"IF(AE160=\"／\",\"／\",IF(YEAR($D159)&TEXT(MONTH($D159),\"00\")<YEAR(AE160+1)&TEXT(MONTH(AE160+1),\"00\"),\"／\",AE160+1))","v":"2025-09-29"},{"$f":"IF(AF160=\"／\",\"／\",IF(YEAR($D159)&TEXT(MONTH($D159),\"00\")<YEAR(AF160+1)&TEXT(MONTH(AF160+1),\"00\"),\"／\",AF160+1))","v":"2025-09-30"},{"$f":"IF(AG160=\"／\",\"／\",IF(YEAR($D159)&TEXT(MONTH($D159),\"00\")<YEAR(AG160+1)&TEXT(MONTH(AG160+1),\"00\"),\"／\",AG160+1))","v":"／"},{"$f":"AI159","v":"2025-10-01"},{"$f":"AI160+1","v":"2025-10-02"},{"$f":"AJ160+1","v":"2025-10-03"},{"$f":"AK160+1","v":"2025-10-04"},{"$f":"AL160+1","v":"2025-10-05"},{"$f":"AM160+1","v":"2025-10-06"},null,null,null,null,"閉所日数",{"$f":"IF(IF(MONTH(入力表!$E$6)=12,YEAR(入力表!$E$6)+1&\"01\",YEAR(入力表!$E$6)&TEXT(MONTH(入力表!$E$6)+1,\"00\"))>YEAR($D159)&TEXT(MONTH($D159),\"00\"),COUNTIF(D163:AH163,\"○\"),\"\")","v":""},{"$f":"IF(OR(MONTH(D159)=1,MONTH(D159)=8,MONTH(D159)=12),IF(COUNTIF(D163:AH163,\"／\")>=3,\"\",\"算定除外「／」漏れ\"),\"\")","v":""},null,null,null,null,null,"日",{"$f":"BB159","v":"2025-09-01"},{"$f":"BB160+1","v":"2025-09-02"},{"$f":"BC160+1","v":"2025-09-03"},{"$f":"BD160+1","v":"2025-09-04"},{"$f":"BE160+1","v":"2025-09-05"},{"$f":"BF160+1","v":"2025-09-06"},{"$f":"BG160+1","v":"2025-09-07"},{"$f":"BH160+1","v":"2025-09-08"},{"$f":"BI160+1","v":"2025-09-09"},{"$f":"BJ160+1","v":"2025-09-10"},{"$f":"BK160+1","v":"2025-09-11"},{"$f":"BL160+1","v":"2025-09-12"},{"$f":"BM160+1","v":"2025-09-13"},{"$f":"BN160+1","v":"2025-09-14"},{"$f":"BO160+1","v":"2025-09-15"},{"$f":"BP160+1","v":"2025-09-16"},{"$f":"BQ160+1","v":"2025-09-17"},{"$f":"BR160+1","v":"2025-09-18"},{"$f":"BS160+1","v":"2025-09-19"},{"$f":"BT160+1","v":"2025-09-20"},{"$f":"BU160+1","v":"2025-09-21"},{"$f":"BV160+1","v":"2025-09-22"},{"$f":"BW160+1","v":"2025-09-23"},{"$f":"BX160+1","v":"2025-09-24"},{"$f":"BY160+1","v":"2025-09-25"},{"$f":"BZ160+1","v":"2025-09-26"},{"$f":"CA160+1","v":"2025-09-27"},{"$f":"CB160+1","v":"2025-09-28"},{"$f":"IF(CC160=\"／\",\"／\",IF(YEAR(BB159)&TEXT(MONTH(BB159),\"00\")<YEAR(CC160+1)&TEXT(MONTH(CC160+1),\"00\"),\"／\",CC160+1))","v":"2025-09-29"},{"$f":"IF(CD160=\"／\",\"／\",IF(YEAR(BB159)&TEXT(MONTH(BB159),\"00\")<YEAR(CD160+1)&TEXT(MONTH(CD160+1),\"00\"),\"／\",CD160+1))","v":"2025-09-30"},{"$f":"IF(CE160=\"／\",\"／\",IF(YEAR(BB159)&TEXT(MONTH(BB159),\"00\")<YEAR(CE160+1)&TEXT(MONTH(CE160+1),\"00\"),\"／\",CE160+1))","v":"／"},{"$f":"CG159","v":"2025-10-01"},{"$f":"CG160+1","v":"2025-10-02"},{"$f":"CH160+1","v":"2025-10-03"},{"$f":"CI160+1","v":"2025-10-04"},{"$f":"CJ160+1","v":"2025-10-05"},{"$f":"CK160+1","v":"2025-10-06"},null,null,null,null,"閉所日数",{"$f":"IF(IF(MONTH($BL$5)=12,YEAR($BL$5)+1&\"01\",YEAR($BL$5)&TEXT(MONTH($BL$5)+1,\"00\"))>YEAR(BB159)&TEXT(MONTH(BB159),\"00\"),COUNTIF(BB163:CF163,\"○\"),\"\")","v":10},{"$f":"IF(OR(MONTH(BB159)=1,MONTH(BB159)=8,MONTH(BB159)=12),IF(COUNTIF(BB163:CF163,\"／\")>=3,\"\",\"算定除外「／」漏れ\"),\"\")","v":""},null,null,null,"日",{"$f":"CX159","v":"2025-09-01"},{"$f":"CX160+1","v":"2025-09-02"},{"$f":"CY160+1","v":"2025-09-03"},{"$f":"CZ160+1","v":"2025-09-04"},{"$f":"DA160+1","v":"2025-09-05"},{"$f":"DB160+1","v":"2025-09-06"},{"$f":"DC160+1","v":"2025-09-07"},{"$f":"DD160+1","v":"2025-09-08"},{"$f":"DE160+1","v":"2025-09-09"},{"$f":"DF160+1","v":"2025-09-10"},{"$f":"DG160+1","v":"2025-09-11"},{"$f":"DH160+1","v":"2025-09-12"},{"$f":"DI160+1","v":"2025-09-13"},{"$f":"DJ160+1","v":"2025-09-14"},{"$f":"DK160+1","v":"2025-09-15"},{"$f":"DL160+1","v":"2025-09-16"},{"$f":"DM160+1","v":"2025-09-17"},{"$f":"DN160+1","v":"2025-09-18"},{"$f":"DO160+1","v":"2025-09-19"},{"$f":"DP160+1","v":"2025-09-20"},{"$f":"DQ160+1","v":"2025-09-21"},{"$f":"DR160+1","v":"2025-09-22"},{"$f":"DS160+1","v":"2025-09-23"},{"$f":"DT160+1","v":"2025-09-24"},{"$f":"DU160+1","v":"2025-09-25"},{"$f":"DV160+1","v":"2025-09-26"},{"$f":"DW160+1","v":"2025-09-27"},{"$f":"DX160+1","v":"2025-09-28"},{"$f":"IF(DY160=\"／\",\"／\",IF(YEAR(CX159)&TEXT(MONTH(CX159),\"00\")<YEAR(DY160+1)&TEXT(MONTH(DY160+1),\"00\"),\"／\",DY160+1))","v":"2025-09-29"},{"$f":"IF(DZ160=\"／\",\"／\",IF(YEAR(CX159)&TEXT(MONTH(CX159),\"00\")<YEAR(DZ160+1)&TEXT(MONTH(DZ160+1),\"00\"),\"／\",DZ160+1))","v":"2025-09-30"},{"$f":"IF(EA160=\"／\",\"／\",IF(YEAR(CX159)&TEXT(MONTH(CX159),\"00\")<YEAR(EA160+1)&TEXT(MONTH(EA160+1),\"00\"),\"／\",EA160+1))","v":"／"},{"$f":"EC159","v":"2025-10-01"},{"$f":"EC160+1","v":"2025-10-02"},{"$f":"ED160+1","v":"2025-10-03"},{"$f":"EE160+1","v":"2025-10-04"},{"$f":"EF160+1","v":"2025-10-05"},{"$f":"EG160+1","v":"2025-10-06"},null,null,null,null,"閉所日数",{"$f":"IF(IF(MONTH($BL$5)=12,YEAR($BL$5)+1&\"01\",YEAR($BL$5)&TEXT(MONTH($BL$5)+1,\"00\"))>YEAR($CX159)&TEXT(MONTH($CX159),\"00\"),COUNTIF(CX163:EB163,\"○\"),\"\")","v":10},{"$f":"IF(OR(MONTH(CX159)=1,MONTH(CX159)=8,MONTH(CX159)=12),IF(COUNTIF(CX163:EB163,\"／\")>=3,\"\",\"算定除外「／」漏れ\"),\"\")","v":""}]
["",null,"曜日",{"$f":"TEXT(WEEKDAY(+D160),\"aaa\")","v":"月"},{"$f":"TEXT(WEEKDAY(+E160),\"aaa\")","v":"火"},"水","木","金",{"$f":"TEXT(WEEKDAY(+I160),\"aaa\")","v":"土"},{"$f":"TEXT(WEEKDAY(+J160),\"aaa\")","v":"日"},"月","火","水","木","金","土","日","月","火","水","木","金","土","日","月",{"$f":"TEXT(WEEKDAY(+Z160),\"aaa\")","v":"火"},{"$f":"TEXT(WEEKDAY(+AA160),\"aaa\")","v":"水"},"木","金","土","日",{"$f":"IF(AF160=\"／\",\"／\",TEXT(WEEKDAY(+AF160),\"aaa\"))","v":"月"},{"$f":"IF(AG160=\"／\",\"／\",TEXT(WEEKDAY(+AG160),\"aaa\"))","v":"火"},"／",{"$f":"TEXT(WEEKDAY(+AI160),\"aaa\")","v":"水"},{"$f":"TEXT(WEEKDAY(+AJ160),\"aaa\")","v":"木"},"金","土","日","月",null,null,null,null,"現場閉所率",{"$f":"IFERROR(+AT160/AT159,\"\")","v":""},{"$f":"IF(AT161=\"\",\"\",IF(COUNTIF(D163:AH163,\"○\")>=COUNTIF(D166:AH166,\"◎\"),\"4週8休以上\",IF(AT161>=0.285,\"4週8休以上\",\"週休2日未達成\")))","v":""},null,null,null,null,null,"曜日",{"$f":"TEXT(WEEKDAY(+BB160),\"aaa\")","v":"月"},{"$f":"TEXT(WEEKDAY(+BC160),\"aaa\")","v":"火"},"水","木","金",{"$f":"TEXT(WEEKDAY(+BG160),\"aaa\")","v":"土"},{"$f":"TEXT(WEEKDAY(+BH160),\"aaa\")","v":"日"},"月","火","水","木","金","土","日","月","火","水","木","金","土","日","月",{"$f":"TEXT(WEEKDAY(+BX160),\"aaa\")","v":"火"},{"$f":"TEXT(WEEKDAY(+BY160),\"aaa\")","v":"水"},"木","金","土","日",{"$f":"IF(CD160=\"／\",\"／\",TEXT(WEEKDAY(+CD160),\"aaa\"))","v":"月"},{"$f":"IF(CE160=\"／\",\"／\",TEXT(WEEKDAY(+CE160),\"aaa\"))","v":"火"},"／",{"$f":"TEXT(WEEKDAY(+CG160),\"aaa\")","v":"水"},{"$f":"TEXT(WEEKDAY(+CH160),\"aaa\")","v":"木"},"金","土","日","月",null,null,null,null,"現場閉所率",{"$f":"IFERROR(+CR160/CR159,\"\")","v":0.33333333333333331},{"$f":"IF(CR161=\"\",\"\",IF(COUNTIF(BB163:CF163,\"○\")>=COUNTIF(BB166:CF166,\"◎\"),\"4週8休以上\",IF(CR161>=0.285,\"4週8休以上\",\"週休2日未達成\")))","v":"4週8休以上"},null,null,null,"曜日",{"$f":"TEXT(WEEKDAY(+CX160),\"aaa\")","v":"月"},{"$f":"TEXT(WEEKDAY(+CY160),\"aaa\")","v":"火"},"水","木","金",{"$f":"TEXT(WEEKDAY(+DC160),\"aaa\")","v":"土"},{"$f":"TEXT(WEEKDAY(+DD160),\"aaa\")","v":"日"},"月","火","水","木","金","土","日","月","火","水","木","金","土","日","月",{"$f":"TEXT(WEEKDAY(+DT160),\"aaa\")","v":"火"},{"$f":"TEXT(WEEKDAY(+DU160),\"aaa\")","v":"水"},"木","金","土","日",{"$f":"IF(DZ160=\"／\",\"／\",TEXT(WEEKDAY(+DZ160),\"aaa\"))","v":"月"},{"$f":"IF(EA160=\"／\",\"／\",TEXT(WEEKDAY(+EA160),\"aaa\"))","v":"火"},"／",{"$f":"TEXT(WEEKDAY(+EC160),\"aaa\")","v":"水"},{"$f":"TEXT(WEEKDAY(+ED160),\"aaa\")","v":"木"},"金","土","日","月",null,null,null,null,"現場閉所率",{"$f":"IFERROR(+EN160/EN159,\"\")","v":0.33333333333333331},{"$f":"IF(EN161=\"\",\"\",IF(COUNTIF(CX163:EB163,\"○\")>=COUNTIF(CX166:EB166,\"◎\"),\"4週8休以上\",IF(EN161>=0.285,\"4週8休以上\",\"週休2日未達成\")))","v":"4週8休以上"}]
["",null,"行事",null,null,null,null,null,null,null,null,null,null,null,null,null,null,null,null,null,null,null,null,null,null,null,null,null,null,null,null,null,null,null,{"$f":"IF(D191=\"\",\"\",D191)","v":""},{"$f":"IF(E191=\"\",\"\",E191)","v":""},{"$f":"IF(F191=\"\",\"\",F191)","v":""},{"$f":"IF(G191=\"\",\"\",G191)","v":""},{"$f":"IF(H191=\"\",\"\",H191)","v":""},{"$f":"IF(I191=\"\",\"\",I191)","v":""},null,null,null,"実施","対象期間",{"$f":"IF(IF(MONTH(入力表!$E$6)=12,YEAR(入力表!$E$6)+1&\"01\",YEAR(入力表!$E$6)&TEXT(MONTH(入力表!$E$6)+1,\"00\"))>YEAR($D159)&TEXT(MONTH($D159),\"00\"),COUNTIF(D164:AH164,\"\")+COUNTIF(D164:AH164,\"●\"),\"\")","v":""},{"$f":"IF(COUNTIF(D160:AH160,\"／\")=0,\"\",IF(COUNTIF(D160:AH160,\"／\")=1,IF(AH164=\"／\",\"\",\"月末「／」漏れ\"),IF(COUNTIF(D160:AH160,\"／\")=2,IF(AND(AG164=\"／\",AH164=\"／\"),\"\",\"月末「／」漏れ\"),IF(AND(AF164=\"／\",AG164=\"／\",AH164=\"／\"),\"\",\"月末「／」漏れ\"))))","v":"月末「／」漏れ"},null,null,null,null,null,"行事",null,null,null,null,null,null,null,null,null,null,null,null,null,null,null,null,null,null,null,null,null,null,null,null,null,null,null,null,null,null,null,{"$f":"IF(BB191=\"\",\"\",BB191)","v":""},{"$f":"IF(BC191=\"\",\"\",BC191)","v":""},{"$f":"IF(BD191=\"\",\"\",BD191)","v":""},{"$f":"IF(BE191=\"\",\"\",BE191)","v":""},{"$f":"IF(BF191=\"\",\"\",BF191)","v":""},{"$f":"IF(BG191=\"\",\"\",BG191)","v":""},null,null,null,"実施","対象期間",{"$f":"IF(IF(MONTH($BL$5)=12,YEAR($BL$5)+1&\"01\",YEAR($BL$5)&TEXT(MONTH($BL$5)+1,\"00\"))>YEAR(BB159)&TEXT(MONTH(BB159),\"00\"),COUNTIF(BB164:CF164,\"\")+COUNTIF(BB164:CF164,\"●\"),\"\")","v":30},{"$f":"IF(COUNTIF(BB160:CF160,\"／\")=0,\"\",IF(COUNTIF(BB160:CF160,\"／\")=1,IF(CF164=\"／\",\"\",\"月末「／」漏れ\"),IF(COUNTIF(BB160:CF160,\"／\")=2,IF(AND(CE164=\"／\",CF164=\"／\"),\"\",\"月末「／」漏れ\"),IF(AND(CD164=\"／\",CE164=\"／\",CF164=\"／\"),\"\",\"月末「／」漏れ\"))))","v":""},null,null,null,"行事",null,null,null,null,null,null,null,null,null,null,null,null,null,null,null,null,null,null,null,null,null,null,null,null,null,null,null,null,null,null,null,{"$f":"IF(CX191=\"\",\"\",CX191)","v":""},{"$f":"IF(CY191=\"\",\"\",CY191)","v":""},{"$f":"IF(CZ191=\"\",\"\",CZ191)","v":""},{"$f":"IF(DA191=\"\",\"\",DA191)","v":""},{"$f":"IF(DB191=\"\",\"\",DB191)","v":""},{"$f":"IF(DC191=\"\",\"\",DC191)","v":""},null,null,null,"実施","対象期間",{"$f":"IF(IF(MONTH($BL$5)=12,YEAR($BL$5)+1&\"01\",YEAR($BL$5)&TEXT(MONTH($BL$5)+1,\"00\"))>YEAR($CX159)&TEXT(MONTH($CX159),\"00\"),COUNTIF(CX164:EB164,\"\")+COUNTIF(CX164:EB164,\"●\"),\"\")","v":30},{"$f":"IF(COUNTIF(CX160:EB160,\"／\")=0,\"\",IF(COUNTIF(CX160:EB160,\"／\")=1,IF(EB164=\"／\",\"\",\"月末「／」漏れ\"),IF(COUNTIF(CX160:EB160,\"／\")=2,IF(AND(EA164=\"／\",EB164=\"／\"),\"\",\"月末「／」漏れ\"),IF(AND(DZ164=\"／\",EA164=\"／\",EB164=\"／\"),\"\",\"月末「／」漏れ\"))))","v":""}]
["",null,"計画",null,null,null,null,null,null,null,null,null,null,null,null,null,null,null,null,null,null,null,null,null,null,null,null,null,null,null,null,null,null,null,{"$f":"IF(D192=\"\",\"\",D192)","v":""},{"$f":"IF(E192=\"\",\"\",E192)","v":""},{"$f":"IF(F192=\"\",\"\",F192)","v":""},{"$f":"IF(G192=\"\",\"\",G192)","v":""},{"$f":"IF(H192=\"\",\"\",H192)","v":""},{"$f":"IF(I192=\"\",\"\",I192)","v":""},{"$f":"COUNTIF(D163:AG163,\"○\")","v":0},{"$f":"+AO163+AP134","v":0},null,null,"閉所日数",{"$f":"IF(IF(MONTH(入力表!$E$6)=12,YEAR(入力表!$E$6)+1&\"01\",YEAR(入力表!$E$6)&TEXT(MONTH(入力表!$E$6)+1,\"00\"))>YEAR($D159)&TEXT(MONTH($D159),\"00\"),COUNTIF(D164:AH164,\"●\"),\"\")","v":""},{"$f":"IF(OR(MONTH(D159)=1,MONTH(D159)=8,MONTH(D159)=12),IF(COUNTIF(D164:AH164,\"／\")>=3,\"\",\"算定除外「／」漏れ\"),\"\")","v":""},null,null,null,null,null,"計画",null,null,null,null,null,"○","○",null,null,null,null,null,"○","○","○",null,null,null,null,"○","○",null,"○",null,null,null,"○","○",null,null,"／",{"$f":"IF(BB192=\"\",\"\",BB192)","v":""},"","","○","○","",{"$f":"COUNTIF(BB163:CE163,\"○\")","v":10},{"$f":"+CM163+CN134","v":43},null,null,"閉所日数",{"$f":"IF(IF(MONTH($BL$5)=12,YEAR($BL$5)+1&\"01\",YEAR($BL$5)&TEXT(MONTH($BL$5)+1,\"00\"))>YEAR(BB159)&TEXT(MONTH(BB159),\"00\"),COUNTIF(BB164:CF164,\"●\"),\"\")","v":0},{"$f":"IF(OR(MONTH(BB159)=1,MONTH(BB159)=8,MONTH(BB159)=12),IF(COUNTIF(BB164:CF164,\"／\")>=3,\"\",\"算定除外「／」漏れ\"),\"\")","v":""},null,null,null,"計画",null,null,null,null,null,"○","○",null,null,null,null,null,"○","○","○",null,null,null,null,"○","○",null,"○",null,null,null,"○","○",null,null,"／",{"$f":"IF(CX192=\"\",\"\",CX192)","v":""},"","","○","○","",{"$f":"COUNTIF(CX163:EA163,\"○\")","v":10},{"$f":"+EI163+EJ134","v":43},null,null,"閉所日数",{"$f":"IF(IF(MONTH($BL$5)=12,YEAR($BL$5)+1&\"01\",YEAR($BL$5)&TEXT(MONTH($BL$5)+1,\"00\"))>YEAR($CX159)&TEXT(MONTH($CX159),\"00\"),COUNTIF(CX164:EB164,\"●\"),\"\")","v":10},{"$f":"IF(OR(MONTH(CX159)=1,MONTH(CX159)=8,MONTH(CX159)=12),IF(COUNTIF(CX164:EB164,\"／\")>=3,\"\",\"算定除外「／」漏れ\"),\"\")","v":""}]
["",null,"実施",null,null,null,null,null,null,null,null,null,null,null,null,null,null,null,null,null,null,null,null,null,null,null,null,null,null,null,null,null,null,null,{"$f":"IF(D193=\"\",\"\",D193)","v":""},{"$f":"IF(E193=\"\",\"\",E193)","v":""},{"$f":"IF(F193=\"\",\"\",F193)","v":""},{"$f":"IF(G193=\"\",\"\",G193)","v":""},{"$f":"IF(H193=\"\",\"\",H193)","v":""},{"$f":"IF(I193=\"\",\"\",I193)","v":""},{"$f":"COUNTIF(D164:AG164,\"●\")","v":0},{"$f":"+AO164+AP135","v":0},null,null,"現場閉所率",{"$f":"IFERROR(+AT163/AT162,\"\")","v":""},{"$f":"IF(AT164=\"\",\"\",IF(COUNTIF(D164:AH164,\"●\")>=COUNTIF(D167:AH167,\"◎\"),\"4週8休以上\",IF(AT164>=0.285,\"4週8休以上\",\"週休2日未達成\")))","v":""},null,null,null,null,null,"実施",null,null,null,null,null,null,null,null,null,null,null,null,null,null,null,null,null,null,null,null,null,null,null,null,null,null,null,null,null,null,"／",{"$f":"IF(BB193=\"\",\"\",BB193)","v":""},{"$f":"IF(BC193=\"\",\"\",BC193)","v":""},{"$f":"IF(BD193=\"\",\"\",BD193)","v":""},{"$f":"IF(BE193=\"\",\"\",BE193)","v":""},{"$f":"IF(BF193=\"\",\"\",BF193)","v":""},{"$f":"IF(BG193=\"\",\"\",BG193)","v":""},{"$f":"COUNTIF(BB164:CE164,\"●\")","v":0},{"$f":"+CM164+CN135","v":0},null,null,"現場閉所率",{"$f":"IFERROR(+CR163/CR162,\"\")","v":0},{"$f":"IF(CR164=\"\",\"\",IF(COUNTIF(BB164:CF164,\"●\")>=COUNTIF(BB167:CF167,\"◎\"),\"4週8休以上\",IF(CR164>=0.285,\"4週8休以上\",\"週休2日未達成\")))","v":"週休2日未達成"},null,null,null,"実施",null,null,null,null,null,"●","●",null,null,null,null,null,"●","●","●",null,null,null,null,"●","●",null,"●",null,null,null,"●","●",null,null,"／",{"$f":"IF(CX193=\"\",\"\",CX193)","v":""},{"$f":"IF(CY193=\"\",\"\",CY193)","v":""},{"$f":"IF(CZ193=\"\",\"\",CZ193)","v":""},{"$f":"IF(DA193=\"\",\"\",DA193)","v":"●"},{"$f":"IF(DB193=\"\",\"\",DB193)","v":"●"},{"$f":"IF(DC193=\"\",\"\",DC193)","v":""},{"$f":"COUNTIF(CX164:EA164,\"●\")","v":10},{"$f":"+EI164+EJ135","v":44},null,null,"現場閉所率",{"$f":"IFERROR(+EN163/EN162,\"\")","v":0.33333333333333331},{"$f":"IF(EN164=\"\",\"\",IF(COUNTIF(CX164:EB164,\"●\")>=COUNTIF(CX167:EB167,\"◎\"),\"4週8休以上\",IF(EN164>=0.285,\"4週8休以上\",\"週休2日未達成\")))","v":"4週8休以上"}]
[null,null,null,1,2,3,4,5,6,7,8,9,10,11,12,13,14,15,16,17,18,19,20,21,22,23,24,25,26,27,28,29,30,31,32,33,34,35,36,37,null,null,null,null,{"$f":"AU164","v":""},null,null,null,null,null,null,null,null,1,2,3,4,5,6,7,8,9,10,11,12,13,14,15,16,17,18,19,20,21,22,23,24,25,26,27,28,29,30,31,32,33,34,35,36,37,null,null,null,null,{"$f":"CS164","v":"週休2日未達成"},null,null,null,null,null,null,1,2,3,4,5,6,7,8,9,10,11,12,13,14,15,16,17,18,19,20,21,22,23,24,25,26,27,28,29,30,31,32,33,34,35,36,37,null,null,null,null,{"$f":"EO164","v":"4週8休以上"}]
[null,null,"計画",{"$f":"IF(D163=\"／\",\"／\",IF(OR(D161=\"土\",D161=\"日\"),\"◎\",\"\"))","v":""},{"$f":"IF(E163=\"／\",\"／\",IF(OR(E161=\"土\",E161=\"日\"),\"◎\",\"\"))","v":""},"","","","◎","◎","","","","","","◎","◎","","","","","","◎","◎","","","","","",{"$f":"IF(AD163=\"／\",\"／\",IF(OR(AD161=\"土\",AD161=\"日\"),\"◎\",\"\"))","v":"◎"},{"$f":"IF(AE163=\"／\",\"／\",IF(OR(AE161=\"土\",AE161=\"日\"),\"◎\",\"\"))","v":"◎"},"","","","","","","◎","◎","",null,null,null,null,{"$f":"AT168","v":""},null,null,null,null,null,null,null,"計画",{"$f":"IF(BB163=\"／\",\"／\",IF(OR(BB161=\"土\",BB161=\"日\"),\"◎\",\"\"))","v":""},"","","","","◎","◎","","","","","",{"$f":"IF(BN163=\"／\",\"／\",IF(OR(BN161=\"土\",BN161=\"日\"),\"◎\",\"\"))","v":"◎"},{"$f":"IF(BO163=\"／\",\"／\",IF(OR(BO161=\"土\",BO161=\"日\"),\"◎\",\"\"))","v":"◎"},"","","","","","◎","◎","","","","","",{"$f":"IF(CB163=\"／\",\"／\",IF(OR(CB161=\"土\",CB161=\"日\"),\"◎\",\"\"))","v":"◎"},{"$f":"IF(CC163=\"／\",\"／\",IF(OR(CC161=\"土\",CC161=\"日\"),\"◎\",\"\"))","v":"◎"},"","","／","","","","◎","◎","",null,null,null,null,{"$f":"CR168","v":"OUT"},null,null,null,null,null,"計画",{"$f":"IF(CX163=\"／\",\"／\",IF(OR(CX161=\"土\",CX161=\"日\"),\"◎\",\"\"))","v":""},"","","","","◎","◎","","","","","",{"$f":"IF(DJ163=\"／\",\"／\",IF(OR(DJ161=\"土\",DJ161=\"日\"),\"◎\",\"\"))","v":"◎"},{"$f":"IF(DK163=\"／\",\"／\",IF(OR(DK161=\"土\",DK161=\"日\"),\"◎\",\"\"))","v":"◎"},"","","","","","◎","◎","","","","","",{"$f":"IF(DX163=\"／\",\"／\",IF(OR(DX161=\"土\",DX161=\"日\"),\"◎\",\"\"))","v":"◎"},{"$f":"IF(DY163=\"／\",\"／\",IF(OR(DY161=\"土\",DY161=\"日\"),\"◎\",\"\"))","v":"◎"},"","","／","","","","◎","◎","",null,null,null,null,{"$f":"EN168","v":"OK"}]
[null,null,"実施",{"$f":"IF(D164=\"／\",\"／\",IF(OR(D161=\"土\",D161=\"日\"),\"◎\",\"\"))","v":""},{"$f":"IF(E164=\"／\",\"／\",IF(OR(E161=\"土\",E161=\"日\"),\"◎\",\"\"))","v":""},"","","","◎","◎","","","","","","◎","◎","","","","","","◎","◎","","","","","","◎","◎","","","","","","","◎","◎","",null,null,null,null,null,null,null,null,null,null,null,null,"実施",{"$f":"IF(BB164=\"／\",\"／\",IF(OR(BB161=\"土\",BB161=\"日\"),\"◎\",\"\"))","v":""},{"$f":"IF(BC164=\"／\",\"／\",IF(OR(BC161=\"土\",BC161=\"日\"),\"◎\",\"\"))","v":""},"","","","◎","◎","","","","","","◎","◎","","","","","","◎","◎","","","","","","◎","◎","","","／","","","","◎","◎","",null,null,null,null,null,null,null,null,null,null,"実施",{"$f":"IF(CX164=\"／\",\"／\",IF(OR(CX161=\"土\",CX161=\"日\"),\"◎\",\"\"))","v":""},{"$f":"IF(CY164=\"／\",\"／\",IF(OR(CY161=\"土\",CY161=\"日\"),\"◎\",\"\"))","v":""},"","","","◎","◎","","","","","","◎","◎","","","","","","◎","◎","","","","","","◎","◎","","","／","","","","◎","◎",""]
["",null,"完全",{"$f":"IF(WEEKDAY(DATE(YEAR(D159),MONTH(D159),1),2)=1,DATE(YEAR(D159),MONTH(D159),1),EOMONTH(D159,-1)-MOD(WEEKDAY(EOMONTH(D159,-1),2)+6,7))","v":"2025-09-01"},"～",{"$f":"DATE(YEAR(D159),MONTH(D159),1)+MOD(7-WEEKDAY(DATE(YEAR(D159),MONTH(D159),1),2),7)","v":"2025-09-07"},{"$f":"IF(DAY(D168)=1,IF(COUNTIF(D164:J164,\"／\")>=1,\"対象外\",IF(COUNTIF(INDEX(D164:AN164,DAY(D168)):INDEX(D164:AN164,HLOOKUP(F168,D160:AN165,6,FALSE)),\"\")+COUNTIF(INDEX(D164:AN164,DAY(D168)):INDEX(D164:AN164,HLOOKUP(F168,D160:AN165,6,FALSE)),\"●\")=7,IF(COUNTIF(INDEX(D164:AN164,DAY(D168)):INDEX(D164:AN164,HLOOKUP(F168,D160:AN165,6,FALSE)),\"●\")>=2,\"OK\",\"OUT\"),IF(COUNTIF(INDEX(D164:AN164,DAY(D168)):INDEX(D164:AN164,HLOOKUP(F168,D160:AN165,6,FALSE)),\"●\")>=COUNTIF(INDEX(D167:AN167,DAY(D168)):INDEX(D167:AN167,HLOOKUP(F168,D160:AN165,6,FALSE)),\"○\"),\"OK\",\"OUT\"))),IF(AND(AK139=\"\",AE139=\"\"),Y139,IF(AK139=\"\",AE139,AK139)))","v":"OUT"},null,null,{"$f":"F168+1","v":"2025-09-08"},"～",{"$f":"F168+7","v":"2025-09-14"},{"$f":"IF(COUNTIF(INDEX(D164:AN164,DAY(J168)):INDEX(D164:AN164,HLOOKUP(L168,D160:AN165,6,FALSE)),\"\")+COUNTIF(INDEX(D164:AN164,DAY(J168)):INDEX(D164:AN164,HLOOKUP(L168,D160:AN165,6,FALSE)),\"●\")=7,IF(COUNTIF(INDEX(D164:AN164,DAY(J168)):INDEX(D164:AN164,HLOOKUP(L168,D160:AN165,6,FALSE)),\"●\")>=2,\"OK\",\"OUT\"),\"対象外\")","v":"OUT"},null,null,{"$f":"L168+1","v":"2025-09-15"},"～",{"$f":"L168+7","v":"2025-09-21"},{"$f":"IF(COUNTIF(INDEX(D164:AN164,DAY(P168)):INDEX(D164:AN164,HLOOKUP(R168,D160:AN165,6,FALSE)),\"\")+COUNTIF(INDEX(D164:AN164,DAY(P168)):INDEX(D164:AN164,HLOOKUP(R168,D160:AN165,6,FALSE)),\"●\")=7,IF(COUNTIF(INDEX(D164:AN164,DAY(P168)):INDEX(D164:AN164,HLOOKUP(R168,D160:AN165,6,FALSE)),\"●\")>=2,\"OK\",\"OUT\"),\"対象外\")","v":"OUT"},null,null,{"$f":"R168+1","v":"2025-09-22"},"～",{"$f":"R168+7","v":"2025-09-28"},{"$f":"IF(COUNTIF(INDEX(D164:AN164,DAY(V168)):INDEX(D164:AN164,HLOOKUP(X168,D160:AN165,6,FALSE)),\"\")+COUNTIF(INDEX(D164:AN164,DAY(V168)):INDEX(D164:AN164,HLOOKUP(X168,D160:AN165,6,FALSE)),\"●\")=7,IF(COUNTIF(INDEX(D164:AN164,DAY(V168)):INDEX(D164:AN164,HLOOKUP(X168,D160:AN165,6,FALSE)),\"●\")>=2,\"OK\",\"OUT\"),\"対象外\")","v":"OUT"},null,null,{"$f":"IF(AND(DAY(X168+7)<23,DAY(X168+7)>=7),\"\",X168+1)","v":"2025-09-29"},{"$f":"IF(AND(DAY(X168+7)<23,DAY(X168+7)>=7),\"\",\"～\")","v":"～"},{"$f":"IF(AND(DAY(X168+7)<23,DAY(X168+7)>=7),\"\",X168+7)","v":"2025-10-05"},{"$f":"IF(AND(DAY(X168+7)<23,DAY(X168+7)>=7),\"\",IF(COUNTIF(INDEX(D164:AN164,DAY(AB168)):INDEX(D164:AN164,HLOOKUP(AD168,D160:AN165,6,FALSE)),\"\")+COUNTIF(INDEX(D164:AN164,DAY(AB168)):INDEX(D164:AN164,HLOOKUP(AD168,D160:AN165,6,FALSE)),\"●\")=7,IF(COUNTIF(INDEX(D164:AN164,DAY(AB168)):INDEX(D164:AN164,HLOOKUP(AD168,D160:AN165,6,FALSE)),\"●\")>=2,\"OK\",\"OUT\"),IF(COUNTIF(INDEX(D164:AN164,DAY(AB168)):INDEX(D164:AN164,HLOOKUP(AD168,D160:AN165,6,FALSE)),\"\")+COUNTIF(INDEX(D164:AN164,DAY(AB168)):INDEX(D164:AN164,HLOOKUP(AD168,D160:AN165,6,FALSE)),\"●\")>7,\"「／」漏れ\",\"対象外\")))","v":"「／」漏れ"},null,null,{"$f":"IF(AE168=\"\",\"\",IF(AND(DAY(AD168+7)<23,DAY(AD168+7)>=7),\"\",AD168+1))","v":""},{"$f":"IF(AE168=\"\",\"\",IF(AND(DAY(AD168+7)<23,DAY(AD168+7)>=7),\"\",\"～\"))","v":""},{"$f":"IF(AE168=\"\",\"\",IF(AND(DAY(AD168+7)<23,DAY(AD168+7)>=7),\"\",AD168+7))","v":""},{"$f":"IF(AE168=\"\",\"\",IF(AND(DAY(AD168+7)<23,DAY(AD168+7)>=7),\"\",IF(COUNTIF(INDEX(D164:AN164,DAY(AH168)):INDEX(D164:AN164,HLOOKUP(AJ168,D160:AN165,6,FALSE)),\"\")+COUNTIF(INDEX(D164:AN164,DAY(AH168)):INDEX(D164:AN164,HLOOKUP(AJ168,D160:AN165,6,FALSE)),\"●\")=7,IF(COUNTIF(INDEX(D164:AN164,DAY(AH168)):INDEX(D164:AN164,HLOOKUP(AJ168,D160:AN165,6,FALSE)),\"●\")>=2,\"OK\",\"OUT\"),IF(COUNTIF(INDEX(D164:AN164,HLOOKUP(AH168,D160:AN165,6,FALSE)):INDEX(D164:AN164,HLOOKUP(AJ168,D160:AN165,6,FALSE)),\"\")+COUNTIF(INDEX(D164:AN164,HLOOKUP(AH168,D160:AN165,6,FALSE)):INDEX(D164:AN164,HLOOKUP(AJ168,D160:AN165,6,FALSE)),\"●\")>7,\"「／」漏れ\",\"対象外\"))))","v":""},null,null,null,null,null,null,null,"完全週休二日",{"$f":"IF(AT159=\"\",\"\",IF(COUNTIF(D168:AN168,\"OUT\")>=1,\"OUT\",\"OK\"))","v":""},null,null,null,null,null,null,"完全",{"$f":"IF(WEEKDAY(DATE(YEAR(BB159),MONTH(BB159),1),2)=1,DATE(YEAR(BB159),MONTH(BB159),1),EOMONTH(BB159,-1)-MOD(WEEKDAY(EOMONTH(BB159,-1),2)+6,7))","v":"2025-09-01"},"～",{"$f":"DATE(YEAR(BB159),MONTH(BB159),1)+MOD(7-WEEKDAY(DATE(YEAR(BB159),MONTH(BB159),1),2),7)","v":"2025-09-07"},{"$f":"IF(DAY(BB168)=1,IF(COUNTIF(BB164:BH164,\"／\")>=1,\"対象外\",IF(COUNTIF(INDEX(BB164:CL164,DAY(BB168)):INDEX(BB164:CL164,HLOOKUP(BD168,BB160:CL165,6,FALSE)),\"\")+COUNTIF(INDEX(BB164:CL164,DAY(BB168)):INDEX(BB164:CL164,HLOOKUP(BD168,BB160:CL165,6,FALSE)),\"●\")=7,IF(COUNTIF(INDEX(BB164:CL164,DAY(BB168)):INDEX(BB164:CL164,HLOOKUP(BD168,BB160:CL165,6,FALSE)),\"●\")>=2,\"OK\",\"OUT\"),IF(COUNTIF(INDEX(BB164:CL164,DAY(BB168)):INDEX(BB164:CL164,HLOOKUP(BD168,BB160:CL165,6,FALSE)),\"●\")>=COUNTIF(INDEX(BB167:CL167,DAY(BB168)):INDEX(BB167:CL167,HLOOKUP(BD168,BB160:CL165,6,FALSE)),\"○\"),\"OK\",\"OUT\"))),IF(AND(CI139=\"\",CC139=\"\"),BW139,IF(CI139=\"\",CC139,CI139)))","v":"OUT"},null,null,{"$f":"BD168+1","v":"2025-09-08"},"～",{"$f":"BD168+7","v":"2025-09-14"},{"$f":"IF(COUNTIF(INDEX(BB164:CL164,DAY(BH168)):INDEX(BB164:CL164,HLOOKUP(BJ168,BB160:CL165,6,FALSE)),\"\")+COUNTIF(INDEX(BB164:CL164,DAY(BH168)):INDEX(BB164:CL164,HLOOKUP(BJ168,BB160:CL165,6,FALSE)),\"●\")=7,IF(COUNTIF(INDEX(BB164:CL164,DAY(BH168)):INDEX(BB164:CL164,HLOOKUP(BJ168,BB160:CL165,6,FALSE)),\"●\")>=2,\"OK\",\"OUT\"),\"対象外\")","v":"OUT"},null,null,{"$f":"BJ168+1","v":"2025-09-15"},"～",{"$f":"BJ168+7","v":"2025-09-21"},{"$f":"IF(COUNTIF(INDEX(BB164:CL164,DAY(BN168)):INDEX(BB164:CL164,HLOOKUP(BP168,BB160:CL165,6,FALSE)),\"\")+COUNTIF(INDEX(BB164:CL164,DAY(BN168)):INDEX(BB164:CL164,HLOOKUP(BP168,BB160:CL165,6,FALSE)),\"●\")=7,IF(COUNTIF(INDEX(BB164:CL164,DAY(BN168)):INDEX(BB164:CL164,HLOOKUP(BP168,BB160:CL165,6,FALSE)),\"●\")>=2,\"OK\",\"OUT\"),\"対象外\")","v":"OUT"},null,null,{"$f":"BP168+1","v":"2025-09-22"},"～",{"$f":"BP168+7","v":"2025-09-28"},{"$f":"IF(COUNTIF(INDEX(BB164:CL164,DAY(BT168)):INDEX(BB164:CL164,HLOOKUP(BV168,BB160:CL165,6,FALSE)),\"\")+COUNTIF(INDEX(BB164:CL164,DAY(BT168)):INDEX(BB164:CL164,HLOOKUP(BV168,BB160:CL165,6,FALSE)),\"●\")=7,IF(COUNTIF(INDEX(BB164:CL164,DAY(BT168)):INDEX(BB164:CL164,HLOOKUP(BV168,BB160:CL165,6,FALSE)),\"●\")>=2,\"OK\",\"OUT\"),\"対象外\")","v":"OUT"},null,null,{"$f":"IF(AND(DAY(BV168+7)<23,DAY(BV168+7)>=7),\"\",BV168+1)","v":"2025-09-29"},{"$f":"IF(AND(DAY(BV168+7)<23,DAY(BV168+7)>=7),\"\",\"～\")","v":"～"},{"$f":"IF(AND(DAY(BV168+7)<23,DAY(BV168+7)>=7),\"\",BV168+7)","v":"2025-10-05"},{"$f":"IF(AND(DAY(BV168+7)<23,DAY(BV168+7)>=7),\"\",IF(COUNTIF(INDEX(BB164:CL164,DAY(BZ168)):INDEX(BB164:CL164,HLOOKUP(CB168,BB160:CL165,6,FALSE)),\"\")+COUNTIF(INDEX(BB164:CL164,DAY(BZ168)):INDEX(BB164:CL164,HLOOKUP(CB168,BB160:CL165,6,FALSE)),\"●\")=7,IF(COUNTIF(INDEX(BB164:CL164,DAY(BZ168)):INDEX(BB164:CL164,HLOOKUP(CB168,BB160:CL165,6,FALSE)),\"●\")>=2,\"OK\",\"OUT\"),IF(COUNTIF(INDEX(BB164:CL164,DAY(BZ168)):INDEX(BB164:CL164,HLOOKUP(CB168,BB160:CL165,6,FALSE)),\"\")+COUNTIF(INDEX(BB164:CL164,DAY(BZ168)):INDEX(BB164:CL164,HLOOKUP(CB168,BB160:CL165,6,FALSE)),\"●\")>7,\"「／」漏れ\",\"対象外\")))","v":"OUT"},null,null,{"$f":"IF(CC168=\"\",\"\",IF(AND(DAY(CB168+7)<23,DAY(CB168+7)>=7),\"\",CB168+1))","v":""},{"$f":"IF(CC168=\"\",\"\",IF(AND(DAY(CB168+7)<23,DAY(CB168+7)>=7),\"\",\"～\"))","v":""},{"$f":"IF(CC168=\"\",\"\",IF(AND(DAY(CB168+7)<23,DAY(CB168+7)>=7),\"\",CB168+7))","v":""},{"$f":"IF(CC168=\"\",\"\",IF(AND(DAY(CB168+7)<23,DAY(CB168+7)>=7),\"\",IF(COUNTIF(INDEX(BB164:CL164,DAY(CF168)):INDEX(BB164:CL164,HLOOKUP(CH168,BB160:CL165,6,FALSE)),\"\")+COUNTIF(INDEX(BB164:CL164,DAY(CF168)):INDEX(BB164:CL164,HLOOKUP(CH168,BB160:CL165,6,FALSE)),\"●\")=7,IF(COUNTIF(INDEX(BB164:CL164,DAY(CF168)):INDEX(BB164:CL164,HLOOKUP(CH168,BB160:CL165,6,FALSE)),\"●\")>=2,\"OK\",\"OUT\"),IF(COUNTIF(INDEX(BB164:CL164,HLOOKUP(CF168,BB160:CL165,6,FALSE)):INDEX(BB164:CL164,HLOOKUP(CH168,BB160:CL165,6,FALSE)),\"\")+COUNTIF(INDEX(BB164:CL164,HLOOKUP(CF168,BB160:CL165,6,FALSE)):INDEX(BB164:CL164,HLOOKUP(CH168,BB160:CL165,6,FALSE)),\"●\")>7,\"「／」漏れ\",\"対象外\"))))","v":""},null,null,null,null,null,null,null,"完全週休二日",{"$f":"IF(CR159=\"\",\"\",IF(COUNTIF(BB168:CL168,\"OUT\")>=1,\"OUT\",\"OK\"))","v":"OUT"},null,null,null,null,"完全",{"$f":"IF(WEEKDAY(DATE(YEAR(CX159),MONTH(CX159),1),2)=1,DATE(YEAR(CX159),MONTH(CX159),1),EOMONTH(CX159,-1)-MOD(WEEKDAY(EOMONTH(CX159,-1),2)+6,7))","v":"2025-09-01"},"～",{"$f":"DATE(YEAR(CX159),MONTH(CX159),1)+MOD(7-WEEKDAY(DATE(YEAR(CX159),MONTH(CX159),1),2),7)","v":"2025-09-07"},{"$f":"IF(DAY(CX168)=1,IF(COUNTIF(CX164:DD164,\"／\")>=1,\"対象外\",IF(COUNTIF(INDEX(CX164:EH164,DAY(CX168)):INDEX(CX164:EH164,HLOOKUP(CZ168,CX160:EH165,6,FALSE)),\"\")+COUNTIF(INDEX(CX164:EH164,DAY(CX168)):INDEX(CX164:EH164,HLOOKUP(CZ168,CX160:EH165,6,FALSE)),\"●\")=7,IF(COUNTIF(INDEX(CX164:EH164,DAY(CX168)):INDEX(CX164:EH164,HLOOKUP(CZ168,CX160:EH165,6,FALSE)),\"●\")>=2,\"OK\",\"OUT\"),IF(COUNTIF(INDEX(CX164:EH164,DAY(CX168)):INDEX(CX164:EH164,HLOOKUP(CZ168,CX160:EH165,6,FALSE)),\"●\")>=COUNTIF(INDEX(CX167:EH167,DAY(CX168)):INDEX(CX167:EH167,HLOOKUP(CZ168,CX160:EH165,6,FALSE)),\"○\"),\"OK\",\"OUT\"))),IF(AND(EE139=\"\",DY139=\"\"),DS139,IF(EE139=\"\",DY139,EE139)))","v":"OK"},null,null,{"$f":"CZ168+1","v":"2025-09-08"},"～",{"$f":"CZ168+7","v":"2025-09-14"},{"$f":"IF(COUNTIF(INDEX(CX164:EH164,DAY(DD168)):INDEX(CX164:EH164,HLOOKUP(DF168,CX160:EH165,6,FALSE)),\"\")+COUNTIF(INDEX(CX164:EH164,DAY(DD168)):INDEX(CX164:EH164,HLOOKUP(DF168,CX160:EH165,6,FALSE)),\"●\")=7,IF(COUNTIF(INDEX(CX164:EH164,DAY(DD168)):INDEX(CX164:EH164,HLOOKUP(DF168,CX160:EH165,6,FALSE)),\"●\")>=2,\"OK\",\"OUT\"),\"対象外\")","v":"OK"},null,null,{"$f":"DF168+1","v":"2025-09-15"},"～",{"$f":"DF168+7","v":"2025-09-21"},{"$f":"IF(COUNTIF(INDEX(CX164:EH164,DAY(DJ168)):INDEX(CX164:EH164,HLOOKUP(DL168,CX160:EH165,6,FALSE)),\"\")+COUNTIF(INDEX(CX164:EH164,DAY(DJ168)):INDEX(CX164:EH164,HLOOKUP(DL168,CX160:EH165,6,FALSE)),\"●\")=7,IF(COUNTIF(INDEX(CX164:EH164,DAY(DJ168)):INDEX(CX164:EH164,HLOOKUP(DL168,CX160:EH165,6,FALSE)),\"●\")>=2,\"OK\",\"OUT\"),\"対象外\")","v":"OK"},null,null,{"$f":"DL168+1","v":"2025-09-22"},"～",{"$f":"DL168+7","v":"2025-09-28"},{"$f":"IF(COUNTIF(INDEX(CX164:EH164,DAY(DP168)):INDEX(CX164:EH164,HLOOKUP(DR168,CX160:EH165,6,FALSE)),\"\")+COUNTIF(INDEX(CX164:EH164,DAY(DP168)):INDEX(CX164:EH164,HLOOKUP(DR168,CX160:EH165,6,FALSE)),\"●\")=7,IF(COUNTIF(INDEX(CX164:EH164,DAY(DP168)):INDEX(CX164:EH164,HLOOKUP(DR168,CX160:EH165,6,FALSE)),\"●\")>=2,\"OK\",\"OUT\"),\"対象外\")","v":"OK"},null,null,{"$f":"IF(AND(DAY(DR168+7)<23,DAY(DR168+7)>=7),\"\",DR168+1)","v":"2025-09-29"},{"$f":"IF(AND(DAY(DR168+7)<23,DAY(DR168+7)>=7),\"\",\"～\")","v":"～"},{"$f":"IF(AND(DAY(DR168+7)<23,DAY(DR168+7)>=7),\"\",DR168+7)","v":"2025-10-05"},{"$f":"IF(AND(DAY(DR168+7)<23,DAY(DR168+7)>=7),\"\",IF(COUNTIF(INDEX(CX164:EH164,DAY(DV168)):INDEX(CX164:EH164,HLOOKUP(DX168,CX160:EH165,6,FALSE)),\"\")+COUNTIF(INDEX(CX164:EH164,DAY(DV168)):INDEX(CX164:EH164,HLOOKUP(DX168,CX160:EH165,6,FALSE)),\"●\")=7,IF(COUNTIF(INDEX(CX164:EH164,DAY(DV168)):INDEX(CX164:EH164,HLOOKUP(DX168,CX160:EH165,6,FALSE)),\"●\")>=2,\"OK\",\"OUT\"),IF(COUNTIF(INDEX(CX164:EH164,DAY(DV168)):INDEX(CX164:EH164,HLOOKUP(DX168,CX160:EH165,6,FALSE)),\"\")+COUNTIF(INDEX(CX164:EH164,DAY(DV168)):INDEX(CX164:EH164,HLOOKUP(DX168,CX160:EH165,6,FALSE)),\"●\")>7,\"「／」漏れ\",\"対象外\")))","v":"OK"},null,null,{"$f":"IF(DY168=\"\",\"\",IF(AND(DAY(DX168+7)<23,DAY(DX168+7)>=7),\"\",DX168+1))","v":""},{"$f":"IF(DY168=\"\",\"\",IF(AND(DAY(DX168+7)<23,DAY(DX168+7)>=7),\"\",\"～\"))","v":""},{"$f":"IF(DY168=\"\",\"\",IF(AND(DAY(DX168+7)<23,DAY(DX168+7)>=7),\"\",DX168+7))","v":""},{"$f":"IF(DY168=\"\",\"\",IF(AND(DAY(DX168+7)<23,DAY(DX168+7)>=7),\"\",IF(COUNTIF(INDEX(CX164:EH164,DAY(EB168)):INDEX(CX164:EH164,HLOOKUP(ED168,CX160:EH165,6,FALSE)),\"\")+COUNTIF(INDEX(CX164:EH164,DAY(EB168)):INDEX(CX164:EH164,HLOOKUP(ED168,CX160:EH165,6,FALSE)),\"●\")=7,IF(COUNTIF(INDEX(CX164:EH164,DAY(EB168)):INDEX(CX164:EH164,HLOOKUP(ED168,CX160:EH165,6,FALSE)),\"●\")>=2,\"OK\",\"OUT\"),IF(COUNTIF(INDEX(CX164:EH164,HLOOKUP(EB168,CX160:EH165,6,FALSE)):INDEX(CX164:EH164,HLOOKUP(ED168,CX160:EH165,6,FALSE)),\"\")+COUNTIF(INDEX(CX164:EH164,HLOOKUP(EB168,CX160:EH165,6,FALSE)):INDEX(CX164:EH164,HLOOKUP(ED168,CX160:EH165,6,FALSE)),\"●\")>7,\"「／」漏れ\",\"対象外\"))))","v":""},null,null,null,null,null,null,null,"完全週休二日",{"$f":"IF(EN159=\"\",\"\",IF(COUNTIF(CX168:EH168,\"OUT\")>=1,\"OUT\",\"OK\"))","v":"OK"}]
[""]
[{"$f":"IF(AND(NOT($AT$159=\"\"),$AT$188=\"\"),\"対象期間\",\"\")","v":""}]
[{"$f":"IF(AND(NOT($AT$159=\"\"),$AT$188=\"\"),\"対象期間\",\"\")","v":""},null,"※１工事着手日：始期日以降に準備工事（現場事務所の建設・測量等）、工場製作を含む工事における工場製作工に着手した日",null,null,null,null,null,null,null,null,null,null,null,null,null,null,null,null,null,null,null,null,null,null,null,null,null,null,null,null,null,null,null,null,null,null,null,null,null,null,null,null,"工事全体の確認",null,null,null,null,null,null,null,null,"※１工事着手日：始期日以降に準備工事（現場事務所の建設・測量等）、工場製作を含む工事における工場製作工に着手した日",null,null,null,null,null,null,null,null,null,null,null,null,null,null,null,null,null,null,null,null,null,null,null,null,null,null,null,null,null,null,null,null,null,null,null,null,null,null,null,null,"工事全体の確認",null,null,null,null,null,null,"※１工事着手日：始期日以降に準備工事（現場事務所の建設・測量等）、工場製作を含む工事における工場製作工に着手した日",null,null,null,null,null,null,null,null,null,null,null,null,null,null,null,null,null,null,null,null,null,null,null,null,null,null,null,null,null,null,null,null,null,null,null,null,null,null,null,null,"工事全体の確認"]
["",null,"※２作業完了日：工事施工範囲内で全ての作業（後片付けを含む）が完了した日\n　　　　　　　　　  （工事現場事務所は工事施工範囲外に設置するため、ここでいう後片付けの対象に含まない）",null,null,null,null,null,null,null,null,null,null,null,null,null,null,null,null,null,null,null,null,null,null,null,null,null,null,null,null,null,null,null,null,null,null,null,null,null,null,null,null,"計画","全対象期間",{"$f":"IFERROR(AT143+AT159,\"\")","v":""},null,null,null,null,null,null,"※２作業完了日：工事施工範囲内で全ての作業（後片付けを含む）が完了した日\n　　　　　　　　　  （工事現場事務所は工事施工範囲外に設置するため、ここでいう後片付けの対象に含まない）",null,null,null,null,null,null,null,null,null,null,null,null,null,null,null,null,null,null,null,null,null,null,null,null,null,null,null,null,null,null,null,null,null,null,null,null,null,null,null,null,"計画","全対象期間",{"$f":"IFERROR(CR143+CR159,\"\")","v":""},null,null,null,null,"※２作業完了日：工事施工範囲内で全ての作業（後片付けを含む）が完了した日\n　　　　　　　　　  （工事現場事務所は工事施工範囲外に設置するため、ここでいう後片付けの対象に含まない）",null,null,null,null,null,null,null,null,null,null,null,null,null,null,null,null,null,null,null,null,null,null,null,null,null,null,null,null,null,null,null,null,null,null,null,null,null,null,null,null,"計画","全対象期間",{"$f":"IFERROR(EN143+EN159,\"\")","v":139}]
["",null,null,null,null,null,null,null,null,null,null,null,null,null,null,null,null,null,null,null,null,null,null,null,null,null,null,null,null,null,null,null,null,null,null,null,null,null,null,null,null,null,null,null,"全現場閉所日数",{"$f":"IFERROR(AT144+AT160,\"\")","v":""},null,null,null,null,null,null,null,null,null,null,null,null,null,null,null,null,null,null,null,null,null,null,null,null,null,null,null,null,null,null,null,null,null,null,null,null,null,null,null,null,null,null,null,null,null,null,null,null,"全現場閉所日数",{"$f":"IFERROR(CR144+CR160,\"\")","v":""},null,null,null,null,null,null,null,null,null,null,null,null,null,null,null,null,null,null,null,null,null,null,null,null,null,null,null,null,null,null,null,null,null,null,null,null,null,null,null,null,null,null,null,null,null,null,"全現場閉所日数",{"$f":"IFERROR(EN144+EN160,\"\")","v":44}]
["",null,"【算定除外期間】：夏季休暇（8月13日～8月15日）、年末年始（12月29日～翌年1月3日）は算定期間の分母・分子に含めない",null,null,null,null,null,null,null,null,null,null,null,null,null,null,null,null,null,null,null,null,null,null,null,null,null,null,null,null,null,null,null,null,null,null,null,null,null,null,null,null,null,"現場閉所率",{"$f":"IFERROR(+AT173/AT172,\"\")","v":""},{"$f":"IF(AT174>=0.285,\"4週8休以上\",\"週休2日未達成\")","v":"4週8休以上"},null,null,null,null,null,"【算定除外期間】：夏季休暇（8月13日～8月15日）、年末年始（12月29日～翌年1月3日）は算定期間の分母・分子に含めない",null,null,null,null,null,null,null,null,null,null,null,null,null,null,null,null,null,null,null,null,null,null,null,null,null,null,null,null,null,null,null,null,null,null,null,null,null,null,null,null,null,"現場閉所率",{"$f":"IFERROR(+CR173/CR172,\"\")","v":""},{"$f":"IF(CR174>=0.285,\"4週8休以上\",\"週休2日未達成\")","v":"4週8休以上"},null,null,null,"【算定除外期間】：夏季休暇（8月13日～8月15日）、年末年始（12月29日～翌年1月3日）は算定期間の分母・分子に含めない",null,null,null,null,null,null,null,null,null,null,null,null,null,null,null,null,null,null,null,null,null,null,null,null,null,null,null,null,null,null,null,null,null,null,null,null,null,null,null,null,null,"現場閉所率",{"$f":"IFERROR(+EN173/EN172,\"\")","v":0.31654676258992803},{"$f":"IF(EN174>=0.285,\"4週8休以上\",\"週休2日未達成\")","v":"4週8休以上"}]
["",null,"※３工事期間の全ての月において、達成状況を確認し、一度でも達成できない月があれば、４週８休以上（月単位）は「未達成」となり、補正の対象とならない。\n　　月によっては、土日を全て閉所しても現場閉所率が28.5％に満たない場合があるが、その月の対象期間の土日日数以上閉所していれば達成とみなす。\n\n※４工事対象期間のうち、一度でも完全週休２日（月～日で２日以上の現場閉所）を達成できなければ、\n　　 完全週休２日は「未達成」となり、補正の対象とならない。\n　　 なお、工期始期・終期、年末年始、夏季休暇などにより、７日間に満たない期間は完全週休２日の達成判断の対象外とする。",null,null,null,null,null,null,null,null,null,null,null,null,null,null,null,null,null,null,null,null,null,null,null,null,null,null,null,null,null,null,null,null,null,null,null,null,null,null,null,null,"実施","全対象期間",{"$f":"IFERROR(AT146+AT162,\"\")","v":""},null,null,null,null,null,null,"※３工事期間の全ての月において、達成状況を確認し、一度でも達成できない月があれば、４週８休以上（月単位）は「未達成」となり、補正の対象とならない。\n　　月によっては、土日を全て閉所しても現場閉所率が28.5％に満たない場合があるが、その月の対象期間の土日日数以上閉所していれば達成とみなす。\n\n※４工事対象期間のうち、一度でも完全週休２日（月～日で２日以上の現場閉所）を達成できなければ、\n　　 完全週休２日は「未達成」となり、補正の対象とならない。\n　　 なお、工期始期・終期、年末年始、夏季休暇などにより、７日間に満たない期間は完全週休２日の達成判断の対象外とする。",null,null,null,null,null,null,null,null,null,null,null,null,null,null,null,null,null,null,null,null,null,null,null,null,null,null,null,null,null,null,null,null,null,null,null,null,null,null,null,null,"実施","全対象期間",{"$f":"IFERROR(CR146+CR162,\"\")","v":""},null,null,null,null,"※３工事期間の全ての月において、達成状況を確認し、一度でも達成できない月があれば、４週８休以上（月単位）は「未達成」となり、補正の対象とならない。\n　　月によっては、土日を全て閉所しても現場閉所率が28.5％に満たない場合があるが、その月の対象期間の土日日数以上閉所していれば達成とみなす。\n\n※４工事対象期間のうち、一度でも完全週休２日（月～日で２日以上の現場閉所）を達成できなければ、\n　　 完全週休２日は「未達成」となり、補正の対象とならない。\n　　 なお、工期始期・終期、年末年始、夏季休暇などにより、７日間に満たない期間は完全週休２日の達成判断の対象外とする。",null,null,null,null,null,null,null,null,null,null,null,null,null,null,null,null,null,null,null,null,null,null,null,null,null,null,null,null,null,null,null,null,null,null,null,null,null,null,null,null,"実施","全対象期間",{"$f":"IFERROR(EN146+EN162,\"\")","v":139}]
["",null,null,null,null,null,null,null,null,null,null,null,null,null,null,null,null,null,null,null,null,null,null,null,null,null,null,null,null,null,null,null,null,null,null,null,null,null,null,null,null,null,null,null,"全現場閉所日数",{"$f":"IFERROR(AT147+AT163,\"\")","v":""},null,null,null,null,null,null,null,null,null,null,null,null,null,null,null,null,null,null,null,null,null,null,null,null,null,null,null,null,null,null,null,null,null,null,null,null,null,null,null,null,null,null,null,null,null,null,null,null,"全現場閉所日数",{"$f":"IFERROR(CR147+CR163,\"\")","v":""},null,null,null,null,null,null,null,null,null,null,null,null,null,null,null,null,null,null,null,null,null,null,null,null,null,null,null,null,null,null,null,null,null,null,null,null,null,null,null,null,null,null,null,null,null,null,"全現場閉所日数",{"$f":"IFERROR(EN147+EN163,\"\")","v":45}]
["",null,null,null,null,null,null,null,null,null,null,null,null,null,null,null,null,null,null,null,null,null,null,null,null,null,null,null,null,null,null,null,null,null,null,null,null,null,null,null,null,null,null,null,"現場閉所率",{"$f":"IFERROR(+AT176/AT175,\"\")","v":""},{"$f":"IF(AT177>=0.285,\"4週8休以上\",\"週休2日未達成\")","v":"4週8休以上"},null,null,null,null,null,null,null,null,null,null,null,null,null,null,null,null,null,null,null,null,null,null,null,null,null,null,null,null,null,null,null,null,null,null,null,null,null,null,null,null,null,null,null,null,null,null,null,"現場閉所率",{"$f":"IFERROR(+CR176/CR175,\"\")","v":""},{"$f":"IF(CR177>=0.285,\"4週8休以上\",\"週休2日未達成\")","v":"4週8休以上"},null,null,null,null,null,null,null,null,null,null,null,null,null,null,null,null,null,null,null,null,null,null,null,null,null,null,null,null,null,null,null,null,null,null,null,null,null,null,null,null,null,null,null,null,null,"現場閉所率",{"$f":"IFERROR(+EN176/EN175,\"\")","v":0.32374100719424459},{"$f":"IF(EN177>=0.285,\"4週8休以上\",\"週休2日未達成\")","v":"4週8休以上"}]
["",null,null,null,null,null,null,null,null,null,null,null,null,null,null,null,null,null,null,null,null,null,null,null,null,null,null,null,null,null,null,null,null,null,null,null,null,null,null,null,null,null,null,null,"閉所（月単位）",{"$f":"IFERROR(COUNTIF(AS$14:$AS168,\"4週8休以上\")/(COUNTIF(AS$14:$AS168,\"4週8休以上\")+COUNTIF(AS$14:$AS168,\"週休2日未達成\")),\"\")","v":""},{"$f":"IF(OR(AT178=100%,AT178=\"\"),\"達成\",\"未達成\")","v":"達成"},null,null,null,null,null,null,null,null,null,null,null,null,null,null,null,null,null,null,null,null,null,null,null,null,null,null,null,null,null,null,null,null,null,null,null,null,null,null,null,null,null,null,null,null,null,null,null,"閉所（月単位）",{"$f":"IFERROR(COUNTIF(CQ$14:$CQ168,\"4週8休以上\")/(COUNTIF(CQ$14:$CQ168,\"4週8休以上\")+COUNTIF(CQ$14:$CQ168,\"週休2日未達成\")),\"\")","v":0},{"$f":"IF(OR(CR178=100%,CR178=\"\"),\"達成\",\"未達成\")","v":"未達成"},null,null,null,null,null,null,null,null,null,null,null,null,null,null,null,null,null,null,null,null,null,null,null,null,null,null,null,null,null,null,null,null,null,null,null,null,null,null,null,null,null,null,null,null,null,"閉所（月単位）",{"$f":"IFERROR(COUNTIF($EM$14:EM168,\"4週8休以上\")/(COUNTIF($EM$14:EM168,\"4週8休以上\")+COUNTIF($EM$14:EM168,\"週休2日未達成\")),\"\")","v":1},{"$f":"IF(OR(EN178=100%,EN178=\"\"),\"達成\",\"未達成\")","v":"達成"}]
["",null,null,null,null,null,null,null,null,null,null,null,null,null,null,null,null,null,null,null,null,null,null,null,null,null,null,null,null,null,null,null,null,null,null,null,null,null,null,null,null,null,null,null,"完全週休二日",{"$f":"IF(COUNTIF(AS$14:$AS168,\"OUT\")>=1,\"OUT\",\"OK\")","v":"OK"},{"$f":"IF(AT179=\"OK\",\"達成\",\"未達成\")","v":"達成"},null,null,null,null,null,null,null,null,null,null,null,null,null,null,null,null,null,null,null,null,null,null,null,null,null,null,null,null,null,null,null,null,null,null,null,null,null,null,null,null,null,null,null,null,null,null,null,"完全週休二日",{"$f":"IF(COUNTIF(CQ$14:$CQ168,\"OUT\")>=1,\"OUT\",\"OK\")","v":"OUT"},{"$f":"IF(CR179=\"OK\",\"達成\",\"未達成\")","v":"未達成"},null,null,null,null,null,null,null,null,null,null,null,null,null,null,null,null,null,null,null,null,null,null,null,null,null,null,null,null,null,null,null,null,null,null,null,null,null,null,null,null,null,null,null,null,null,"完全週休二日",{"$f":"IF(COUNTIF($EM$14:EM168,\"OUT\")>=1,\"OUT\",\"OK\")","v":"OK"},{"$f":"IF(EN179=\"OK\",\"達成\",\"未達成\")","v":"達成"}]
["",null,"※必要に応じて各月の完全週休2日（月～日）の達成判定の行を修正してください。（曜日に合わせて修正）",null,null,null,null,null,null,null,null,null,null,null,null,null,null,null,null,null,null,null,null,null,null,null,null,null,null,null,null,null,null,null,null,null,null,null,null,null,null,null,null,null,null,null,null,null,null,null,null,null,"※必要に応じて各月の完全週休2日（月～日）の達成判定の行を修正してください。（曜日に合わせて修正）",null,null,null,null,null,null,null,null,null,null,null,null,null,null,null,null,null,null,null,null,null,null,null,null,null,null,null,null,null,null,null,null,null,null,null,null,null,null,null,null,null,null,null,null,null,null,null,"※必要に応じて各月の完全週休2日（月～日）の達成判定の行を修正してください。（曜日に合わせて修正）"]
[""]
[""]
[""]
[""]
[""]
["",null,"算定除外期間以外の祝日（ＧＷ含む）は、算定期間（分母）の対象＝現場閉所の場合は分子にカウントして現場閉所率を算定",null,null,null,null,null,null,null,null,null,null,null,null,null,null,null,null,null,null,null,null,null,null,null,null,null,null,null,null,null,null,null,null,null,null,null,null,null,null,null,null,null,null,null,null,null,null,null,null,null,"算定除外期間以外の祝日（ＧＷ含む）は、算定期間（分母）の対象＝現場閉所の場合は分子にカウントして現場閉所率を算定",null,null,null,null,null,null,null,null,null,null,null,null,null,null,null,null,null,null,null,null,null,null,null,null,null,null,null,null,null,null,null,null,null,null,null,null,null,null,null,null,null,null,null,null,null,null,null,"算定除外期間以外の祝日（ＧＷ含む）は、算定期間（分母）の対象＝現場閉所の場合は分子にカウントして現場閉所率を算定"]
[""]
[{"$f":"IF($AT$188=\"\",\"\",\"対象期間\")","v":""},null,"月",{"$f":"DATE(YEAR(D159),MONTH(D159)+1,1)","v":"2025-10-01"},null,null,null,null,null,null,null,null,null,null,null,null,null,null,null,null,null,null,null,null,null,null,null,null,null,null,null,null,null,null,{"$f":"DATE(YEAR(D188),MONTH(D188)+1,1)","v":"2025-11-01"},null,null,null,null,null,"現場閉所計","現場閉所累計",null,"計画","対象期間",{"$f":"IF(IF(MONTH(入力表!$E$6)=12,YEAR(入力表!$E$6)+1&\"01\",YEAR(入力表!$E$6)&TEXT(MONTH(入力表!$E$6)+1,\"00\"))>YEAR($D188)&TEXT(MONTH($D188),\"00\"),COUNTIF(D192:AH192,\"\")+COUNTIF(D192:AH192,\"○\"),\"\")","v":""},{"$f":"IF(COUNTIF(D189:AH189,\"／\")=0,\"\",IF(COUNTIF(D189:AH189,\"／\")=1,IF(AH192=\"／\",\"\",\"月末「／」漏れ\"),IF(COUNTIF(D189:AH189,\"／\")=2,IF(AND(AG192=\"／\",AH192=\"／\"),\"\",\"月末「／」漏れ\"),IF(AND(AF192=\"／\",AG192=\"／\",AH192=\"／\"),\"\",\"月末「／」漏れ\"))))","v":""},null,null,null,null,null,"月",{"$f":"DATE(YEAR(BB159),MONTH(BB159)+1,1)","v":"2025-10-01"},null,null,null,null,null,null,null,null,null,null,null,null,null,null,null,null,null,null,null,null,null,null,null,null,null,null,null,null,null,null,{"$f":"DATE(YEAR(BB188),MONTH(BB188)+1,1)","v":"2025-11-01"},null,null,null,null,null,"現場閉所計","現場閉所累計",null,"計画","対象期間",{"$f":"IF(IF(MONTH($BL$5)=12,YEAR($BL$5)+1&\"01\",YEAR($BL$5)&TEXT(MONTH($BL$5)+1,\"00\"))>YEAR(BB188)&TEXT(MONTH(BB188),\"00\"),COUNTIF(BB192:CF192,\"\")+COUNTIF(BB192:CF192,\"○\"),\"\")","v":31},{"$f":"IF(COUNTIF(BB189:CF189,\"／\")=0,\"\",IF(COUNTIF(BB189:CF189,\"／\")=1,IF(CF192=\"／\",\"\",\"月末「／」漏れ\"),IF(COUNTIF(BB189:CF189,\"／\")=2,IF(AND(CE192=\"／\",CF192=\"／\"),\"\",\"月末「／」漏れ\"),IF(AND(CD192=\"／\",CE192=\"／\",CF192=\"／\"),\"\",\"月末「／」漏れ\"))))","v":""},null,null,null,"月",{"$f":"DATE(YEAR(CX159),MONTH(CX159)+1,1)","v":"2025-10-01"},null,null,null,null,null,null,null,null,null,null,null,null,null,null,null,null,null,null,null,null,null,null,null,null,null,null,null,null,null,null,{"$f":"DATE(YEAR(CX188),MONTH(CX188)+1,1)","v":"2025-11-01"},null,null,null,null,null,"現場閉所計","現場閉所累計",null,"計画","対象期間",{"$f":"IF(IF(MONTH($BL$5)=12,YEAR($BL$5)+1&\"01\",YEAR($BL$5)&TEXT(MONTH($BL$5)+1,\"00\"))>YEAR($CX188)&TEXT(MONTH($CX188),\"00\"),COUNTIF(CX192:EB192,\"\")+COUNTIF(CX192:EB192,\"○\"),\"\")","v":31},{"$f":"IF(COUNTIF(CX189:EB189,\"／\")=0,\"\",IF(COUNTIF(CX189:EB189,\"／\")=1,IF(EB192=\"／\",\"\",\"月末「／」漏れ\"),IF(COUNTIF(CX189:EB189,\"／\")=2,IF(AND(EA192=\"／\",EB192=\"／\"),\"\",\"月末「／」漏れ\"),IF(AND(DZ192=\"／\",EA192=\"／\",EB192=\"／\"),\"\",\"月末「／」漏れ\"))))","v":""}]
[{"$f":"IF($AT$188=\"\",\"\",\"対象期間\")","v":""},null,"日",{"$f":"D188","v":"2025-10-01"},{"$f":"D189+1","v":"2025-10-02"},{"$f":"E189+1","v":"2025-10-03"},{"$f":"F189+1","v":"2025-10-04"},{"$f":"G189+1","v":"2025-10-05"},{"$f":"H189+1","v":"2025-10-06"},{"$f":"I189+1","v":"2025-10-07"},{"$f":"J189+1","v":"2025-10-08"},{"$f":"K189+1","v":"2025-10-09"},{"$f":"L189+1","v":"2025-10-10"},{"$f":"M189+1","v":"2025-10-11"},{"$f":"N189+1","v":"2025-10-12"},{"$f":"O189+1","v":"2025-10-13"},{"$f":"P189+1","v":"2025-10-14"},{"$f":"Q189+1","v":"2025-10-15"},{"$f":"R189+1","v":"2025-10-16"},{"$f":"S189+1","v":"2025-10-17"},{"$f":"T189+1","v":"2025-10-18"},{"$f":"U189+1","v":"2025-10-19"},{"$f":"V189+1","v":"2025-10-20"},{"$f":"W189+1","v":"2025-10-21"},{"$f":"X189+1","v":"2025-10-22"},{"$f":"Y189+1","v":"2025-10-23"},{"$f":"Z189+1","v":"2025-10-24"},{"$f":"AA189+1","v":"2025-10-25"},{"$f":"AB189+1","v":"2025-10-26"},{"$f":"AC189+1","v":"2025-10-27"},{"$f":"AD189+1","v":"2025-10-28"},{"$f":"IF(AE189=\"／\",\"／\",IF(YEAR($D188)&TEXT(MONTH($D188),\"00\")<YEAR(AE189+1)&TEXT(MONTH(AE189+1),\"00\"),\"／\",AE189+1))","v":"2025-10-29"},{"$f":"IF(AF189=\"／\",\"／\",IF(YEAR($D188)&TEXT(MONTH($D188),\"00\")<YEAR(AF189+1)&TEXT(MONTH(AF189+1),\"00\"),\"／\",AF189+1))","v":"2025-10-30"},{"$f":"IF(AG189=\"／\",\"／\",IF(YEAR($D188)&TEXT(MONTH($D188),\"00\")<YEAR(AG189+1)&TEXT(MONTH(AG189+1),\"00\"),\"／\",AG189+1))","v":"2025-10-31"},{"$f":"AI188","v":"2025-11-01"},{"$f":"AI189+1","v":"2025-11-02"},{"$f":"AJ189+1","v":"2025-11-03"},{"$f":"AK189+1","v":"2025-11-04"},{"$f":"AL189+1","v":"2025-11-05"},{"$f":"AM189+1","v":"2025-11-06"},null,null,null,null,"閉所日数",{"$f":"IF(IF(MONTH(入力表!$E$6)=12,YEAR(入力表!$E$6)+1&\"01\",YEAR(入力表!$E$6)&TEXT(MONTH(入力表!$E$6)+1,\"00\"))>YEAR($D188)&TEXT(MONTH($D188),\"00\"),COUNTIF(D192:AH192,\"○\"),\"\")","v":""},{"$f":"IF(OR(MONTH(D188)=1,MONTH(D188)=8,MONTH(D188)=12),IF(COUNTIF(D192:AH192,\"／\")>=3,\"\",\"算定除外「／」漏れ\"),\"\")","v":""},null,null,null,null,null,"日",{"$f":"BB188","v":"2025-10-01"},{"$f":"BB189+1","v":"2025-10-02"},{"$f":"BC189+1","v":"2025-10-03"},{"$f":"BD189+1","v":"2025-10-04"},{"$f":"BE189+1","v":"2025-10-05"},{"$f":"BF189+1","v":"2025-10-06"},{"$f":"BG189+1","v":"2025-10-07"},{"$f":"BH189+1","v":"2025-10-08"},{"$f":"BI189+1","v":"2025-10-09"},{"$f":"BJ189+1","v":"2025-10-10"},{"$f":"BK189+1","v":"2025-10-11"},{"$f":"BL189+1","v":"2025-10-12"},{"$f":"BM189+1","v":"2025-10-13"},{"$f":"BN189+1","v":"2025-10-14"},{"$f":"BO189+1","v":"2025-10-15"},{"$f":"BP189+1","v":"2025-10-16"},{"$f":"BQ189+1","v":"2025-10-17"},{"$f":"BR189+1","v":"2025-10-18"},{"$f":"BS189+1","v":"2025-10-19"},{"$f":"BT189+1","v":"2025-10-20"},{"$f":"BU189+1","v":"2025-10-21"},{"$f":"BV189+1","v":"2025-10-22"},{"$f":"BW189+1","v":"2025-10-23"},{"$f":"BX189+1","v":"2025-10-24"},{"$f":"BY189+1","v":"2025-10-25"},{"$f":"BZ189+1","v":"2025-10-26"},{"$f":"CA189+1","v":"2025-10-27"},{"$f":"CB189+1","v":"2025-10-28"},{"$f":"IF(CC189=\"／\",\"／\",IF(YEAR(BB188)&TEXT(MONTH(BB188),\"00\")<YEAR(CC189+1)&TEXT(MONTH(CC189+1),\"00\"),\"／\",CC189+1))","v":"2025-10-29"},{"$f":"IF(CD189=\"／\",\"／\",IF(YEAR(BB188)&TEXT(MONTH(BB188),\"00\")<YEAR(CD189+1)&TEXT(MONTH(CD189+1),\"00\"),\"／\",CD189+1))","v":"2025-10-30"},{"$f":"IF(CE189=\"／\",\"／\",IF(YEAR(BB188)&TEXT(MONTH(BB188),\"00\")<YEAR(CE189+1)&TEXT(MONTH(CE189+1),\"00\"),\"／\",CE189+1))","v":"2025-10-31"},{"$f":"CG188","v":"2025-11-01"},{"$f":"CG189+1","v":"2025-11-02"},{"$f":"CH189+1","v":"2025-11-03"},{"$f":"CI189+1","v":"2025-11-04"},{"$f":"CJ189+1","v":"2025-11-05"},{"$f":"CK189+1","v":"2025-11-06"},null,null,null,null,"閉所日数",{"$f":"IF(IF(MONTH($BL$5)=12,YEAR($BL$5)+1&\"01\",YEAR($BL$5)&TEXT(MONTH($BL$5)+1,\"00\"))>YEAR(BB188)&TEXT(MONTH(BB188),\"00\"),COUNTIF(BB192:CF192,\"○\"),\"\")","v":9},{"$f":"IF(OR(MONTH(BB188)=1,MONTH(BB188)=8,MONTH(BB188)=12),IF(COUNTIF(BB192:CF192,\"／\")>=3,\"\",\"算定除外「／」漏れ\"),\"\")","v":""},null,null,null,"日",{"$f":"CX188","v":"2025-10-01"},{"$f":"CX189+1","v":"2025-10-02"},{"$f":"CY189+1","v":"2025-10-03"},{"$f":"CZ189+1","v":"2025-10-04"},{"$f":"DA189+1","v":"2025-10-05"},{"$f":"DB189+1","v":"2025-10-06"},{"$f":"DC189+1","v":"2025-10-07"},{"$f":"DD189+1","v":"2025-10-08"},{"$f":"DE189+1","v":"2025-10-09"},{"$f":"DF189+1","v":"2025-10-10"},{"$f":"DG189+1","v":"2025-10-11"},{"$f":"DH189+1","v":"2025-10-12"},{"$f":"DI189+1","v":"2025-10-13"},{"$f":"DJ189+1","v":"2025-10-14"},{"$f":"DK189+1","v":"2025-10-15"},{"$f":"DL189+1","v":"2025-10-16"},{"$f":"DM189+1","v":"2025-10-17"},{"$f":"DN189+1","v":"2025-10-18"},{"$f":"DO189+1","v":"2025-10-19"},{"$f":"DP189+1","v":"2025-10-20"},{"$f":"DQ189+1","v":"2025-10-21"},{"$f":"DR189+1","v":"2025-10-22"},{"$f":"DS189+1","v":"2025-10-23"},{"$f":"DT189+1","v":"2025-10-24"},{"$f":"DU189+1","v":"2025-10-25"},{"$f":"DV189+1","v":"2025-10-26"},{"$f":"DW189+1","v":"2025-10-27"},{"$f":"DX189+1","v":"2025-10-28"},{"$f":"IF(DY189=\"／\",\"／\",IF(YEAR(CX188)&TEXT(MONTH(CX188),\"00\")<YEAR(DY189+1)&TEXT(MONTH(DY189+1),\"00\"),\"／\",DY189+1))","v":"2025-10-29"},{"$f":"IF(DZ189=\"／\",\"／\",IF(YEAR(CX188)&TEXT(MONTH(CX188),\"00\")<YEAR(DZ189+1)&TEXT(MONTH(DZ189+1),\"00\"),\"／\",DZ189+1))","v":"2025-10-30"},{"$f":"IF(EA189=\"／\",\"／\",IF(YEAR(CX188)&TEXT(MONTH(CX188),\"00\")<YEAR(EA189+1)&TEXT(MONTH(EA189+1),\"00\"),\"／\",EA189+1))","v":"2025-10-31"},{"$f":"EC188","v":"2025-11-01"},{"$f":"EC189+1","v":"2025-11-02"},{"$f":"ED189+1","v":"2025-11-03"},{"$f":"EE189+1","v":"2025-11-04"},{"$f":"EF189+1","v":"2025-11-05"},{"$f":"EG189+1","v":"2025-11-06"},null,null,null,null,"閉所日数",{"$f":"IF(IF(MONTH($BL$5)=12,YEAR($BL$5)+1&\"01\",YEAR($BL$5)&TEXT(MONTH($BL$5)+1,\"00\"))>YEAR($CX188)&TEXT(MONTH($CX188),\"00\"),COUNTIF(CX192:EB192,\"○\"),\"\")","v":9},{"$f":"IF(OR(MONTH(CX188)=1,MONTH(CX188)=8,MONTH(CX188)=12),IF(COUNTIF(CX192:EB192,\"／\")>=3,\"\",\"算定除外「／」漏れ\"),\"\")","v":""}]
["",null,"曜日",{"$f":"TEXT(WEEKDAY(+D189),\"aaa\")","v":"水"},{"$f":"TEXT(WEEKDAY(+E189),\"aaa\")","v":"木"},"金","土","日",{"$f":"TEXT(WEEKDAY(+I189),\"aaa\")","v":"月"},{"$f":"TEXT(WEEKDAY(+J189),\"aaa\")","v":"火"},"水","木","金","土","日","月","火","水","木","金","土","日","月","火","水",{"$f":"TEXT(WEEKDAY(+Z189),\"aaa\")","v":"木"},{"$f":"TEXT(WEEKDAY(+AA189),\"aaa\")","v":"金"},"土","日","月","火",{"$f":"IF(AF189=\"／\",\"／\",TEXT(WEEKDAY(+AF189),\"aaa\"))","v":"水"},{"$f":"IF(AG189=\"／\",\"／\",TEXT(WEEKDAY(+AG189),\"aaa\"))","v":"木"},"金",{"$f":"TEXT(WEEKDAY(+AI189),\"aaa\")","v":"土"},{"$f":"TEXT(WEEKDAY(+AJ189),\"aaa\")","v":"日"},"月","火","水","木",null,null,null,null,"現場閉所率",{"$f":"IFERROR(+AT189/AT188,\"\")","v":""},{"$f":"IF(AT190=\"\",\"\",IF(COUNTIF(D192:AH192,\"○\")>=COUNTIF(D195:AH195,\"◎\"),\"4週8休以上\",IF(AT190>=0.285,\"4週8休以上\",\"週休2日未達成\")))","v":""},null,null,null,null,null,"曜日",{"$f":"TEXT(WEEKDAY(+BB189),\"aaa\")","v":"水"},{"$f":"TEXT(WEEKDAY(+BC189),\"aaa\")","v":"木"},"金","土","日",{"$f":"TEXT(WEEKDAY(+BG189),\"aaa\")","v":"月"},{"$f":"TEXT(WEEKDAY(+BH189),\"aaa\")","v":"火"},"水","木","金","土","日","月","火","水","木","金","土","日","月","火","水",{"$f":"TEXT(WEEKDAY(+BX189),\"aaa\")","v":"木"},{"$f":"TEXT(WEEKDAY(+BY189),\"aaa\")","v":"金"},"土","日","月","火",{"$f":"IF(CD189=\"／\",\"／\",TEXT(WEEKDAY(+CD189),\"aaa\"))","v":"水"},{"$f":"IF(CE189=\"／\",\"／\",TEXT(WEEKDAY(+CE189),\"aaa\"))","v":"木"},"金",{"$f":"TEXT(WEEKDAY(+CG189),\"aaa\")","v":"土"},{"$f":"TEXT(WEEKDAY(+CH189),\"aaa\")","v":"日"},"月","火","水","木",null,null,null,null,"現場閉所率",{"$f":"IFERROR(+CR189/CR188,\"\")","v":0.29032258064516131},{"$f":"IF(CR190=\"\",\"\",IF(COUNTIF(BB192:CF192,\"○\")>=COUNTIF(BB195:CF195,\"◎\"),\"4週8休以上\",IF(CR190>=0.285,\"4週8休以上\",\"週休2日未達成\")))","v":"4週8休以上"},null,null,null,"曜日",{"$f":"TEXT(WEEKDAY(+CX189),\"aaa\")","v":"水"},{"$f":"TEXT(WEEKDAY(+CY189),\"aaa\")","v":"木"},"金","土","日",{"$f":"TEXT(WEEKDAY(+DC189),\"aaa\")","v":"月"},{"$f":"TEXT(WEEKDAY(+DD189),\"aaa\")","v":"火"},"水","木","金","土","日","月","火","水","木","金","土","日","月","火","水",{"$f":"TEXT(WEEKDAY(+DT189),\"aaa\")","v":"木"},{"$f":"TEXT(WEEKDAY(+DU189),\"aaa\")","v":"金"},"土","日","月","火",{"$f":"IF(DZ189=\"／\",\"／\",TEXT(WEEKDAY(+DZ189),\"aaa\"))","v":"水"},{"$f":"IF(EA189=\"／\",\"／\",TEXT(WEEKDAY(+EA189),\"aaa\"))","v":"木"},"金",{"$f":"TEXT(WEEKDAY(+EC189),\"aaa\")","v":"土"},{"$f":"TEXT(WEEKDAY(+ED189),\"aaa\")","v":"日"},"月","火","水","木",null,null,null,null,"現場閉所率",{"$f":"IFERROR(+EN189/EN188,\"\")","v":0.29032258064516131},{"$f":"IF(EN190=\"\",\"\",IF(COUNTIF(CX192:EB192,\"○\")>=COUNTIF(CX195:EB195,\"◎\"),\"4週8休以上\",IF(EN190>=0.285,\"4週8休以上\",\"週休2日未達成\")))","v":"4週8休以上"}]
["",null,"行事",null,null,null,null,null,null,null,null,null,null,null,null,null,null,null,null,null,null,null,null,null,null,null,null,null,null,null,null,null,null,null,{"$f":"IF(D220=\"\",\"\",D220)","v":""},{"$f":"IF(E220=\"\",\"\",E220)","v":""},{"$f":"IF(F220=\"\",\"\",F220)","v":""},{"$f":"IF(G220=\"\",\"\",G220)","v":""},{"$f":"IF(H220=\"\",\"\",H220)","v":""},{"$f":"IF(I220=\"\",\"\",I220)","v":""},null,null,null,"実施","対象期間",{"$f":"IF(IF(MONTH(入力表!$E$6)=12,YEAR(入力表!$E$6)+1&\"01\",YEAR(入力表!$E$6)&TEXT(MONTH(入力表!$E$6)+1,\"00\"))>YEAR($D188)&TEXT(MONTH($D188),\"00\"),COUNTIF(D193:AH193,\"\")+COUNTIF(D193:AH193,\"●\"),\"\")","v":""},{"$f":"IF(COUNTIF(D189:AH189,\"／\")=0,\"\",IF(COUNTIF(D189:AH189,\"／\")=1,IF(AH193=\"／\",\"\",\"月末「／」漏れ\"),IF(COUNTIF(D189:AH189,\"／\")=2,IF(AND(AG193=\"／\",AH193=\"／\"),\"\",\"月末「／」漏れ\"),IF(AND(AF193=\"／\",AG193=\"／\",AH193=\"／\"),\"\",\"月末「／」漏れ\"))))","v":""},null,null,null,null,null,"行事",null,null,null,null,null,null,null,null,null,null,null,null,null,null,null,null,null,null,null,null,null,null,null,null,null,null,null,null,null,null,null,{"$f":"IF(BB220=\"\",\"\",BB220)","v":""},{"$f":"IF(BC220=\"\",\"\",BC220)","v":""},{"$f":"IF(BD220=\"\",\"\",BD220)","v":""},{"$f":"IF(BE220=\"\",\"\",BE220)","v":""},{"$f":"IF(BF220=\"\",\"\",BF220)","v":""},{"$f":"IF(BG220=\"\",\"\",BG220)","v":""},null,null,null,"実施","対象期間",{"$f":"IF(IF(MONTH($BL$5)=12,YEAR($BL$5)+1&\"01\",YEAR($BL$5)&TEXT(MONTH($BL$5)+1,\"00\"))>YEAR(BB188)&TEXT(MONTH(BB188),\"00\"),COUNTIF(BB193:CF193,\"\")+COUNTIF(BB193:CF193,\"●\"),\"\")","v":31},{"$f":"IF(COUNTIF(BB189:CF189,\"／\")=0,\"\",IF(COUNTIF(BB189:CF189,\"／\")=1,IF(CF193=\"／\",\"\",\"月末「／」漏れ\"),IF(COUNTIF(BB189:CF189,\"／\")=2,IF(AND(CE193=\"／\",CF193=\"／\"),\"\",\"月末「／」漏れ\"),IF(AND(CD193=\"／\",CE193=\"／\",CF193=\"／\"),\"\",\"月末「／」漏れ\"))))","v":""},null,null,null,"行事",null,null,null,null,null,null,null,null,null,null,null,null,null,null,null,null,null,null,null,null,null,null,null,null,null,null,null,null,null,null,null,{"$f":"IF(CX220=\"\",\"\",CX220)","v":""},{"$f":"IF(CY220=\"\",\"\",CY220)","v":""},{"$f":"IF(CZ220=\"\",\"\",CZ220)","v":""},{"$f":"IF(DA220=\"\",\"\",DA220)","v":""},{"$f":"IF(DB220=\"\",\"\",DB220)","v":""},{"$f":"IF(DC220=\"\",\"\",DC220)","v":""},null,null,null,"実施","対象期間",{"$f":"IF(IF(MONTH($BL$5)=12,YEAR($BL$5)+1&\"01\",YEAR($BL$5)&TEXT(MONTH($BL$5)+1,\"00\"))>YEAR($CX188)&TEXT(MONTH($CX188),\"00\"),COUNTIF(CX193:EB193,\"\")+COUNTIF(CX193:EB193,\"●\"),\"\")","v":31},{"$f":"IF(COUNTIF(CX189:EB189,\"／\")=0,\"\",IF(COUNTIF(CX189:EB189,\"／\")=1,IF(EB193=\"／\",\"\",\"月末「／」漏れ\"),IF(COUNTIF(CX189:EB189,\"／\")=2,IF(AND(EA193=\"／\",EB193=\"／\"),\"\",\"月末「／」漏れ\"),IF(AND(DZ193=\"／\",EA193=\"／\",EB193=\"／\"),\"\",\"月末「／」漏れ\"))))","v":""}]
["",null,"計画",null,null,null,null,null,null,null,null,null,null,null,null,null,null,null,null,null,null,null,null,null,null,null,null,null,null,null,null,null,null,null,{"$f":"IF(D221=\"\",\"\",D221)","v":""},{"$f":"IF(E221=\"\",\"\",E221)","v":""},{"$f":"IF(F221=\"\",\"\",F221)","v":""},{"$f":"IF(G221=\"\",\"\",G221)","v":""},{"$f":"IF(H221=\"\",\"\",H221)","v":""},{"$f":"IF(I221=\"\",\"\",I221)","v":""},{"$f":"COUNTIF(D192:AH192,\"○\")","v":0},{"$f":"+AO192+AP163","v":0},null,null,"閉所日数",{"$f":"IF(IF(MONTH(入力表!$E$6)=12,YEAR(入力表!$E$6)+1&\"01\",YEAR(入力表!$E$6)&TEXT(MONTH(入力表!$E$6)+1,\"00\"))>YEAR($D188)&TEXT(MONTH($D188),\"00\"),COUNTIF(D193:AH193,\"●\"),\"\")","v":""},{"$f":"IF(OR(MONTH(D188)=1,MONTH(D188)=8,MONTH(D188)=12),IF(COUNTIF(D193:AH193,\"／\")>=3,\"\",\"算定除外「／」漏れ\"),\"\")","v":""},null,null,null,null,null,"計画",null,null,null,"○","○",null,null,null,null,null,"○","○","○",null,null,null,null,"○","○",null,null,null,null,null,"○","○",null,null,null,null,null,{"$f":"IF(BB221=\"\",\"\",BB221)","v":"○"},"○","○","","","",{"$f":"COUNTIF(BB192:CF192,\"○\")","v":9},{"$f":"+CM192+CN163","v":52},null,null,"閉所日数",{"$f":"IF(IF(MONTH($BL$5)=12,YEAR($BL$5)+1&\"01\",YEAR($BL$5)&TEXT(MONTH($BL$5)+1,\"00\"))>YEAR(BB188)&TEXT(MONTH(BB188),\"00\"),COUNTIF(BB193:CF193,\"●\"),\"\")","v":0},{"$f":"IF(OR(MONTH(BB188)=1,MONTH(BB188)=8,MONTH(BB188)=12),IF(COUNTIF(BB193:CF193,\"／\")>=3,\"\",\"算定除外「／」漏れ\"),\"\")","v":""},null,null,null,"計画",null,null,null,"○","○",null,null,null,null,null,"○","○","○",null,null,null,null,"○","○",null,null,null,null,null,"○","○",null,null,null,null,null,{"$f":"IF(CX221=\"\",\"\",CX221)","v":"○"},"○","○","","","",{"$f":"COUNTIF(CX192:EB192,\"○\")","v":9},{"$f":"+EI192+EJ163","v":52},null,null,"閉所日数",{"$f":"IF(IF(MONTH($BL$5)=12,YEAR($BL$5)+1&\"01\",YEAR($BL$5)&TEXT(MONTH($BL$5)+1,\"00\"))>YEAR($CX188)&TEXT(MONTH($CX188),\"00\"),COUNTIF(CX193:EB193,\"●\"),\"\")","v":8},{"$f":"IF(OR(MONTH(CX188)=1,MONTH(CX188)=8,MONTH(CX188)=12),IF(COUNTIF(CX193:EB193,\"／\")>=3,\"\",\"算定除外「／」漏れ\"),\"\")","v":""}]
["",null,"実施",null,null,null,null,null,null,null,null,null,null,null,null,null,null,null,null,null,null,null,null,null,null,null,null,null,null,null,null,null,null,null,{"$f":"IF(D222=\"\",\"\",D222)","v":""},{"$f":"IF(E222=\"\",\"\",E222)","v":""},{"$f":"IF(F222=\"\",\"\",F222)","v":""},{"$f":"IF(G222=\"\",\"\",G222)","v":""},{"$f":"IF(H222=\"\",\"\",H222)","v":""},{"$f":"IF(I222=\"\",\"\",I222)","v":""},{"$f":"COUNTIF(D193:AH193,\"●\")","v":0},{"$f":"+AO193+AP164","v":0},null,null,"現場閉所率",{"$f":"IFERROR(+AT192/AT191,\"\")","v":""},{"$f":"IF(AT193=\"\",\"\",IF(COUNTIF(D193:AH193,\"●\")>=COUNTIF(D196:AH196,\"◎\"),\"4週8休以上\",IF(AT193>=0.285,\"4週8休以上\",\"週休2日未達成\")))","v":""},null,null,null,null,null,"実施",null,null,null,null,null,null,null,null,null,null,null,null,null,null,null,null,null,null,null,null,null,null,null,null,null,null,null,null,null,null,null,{"$f":"IF(BB222=\"\",\"\",BB222)","v":""},{"$f":"IF(BC222=\"\",\"\",BC222)","v":""},{"$f":"IF(BD222=\"\",\"\",BD222)","v":""},{"$f":"IF(BE222=\"\",\"\",BE222)","v":""},{"$f":"IF(BF222=\"\",\"\",BF222)","v":""},{"$f":"IF(BG222=\"\",\"\",BG222)","v":""},{"$f":"COUNTIF(BB193:CF193,\"●\")","v":0},{"$f":"+CM193+CN164","v":0},null,null,"現場閉所率",{"$f":"IFERROR(+CR192/CR191,\"\")","v":0},{"$f":"IF(CR193=\"\",\"\",IF(COUNTIF(BB193:CF193,\"●\")>=COUNTIF(BB196:CF196,\"◎\"),\"4週8休以上\",IF(CR193>=0.285,\"4週8休以上\",\"週休2日未達成\")))","v":"週休2日未達成"},null,null,null,"実施",null,null,null,"●","●",null,null,null,null,null,"●","●",null,null,null,null,null,"●","●",null,null,null,null,null,"●","●",null,null,null,null,null,{"$f":"IF(CX222=\"\",\"\",CX222)","v":"●"},{"$f":"IF(CY222=\"\",\"\",CY222)","v":"●"},{"$f":"IF(CZ222=\"\",\"\",CZ222)","v":"●"},{"$f":"IF(DA222=\"\",\"\",DA222)","v":""},{"$f":"IF(DB222=\"\",\"\",DB222)","v":""},{"$f":"IF(DC222=\"\",\"\",DC222)","v":""},{"$f":"COUNTIF(CX193:EB193,\"●\")","v":8},{"$f":"+EI193+EJ164","v":52},null,null,"現場閉所率",{"$f":"IFERROR(+EN192/EN191,\"\")","v":0.25806451612903225},{"$f":"IF(EN193=\"\",\"\",IF(COUNTIF(CX193:EB193,\"●\")>=COUNTIF(CX196:EB196,\"◎\"),\"4週8休以上\",IF(EN193>=0.285,\"4週8休以上\",\"週休2日未達成\")))","v":"4週8休以上"}]
[null,null,null,1,2,3,4,5,6,7,8,9,10,11,12,13,14,15,16,17,18,19,20,21,22,23,24,25,26,27,28,29,30,31,32,33,34,35,36,37,null,null,null,null,{"$f":"AU193","v":""},null,null,null,null,null,null,null,null,1,2,3,4,5,6,7,8,9,10,11,12,13,14,15,16,17,18,19,20,21,22,23,24,25,26,27,28,29,30,31,32,33,34,35,36,37,null,null,null,null,{"$f":"CS193","v":"週休2日未達成"},null,null,null,null,null,null,1,2,3,4,5,6,7,8,9,10,11,12,13,14,15,16,17,18,19,20,21,22,23,24,25,26,27,28,29,30,31,32,33,34,35,36,37,null,null,null,null,{"$f":"EO193","v":"4週8休以上"}]
[null,null,"計画",{"$f":"IF(D192=\"／\",\"／\",IF(OR(D190=\"土\",D190=\"日\"),\"◎\",\"\"))","v":""},{"$f":"IF(E192=\"／\",\"／\",IF(OR(E190=\"土\",E190=\"日\"),\"◎\",\"\"))","v":""},"","◎","◎","","","","","","◎","◎","","","","","","◎","◎","","","","","","◎","◎",{"$f":"IF(AD192=\"／\",\"／\",IF(OR(AD190=\"土\",AD190=\"日\"),\"◎\",\"\"))","v":""},{"$f":"IF(AE192=\"／\",\"／\",IF(OR(AE190=\"土\",AE190=\"日\"),\"◎\",\"\"))","v":""},"","","","◎","◎","","","","",null,null,null,null,{"$f":"AT197","v":""},null,null,null,null,null,null,null,"計画",{"$f":"IF(BB192=\"／\",\"／\",IF(OR(BB190=\"土\",BB190=\"日\"),\"◎\",\"\"))","v":""},"","","◎","◎","","","","","","◎","◎",{"$f":"IF(BN192=\"／\",\"／\",IF(OR(BN190=\"土\",BN190=\"日\"),\"◎\",\"\"))","v":""},{"$f":"IF(BO192=\"／\",\"／\",IF(OR(BO190=\"土\",BO190=\"日\"),\"◎\",\"\"))","v":""},"","","","◎","◎","","","","","","◎","◎",{"$f":"IF(CB192=\"／\",\"／\",IF(OR(CB190=\"土\",CB190=\"日\"),\"◎\",\"\"))","v":""},{"$f":"IF(CC192=\"／\",\"／\",IF(OR(CC190=\"土\",CC190=\"日\"),\"◎\",\"\"))","v":""},"","","","◎","◎","","","","",null,null,null,null,{"$f":"CR197","v":"OUT"},null,null,null,null,null,"計画",{"$f":"IF(CX192=\"／\",\"／\",IF(OR(CX190=\"土\",CX190=\"日\"),\"◎\",\"\"))","v":""},"","","◎","◎","","","","","","◎","◎",{"$f":"IF(DJ192=\"／\",\"／\",IF(OR(DJ190=\"土\",DJ190=\"日\"),\"◎\",\"\"))","v":""},{"$f":"IF(DK192=\"／\",\"／\",IF(OR(DK190=\"土\",DK190=\"日\"),\"◎\",\"\"))","v":""},"","","","◎","◎","","","","","","◎","◎",{"$f":"IF(DX192=\"／\",\"／\",IF(OR(DX190=\"土\",DX190=\"日\"),\"◎\",\"\"))","v":""},{"$f":"IF(DY192=\"／\",\"／\",IF(OR(DY190=\"土\",DY190=\"日\"),\"◎\",\"\"))","v":""},"","","","◎","◎","","","","",null,null,null,null,{"$f":"EN197","v":"OK"}]
[null,null,"実施",{"$f":"IF(D193=\"／\",\"／\",IF(OR(D190=\"土\",D190=\"日\"),\"◎\",\"\"))","v":""},{"$f":"IF(E193=\"／\",\"／\",IF(OR(E190=\"土\",E190=\"日\"),\"◎\",\"\"))","v":""},"","◎","◎","","","","","","◎","◎","","","","","","◎","◎","","","","","","◎","◎","","","","","","◎","◎","","","","",null,null,null,null,null,null,null,null,null,null,null,null,"実施",{"$f":"IF(BB193=\"／\",\"／\",IF(OR(BB190=\"土\",BB190=\"日\"),\"◎\",\"\"))","v":""},{"$f":"IF(BC193=\"／\",\"／\",IF(OR(BC190=\"土\",BC190=\"日\"),\"◎\",\"\"))","v":""},"","◎","◎","","","","","","◎","◎","","","","","","◎","◎","","","","","","◎","◎","","","","","","◎","◎","","","","",null,null,null,null,null,null,null,null,null,null,"実施",{"$f":"IF(CX193=\"／\",\"／\",IF(OR(CX190=\"土\",CX190=\"日\"),\"◎\",\"\"))","v":""},{"$f":"IF(CY193=\"／\",\"／\",IF(OR(CY190=\"土\",CY190=\"日\"),\"◎\",\"\"))","v":""},"","◎","◎","","","","","","◎","◎","","","","","","◎","◎","","","","","","◎","◎","","","","","","◎","◎","","","",""]
["",null,"完全",{"$f":"IF(WEEKDAY(DATE(YEAR(D188),MONTH(D188),1),2)=1,DATE(YEAR(D188),MONTH(D188),1),EOMONTH(D188,-1)-MOD(WEEKDAY(EOMONTH(D188,-1),2)+6,7))","v":"2025-09-29"},"～",{"$f":"DATE(YEAR(D188),MONTH(D188),1)+MOD(7-WEEKDAY(DATE(YEAR(D188),MONTH(D188),1),2),7)","v":"2025-10-05"},{"$f":"IF(DAY(D197)=1,IF(COUNTIF(D193:J193,\"／\")>=1,\"対象外\",IF(COUNTIF(INDEX(D193:AN193,DAY(D197)):INDEX(D193:AN193,HLOOKUP(F197,D189:AN194,6,FALSE)),\"\")+COUNTIF(INDEX(D193:AN193,DAY(D197)):INDEX(D193:AN193,HLOOKUP(F197,D189:AN194,6,FALSE)),\"●\")=7,IF(COUNTIF(INDEX(D193:AN193,DAY(D197)):INDEX(D193:AN193,HLOOKUP(F197,D189:AN194,6,FALSE)),\"●\")>=2,\"OK\",\"OUT\"),IF(COUNTIF(INDEX(D193:AN193,DAY(D197)):INDEX(D193:AN193,HLOOKUP(F197,D189:AN194,6,FALSE)),\"●\")>=COUNTIF(INDEX(D196:AN196,DAY(D197)):INDEX(D196:AN196,HLOOKUP(F197,D189:AN194,6,FALSE)),\"○\"),\"OK\",\"OUT\"))),IF(AND(AK168=\"\",AE168=\"\"),Y168,IF(AK168=\"\",AE168,AK168)))","v":"「／」漏れ"},null,null,{"$f":"F197+1","v":"2025-10-06"},"～",{"$f":"F197+7","v":"2025-10-12"},{"$f":"IF(COUNTIF(INDEX(D193:AN193,DAY(J197)):INDEX(D193:AN193,HLOOKUP(L197,D189:AN194,6,FALSE)),\"\")+COUNTIF(INDEX(D193:AN193,DAY(J197)):INDEX(D193:AN193,HLOOKUP(L197,D189:AN194,6,FALSE)),\"●\")=7,IF(COUNTIF(INDEX(D193:AN193,DAY(J197)):INDEX(D193:AN193,HLOOKUP(L197,D189:AN194,6,FALSE)),\"●\")>=2,\"OK\",\"OUT\"),\"対象外\")","v":"OUT"},null,null,{"$f":"L197+1","v":"2025-10-13"},"～",{"$f":"L197+7","v":"2025-10-19"},{"$f":"IF(COUNTIF(INDEX(D193:AN193,DAY(P197)):INDEX(D193:AN193,HLOOKUP(R197,D189:AN194,6,FALSE)),\"\")+COUNTIF(INDEX(D193:AN193,DAY(P197)):INDEX(D193:AN193,HLOOKUP(R197,D189:AN194,6,FALSE)),\"●\")=7,IF(COUNTIF(INDEX(D193:AN193,DAY(P197)):INDEX(D193:AN193,HLOOKUP(R197,D189:AN194,6,FALSE)),\"●\")>=2,\"OK\",\"OUT\"),\"対象外\")","v":"OUT"},null,null,{"$f":"R197+1","v":"2025-10-20"},"～",{"$f":"R197+7","v":"2025-10-26"},{"$f":"IF(COUNTIF(INDEX(D193:AN193,DAY(V197)):INDEX(D193:AN193,HLOOKUP(X197,D189:AN194,6,FALSE)),\"\")+COUNTIF(INDEX(D193:AN193,DAY(V197)):INDEX(D193:AN193,HLOOKUP(X197,D189:AN194,6,FALSE)),\"●\")=7,IF(COUNTIF(INDEX(D193:AN193,DAY(V197)):INDEX(D193:AN193,HLOOKUP(X197,D189:AN194,6,FALSE)),\"●\")>=2,\"OK\",\"OUT\"),\"対象外\")","v":"OUT"},null,null,{"$f":"IF(AND(DAY(X197+7)<23,DAY(X197+7)>=7),\"\",X197+1)","v":"2025-10-27"},{"$f":"IF(AND(DAY(X197+7)<23,DAY(X197+7)>=7),\"\",\"～\")","v":"～"},{"$f":"IF(AND(DAY(X197+7)<23,DAY(X197+7)>=7),\"\",X197+7)","v":"2025-11-02"},{"$f":"IF(AND(DAY(X197+7)<23,DAY(X197+7)>=7),\"\",IF(COUNTIF(INDEX(D193:AN193,DAY(AB197)):INDEX(D193:AN193,HLOOKUP(AD197,D189:AN194,6,FALSE)),\"\")+COUNTIF(INDEX(D193:AN193,DAY(AB197)):INDEX(D193:AN193,HLOOKUP(AD197,D189:AN194,6,FALSE)),\"●\")=7,IF(COUNTIF(INDEX(D193:AN193,DAY(AB197)):INDEX(D193:AN193,HLOOKUP(AD197,D189:AN194,6,FALSE)),\"●\")>=2,\"OK\",\"OUT\"),IF(COUNTIF(INDEX(D193:AN193,DAY(AB197)):INDEX(D193:AN193,HLOOKUP(AD197,D189:AN194,6,FALSE)),\"\")+COUNTIF(INDEX(D193:AN193,DAY(AB197)):INDEX(D193:AN193,HLOOKUP(AD197,D189:AN194,6,FALSE)),\"●\")>7,\"「／」漏れ\",\"対象外\")))","v":"OUT"},null,null,{"$f":"IF(AE197=\"\",\"\",IF(AND(DAY(AD197+7)<23,DAY(AD197+7)>=7),\"\",AD197+1))","v":""},{"$f":"IF(AE197=\"\",\"\",IF(AND(DAY(AD197+7)<23,DAY(AD197+7)>=7),\"\",\"～\"))","v":""},{"$f":"IF(AE197=\"\",\"\",IF(AND(DAY(AD197+7)<23,DAY(AD197+7)>=7),\"\",AD197+7))","v":""},{"$f":"IF(AE197=\"\",\"\",IF(AND(DAY(AD197+7)<23,DAY(AD197+7)>=7),\"\",IF(COUNTIF(INDEX(D193:AN193,DAY(AH197)):INDEX(D193:AN193,HLOOKUP(AJ197,D189:AN194,6,FALSE)),\"\")+COUNTIF(INDEX(D193:AN193,DAY(AH197)):INDEX(D193:AN193,HLOOKUP(AJ197,D189:AN194,6,FALSE)),\"●\")=7,IF(COUNTIF(INDEX(D193:AN193,DAY(AH197)):INDEX(D193:AN193,HLOOKUP(AJ197,D189:AN194,6,FALSE)),\"●\")>=2,\"OK\",\"OUT\"),IF(COUNTIF(INDEX(D193:AN193,HLOOKUP(AH197,D189:AN194,6,FALSE)):INDEX(D193:AN193,HLOOKUP(AJ197,D189:AN194,6,FALSE)),\"\")+COUNTIF(INDEX(D193:AN193,HLOOKUP(AH197,D189:AN194,6,FALSE)):INDEX(D193:AN193,HLOOKUP(AJ197,D189:AN194,6,FALSE)),\"●\")>7,\"「／」漏れ\",\"対象外\"))))","v":""},null,null,null,null,null,null,null,"完全週休二日",{"$f":"IF(AT188=\"\",\"\",IF(COUNTIF(D197:AN197,\"OUT\")>=1,\"OUT\",\"OK\"))","v":""},null,null,null,null,null,null,"完全",{"$f":"IF(WEEKDAY(DATE(YEAR(BB188),MONTH(BB188),1),2)=1,DATE(YEAR(BB188),MONTH(BB188),1),EOMONTH(BB188,-1)-MOD(WEEKDAY(EOMONTH(BB188,-1),2)+6,7))","v":"2025-09-29"},"～",{"$f":"DATE(YEAR(BB188),MONTH(BB188),1)+MOD(7-WEEKDAY(DATE(YEAR(BB188),MONTH(BB188),1),2),7)","v":"2025-10-05"},{"$f":"IF(DAY(BB197)=1,IF(COUNTIF(BB193:BH193,\"／\")>=1,\"対象外\",IF(COUNTIF(INDEX(BB193:CL193,DAY(BB197)):INDEX(BB193:CL193,HLOOKUP(BD197,BB189:CL194,6,FALSE)),\"\")+COUNTIF(INDEX(BB193:CL193,DAY(BB197)):INDEX(BB193:CL193,HLOOKUP(BD197,BB189:CL194,6,FALSE)),\"●\")=7,IF(COUNTIF(INDEX(BB193:CL193,DAY(BB197)):INDEX(BB193:CL193,HLOOKUP(BD197,BB189:CL194,6,FALSE)),\"●\")>=2,\"OK\",\"OUT\"),IF(COUNTIF(INDEX(BB193:CL193,DAY(BB197)):INDEX(BB193:CL193,HLOOKUP(BD197,BB189:CL194,6,FALSE)),\"●\")>=COUNTIF(INDEX(BB196:CL196,DAY(BB197)):INDEX(BB196:CL196,HLOOKUP(BD197,BB189:CL194,6,FALSE)),\"○\"),\"OK\",\"OUT\"))),IF(AND(CI168=\"\",CC168=\"\"),BW168,IF(CI168=\"\",CC168,CI168)))","v":"OUT"},null,null,{"$f":"BD197+1","v":"2025-10-06"},"～",{"$f":"BD197+7","v":"2025-10-12"},{"$f":"IF(COUNTIF(INDEX(BB193:CL193,DAY(BH197)):INDEX(BB193:CL193,HLOOKUP(BJ197,BB189:CL194,6,FALSE)),\"\")+COUNTIF(INDEX(BB193:CL193,DAY(BH197)):INDEX(BB193:CL193,HLOOKUP(BJ197,BB189:CL194,6,FALSE)),\"●\")=7,IF(COUNTIF(INDEX(BB193:CL193,DAY(BH197)):INDEX(BB193:CL193,HLOOKUP(BJ197,BB189:CL194,6,FALSE)),\"●\")>=2,\"OK\",\"OUT\"),\"対象外\")","v":"OUT"},null,null,{"$f":"BJ197+1","v":"2025-10-13"},"～",{"$f":"BJ197+7","v":"2025-10-19"},{"$f":"IF(COUNTIF(INDEX(BB193:CL193,DAY(BN197)):INDEX(BB193:CL193,HLOOKUP(BP197,BB189:CL194,6,FALSE)),\"\")+COUNTIF(INDEX(BB193:CL193,DAY(BN197)):INDEX(BB193:CL193,HLOOKUP(BP197,BB189:CL194,6,FALSE)),\"●\")=7,IF(COUNTIF(INDEX(BB193:CL193,DAY(BN197)):INDEX(BB193:CL193,HLOOKUP(BP197,BB189:CL194,6,FALSE)),\"●\")>=2,\"OK\",\"OUT\"),\"対象外\")","v":"OUT"},null,null,{"$f":"BP197+1","v":"2025-10-20"},"～",{"$f":"BP197+7","v":"2025-10-26"},{"$f":"IF(COUNTIF(INDEX(BB193:CL193,DAY(BT197)):INDEX(BB193:CL193,HLOOKUP(BV197,BB189:CL194,6,FALSE)),\"\")+COUNTIF(INDEX(BB193:CL193,DAY(BT197)):INDEX(BB193:CL193,HLOOKUP(BV197,BB189:CL194,6,FALSE)),\"●\")=7,IF(COUNTIF(INDEX(BB193:CL193,DAY(BT197)):INDEX(BB193:CL193,HLOOKUP(BV197,BB189:CL194,6,FALSE)),\"●\")>=2,\"OK\",\"OUT\"),\"対象外\")","v":"OUT"},null,null,{"$f":"IF(AND(DAY(BV197+7)<23,DAY(BV197+7)>=7),\"\",BV197+1)","v":"2025-10-27"},{"$f":"IF(AND(DAY(BV197+7)<23,DAY(BV197+7)>=7),\"\",\"～\")","v":"～"},{"$f":"IF(AND(DAY(BV197+7)<23,DAY(BV197+7)>=7),\"\",BV197+7)","v":"2025-11-02"},{"$f":"IF(AND(DAY(BV197+7)<23,DAY(BV197+7)>=7),\"\",IF(COUNTIF(INDEX(BB193:CL193,DAY(BZ197)):INDEX(BB193:CL193,HLOOKUP(CB197,BB189:CL194,6,FALSE)),\"\")+COUNTIF(INDEX(BB193:CL193,DAY(BZ197)):INDEX(BB193:CL193,HLOOKUP(CB197,BB189:CL194,6,FALSE)),\"●\")=7,IF(COUNTIF(INDEX(BB193:CL193,DAY(BZ197)):INDEX(BB193:CL193,HLOOKUP(CB197,BB189:CL194,6,FALSE)),\"●\")>=2,\"OK\",\"OUT\"),IF(COUNTIF(INDEX(BB193:CL193,DAY(BZ197)):INDEX(BB193:CL193,HLOOKUP(CB197,BB189:CL194,6,FALSE)),\"\")+COUNTIF(INDEX(BB193:CL193,DAY(BZ197)):INDEX(BB193:CL193,HLOOKUP(CB197,BB189:CL194,6,FALSE)),\"●\")>7,\"「／」漏れ\",\"対象外\")))","v":"OUT"},null,null,{"$f":"IF(CC197=\"\",\"\",IF(AND(DAY(CB197+7)<23,DAY(CB197+7)>=7),\"\",CB197+1))","v":""},{"$f":"IF(CC197=\"\",\"\",IF(AND(DAY(CB197+7)<23,DAY(CB197+7)>=7),\"\",\"～\"))","v":""},{"$f":"IF(CC197=\"\",\"\",IF(AND(DAY(CB197+7)<23,DAY(CB197+7)>=7),\"\",CB197+7))","v":""},{"$f":"IF(CC197=\"\",\"\",IF(AND(DAY(CB197+7)<23,DAY(CB197+7)>=7),\"\",IF(COUNTIF(INDEX(BB193:CL193,DAY(CF197)):INDEX(BB193:CL193,HLOOKUP(CH197,BB189:CL194,6,FALSE)),\"\")+COUNTIF(INDEX(BB193:CL193,DAY(CF197)):INDEX(BB193:CL193,HLOOKUP(CH197,BB189:CL194,6,FALSE)),\"●\")=7,IF(COUNTIF(INDEX(BB193:CL193,DAY(CF197)):INDEX(BB193:CL193,HLOOKUP(CH197,BB189:CL194,6,FALSE)),\"●\")>=2,\"OK\",\"OUT\"),IF(COUNTIF(INDEX(BB193:CL193,HLOOKUP(CF197,BB189:CL194,6,FALSE)):INDEX(BB193:CL193,HLOOKUP(CH197,BB189:CL194,6,FALSE)),\"\")+COUNTIF(INDEX(BB193:CL193,HLOOKUP(CF197,BB189:CL194,6,FALSE)):INDEX(BB193:CL193,HLOOKUP(CH197,BB189:CL194,6,FALSE)),\"●\")>7,\"「／」漏れ\",\"対象外\"))))","v":""},null,null,null,null,null,null,null,"完全週休二日",{"$f":"IF(CR188=\"\",\"\",IF(COUNTIF(BB197:CL197,\"OUT\")>=1,\"OUT\",\"OK\"))","v":"OUT"},null,null,null,null,"完全",{"$f":"IF(WEEKDAY(DATE(YEAR(CX188),MONTH(CX188),1),2)=1,DATE(YEAR(CX188),MONTH(CX188),1),EOMONTH(CX188,-1)-MOD(WEEKDAY(EOMONTH(CX188,-1),2)+6,7))","v":"2025-09-29"},"～",{"$f":"DATE(YEAR(CX188),MONTH(CX188),1)+MOD(7-WEEKDAY(DATE(YEAR(CX188),MONTH(CX188),1),2),7)","v":"2025-10-05"},{"$f":"IF(DAY(CX197)=1,IF(COUNTIF(CX193:DD193,\"／\")>=1,\"対象外\",IF(COUNTIF(INDEX(CX193:EH193,DAY(CX197)):INDEX(CX193:EH193,HLOOKUP(CZ197,CX189:EH194,6,FALSE)),\"\")+COUNTIF(INDEX(CX193:EH193,DAY(CX197)):INDEX(CX193:EH193,HLOOKUP(CZ197,CX189:EH194,6,FALSE)),\"●\")=7,IF(COUNTIF(INDEX(CX193:EH193,DAY(CX197)):INDEX(CX193:EH193,HLOOKUP(CZ197,CX189:EH194,6,FALSE)),\"●\")>=2,\"OK\",\"OUT\"),IF(COUNTIF(INDEX(CX193:EH193,DAY(CX197)):INDEX(CX193:EH193,HLOOKUP(CZ197,CX189:EH194,6,FALSE)),\"●\")>=COUNTIF(INDEX(CX196:EH196,DAY(CX197)):INDEX(CX196:EH196,HLOOKUP(CZ197,CX189:EH194,6,FALSE)),\"○\"),\"OK\",\"OUT\"))),IF(AND(EE168=\"\",DY168=\"\"),DS168,IF(EE168=\"\",DY168,EE168)))","v":"OK"},null,null,{"$f":"CZ197+1","v":"2025-10-06"},"～",{"$f":"CZ197+7","v":"2025-10-12"},{"$f":"IF(COUNTIF(INDEX(CX193:EH193,DAY(DD197)):INDEX(CX193:EH193,HLOOKUP(DF197,CX189:EH194,6,FALSE)),\"\")+COUNTIF(INDEX(CX193:EH193,DAY(DD197)):INDEX(CX193:EH193,HLOOKUP(DF197,CX189:EH194,6,FALSE)),\"●\")=7,IF(COUNTIF(INDEX(CX193:EH193,DAY(DD197)):INDEX(CX193:EH193,HLOOKUP(DF197,CX189:EH194,6,FALSE)),\"●\")>=2,\"OK\",\"OUT\"),\"対象外\")","v":"OK"},null,null,{"$f":"DF197+1","v":"2025-10-13"},"～",{"$f":"DF197+7","v":"2025-10-19"},{"$f":"IF(COUNTIF(INDEX(CX193:EH193,DAY(DJ197)):INDEX(CX193:EH193,HLOOKUP(DL197,CX189:EH194,6,FALSE)),\"\")+COUNTIF(INDEX(CX193:EH193,DAY(DJ197)):INDEX(CX193:EH193,HLOOKUP(DL197,CX189:EH194,6,FALSE)),\"●\")=7,IF(COUNTIF(INDEX(CX193:EH193,DAY(DJ197)):INDEX(CX193:EH193,HLOOKUP(DL197,CX189:EH194,6,FALSE)),\"●\")>=2,\"OK\",\"OUT\"),\"対象外\")","v":"OK"},null,null,{"$f":"DL197+1","v":"2025-10-20"},"～",{"$f":"DL197+7","v":"2025-10-26"},{"$f":"IF(COUNTIF(INDEX(CX193:EH193,DAY(DP197)):INDEX(CX193:EH193,HLOOKUP(DR197,CX189:EH194,6,FALSE)),\"\")+COUNTIF(INDEX(CX193:EH193,DAY(DP197)):INDEX(CX193:EH193,HLOOKUP(DR197,CX189:EH194,6,FALSE)),\"●\")=7,IF(COUNTIF(INDEX(CX193:EH193,DAY(DP197)):INDEX(CX193:EH193,HLOOKUP(DR197,CX189:EH194,6,FALSE)),\"●\")>=2,\"OK\",\"OUT\"),\"対象外\")","v":"OK"},null,null,{"$f":"IF(AND(DAY(DR197+7)<23,DAY(DR197+7)>=7),\"\",DR197+1)","v":"2025-10-27"},{"$f":"IF(AND(DAY(DR197+7)<23,DAY(DR197+7)>=7),\"\",\"～\")","v":"～"},{"$f":"IF(AND(DAY(DR197+7)<23,DAY(DR197+7)>=7),\"\",DR197+7)","v":"2025-11-02"},{"$f":"IF(AND(DAY(DR197+7)<23,DAY(DR197+7)>=7),\"\",IF(COUNTIF(INDEX(CX193:EH193,DAY(DV197)):INDEX(CX193:EH193,HLOOKUP(DX197,CX189:EH194,6,FALSE)),\"\")+COUNTIF(INDEX(CX193:EH193,DAY(DV197)):INDEX(CX193:EH193,HLOOKUP(DX197,CX189:EH194,6,FALSE)),\"●\")=7,IF(COUNTIF(INDEX(CX193:EH193,DAY(DV197)):INDEX(CX193:EH193,HLOOKUP(DX197,CX189:EH194,6,FALSE)),\"●\")>=2,\"OK\",\"OUT\"),IF(COUNTIF(INDEX(CX193:EH193,DAY(DV197)):INDEX(CX193:EH193,HLOOKUP(DX197,CX189:EH194,6,FALSE)),\"\")+COUNTIF(INDEX(CX193:EH193,DAY(DV197)):INDEX(CX193:EH193,HLOOKUP(DX197,CX189:EH194,6,FALSE)),\"●\")>7,\"「／」漏れ\",\"対象外\")))","v":"OK"},null,null,{"$f":"IF(DY197=\"\",\"\",IF(AND(DAY(DX197+7)<23,DAY(DX197+7)>=7),\"\",DX197+1))","v":""},{"$f":"IF(DY197=\"\",\"\",IF(AND(DAY(DX197+7)<23,DAY(DX197+7)>=7),\"\",\"～\"))","v":""},{"$f":"IF(DY197=\"\",\"\",IF(AND(DAY(DX197+7)<23,DAY(DX197+7)>=7),\"\",DX197+7))","v":""},{"$f":"IF(DY197=\"\",\"\",IF(AND(DAY(DX197+7)<23,DAY(DX197+7)>=7),\"\",IF(COUNTIF(INDEX(CX193:EH193,DAY(EB197)):INDEX(CX193:EH193,HLOOKUP(ED197,CX189:EH194,6,FALSE)),\"\")+COUNTIF(INDEX(CX193:EH193,DAY(EB197)):INDEX(CX193:EH193,HLOOKUP(ED197,CX189:EH194,6,FALSE)),\"●\")=7,IF(COUNTIF(INDEX(CX193:EH193,DAY(EB197)):INDEX(CX193:EH193,HLOOKUP(ED197,CX189:EH194,6,FALSE)),\"●\")>=2,\"OK\",\"OUT\"),IF(COUNTIF(INDEX(CX193:EH193,HLOOKUP(EB197,CX189:EH194,6,FALSE)):INDEX(CX193:EH193,HLOOKUP(ED197,CX189:EH194,6,FALSE)),\"\")+COUNTIF(INDEX(CX193:EH193,HLOOKUP(EB197,CX189:EH194,6,FALSE)):INDEX(CX193:EH193,HLOOKUP(ED197,CX189:EH194,6,FALSE)),\"●\")>7,\"「／」漏れ\",\"対象外\"))))","v":""},null,null,null,null,null,null,null,"完全週休二日",{"$f":"IF(EN188=\"\",\"\",IF(COUNTIF(CX197:EH197,\"OUT\")>=1,\"OUT\",\"OK\"))","v":"OK"}]
[""]
[{"$f":"IF(AND(NOT($AT$188=\"\"),$AT$217=\"\"),\"対象期間\",\"\")","v":""}]
[{"$f":"IF(AND(NOT($AT$188=\"\"),$AT$217=\"\"),\"対象期間\",\"\")","v":""},null,"※１工事着手日：始期日以降に準備工事（現場事務所の建設・測量等）、工場製作を含む工事における工場製作工に着手した日",null,null,null,null,null,null,null,null,null,null,null,null,null,null,null,null,null,null,null,null,null,null,null,null,null,null,null,null,null,null,null,null,null,null,null,null,null,null,null,null,"工事全体の確認",null,null,null,null,null,null,null,null,"※１工事着手日：始期日以降に準備工事（現場事務所の建設・測量等）、工場製作を含む工事における工場製作工に着手した日",null,null,null,null,null,null,null,null,null,null,null,null,null,null,null,null,null,null,null,null,null,null,null,null,null,null,null,null,null,null,null,null,null,null,null,null,null,null,null,null,"工事全体の確認",null,null,null,null,null,null,"※１工事着手日：始期日以降に準備工事（現場事務所の建設・測量等）、工場製作を含む工事における工場製作工に着手した日",null,null,null,null,null,null,null,null,null,null,null,null,null,null,null,null,null,null,null,null,null,null,null,null,null,null,null,null,null,null,null,null,null,null,null,null,null,null,null,null,"工事全体の確認"]
["",null,"※２作業完了日：工事施工範囲内で全ての作業（後片付けを含む）が完了した日\n　　　　　　　　　  （工事現場事務所は工事施工範囲外に設置するため、ここでいう後片付けの対象に含まない）",null,null,null,null,null,null,null,null,null,null,null,null,null,null,null,null,null,null,null,null,null,null,null,null,null,null,null,null,null,null,null,null,null,null,null,null,null,null,null,null,"計画","全対象期間",{"$f":"IFERROR(AT172+AT188,\"\")","v":""},null,null,null,null,null,null,"※２作業完了日：工事施工範囲内で全ての作業（後片付けを含む）が完了した日\n　　　　　　　　　  （工事現場事務所は工事施工範囲外に設置するため、ここでいう後片付けの対象に含まない）",null,null,null,null,null,null,null,null,null,null,null,null,null,null,null,null,null,null,null,null,null,null,null,null,null,null,null,null,null,null,null,null,null,null,null,null,null,null,null,null,"計画","全対象期間",{"$f":"IFERROR(CR172+CR188,\"\")","v":""},null,null,null,null,"※２作業完了日：工事施工範囲内で全ての作業（後片付けを含む）が完了した日\n　　　　　　　　　  （工事現場事務所は工事施工範囲外に設置するため、ここでいう後片付けの対象に含まない）",null,null,null,null,null,null,null,null,null,null,null,null,null,null,null,null,null,null,null,null,null,null,null,null,null,null,null,null,null,null,null,null,null,null,null,null,null,null,null,null,"計画","全対象期間",{"$f":"IFERROR(EN172+EN188,\"\")","v":170}]
["",null,null,null,null,null,null,null,null,null,null,null,null,null,null,null,null,null,null,null,null,null,null,null,null,null,null,null,null,null,null,null,null,null,null,null,null,null,null,null,null,null,null,null,"全現場閉所日数",{"$f":"IFERROR(AT173+AT189,\"\")","v":""},null,null,null,null,null,null,null,null,null,null,null,null,null,null,null,null,null,null,null,null,null,null,null,null,null,null,null,null,null,null,null,null,null,null,null,null,null,null,null,null,null,null,null,null,null,null,null,null,"全現場閉所日数",{"$f":"IFERROR(CR173+CR189,\"\")","v":""},null,null,null,null,null,null,null,null,null,null,null,null,null,null,null,null,null,null,null,null,null,null,null,null,null,null,null,null,null,null,null,null,null,null,null,null,null,null,null,null,null,null,null,null,null,null,"全現場閉所日数",{"$f":"IFERROR(EN173+EN189,\"\")","v":53}]
["",null,"【算定除外期間】：夏季休暇（8月13日～8月15日）、年末年始（12月29日～翌年1月3日）は算定期間の分母・分子に含めない",null,null,null,null,null,null,null,null,null,null,null,null,null,null,null,null,null,null,null,null,null,null,null,null,null,null,null,null,null,null,null,null,null,null,null,null,null,null,null,null,null,"現場閉所率",{"$f":"IFERROR(+AT202/AT201,\"\")","v":""},{"$f":"IF(AT203>=0.285,\"4週8休以上\",\"週休2日未達成\")","v":"4週8休以上"},null,null,null,null,null,"【算定除外期間】：夏季休暇（8月13日～8月15日）、年末年始（12月29日～翌年1月3日）は算定期間の分母・分子に含めない",null,null,null,null,null,null,null,null,null,null,null,null,null,null,null,null,null,null,null,null,null,null,null,null,null,null,null,null,null,null,null,null,null,null,null,null,null,null,null,null,null,"現場閉所率",{"$f":"IFERROR(+CR202/CR201,\"\")","v":""},{"$f":"IF(CR203>=0.285,\"4週8休以上\",\"週休2日未達成\")","v":"4週8休以上"},null,null,null,"【算定除外期間】：夏季休暇（8月13日～8月15日）、年末年始（12月29日～翌年1月3日）は算定期間の分母・分子に含めない",null,null,null,null,null,null,null,null,null,null,null,null,null,null,null,null,null,null,null,null,null,null,null,null,null,null,null,null,null,null,null,null,null,null,null,null,null,null,null,null,null,"現場閉所率",{"$f":"IFERROR(+EN202/EN201,\"\")","v":0.31176470588235294},{"$f":"IF(EN203>=0.285,\"4週8休以上\",\"週休2日未達成\")","v":"4週8休以上"}]
["",null,"※３工事期間の全ての月において、達成状況を確認し、一度でも達成できない月があれば、４週８休以上（月単位）は「未達成」となり、補正の対象とならない。\n　　月によっては、土日を全て閉所しても現場閉所率が28.5％に満たない場合があるが、その月の対象期間の土日日数以上閉所していれば達成とみなす。\n\n※４工事対象期間のうち、一度でも完全週休２日（月～日で２日以上の現場閉所）を達成できなければ、\n　　 完全週休２日は「未達成」となり、補正の対象とならない。\n　　 なお、工期始期・終期、年末年始、夏季休暇などにより、７日間に満たない期間は完全週休２日の達成判断の対象外とする。",null,null,null,null,null,null,null,null,null,null,null,null,null,null,null,null,null,null,null,null,null,null,null,null,null,null,null,null,null,null,null,null,null,null,null,null,null,null,null,null,"実施","全対象期間",{"$f":"IFERROR(AT175+AT191,\"\")","v":""},null,null,null,null,null,null,"※３工事期間の全ての月において、達成状況を確認し、一度でも達成できない月があれば、４週８休以上（月単位）は「未達成」となり、補正の対象とならない。\n　　月によっては、土日を全て閉所しても現場閉所率が28.5％に満たない場合があるが、その月の対象期間の土日日数以上閉所していれば達成とみなす。\n\n※４工事対象期間のうち、一度でも完全週休２日（月～日で２日以上の現場閉所）を達成できなければ、\n　　 完全週休２日は「未達成」となり、補正の対象とならない。\n　　 なお、工期始期・終期、年末年始、夏季休暇などにより、７日間に満たない期間は完全週休２日の達成判断の対象外とする。",null,null,null,null,null,null,null,null,null,null,null,null,null,null,null,null,null,null,null,null,null,null,null,null,null,null,null,null,null,null,null,null,null,null,null,null,null,null,null,null,"実施","全対象期間",{"$f":"IFERROR(CR175+CR191,\"\")","v":""},null,null,null,null,"※３工事期間の全ての月において、達成状況を確認し、一度でも達成できない月があれば、４週８休以上（月単位）は「未達成」となり、補正の対象とならない。\n　　月によっては、土日を全て閉所しても現場閉所率が28.5％に満たない場合があるが、その月の対象期間の土日日数以上閉所していれば達成とみなす。\n\n※４工事対象期間のうち、一度でも完全週休２日（月～日で２日以上の現場閉所）を達成できなければ、\n　　 完全週休２日は「未達成」となり、補正の対象とならない。\n　　 なお、工期始期・終期、年末年始、夏季休暇などにより、７日間に満たない期間は完全週休２日の達成判断の対象外とする。",null,null,null,null,null,null,null,null,null,null,null,null,null,null,null,null,null,null,null,null,null,null,null,null,null,null,null,null,null,null,null,null,null,null,null,null,null,null,null,null,"実施","全対象期間",{"$f":"IFERROR(EN175+EN191,\"\")","v":170}]
["",null,null,null,null,null,null,null,null,null,null,null,null,null,null,null,null,null,null,null,null,null,null,null,null,null,null,null,null,null,null,null,null,null,null,null,null,null,null,null,null,null,null,null,"全現場閉所日数",{"$f":"IFERROR(AT176+AT192,\"\")","v":""},null,null,null,null,null,null,null,null,null,null,null,null,null,null,null,null,null,null,null,null,null,null,null,null,null,null,null,null,null,null,null,null,null,null,null,null,null,null,null,null,null,null,null,null,null,null,null,null,"全現場閉所日数",{"$f":"IFERROR(CR176+CR192,\"\")","v":""},null,null,null,null,null,null,null,null,null,null,null,null,null,null,null,null,null,null,null,null,null,null,null,null,null,null,null,null,null,null,null,null,null,null,null,null,null,null,null,null,null,null,null,null,null,null,"全現場閉所日数",{"$f":"IFERROR(EN176+EN192,\"\")","v":53}]
["",null,null,null,null,null,null,null,null,null,null,null,null,null,null,null,null,null,null,null,null,null,null,null,null,null,null,null,null,null,null,null,null,null,null,null,null,null,null,null,null,null,null,null,"現場閉所率",{"$f":"IFERROR(+AT205/AT204,\"\")","v":""},{"$f":"IF(AT206>=0.285,\"4週8休以上\",\"週休2日未達成\")","v":"4週8休以上"},null,null,null,null,null,null,null,null,null,null,null,null,null,null,null,null,null,null,null,null,null,null,null,null,null,null,null,null,null,null,null,null,null,null,null,null,null,null,null,null,null,null,null,null,null,null,null,"現場閉所率",{"$f":"IFERROR(+CR205/CR204,\"\")","v":""},{"$f":"IF(CR206>=0.285,\"4週8休以上\",\"週休2日未達成\")","v":"4週8休以上"},null,null,null,null,null,null,null,null,null,null,null,null,null,null,null,null,null,null,null,null,null,null,null,null,null,null,null,null,null,null,null,null,null,null,null,null,null,null,null,null,null,null,null,null,null,"現場閉所率",{"$f":"IFERROR(+EN205/EN204,\"\")","v":0.31176470588235294},{"$f":"IF(EN206>=0.285,\"4週8休以上\",\"週休2日未達成\")","v":"4週8休以上"}]
["",null,null,null,null,null,null,null,null,null,null,null,null,null,null,null,null,null,null,null,null,null,null,null,null,null,null,null,null,null,null,null,null,null,null,null,null,null,null,null,null,null,null,null,"閉所（月単位）",{"$f":"IFERROR(COUNTIF(AS$14:$AS197,\"4週8休以上\")/(COUNTIF(AS$14:$AS197,\"4週8休以上\")+COUNTIF(AS$14:$AS197,\"週休2日未達成\")),\"\")","v":""},{"$f":"IF(OR(AT207=100%,AT207=\"\"),\"達成\",\"未達成\")","v":"達成"},null,null,null,null,null,null,null,null,null,null,null,null,null,null,null,null,null,null,null,null,null,null,null,null,null,null,null,null,null,null,null,null,null,null,null,null,null,null,null,null,null,null,null,null,null,null,null,"閉所（月単位）",{"$f":"IFERROR(COUNTIF(CQ$14:$CQ197,\"4週8休以上\")/(COUNTIF(CQ$14:$CQ197,\"4週8休以上\")+COUNTIF(CQ$14:$CQ197,\"週休2日未達成\")),\"\")","v":0},{"$f":"IF(OR(CR207=100%,CR207=\"\"),\"達成\",\"未達成\")","v":"未達成"},null,null,null,null,null,null,null,null,null,null,null,null,null,null,null,null,null,null,null,null,null,null,null,null,null,null,null,null,null,null,null,null,null,null,null,null,null,null,null,null,null,null,null,null,null,"閉所（月単位）",{"$f":"IFERROR(COUNTIF($EM$14:EM197,\"4週8休以上\")/(COUNTIF($EM$14:EM197,\"4週8休以上\")+COUNTIF($EM$14:EM197,\"週休2日未達成\")),\"\")","v":1},{"$f":"IF(OR(EN207=100%,EN207=\"\"),\"達成\",\"未達成\")","v":"達成"}]
["",null,null,null,null,null,null,null,null,null,null,null,null,null,null,null,null,null,null,null,null,null,null,null,null,null,null,null,null,null,null,null,null,null,null,null,null,null,null,null,null,null,null,null,"完全週休二日",{"$f":"IF(COUNTIF(AS$14:$AS197,\"OUT\")>=1,\"OUT\",\"OK\")","v":"OK"},{"$f":"IF(AT208=\"OK\",\"達成\",\"未達成\")","v":"達成"},null,null,null,null,null,null,null,null,null,null,null,null,null,null,null,null,null,null,null,null,null,null,null,null,null,null,null,null,null,null,null,null,null,null,null,null,null,null,null,null,null,null,null,null,null,null,null,"完全週休二日",{"$f":"IF(COUNTIF(CQ$14:$CQ197,\"OUT\")>=1,\"OUT\",\"OK\")","v":"OUT"},{"$f":"IF(CR208=\"OK\",\"達成\",\"未達成\")","v":"未達成"},null,null,null,null,null,null,null,null,null,null,null,null,null,null,null,null,null,null,null,null,null,null,null,null,null,null,null,null,null,null,null,null,null,null,null,null,null,null,null,null,null,null,null,null,null,"完全週休二日",{"$f":"IF(COUNTIF($EM$14:EM197,\"OUT\")>=1,\"OUT\",\"OK\")","v":"OK"},{"$f":"IF(EN208=\"OK\",\"達成\",\"未達成\")","v":"達成"}]
["",null,"※必要に応じて各月の完全週休2日（月～日）の達成判定の行を修正してください。（曜日に合わせて修正）",null,null,null,null,null,null,null,null,null,null,null,null,null,null,null,null,null,null,null,null,null,null,null,null,null,null,null,null,null,null,null,null,null,null,null,null,null,null,null,null,null,null,null,null,null,null,null,null,null,"※必要に応じて各月の完全週休2日（月～日）の達成判定の行を修正してください。（曜日に合わせて修正）",null,null,null,null,null,null,null,null,null,null,null,null,null,null,null,null,null,null,null,null,null,null,null,null,null,null,null,null,null,null,null,null,null,null,null,null,null,null,null,null,null,null,null,null,null,null,null,"※必要に応じて各月の完全週休2日（月～日）の達成判定の行を修正してください。（曜日に合わせて修正）"]
[""]
[""]
[""]
[""]
[""]
["",null,"算定除外期間以外の祝日（ＧＷ含む）は、算定期間（分母）の対象＝現場閉所の場合は分子にカウントして現場閉所率を算定",null,null,null,null,null,null,null,null,null,null,null,null,null,null,null,null,null,null,null,null,null,null,null,null,null,null,null,null,null,null,null,null,null,null,null,null,null,null,null,null,null,null,null,null,null,null,null,null,null,"算定除外期間以外の祝日（ＧＷ含む）は、算定期間（分母）の対象＝現場閉所の場合は分子にカウントして現場閉所率を算定",null,null,null,null,null,null,null,null,null,null,null,null,null,null,null,null,null,null,null,null,null,null,null,null,null,null,null,null,null,null,null,null,null,null,null,null,null,null,null,null,null,null,null,null,null,null,null,"算定除外期間以外の祝日（ＧＷ含む）は、算定期間（分母）の対象＝現場閉所の場合は分子にカウントして現場閉所率を算定"]
[""]
[{"$f":"IF($AT$217=\"\",\"\",\"対象期間\")","v":""},null,"月",{"$f":"DATE(YEAR(D188),MONTH(D188)+1,1)","v":"2025-11-01"},null,null,null,null,null,null,null,null,null,null,null,null,null,null,null,null,null,null,null,null,null,null,null,null,null,null,null,null,null,null,{"$f":"DATE(YEAR(D217),MONTH(D217)+1,1)","v":"2025-12-01"},null,null,null,null,null,"現場閉所計","現場閉所累計",null,"計画","対象期間",{"$f":"IF(IF(MONTH(入力表!$E$6)=12,YEAR(入力表!$E$6)+1&\"01\",YEAR(入力表!$E$6)&TEXT(MONTH(入力表!$E$6)+1,\"00\"))>YEAR($D217)&TEXT(MONTH($D217),\"00\"),COUNTIF(D221:AH221,\"\")+COUNTIF(D221:AH221,\"○\"),\"\")","v":""},{"$f":"IF(COUNTIF(D218:AH218,\"／\")=0,\"\",IF(COUNTIF(D218:AH218,\"／\")=1,IF(AH221=\"／\",\"\",\"月末「／」漏れ\"),IF(COUNTIF(D218:AH218,\"／\")=2,IF(AND(AG221=\"／\",AH221=\"／\"),\"\",\"月末「／」漏れ\"),IF(AND(AF221=\"／\",AG221=\"／\",AH221=\"／\"),\"\",\"月末「／」漏れ\"))))","v":"月末「／」漏れ"},null,null,null,null,null,"月",{"$f":"DATE(YEAR(BB188),MONTH(BB188)+1,1)","v":"2025-11-01"},null,null,null,null,null,null,null,null,null,null,null,null,null,null,null,null,null,null,null,null,null,null,null,null,null,null,null,null,null,null,{"$f":"DATE(YEAR(BB217),MONTH(BB217)+1,1)","v":"2025-12-01"},null,null,null,null,null,"現場閉所計","現場閉所累計",null,"計画","対象期間",{"$f":"IF(IF(MONTH($BL$5)=12,YEAR($BL$5)+1&\"01\",YEAR($BL$5)&TEXT(MONTH($BL$5)+1,\"00\"))>YEAR(BB217)&TEXT(MONTH(BB217),\"00\"),COUNTIF(BB221:CF221,\"\")+COUNTIF(BB221:CF221,\"○\"),\"\")","v":30},{"$f":"IF(COUNTIF(BB218:CF218,\"／\")=0,\"\",IF(COUNTIF(BB218:CF218,\"／\")=1,IF(CF221=\"／\",\"\",\"月末「／」漏れ\"),IF(COUNTIF(BB218:CF218,\"／\")=2,IF(AND(CE221=\"／\",CF221=\"／\"),\"\",\"月末「／」漏れ\"),IF(AND(CD221=\"／\",CE221=\"／\",CF221=\"／\"),\"\",\"月末「／」漏れ\"))))","v":""},null,null,null,"月",{"$f":"DATE(YEAR(CX188),MONTH(CX188)+1,1)","v":"2025-11-01"},null,null,null,null,null,null,null,null,null,null,null,null,null,null,null,null,null,null,null,null,null,null,null,null,null,null,null,null,null,null,{"$f":"DATE(YEAR(CX217),MONTH(CX217)+1,1)","v":"2025-12-01"},null,null,null,null,null,"現場閉所計","現場閉所累計",null,"計画","対象期間",{"$f":"IF(IF(MONTH($BL$5)=12,YEAR($BL$5)+1&\"01\",YEAR($BL$5)&TEXT(MONTH($BL$5)+1,\"00\"))>YEAR($CX217)&TEXT(MONTH($CX217),\"00\"),COUNTIF(CX221:EB221,\"\")+COUNTIF(CX221:EB221,\"○\"),\"\")","v":30},{"$f":"IF(COUNTIF(CX218:EB218,\"／\")=0,\"\",IF(COUNTIF(CX218:EB218,\"／\")=1,IF(EB221=\"／\",\"\",\"月末「／」漏れ\"),IF(COUNTIF(CX218:EB218,\"／\")=2,IF(AND(EA221=\"／\",EB221=\"／\"),\"\",\"月末「／」漏れ\"),IF(AND(DZ221=\"／\",EA221=\"／\",EB221=\"／\"),\"\",\"月末「／」漏れ\"))))","v":""}]
[{"$f":"IF($AT$217=\"\",\"\",\"対象期間\")","v":""},null,"日",{"$f":"D217","v":"2025-11-01"},{"$f":"D218+1","v":"2025-11-02"},{"$f":"E218+1","v":"2025-11-03"},{"$f":"F218+1","v":"2025-11-04"},{"$f":"G218+1","v":"2025-11-05"},{"$f":"H218+1","v":"2025-11-06"},{"$f":"I218+1","v":"2025-11-07"},{"$f":"J218+1","v":"2025-11-08"},{"$f":"K218+1","v":"2025-11-09"},{"$f":"L218+1","v":"2025-11-10"},{"$f":"M218+1","v":"2025-11-11"},{"$f":"N218+1","v":"2025-11-12"},{"$f":"O218+1","v":"2025-11-13"},{"$f":"P218+1","v":"2025-11-14"},{"$f":"Q218+1","v":"2025-11-15"},{"$f":"R218+1","v":"2025-11-16"},{"$f":"S218+1","v":"2025-11-17"},{"$f":"T218+1","v":"2025-11-18"},{"$f":"U218+1","v":"2025-11-19"},{"$f":"V218+1","v":"2025-11-20"},{"$f":"W218+1","v":"2025-11-21"},{"$f":"X218+1","v":"2025-11-22"},{"$f":"Y218+1","v":"2025-11-23"},{"$f":"Z218+1","v":"2025-11-24"},{"$f":"AA218+1","v":"2025-11-25"},{"$f":"AB218+1","v":"2025-11-26"},{"$f":"AC218+1","v":"2025-11-27"},{"$f":"AD218+1","v":"2025-11-28"},{"$f":"IF(AE218=\"／\",\"／\",IF(YEAR($D217)&TEXT(MONTH($D217),\"00\")<YEAR(AE218+1)&TEXT(MONTH(AE218+1),\"00\"),\"／\",AE218+1))","v":"2025-11-29"},{"$f":"IF(AF218=\"／\",\"／\",IF(YEAR($D217)&TEXT(MONTH($D217),\"00\")<YEAR(AF218+1)&TEXT(MONTH(AF218+1),\"00\"),\"／\",AF218+1))","v":"2025-11-30"},{"$f":"IF(AG218=\"／\",\"／\",IF(YEAR($D217)&TEXT(MONTH($D217),\"00\")<YEAR(AG218+1)&TEXT(MONTH(AG218+1),\"00\"),\"／\",AG218+1))","v":"／"},{"$f":"AI217","v":"2025-12-01"},{"$f":"AI218+1","v":"2025-12-02"},{"$f":"AJ218+1","v":"2025-12-03"},{"$f":"AK218+1","v":"2025-12-04"},{"$f":"AL218+1","v":"2025-12-05"},{"$f":"AM218+1","v":"2025-12-06"},null,null,null,null,"閉所日数",{"$f":"IF(IF(MONTH(入力表!$E$6)=12,YEAR(入力表!$E$6)+1&\"01\",YEAR(入力表!$E$6)&TEXT(MONTH(入力表!$E$6)+1,\"00\"))>YEAR($D217)&TEXT(MONTH($D217),\"00\"),COUNTIF(D221:AH221,\"○\"),\"\")","v":""},{"$f":"IF(OR(MONTH(D217)=1,MONTH(D217)=8,MONTH(D217)=12),IF(COUNTIF(D221:AH221,\"／\")>=3,\"\",\"算定除外「／」漏れ\"),\"\")","v":""},null,null,null,null,null,"日",{"$f":"BB217","v":"2025-11-01"},{"$f":"BB218+1","v":"2025-11-02"},{"$f":"BC218+1","v":"2025-11-03"},{"$f":"BD218+1","v":"2025-11-04"},{"$f":"BE218+1","v":"2025-11-05"},{"$f":"BF218+1","v":"2025-11-06"},{"$f":"BG218+1","v":"2025-11-07"},{"$f":"BH218+1","v":"2025-11-08"},{"$f":"BI218+1","v":"2025-11-09"},{"$f":"BJ218+1","v":"2025-11-10"},{"$f":"BK218+1","v":"2025-11-11"},{"$f":"BL218+1","v":"2025-11-12"},{"$f":"BM218+1","v":"2025-11-13"},{"$f":"BN218+1","v":"2025-11-14"},{"$f":"BO218+1","v":"2025-11-15"},{"$f":"BP218+1","v":"2025-11-16"},{"$f":"BQ218+1","v":"2025-11-17"},{"$f":"BR218+1","v":"2025-11-18"},{"$f":"BS218+1","v":"2025-11-19"},{"$f":"BT218+1","v":"2025-11-20"},{"$f":"BU218+1","v":"2025-11-21"},{"$f":"BV218+1","v":"2025-11-22"},{"$f":"BW218+1","v":"2025-11-23"},{"$f":"BX218+1","v":"2025-11-24"},{"$f":"BY218+1","v":"2025-11-25"},{"$f":"BZ218+1","v":"2025-11-26"},{"$f":"CA218+1","v":"2025-11-27"},{"$f":"CB218+1","v":"2025-11-28"},{"$f":"IF(CC218=\"／\",\"／\",IF(YEAR(BB217)&TEXT(MONTH(BB217),\"00\")<YEAR(CC218+1)&TEXT(MONTH(CC218+1),\"00\"),\"／\",CC218+1))","v":"2025-11-29"},{"$f":"IF(CD218=\"／\",\"／\",IF(YEAR(BB217)&TEXT(MONTH(BB217),\"00\")<YEAR(CD218+1)&TEXT(MONTH(CD218+1),\"00\"),\"／\",CD218+1))","v":"2025-11-30"},{"$f":"IF(CE218=\"／\",\"／\",IF(YEAR(BB217)&TEXT(MONTH(BB217),\"00\")<YEAR(CE218+1)&TEXT(MONTH(CE218+1),\"00\"),\"／\",CE218+1))","v":"／"},{"$f":"CG217","v":"2025-12-01"},{"$f":"CG218+1","v":"2025-12-02"},{"$f":"CH218+1","v":"2025-12-03"},{"$f":"CI218+1","v":"2025-12-04"},{"$f":"CJ218+1","v":"2025-12-05"},{"$f":"CK218+1","v":"2025-12-06"},null,null,null,null,"閉所日数",{"$f":"IF(IF(MONTH($BL$5)=12,YEAR($BL$5)+1&\"01\",YEAR($BL$5)&TEXT(MONTH($BL$5)+1,\"00\"))>YEAR(BB217)&TEXT(MONTH(BB217),\"00\"),COUNTIF(BB221:CF221,\"○\"),\"\")","v":11},{"$f":"IF(OR(MONTH(BB217)=1,MONTH(BB217)=8,MONTH(BB217)=12),IF(COUNTIF(BB221:CF221,\"／\")>=3,\"\",\"算定除外「／」漏れ\"),\"\")","v":""},null,null,null,"日",{"$f":"CX217","v":"2025-11-01"},{"$f":"CX218+1","v":"2025-11-02"},{"$f":"CY218+1","v":"2025-11-03"},{"$f":"CZ218+1","v":"2025-11-04"},{"$f":"DA218+1","v":"2025-11-05"},{"$f":"DB218+1","v":"2025-11-06"},{"$f":"DC218+1","v":"2025-11-07"},{"$f":"DD218+1","v":"2025-11-08"},{"$f":"DE218+1","v":"2025-11-09"},{"$f":"DF218+1","v":"2025-11-10"},{"$f":"DG218+1","v":"2025-11-11"},{"$f":"DH218+1","v":"2025-11-12"},{"$f":"DI218+1","v":"2025-11-13"},{"$f":"DJ218+1","v":"2025-11-14"},{"$f":"DK218+1","v":"2025-11-15"},{"$f":"DL218+1","v":"2025-11-16"},{"$f":"DM218+1","v":"2025-11-17"},{"$f":"DN218+1","v":"2025-11-18"},{"$f":"DO218+1","v":"2025-11-19"},{"$f":"DP218+1","v":"2025-11-20"},{"$f":"DQ218+1","v":"2025-11-21"},{"$f":"DR218+1","v":"2025-11-22"},{"$f":"DS218+1","v":"2025-11-23"},{"$f":"DT218+1","v":"2025-11-24"},{"$f":"DU218+1","v":"2025-11-25"},{"$f":"DV218+1","v":"2025-11-26"},{"$f":"DW218+1","v":"2025-11-27"},{"$f":"DX218+1","v":"2025-11-28"},{"$f":"IF(DY218=\"／\",\"／\",IF(YEAR(CX217)&TEXT(MONTH(CX217),\"00\")<YEAR(DY218+1)&TEXT(MONTH(DY218+1),\"00\"),\"／\",DY218+1))","v":"2025-11-29"},{"$f":"IF(DZ218=\"／\",\"／\",IF(YEAR(CX217)&TEXT(MONTH(CX217),\"00\")<YEAR(DZ218+1)&TEXT(MONTH(DZ218+1),\"00\"),\"／\",DZ218+1))","v":"2025-11-30"},{"$f":"IF(EA218=\"／\",\"／\",IF(YEAR(CX217)&TEXT(MONTH(CX217),\"00\")<YEAR(EA218+1)&TEXT(MONTH(EA218+1),\"00\"),\"／\",EA218+1))","v":"／"},{"$f":"EC217","v":"2025-12-01"},{"$f":"EC218+1","v":"2025-12-02"},{"$f":"ED218+1","v":"2025-12-03"},{"$f":"EE218+1","v":"2025-12-04"},{"$f":"EF218+1","v":"2025-12-05"},{"$f":"EG218+1","v":"2025-12-06"},null,null,null,null,"閉所日数",{"$f":"IF(IF(MONTH($BL$5)=12,YEAR($BL$5)+1&\"01\",YEAR($BL$5)&TEXT(MONTH($BL$5)+1,\"00\"))>YEAR($CX217)&TEXT(MONTH($CX217),\"00\"),COUNTIF(CX221:EB221,\"○\"),\"\")","v":11},{"$f":"IF(OR(MONTH(CX217)=1,MONTH(CX217)=8,MONTH(CX217)=12),IF(COUNTIF(CX221:EB221,\"／\")>=3,\"\",\"算定除外「／」漏れ\"),\"\")","v":""}]
["",null,"曜日",{"$f":"TEXT(WEEKDAY(+D218),\"aaa\")","v":"土"},{"$f":"TEXT(WEEKDAY(+E218),\"aaa\")","v":"日"},"月","火","水",{"$f":"TEXT(WEEKDAY(+I218),\"aaa\")","v":"木"},{"$f":"TEXT(WEEKDAY(+J218),\"aaa\")","v":"金"},"土","日","月","火","水","木","金","土","日","月","火","水","木","金","土",{"$f":"TEXT(WEEKDAY(+Z218),\"aaa\")","v":"日"},{"$f":"TEXT(WEEKDAY(+AA218),\"aaa\")","v":"月"},"火","水","木","金",{"$f":"IF(AF218=\"／\",\"／\",TEXT(WEEKDAY(+AF218),\"aaa\"))","v":"土"},{"$f":"IF(AG218=\"／\",\"／\",TEXT(WEEKDAY(+AG218),\"aaa\"))","v":"日"},"／",{"$f":"TEXT(WEEKDAY(+AI218),\"aaa\")","v":"月"},{"$f":"TEXT(WEEKDAY(+AJ218),\"aaa\")","v":"火"},"水","木","金","土",null,null,null,null,"現場閉所率",{"$f":"IFERROR(+AT218/AT217,\"\")","v":""},{"$f":"IF(AT219=\"\",\"\",IF(COUNTIF(D221:AH221,\"○\")>=COUNTIF(D224:AH224,\"◎\"),\"4週8休以上\",IF(AT219>=0.285,\"4週8休以上\",\"週休2日未達成\")))","v":""},null,null,null,null,null,"曜日",{"$f":"TEXT(WEEKDAY(+BB218),\"aaa\")","v":"土"},{"$f":"TEXT(WEEKDAY(+BC218),\"aaa\")","v":"日"},"月","火","水",{"$f":"TEXT(WEEKDAY(+BG218),\"aaa\")","v":"木"},{"$f":"TEXT(WEEKDAY(+BH218),\"aaa\")","v":"金"},"土","日","月","火","水","木","金","土","日","月","火","水","木","金","土",{"$f":"TEXT(WEEKDAY(+BX218),\"aaa\")","v":"日"},{"$f":"TEXT(WEEKDAY(+BY218),\"aaa\")","v":"月"},"火","水","木","金",{"$f":"IF(CD218=\"／\",\"／\",TEXT(WEEKDAY(+CD218),\"aaa\"))","v":"土"},{"$f":"IF(CE218=\"／\",\"／\",TEXT(WEEKDAY(+CE218),\"aaa\"))","v":"日"},"／",{"$f":"TEXT(WEEKDAY(+CG218),\"aaa\")","v":"月"},{"$f":"TEXT(WEEKDAY(+CH218),\"aaa\")","v":"火"},"水","木","金","土",null,null,null,null,"現場閉所率",{"$f":"IFERROR(+CR218/CR217,\"\")","v":0.36666666666666664},{"$f":"IF(CR219=\"\",\"\",IF(COUNTIF(BB221:CF221,\"○\")>=COUNTIF(BB224:CF224,\"◎\"),\"4週8休以上\",IF(CR219>=0.285,\"4週8休以上\",\"週休2日未達成\")))","v":"4週8休以上"},null,null,null,"曜日",{"$f":"TEXT(WEEKDAY(+CX218),\"aaa\")","v":"土"},{"$f":"TEXT(WEEKDAY(+CY218),\"aaa\")","v":"日"},"月","火","水",{"$f":"TEXT(WEEKDAY(+DC218),\"aaa\")","v":"木"},{"$f":"TEXT(WEEKDAY(+DD218),\"aaa\")","v":"金"},"土","日","月","火","水","木","金","土","日","月","火","水","木","金","土",{"$f":"TEXT(WEEKDAY(+DT218),\"aaa\")","v":"日"},{"$f":"TEXT(WEEKDAY(+DU218),\"aaa\")","v":"月"},"火","水","木","金",{"$f":"IF(DZ218=\"／\",\"／\",TEXT(WEEKDAY(+DZ218),\"aaa\"))","v":"土"},{"$f":"IF(EA218=\"／\",\"／\",TEXT(WEEKDAY(+EA218),\"aaa\"))","v":"日"},"／",{"$f":"TEXT(WEEKDAY(+EC218),\"aaa\")","v":"月"},{"$f":"TEXT(WEEKDAY(+ED218),\"aaa\")","v":"火"},"水","木","金","土",null,null,null,null,"現場閉所率",{"$f":"IFERROR(+EN218/EN217,\"\")","v":0.36666666666666664},{"$f":"IF(EN219=\"\",\"\",IF(COUNTIF(CX221:EB221,\"○\")>=COUNTIF(CX224:EB224,\"◎\"),\"4週8休以上\",IF(EN219>=0.285,\"4週8休以上\",\"週休2日未達成\")))","v":"4週8休以上"}]
["",null,"行事",null,null,null,null,null,null,null,null,null,null,null,null,null,null,null,null,null,null,null,null,null,null,null,null,null,null,null,null,null,null,null,{"$f":"IF(D249=\"\",\"\",D249)","v":""},{"$f":"IF(E249=\"\",\"\",E249)","v":""},{"$f":"IF(F249=\"\",\"\",F249)","v":""},{"$f":"IF(G249=\"\",\"\",G249)","v":""},{"$f":"IF(H249=\"\",\"\",H249)","v":""},{"$f":"IF(I249=\"\",\"\",I249)","v":""},null,null,null,"実施","対象期間",{"$f":"IF(IF(MONTH(入力表!$E$6)=12,YEAR(入力表!$E$6)+1&\"01\",YEAR(入力表!$E$6)&TEXT(MONTH(入力表!$E$6)+1,\"00\"))>YEAR($D217)&TEXT(MONTH($D217),\"00\"),COUNTIF(D222:AH222,\"\")+COUNTIF(D222:AH222,\"●\"),\"\")","v":""},{"$f":"IF(COUNTIF(D218:AH218,\"／\")=0,\"\",IF(COUNTIF(D218:AH218,\"／\")=1,IF(AH222=\"／\",\"\",\"月末「／」漏れ\"),IF(COUNTIF(D218:AH218,\"／\")=2,IF(AND(AG222=\"／\",AH222=\"／\"),\"\",\"月末「／」漏れ\"),IF(AND(AF222=\"／\",AG222=\"／\",AH222=\"／\"),\"\",\"月末「／」漏れ\"))))","v":"月末「／」漏れ"},null,null,null,null,null,"行事",null,null,null,null,null,null,null,null,null,null,null,null,null,null,null,null,null,null,null,null,null,null,null,null,null,null,null,null,null,null,null,{"$f":"IF(BB249=\"\",\"\",BB249)","v":""},{"$f":"IF(BC249=\"\",\"\",BC249)","v":""},{"$f":"IF(BD249=\"\",\"\",BD249)","v":""},{"$f":"IF(BE249=\"\",\"\",BE249)","v":""},{"$f":"IF(BF249=\"\",\"\",BF249)","v":""},{"$f":"IF(BG249=\"\",\"\",BG249)","v":""},null,null,null,"実施","対象期間",{"$f":"IF(IF(MONTH($BL$5)=12,YEAR($BL$5)+1&\"01\",YEAR($BL$5)&TEXT(MONTH($BL$5)+1,\"00\"))>YEAR(BB217)&TEXT(MONTH(BB217),\"00\"),COUNTIF(BB222:CF222,\"\")+COUNTIF(BB222:CF222,\"●\"),\"\")","v":30},{"$f":"IF(COUNTIF(BB218:CF218,\"／\")=0,\"\",IF(COUNTIF(BB218:CF218,\"／\")=1,IF(CF222=\"／\",\"\",\"月末「／」漏れ\"),IF(COUNTIF(BB218:CF218,\"／\")=2,IF(AND(CE222=\"／\",CF222=\"／\"),\"\",\"月末「／」漏れ\"),IF(AND(CD222=\"／\",CE222=\"／\",CF222=\"／\"),\"\",\"月末「／」漏れ\"))))","v":""},null,null,null,"行事",null,null,null,null,null,null,null,null,null,null,null,null,null,null,null,null,null,null,null,null,null,null,null,null,null,null,null,null,null,null,null,{"$f":"IF(CX249=\"\",\"\",CX249)","v":""},{"$f":"IF(CY249=\"\",\"\",CY249)","v":""},{"$f":"IF(CZ249=\"\",\"\",CZ249)","v":""},{"$f":"IF(DA249=\"\",\"\",DA249)","v":""},{"$f":"IF(DB249=\"\",\"\",DB249)","v":""},{"$f":"IF(DC249=\"\",\"\",DC249)","v":""},null,null,null,"実施","対象期間",{"$f":"IF(IF(MONTH($BL$5)=12,YEAR($BL$5)+1&\"01\",YEAR($BL$5)&TEXT(MONTH($BL$5)+1,\"00\"))>YEAR($CX217)&TEXT(MONTH($CX217),\"00\"),COUNTIF(CX222:EB222,\"\")+COUNTIF(CX222:EB222,\"●\"),\"\")","v":30},{"$f":"IF(COUNTIF(CX218:EB218,\"／\")=0,\"\",IF(COUNTIF(CX218:EB218,\"／\")=1,IF(EB222=\"／\",\"\",\"月末「／」漏れ\"),IF(COUNTIF(CX218:EB218,\"／\")=2,IF(AND(EA222=\"／\",EB222=\"／\"),\"\",\"月末「／」漏れ\"),IF(AND(DZ222=\"／\",EA222=\"／\",EB222=\"／\"),\"\",\"月末「／」漏れ\"))))","v":""}]
["",null,"計画",null,null,null,null,null,null,null,null,null,null,null,null,null,null,null,null,null,null,null,null,null,null,null,null,null,null,null,null,null,null,null,{"$f":"IF(D250=\"\",\"\",D250)","v":""},{"$f":"IF(E250=\"\",\"\",E250)","v":""},{"$f":"IF(F250=\"\",\"\",F250)","v":""},{"$f":"IF(G250=\"\",\"\",G250)","v":""},{"$f":"IF(H250=\"\",\"\",H250)","v":""},{"$f":"IF(I250=\"\",\"\",I250)","v":""},{"$f":"COUNTIF(D221:AG221,\"○\")","v":0},{"$f":"+AO221+AP192","v":0},null,null,"閉所日数",{"$f":"IF(IF(MONTH(入力表!$E$6)=12,YEAR(入力表!$E$6)+1&\"01\",YEAR(入力表!$E$6)&TEXT(MONTH(入力表!$E$6)+1,\"00\"))>YEAR($D217)&TEXT(MONTH($D217),\"00\"),COUNTIF(D222:AH222,\"●\"),\"\")","v":""},{"$f":"IF(OR(MONTH(D217)=1,MONTH(D217)=8,MONTH(D217)=12),IF(COUNTIF(D222:AH222,\"／\")>=3,\"\",\"算定除外「／」漏れ\"),\"\")","v":""},null,null,null,null,null,"計画","○","○","○",null,null,null,null,"○","○",null,null,null,null,null,"○","○",null,null,null,null,null,"○","○",null,null,null,null,null,"○","○","／",{"$f":"IF(BB250=\"\",\"\",BB250)","v":""},"","","","","○",{"$f":"COUNTIF(BB221:CE221,\"○\")","v":11},{"$f":"+CM221+CN192","v":63},null,null,"閉所日数",{"$f":"IF(IF(MONTH($BL$5)=12,YEAR($BL$5)+1&\"01\",YEAR($BL$5)&TEXT(MONTH($BL$5)+1,\"00\"))>YEAR(BB217)&TEXT(MONTH(BB217),\"00\"),COUNTIF(BB222:CF222,\"●\"),\"\")","v":0},{"$f":"IF(OR(MONTH(BB217)=1,MONTH(BB217)=8,MONTH(BB217)=12),IF(COUNTIF(BB222:CF222,\"／\")>=3,\"\",\"算定除外「／」漏れ\"),\"\")","v":""},null,null,null,"計画","○","○","○",null,null,null,null,"○","○",null,null,null,null,null,"○","○",null,null,null,null,null,"○","○",null,null,null,null,null,"○","○","／",{"$f":"IF(CX250=\"\",\"\",CX250)","v":""},"","","","","○",{"$f":"COUNTIF(CX221:EA221,\"○\")","v":11},{"$f":"+EI221+EJ192","v":63},null,null,"閉所日数",{"$f":"IF(IF(MONTH($BL$5)=12,YEAR($BL$5)+1&\"01\",YEAR($BL$5)&TEXT(MONTH($BL$5)+1,\"00\"))>YEAR($CX217)&TEXT(MONTH($CX217),\"00\"),COUNTIF(CX222:EB222,\"●\"),\"\")","v":10},{"$f":"IF(OR(MONTH(CX217)=1,MONTH(CX217)=8,MONTH(CX217)=12),IF(COUNTIF(CX222:EB222,\"／\")>=3,\"\",\"算定除外「／」漏れ\"),\"\")","v":""}]
["",null,"実施",null,null,null,null,null,null,null,null,null,null,null,null,null,null,null,null,null,null,null,null,null,null,null,null,null,null,null,null,null,null,null,{"$f":"IF(D251=\"\",\"\",D251)","v":""},{"$f":"IF(E251=\"\",\"\",E251)","v":""},{"$f":"IF(F251=\"\",\"\",F251)","v":""},{"$f":"IF(G251=\"\",\"\",G251)","v":""},{"$f":"IF(H251=\"\",\"\",H251)","v":""},{"$f":"IF(I251=\"\",\"\",I251)","v":""},{"$f":"COUNTIF(D222:AG222,\"●\")","v":0},{"$f":"+AO222+AP193","v":0},null,null,"現場閉所率",{"$f":"IFERROR(+AT221/AT220,\"\")","v":""},{"$f":"IF(AT222=\"\",\"\",IF(COUNTIF(D222:AH222,\"●\")>=COUNTIF(D225:AH225,\"◎\"),\"4週8休以上\",IF(AT222>=0.285,\"4週8休以上\",\"週休2日未達成\")))","v":""},null,null,null,null,null,"実施",null,null,null,null,null,null,null,null,null,null,null,null,null,null,null,null,null,null,null,null,null,null,null,null,null,null,null,null,null,null,"／",{"$f":"IF(BB251=\"\",\"\",BB251)","v":""},{"$f":"IF(BC251=\"\",\"\",BC251)","v":""},{"$f":"IF(BD251=\"\",\"\",BD251)","v":""},{"$f":"IF(BE251=\"\",\"\",BE251)","v":""},{"$f":"IF(BF251=\"\",\"\",BF251)","v":""},{"$f":"IF(BG251=\"\",\"\",BG251)","v":""},{"$f":"COUNTIF(BB222:CE222,\"●\")","v":0},{"$f":"+CM222+CN193","v":0},null,null,"現場閉所率",{"$f":"IFERROR(+CR221/CR220,\"\")","v":0},{"$f":"IF(CR222=\"\",\"\",IF(COUNTIF(BB222:CF222,\"●\")>=COUNTIF(BB225:CF225,\"◎\"),\"4週8休以上\",IF(CR222>=0.285,\"4週8休以上\",\"週休2日未達成\")))","v":"週休2日未達成"},null,null,null,"実施","●","●","●",null,null,null,null,"●","●",null,null,null,null,null,null,"●",null,null,null,null,null,"●","●",null,null,null,null,null,"●","●","／",{"$f":"IF(CX251=\"\",\"\",CX251)","v":""},{"$f":"IF(CY251=\"\",\"\",CY251)","v":""},{"$f":"IF(CZ251=\"\",\"\",CZ251)","v":""},{"$f":"IF(DA251=\"\",\"\",DA251)","v":""},{"$f":"IF(DB251=\"\",\"\",DB251)","v":""},{"$f":"IF(DC251=\"\",\"\",DC251)","v":"●"},{"$f":"COUNTIF(CX222:EA222,\"●\")","v":10},{"$f":"+EI222+EJ193","v":62},null,null,"現場閉所率",{"$f":"IFERROR(+EN221/EN220,\"\")","v":0.33333333333333331},{"$f":"IF(EN222=\"\",\"\",IF(COUNTIF(CX222:EB222,\"●\")>=COUNTIF(CX225:EB225,\"◎\"),\"4週8休以上\",IF(EN222>=0.285,\"4週8休以上\",\"週休2日未達成\")))","v":"4週8休以上"}]
[null,null,null,1,2,3,4,5,6,7,8,9,10,11,12,13,14,15,16,17,18,19,20,21,22,23,24,25,26,27,28,29,30,31,32,33,34,35,36,37,null,null,null,null,{"$f":"AU222","v":""},null,null,null,null,null,null,null,null,1,2,3,4,5,6,7,8,9,10,11,12,13,14,15,16,17,18,19,20,21,22,23,24,25,26,27,28,29,30,31,32,33,34,35,36,37,null,null,null,null,{"$f":"CS222","v":"週休2日未達成"},null,null,null,null,null,null,1,2,3,4,5,6,7,8,9,10,11,12,13,14,15,16,17,18,19,20,21,22,23,24,25,26,27,28,29,30,31,32,33,34,35,36,37,null,null,null,null,{"$f":"EO222","v":"4週8休以上"}]
[null,null,"計画",{"$f":"IF(D221=\"／\",\"／\",IF(OR(D219=\"土\",D219=\"日\"),\"◎\",\"\"))","v":"◎"},{"$f":"IF(E221=\"／\",\"／\",IF(OR(E219=\"土\",E219=\"日\"),\"◎\",\"\"))","v":"◎"},"","","","","","◎","◎","","","","","","◎","◎","","","","","","◎","◎","","","",{"$f":"IF(AD221=\"／\",\"／\",IF(OR(AD219=\"土\",AD219=\"日\"),\"◎\",\"\"))","v":""},{"$f":"IF(AE221=\"／\",\"／\",IF(OR(AE219=\"土\",AE219=\"日\"),\"◎\",\"\"))","v":""},"◎","◎","","","","","","","◎",null,null,null,null,{"$f":"AT226","v":""},null,null,null,null,null,null,null,"計画",{"$f":"IF(BB221=\"／\",\"／\",IF(OR(BB219=\"土\",BB219=\"日\"),\"◎\",\"\"))","v":"◎"},"◎","","","","","","◎","◎","","","",{"$f":"IF(BN221=\"／\",\"／\",IF(OR(BN219=\"土\",BN219=\"日\"),\"◎\",\"\"))","v":""},{"$f":"IF(BO221=\"／\",\"／\",IF(OR(BO219=\"土\",BO219=\"日\"),\"◎\",\"\"))","v":""},"◎","◎","","","","","","◎","◎","","","",{"$f":"IF(CB221=\"／\",\"／\",IF(OR(CB219=\"土\",CB219=\"日\"),\"◎\",\"\"))","v":""},{"$f":"IF(CC221=\"／\",\"／\",IF(OR(CC219=\"土\",CC219=\"日\"),\"◎\",\"\"))","v":""},"◎","◎","／","","","","","","◎",null,null,null,null,{"$f":"CR226","v":"OUT"},null,null,null,null,null,"計画",{"$f":"IF(CX221=\"／\",\"／\",IF(OR(CX219=\"土\",CX219=\"日\"),\"◎\",\"\"))","v":"◎"},"◎","","","","","","◎","◎","","","",{"$f":"IF(DJ221=\"／\",\"／\",IF(OR(DJ219=\"土\",DJ219=\"日\"),\"◎\",\"\"))","v":""},{"$f":"IF(DK221=\"／\",\"／\",IF(OR(DK219=\"土\",DK219=\"日\"),\"◎\",\"\"))","v":""},"◎","◎","","","","","","◎","◎","","","",{"$f":"IF(DX221=\"／\",\"／\",IF(OR(DX219=\"土\",DX219=\"日\"),\"◎\",\"\"))","v":""},{"$f":"IF(DY221=\"／\",\"／\",IF(OR(DY219=\"土\",DY219=\"日\"),\"◎\",\"\"))","v":""},"◎","◎","／","","","","","","◎",null,null,null,null,{"$f":"EN226","v":"OUT"}]
[null,null,"実施",{"$f":"IF(D222=\"／\",\"／\",IF(OR(D219=\"土\",D219=\"日\"),\"◎\",\"\"))","v":"◎"},{"$f":"IF(E222=\"／\",\"／\",IF(OR(E219=\"土\",E219=\"日\"),\"◎\",\"\"))","v":"◎"},"","","","","","◎","◎","","","","","","◎","◎","","","","","","◎","◎","","","","","","◎","◎","","","","","","","◎",null,null,null,null,null,null,null,null,null,null,null,null,"実施",{"$f":"IF(BB222=\"／\",\"／\",IF(OR(BB219=\"土\",BB219=\"日\"),\"◎\",\"\"))","v":"◎"},{"$f":"IF(BC222=\"／\",\"／\",IF(OR(BC219=\"土\",BC219=\"日\"),\"◎\",\"\"))","v":"◎"},"","","","","","◎","◎","","","","","","◎","◎","","","","","","◎","◎","","","","","","◎","◎","／","","","","","","◎",null,null,null,null,null,null,null,null,null,null,"実施",{"$f":"IF(CX222=\"／\",\"／\",IF(OR(CX219=\"土\",CX219=\"日\"),\"◎\",\"\"))","v":"◎"},{"$f":"IF(CY222=\"／\",\"／\",IF(OR(CY219=\"土\",CY219=\"日\"),\"◎\",\"\"))","v":"◎"},"","","","","","◎","◎","","","","","","◎","◎","","","","","","◎","◎","","","","","","◎","◎","／","","","","","","◎"]
["",null,"完全",{"$f":"IF(WEEKDAY(DATE(YEAR(D217),MONTH(D217),1),2)=1,DATE(YEAR(D217),MONTH(D217),1),EOMONTH(D217,-1)-MOD(WEEKDAY(EOMONTH(D217,-1),2)+6,7))","v":"2025-10-27"},"～",{"$f":"DATE(YEAR(D217),MONTH(D217),1)+MOD(7-WEEKDAY(DATE(YEAR(D217),MONTH(D217),1),2),7)","v":"2025-11-02"},{"$f":"IF(DAY(D226)=1,IF(COUNTIF(D222:J222,\"／\")>=1,\"対象外\",IF(COUNTIF(INDEX(D222:AN222,DAY(D226)):INDEX(D222:AN222,HLOOKUP(F226,D218:AN223,6,FALSE)),\"\")+COUNTIF(INDEX(D222:AN222,DAY(D226)):INDEX(D222:AN222,HLOOKUP(F226,D218:AN223,6,FALSE)),\"●\")=7,IF(COUNTIF(INDEX(D222:AN222,DAY(D226)):INDEX(D222:AN222,HLOOKUP(F226,D218:AN223,6,FALSE)),\"●\")>=2,\"OK\",\"OUT\"),IF(COUNTIF(INDEX(D222:AN222,DAY(D226)):INDEX(D222:AN222,HLOOKUP(F226,D218:AN223,6,FALSE)),\"●\")>=COUNTIF(INDEX(D225:AN225,DAY(D226)):INDEX(D225:AN225,HLOOKUP(F226,D218:AN223,6,FALSE)),\"○\"),\"OK\",\"OUT\"))),IF(AND(AK197=\"\",AE197=\"\"),Y197,IF(AK197=\"\",AE197,AK197)))","v":"OUT"},null,null,{"$f":"F226+1","v":"2025-11-03"},"～",{"$f":"F226+7","v":"2025-11-09"},{"$f":"IF(COUNTIF(INDEX(D222:AN222,DAY(J226)):INDEX(D222:AN222,HLOOKUP(L226,D218:AN223,6,FALSE)),\"\")+COUNTIF(INDEX(D222:AN222,DAY(J226)):INDEX(D222:AN222,HLOOKUP(L226,D218:AN223,6,FALSE)),\"●\")=7,IF(COUNTIF(INDEX(D222:AN222,DAY(J226)):INDEX(D222:AN222,HLOOKUP(L226,D218:AN223,6,FALSE)),\"●\")>=2,\"OK\",\"OUT\"),\"対象外\")","v":"OUT"},null,null,{"$f":"L226+1","v":"2025-11-10"},"～",{"$f":"L226+7","v":"2025-11-16"},{"$f":"IF(COUNTIF(INDEX(D222:AN222,DAY(P226)):INDEX(D222:AN222,HLOOKUP(R226,D218:AN223,6,FALSE)),\"\")+COUNTIF(INDEX(D222:AN222,DAY(P226)):INDEX(D222:AN222,HLOOKUP(R226,D218:AN223,6,FALSE)),\"●\")=7,IF(COUNTIF(INDEX(D222:AN222,DAY(P226)):INDEX(D222:AN222,HLOOKUP(R226,D218:AN223,6,FALSE)),\"●\")>=2,\"OK\",\"OUT\"),\"対象外\")","v":"OUT"},null,null,{"$f":"R226+1","v":"2025-11-17"},"～",{"$f":"R226+7","v":"2025-11-23"},{"$f":"IF(COUNTIF(INDEX(D222:AN222,DAY(V226)):INDEX(D222:AN222,HLOOKUP(X226,D218:AN223,6,FALSE)),\"\")+COUNTIF(INDEX(D222:AN222,DAY(V226)):INDEX(D222:AN222,HLOOKUP(X226,D218:AN223,6,FALSE)),\"●\")=7,IF(COUNTIF(INDEX(D222:AN222,DAY(V226)):INDEX(D222:AN222,HLOOKUP(X226,D218:AN223,6,FALSE)),\"●\")>=2,\"OK\",\"OUT\"),\"対象外\")","v":"OUT"},null,null,{"$f":"IF(AND(DAY(X226+7)<23,DAY(X226+7)>=7),\"\",X226+1)","v":"2025-11-24"},{"$f":"IF(AND(DAY(X226+7)<23,DAY(X226+7)>=7),\"\",\"～\")","v":"～"},{"$f":"IF(AND(DAY(X226+7)<23,DAY(X226+7)>=7),\"\",X226+7)","v":"2025-11-30"},{"$f":"IF(AND(DAY(X226+7)<23,DAY(X226+7)>=7),\"\",IF(COUNTIF(INDEX(D222:AN222,DAY(AB226)):INDEX(D222:AN222,HLOOKUP(AD226,D218:AN223,6,FALSE)),\"\")+COUNTIF(INDEX(D222:AN222,DAY(AB226)):INDEX(D222:AN222,HLOOKUP(AD226,D218:AN223,6,FALSE)),\"●\")=7,IF(COUNTIF(INDEX(D222:AN222,DAY(AB226)):INDEX(D222:AN222,HLOOKUP(AD226,D218:AN223,6,FALSE)),\"●\")>=2,\"OK\",\"OUT\"),IF(COUNTIF(INDEX(D222:AN222,DAY(AB226)):INDEX(D222:AN222,HLOOKUP(AD226,D218:AN223,6,FALSE)),\"\")+COUNTIF(INDEX(D222:AN222,DAY(AB226)):INDEX(D222:AN222,HLOOKUP(AD226,D218:AN223,6,FALSE)),\"●\")>7,\"「／」漏れ\",\"対象外\")))","v":"OUT"},null,null,{"$f":"IF(AE226=\"\",\"\",IF(AND(DAY(AD226+7)<23,DAY(AD226+7)>=7),\"\",AD226+1))","v":""},{"$f":"IF(AE226=\"\",\"\",IF(AND(DAY(AD226+7)<23,DAY(AD226+7)>=7),\"\",\"～\"))","v":""},{"$f":"IF(AE226=\"\",\"\",IF(AND(DAY(AD226+7)<23,DAY(AD226+7)>=7),\"\",AD226+7))","v":""},{"$f":"IF(AE226=\"\",\"\",IF(AND(DAY(AD226+7)<23,DAY(AD226+7)>=7),\"\",IF(COUNTIF(INDEX(D222:AN222,DAY(AH226)):INDEX(D222:AN222,HLOOKUP(AJ226,D218:AN223,6,FALSE)),\"\")+COUNTIF(INDEX(D222:AN222,DAY(AH226)):INDEX(D222:AN222,HLOOKUP(AJ226,D218:AN223,6,FALSE)),\"●\")=7,IF(COUNTIF(INDEX(D222:AN222,DAY(AH226)):INDEX(D222:AN222,HLOOKUP(AJ226,D218:AN223,6,FALSE)),\"●\")>=2,\"OK\",\"OUT\"),IF(COUNTIF(INDEX(D222:AN222,HLOOKUP(AH226,D218:AN223,6,FALSE)):INDEX(D222:AN222,HLOOKUP(AJ226,D218:AN223,6,FALSE)),\"\")+COUNTIF(INDEX(D222:AN222,HLOOKUP(AH226,D218:AN223,6,FALSE)):INDEX(D222:AN222,HLOOKUP(AJ226,D218:AN223,6,FALSE)),\"●\")>7,\"「／」漏れ\",\"対象外\"))))","v":""},null,null,null,null,null,null,null,"完全週休二日",{"$f":"IF(AT217=\"\",\"\",IF(COUNTIF(D226:AN226,\"OUT\")>=1,\"OUT\",\"OK\"))","v":""},null,null,null,null,null,null,"完全",{"$f":"IF(WEEKDAY(DATE(YEAR(BB217),MONTH(BB217),1),2)=1,DATE(YEAR(BB217),MONTH(BB217),1),EOMONTH(BB217,-1)-MOD(WEEKDAY(EOMONTH(BB217,-1),2)+6,7))","v":"2025-10-27"},"～",{"$f":"DATE(YEAR(BB217),MONTH(BB217),1)+MOD(7-WEEKDAY(DATE(YEAR(BB217),MONTH(BB217),1),2),7)","v":"2025-11-02"},{"$f":"IF(DAY(BB226)=1,IF(COUNTIF(BB222:BH222,\"／\")>=1,\"対象外\",IF(COUNTIF(INDEX(BB222:CL222,DAY(BB226)):INDEX(BB222:CL222,HLOOKUP(BD226,BB218:CL223,6,FALSE)),\"\")+COUNTIF(INDEX(BB222:CL222,DAY(BB226)):INDEX(BB222:CL222,HLOOKUP(BD226,BB218:CL223,6,FALSE)),\"●\")=7,IF(COUNTIF(INDEX(BB222:CL222,DAY(BB226)):INDEX(BB222:CL222,HLOOKUP(BD226,BB218:CL223,6,FALSE)),\"●\")>=2,\"OK\",\"OUT\"),IF(COUNTIF(INDEX(BB222:CL222,DAY(BB226)):INDEX(BB222:CL222,HLOOKUP(BD226,BB218:CL223,6,FALSE)),\"●\")>=COUNTIF(INDEX(BB225:CL225,DAY(BB226)):INDEX(BB225:CL225,HLOOKUP(BD226,BB218:CL223,6,FALSE)),\"○\"),\"OK\",\"OUT\"))),IF(AND(CI197=\"\",CC197=\"\"),BW197,IF(CI197=\"\",CC197,CI197)))","v":"OUT"},null,null,{"$f":"BD226+1","v":"2025-11-03"},"～",{"$f":"BD226+7","v":"2025-11-09"},{"$f":"IF(COUNTIF(INDEX(BB222:CL222,DAY(BH226)):INDEX(BB222:CL222,HLOOKUP(BJ226,BB218:CL223,6,FALSE)),\"\")+COUNTIF(INDEX(BB222:CL222,DAY(BH226)):INDEX(BB222:CL222,HLOOKUP(BJ226,BB218:CL223,6,FALSE)),\"●\")=7,IF(COUNTIF(INDEX(BB222:CL222,DAY(BH226)):INDEX(BB222:CL222,HLOOKUP(BJ226,BB218:CL223,6,FALSE)),\"●\")>=2,\"OK\",\"OUT\"),\"対象外\")","v":"OUT"},null,null,{"$f":"BJ226+1","v":"2025-11-10"},"～",{"$f":"BJ226+7","v":"2025-11-16"},{"$f":"IF(COUNTIF(INDEX(BB222:CL222,DAY(BN226)):INDEX(BB222:CL222,HLOOKUP(BP226,BB218:CL223,6,FALSE)),\"\")+COUNTIF(INDEX(BB222:CL222,DAY(BN226)):INDEX(BB222:CL222,HLOOKUP(BP226,BB218:CL223,6,FALSE)),\"●\")=7,IF(COUNTIF(INDEX(BB222:CL222,DAY(BN226)):INDEX(BB222:CL222,HLOOKUP(BP226,BB218:CL223,6,FALSE)),\"●\")>=2,\"OK\",\"OUT\"),\"対象外\")","v":"OUT"},null,null,{"$f":"BP226+1","v":"2025-11-17"},"～",{"$f":"BP226+7","v":"2025-11-23"},{"$f":"IF(COUNTIF(INDEX(BB222:CL222,DAY(BT226)):INDEX(BB222:CL222,HLOOKUP(BV226,BB218:CL223,6,FALSE)),\"\")+COUNTIF(INDEX(BB222:CL222,DAY(BT226)):INDEX(BB222:CL222,HLOOKUP(BV226,BB218:CL223,6,FALSE)),\"●\")=7,IF(COUNTIF(INDEX(BB222:CL222,DAY(BT226)):INDEX(BB222:CL222,HLOOKUP(BV226,BB218:CL223,6,FALSE)),\"●\")>=2,\"OK\",\"OUT\"),\"対象外\")","v":"OUT"},null,null,{"$f":"IF(AND(DAY(BV226+7)<23,DAY(BV226+7)>=7),\"\",BV226+1)","v":"2025-11-24"},{"$f":"IF(AND(DAY(BV226+7)<23,DAY(BV226+7)>=7),\"\",\"～\")","v":"～"},{"$f":"IF(AND(DAY(BV226+7)<23,DAY(BV226+7)>=7),\"\",BV226+7)","v":"2025-11-30"},{"$f":"IF(AND(DAY(BV226+7)<23,DAY(BV226+7)>=7),\"\",IF(COUNTIF(INDEX(BB222:CL222,DAY(BZ226)):INDEX(BB222:CL222,HLOOKUP(CB226,BB218:CL223,6,FALSE)),\"\")+COUNTIF(INDEX(BB222:CL222,DAY(BZ226)):INDEX(BB222:CL222,HLOOKUP(CB226,BB218:CL223,6,FALSE)),\"●\")=7,IF(COUNTIF(INDEX(BB222:CL222,DAY(BZ226)):INDEX(BB222:CL222,HLOOKUP(CB226,BB218:CL223,6,FALSE)),\"●\")>=2,\"OK\",\"OUT\"),IF(COUNTIF(INDEX(BB222:CL222,DAY(BZ226)):INDEX(BB222:CL222,HLOOKUP(CB226,BB218:CL223,6,FALSE)),\"\")+COUNTIF(INDEX(BB222:CL222,DAY(BZ226)):INDEX(BB222:CL222,HLOOKUP(CB226,BB218:CL223,6,FALSE)),\"●\")>7,\"「／」漏れ\",\"対象外\")))","v":"OUT"},null,null,{"$f":"IF(CC226=\"\",\"\",IF(AND(DAY(CB226+7)<23,DAY(CB226+7)>=7),\"\",CB226+1))","v":""},{"$f":"IF(CC226=\"\",\"\",IF(AND(DAY(CB226+7)<23,DAY(CB226+7)>=7),\"\",\"～\"))","v":""},{"$f":"IF(CC226=\"\",\"\",IF(AND(DAY(CB226+7)<23,DAY(CB226+7)>=7),\"\",CB226+7))","v":""},{"$f":"IF(CC226=\"\",\"\",IF(AND(DAY(CB226+7)<23,DAY(CB226+7)>=7),\"\",IF(COUNTIF(INDEX(BB222:CL222,DAY(CF226)):INDEX(BB222:CL222,HLOOKUP(CH226,BB218:CL223,6,FALSE)),\"\")+COUNTIF(INDEX(BB222:CL222,DAY(CF226)):INDEX(BB222:CL222,HLOOKUP(CH226,BB218:CL223,6,FALSE)),\"●\")=7,IF(COUNTIF(INDEX(BB222:CL222,DAY(CF226)):INDEX(BB222:CL222,HLOOKUP(CH226,BB218:CL223,6,FALSE)),\"●\")>=2,\"OK\",\"OUT\"),IF(COUNTIF(INDEX(BB222:CL222,HLOOKUP(CF226,BB218:CL223,6,FALSE)):INDEX(BB222:CL222,HLOOKUP(CH226,BB218:CL223,6,FALSE)),\"\")+COUNTIF(INDEX(BB222:CL222,HLOOKUP(CF226,BB218:CL223,6,FALSE)):INDEX(BB222:CL222,HLOOKUP(CH226,BB218:CL223,6,FALSE)),\"●\")>7,\"「／」漏れ\",\"対象外\"))))","v":""},null,null,null,null,null,null,null,"完全週休二日",{"$f":"IF(CR217=\"\",\"\",IF(COUNTIF(BB226:CL226,\"OUT\")>=1,\"OUT\",\"OK\"))","v":"OUT"},null,null,null,null,"完全",{"$f":"IF(WEEKDAY(DATE(YEAR(CX217),MONTH(CX217),1),2)=1,DATE(YEAR(CX217),MONTH(CX217),1),EOMONTH(CX217,-1)-MOD(WEEKDAY(EOMONTH(CX217,-1),2)+6,7))","v":"2025-10-27"},"～",{"$f":"DATE(YEAR(CX217),MONTH(CX217),1)+MOD(7-WEEKDAY(DATE(YEAR(CX217),MONTH(CX217),1),2),7)","v":"2025-11-02"},{"$f":"IF(DAY(CX226)=1,IF(COUNTIF(CX222:DD222,\"／\")>=1,\"対象外\",IF(COUNTIF(INDEX(CX222:EH222,DAY(CX226)):INDEX(CX222:EH222,HLOOKUP(CZ226,CX218:EH223,6,FALSE)),\"\")+COUNTIF(INDEX(CX222:EH222,DAY(CX226)):INDEX(CX222:EH222,HLOOKUP(CZ226,CX218:EH223,6,FALSE)),\"●\")=7,IF(COUNTIF(INDEX(CX222:EH222,DAY(CX226)):INDEX(CX222:EH222,HLOOKUP(CZ226,CX218:EH223,6,FALSE)),\"●\")>=2,\"OK\",\"OUT\"),IF(COUNTIF(INDEX(CX222:EH222,DAY(CX226)):INDEX(CX222:EH222,HLOOKUP(CZ226,CX218:EH223,6,FALSE)),\"●\")>=COUNTIF(INDEX(CX225:EH225,DAY(CX226)):INDEX(CX225:EH225,HLOOKUP(CZ226,CX218:EH223,6,FALSE)),\"○\"),\"OK\",\"OUT\"))),IF(AND(EE197=\"\",DY197=\"\"),DS197,IF(EE197=\"\",DY197,EE197)))","v":"OK"},null,null,{"$f":"CZ226+1","v":"2025-11-03"},"～",{"$f":"CZ226+7","v":"2025-11-09"},{"$f":"IF(COUNTIF(INDEX(CX222:EH222,DAY(DD226)):INDEX(CX222:EH222,HLOOKUP(DF226,CX218:EH223,6,FALSE)),\"\")+COUNTIF(INDEX(CX222:EH222,DAY(DD226)):INDEX(CX222:EH222,HLOOKUP(DF226,CX218:EH223,6,FALSE)),\"●\")=7,IF(COUNTIF(INDEX(CX222:EH222,DAY(DD226)):INDEX(CX222:EH222,HLOOKUP(DF226,CX218:EH223,6,FALSE)),\"●\")>=2,\"OK\",\"OUT\"),\"対象外\")","v":"OK"},null,null,{"$f":"DF226+1","v":"2025-11-10"},"～",{"$f":"DF226+7","v":"2025-11-16"},{"$f":"IF(COUNTIF(INDEX(CX222:EH222,DAY(DJ226)):INDEX(CX222:EH222,HLOOKUP(DL226,CX218:EH223,6,FALSE)),\"\")+COUNTIF(INDEX(CX222:EH222,DAY(DJ226)):INDEX(CX222:EH222,HLOOKUP(DL226,CX218:EH223,6,FALSE)),\"●\")=7,IF(COUNTIF(INDEX(CX222:EH222,DAY(DJ226)):INDEX(CX222:EH222,HLOOKUP(DL226,CX218:EH223,6,FALSE)),\"●\")>=2,\"OK\",\"OUT\"),\"対象外\")","v":"OUT"},null,null,{"$f":"DL226+1","v":"2025-11-17"},"～",{"$f":"DL226+7","v":"2025-11-23"},{"$f":"IF(COUNTIF(INDEX(CX222:EH222,DAY(DP226)):INDEX(CX222:EH222,HLOOKUP(DR226,CX218:EH223,6,FALSE)),\"\")+COUNTIF(INDEX(CX222:EH222,DAY(DP226)):INDEX(CX222:EH222,HLOOKUP(DR226,CX218:EH223,6,FALSE)),\"●\")=7,IF(COUNTIF(INDEX(CX222:EH222,DAY(DP226)):INDEX(CX222:EH222,HLOOKUP(DR226,CX218:EH223,6,FALSE)),\"●\")>=2,\"OK\",\"OUT\"),\"対象外\")","v":"OK"},null,null,{"$f":"IF(AND(DAY(DR226+7)<23,DAY(DR226+7)>=7),\"\",DR226+1)","v":"2025-11-24"},{"$f":"IF(AND(DAY(DR226+7)<23,DAY(DR226+7)>=7),\"\",\"～\")","v":"～"},{"$f":"IF(AND(DAY(DR226+7)<23,DAY(DR226+7)>=7),\"\",DR226+7)","v":"2025-11-30"},{"$f":"IF(AND(DAY(DR226+7)<23,DAY(DR226+7)>=7),\"\",IF(COUNTIF(INDEX(CX222:EH222,DAY(DV226)):INDEX(CX222:EH222,HLOOKUP(DX226,CX218:EH223,6,FALSE)),\"\")+COUNTIF(INDEX(CX222:EH222,DAY(DV226)):INDEX(CX222:EH222,HLOOKUP(DX226,CX218:EH223,6,FALSE)),\"●\")=7,IF(COUNTIF(INDEX(CX222:EH222,DAY(DV226)):INDEX(CX222:EH222,HLOOKUP(DX226,CX218:EH223,6,FALSE)),\"●\")>=2,\"OK\",\"OUT\"),IF(COUNTIF(INDEX(CX222:EH222,DAY(DV226)):INDEX(CX222:EH222,HLOOKUP(DX226,CX218:EH223,6,FALSE)),\"\")+COUNTIF(INDEX(CX222:EH222,DAY(DV226)):INDEX(CX222:EH222,HLOOKUP(DX226,CX218:EH223,6,FALSE)),\"●\")>7,\"「／」漏れ\",\"対象外\")))","v":"OK"},null,null,{"$f":"IF(DY226=\"\",\"\",IF(AND(DAY(DX226+7)<23,DAY(DX226+7)>=7),\"\",DX226+1))","v":""},{"$f":"IF(DY226=\"\",\"\",IF(AND(DAY(DX226+7)<23,DAY(DX226+7)>=7),\"\",\"～\"))","v":""},{"$f":"IF(DY226=\"\",\"\",IF(AND(DAY(DX226+7)<23,DAY(DX226+7)>=7),\"\",DX226+7))","v":""},{"$f":"IF(DY226=\"\",\"\",IF(AND(DAY(DX226+7)<23,DAY(DX226+7)>=7),\"\",IF(COUNTIF(INDEX(CX222:EH222,DAY(EB226)):INDEX(CX222:EH222,HLOOKUP(ED226,CX218:EH223,6,FALSE)),\"\")+COUNTIF(INDEX(CX222:EH222,DAY(EB226)):INDEX(CX222:EH222,HLOOKUP(ED226,CX218:EH223,6,FALSE)),\"●\")=7,IF(COUNTIF(INDEX(CX222:EH222,DAY(EB226)):INDEX(CX222:EH222,HLOOKUP(ED226,CX218:EH223,6,FALSE)),\"●\")>=2,\"OK\",\"OUT\"),IF(COUNTIF(INDEX(CX222:EH222,HLOOKUP(EB226,CX218:EH223,6,FALSE)):INDEX(CX222:EH222,HLOOKUP(ED226,CX218:EH223,6,FALSE)),\"\")+COUNTIF(INDEX(CX222:EH222,HLOOKUP(EB226,CX218:EH223,6,FALSE)):INDEX(CX222:EH222,HLOOKUP(ED226,CX218:EH223,6,FALSE)),\"●\")>7,\"「／」漏れ\",\"対象外\"))))","v":""},null,null,null,null,null,null,null,"完全週休二日",{"$f":"IF(EN217=\"\",\"\",IF(COUNTIF(CX226:EH226,\"OUT\")>=1,\"OUT\",\"OK\"))","v":"OUT"}]
[""]
[{"$f":"IF(AND(NOT($AT$217=\"\"),$AT$246=\"\"),\"対象期間\",\"\")","v":""}]
[{"$f":"IF(AND(NOT($AT$217=\"\"),$AT$246=\"\"),\"対象期間\",\"\")","v":""},null,"※１工事着手日：始期日以降に準備工事（現場事務所の建設・測量等）、工場製作を含む工事における工場製作工に着手した日",null,null,null,null,null,null,null,null,null,null,null,null,null,null,null,null,null,null,null,null,null,null,null,null,null,null,null,null,null,null,null,null,null,null,null,null,null,null,null,null,"工事全体の確認",null,null,null,null,null,null,null,null,"※１工事着手日：始期日以降に準備工事（現場事務所の建設・測量等）、工場製作を含む工事における工場製作工に着手した日",null,null,null,null,null,null,null,null,null,null,null,null,null,null,null,null,null,null,null,null,null,null,null,null,null,null,null,null,null,null,null,null,null,null,null,null,null,null,null,null,"工事全体の確認",null,null,null,null,null,null,"※１工事着手日：始期日以降に準備工事（現場事務所の建設・測量等）、工場製作を含む工事における工場製作工に着手した日",null,null,null,null,null,null,null,null,null,null,null,null,null,null,null,null,null,null,null,null,null,null,null,null,null,null,null,null,null,null,null,null,null,null,null,null,null,null,null,null,"工事全体の確認"]
["",null,"※２作業完了日：工事施工範囲内で全ての作業（後片付けを含む）が完了した日\n　　　　　　　　　  （工事現場事務所は工事施工範囲外に設置するため、ここでいう後片付けの対象に含まない）",null,null,null,null,null,null,null,null,null,null,null,null,null,null,null,null,null,null,null,null,null,null,null,null,null,null,null,null,null,null,null,null,null,null,null,null,null,null,null,null,"計画","全対象期間",{"$f":"IFERROR(AT201+AT217,\"\")","v":""},null,null,null,null,null,null,"※２作業完了日：工事施工範囲内で全ての作業（後片付けを含む）が完了した日\n　　　　　　　　　  （工事現場事務所は工事施工範囲外に設置するため、ここでいう後片付けの対象に含まない）",null,null,null,null,null,null,null,null,null,null,null,null,null,null,null,null,null,null,null,null,null,null,null,null,null,null,null,null,null,null,null,null,null,null,null,null,null,null,null,null,"計画","全対象期間",{"$f":"IFERROR(CR201+CR217,\"\")","v":""},null,null,null,null,"※２作業完了日：工事施工範囲内で全ての作業（後片付けを含む）が完了した日\n　　　　　　　　　  （工事現場事務所は工事施工範囲外に設置するため、ここでいう後片付けの対象に含まない）",null,null,null,null,null,null,null,null,null,null,null,null,null,null,null,null,null,null,null,null,null,null,null,null,null,null,null,null,null,null,null,null,null,null,null,null,null,null,null,null,"計画","全対象期間",{"$f":"IFERROR(EN201+EN217,\"\")","v":200}]
["",null,null,null,null,null,null,null,null,null,null,null,null,null,null,null,null,null,null,null,null,null,null,null,null,null,null,null,null,null,null,null,null,null,null,null,null,null,null,null,null,null,null,null,"全現場閉所日数",{"$f":"IFERROR(AT202+AT218,\"\")","v":""},null,null,null,null,null,null,null,null,null,null,null,null,null,null,null,null,null,null,null,null,null,null,null,null,null,null,null,null,null,null,null,null,null,null,null,null,null,null,null,null,null,null,null,null,null,null,null,null,"全現場閉所日数",{"$f":"IFERROR(CR202+CR218,\"\")","v":""},null,null,null,null,null,null,null,null,null,null,null,null,null,null,null,null,null,null,null,null,null,null,null,null,null,null,null,null,null,null,null,null,null,null,null,null,null,null,null,null,null,null,null,null,null,null,"全現場閉所日数",{"$f":"IFERROR(EN202+EN218,\"\")","v":64}]
["",null,"【算定除外期間】：夏季休暇（8月13日～8月15日）、年末年始（12月29日～翌年1月3日）は算定期間の分母・分子に含めない",null,null,null,null,null,null,null,null,null,null,null,null,null,null,null,null,null,null,null,null,null,null,null,null,null,null,null,null,null,null,null,null,null,null,null,null,null,null,null,null,null,"現場閉所率",{"$f":"IFERROR(+AT231/AT230,\"\")","v":""},{"$f":"IF(AT232>=0.285,\"4週8休以上\",\"週休2日未達成\")","v":"4週8休以上"},null,null,null,null,null,"【算定除外期間】：夏季休暇（8月13日～8月15日）、年末年始（12月29日～翌年1月3日）は算定期間の分母・分子に含めない",null,null,null,null,null,null,null,null,null,null,null,null,null,null,null,null,null,null,null,null,null,null,null,null,null,null,null,null,null,null,null,null,null,null,null,null,null,null,null,null,null,"現場閉所率",{"$f":"IFERROR(+CR231/CR230,\"\")","v":""},{"$f":"IF(CR232>=0.285,\"4週8休以上\",\"週休2日未達成\")","v":"4週8休以上"},null,null,null,"【算定除外期間】：夏季休暇（8月13日～8月15日）、年末年始（12月29日～翌年1月3日）は算定期間の分母・分子に含めない",null,null,null,null,null,null,null,null,null,null,null,null,null,null,null,null,null,null,null,null,null,null,null,null,null,null,null,null,null,null,null,null,null,null,null,null,null,null,null,null,null,"現場閉所率",{"$f":"IFERROR(+EN231/EN230,\"\")","v":0.32},{"$f":"IF(EN232>=0.285,\"4週8休以上\",\"週休2日未達成\")","v":"4週8休以上"}]
["",null,"※３工事期間の全ての月において、達成状況を確認し、一度でも達成できない月があれば、４週８休以上（月単位）は「未達成」となり、補正の対象とならない。\n　　月によっては、土日を全て閉所しても現場閉所率が28.5％に満たない場合があるが、その月の対象期間の土日日数以上閉所していれば達成とみなす。\n\n※４工事対象期間のうち、一度でも完全週休２日（月～日で２日以上の現場閉所）を達成できなければ、\n　　 完全週休２日は「未達成」となり、補正の対象とならない。\n　　 なお、工期始期・終期、年末年始、夏季休暇などにより、７日間に満たない期間は完全週休２日の達成判断の対象外とする。",null,null,null,null,null,null,null,null,null,null,null,null,null,null,null,null,null,null,null,null,null,null,null,null,null,null,null,null,null,null,null,null,null,null,null,null,null,null,null,null,"実施","全対象期間",{"$f":"IFERROR(AT204+AT220,\"\")","v":""},null,null,null,null,null,null,"※３工事期間の全ての月において、達成状況を確認し、一度でも達成できない月があれば、４週８休以上（月単位）は「未達成」となり、補正の対象とならない。\n　　月によっては、土日を全て閉所しても現場閉所率が28.5％に満たない場合があるが、その月の対象期間の土日日数以上閉所していれば達成とみなす。\n\n※４工事対象期間のうち、一度でも完全週休２日（月～日で２日以上の現場閉所）を達成できなければ、\n　　 完全週休２日は「未達成」となり、補正の対象とならない。\n　　 なお、工期始期・終期、年末年始、夏季休暇などにより、７日間に満たない期間は完全週休２日の達成判断の対象外とする。",null,null,null,null,null,null,null,null,null,null,null,null,null,null,null,null,null,null,null,null,null,null,null,null,null,null,null,null,null,null,null,null,null,null,null,null,null,null,null,null,"実施","全対象期間",{"$f":"IFERROR(CR204+CR220,\"\")","v":""},null,null,null,null,"※３工事期間の全ての月において、達成状況を確認し、一度でも達成できない月があれば、４週８休以上（月単位）は「未達成」となり、補正の対象とならない。\n　　月によっては、土日を全て閉所しても現場閉所率が28.5％に満たない場合があるが、その月の対象期間の土日日数以上閉所していれば達成とみなす。\n\n※４工事対象期間のうち、一度でも完全週休２日（月～日で２日以上の現場閉所）を達成できなければ、\n　　 完全週休２日は「未達成」となり、補正の対象とならない。\n　　 なお、工期始期・終期、年末年始、夏季休暇などにより、７日間に満たない期間は完全週休２日の達成判断の対象外とする。",null,null,null,null,null,null,null,null,null,null,null,null,null,null,null,null,null,null,null,null,null,null,null,null,null,null,null,null,null,null,null,null,null,null,null,null,null,null,null,null,"実施","全対象期間",{"$f":"IFERROR(EN204+EN220,\"\")","v":200}]
["",null,null,null,null,null,null,null,null,null,null,null,null,null,null,null,null,null,null,null,null,null,null,null,null,null,null,null,null,null,null,null,null,null,null,null,null,null,null,null,null,null,null,null,"全現場閉所日数",{"$f":"IFERROR(AT205+AT221,\"\")","v":""},null,null,null,null,null,null,null,null,null,null,null,null,null,null,null,null,null,null,null,null,null,null,null,null,null,null,null,null,null,null,null,null,null,null,null,null,null,null,null,null,null,null,null,null,null,null,null,null,"全現場閉所日数",{"$f":"IFERROR(CR205+CR221,\"\")","v":""},null,null,null,null,null,null,null,null,null,null,null,null,null,null,null,null,null,null,null,null,null,null,null,null,null,null,null,null,null,null,null,null,null,null,null,null,null,null,null,null,null,null,null,null,null,null,"全現場閉所日数",{"$f":"IFERROR(EN205+EN221,\"\")","v":63}]
["",null,null,null,null,null,null,null,null,null,null,null,null,null,null,null,null,null,null,null,null,null,null,null,null,null,null,null,null,null,null,null,null,null,null,null,null,null,null,null,null,null,null,null,"現場閉所率",{"$f":"IFERROR(+AT234/AT233,\"\")","v":""},{"$f":"IF(AT235>=0.285,\"4週8休以上\",\"週休2日未達成\")","v":"4週8休以上"},null,null,null,null,null,null,null,null,null,null,null,null,null,null,null,null,null,null,null,null,null,null,null,null,null,null,null,null,null,null,null,null,null,null,null,null,null,null,null,null,null,null,null,null,null,null,null,"現場閉所率",{"$f":"IFERROR(+CR234/CR233,\"\")","v":""},{"$f":"IF(CR235>=0.285,\"4週8休以上\",\"週休2日未達成\")","v":"4週8休以上"},null,null,null,null,null,null,null,null,null,null,null,null,null,null,null,null,null,null,null,null,null,null,null,null,null,null,null,null,null,null,null,null,null,null,null,null,null,null,null,null,null,null,null,null,null,"現場閉所率",{"$f":"IFERROR(+EN234/EN233,\"\")","v":0.315},{"$f":"IF(EN235>=0.285,\"4週8休以上\",\"週休2日未達成\")","v":"4週8休以上"}]
["",null,null,null,null,null,null,null,null,null,null,null,null,null,null,null,null,null,null,null,null,null,null,null,null,null,null,null,null,null,null,null,null,null,null,null,null,null,null,null,null,null,null,null,"閉所（月単位）",{"$f":"IFERROR(COUNTIF(AS$14:$AS226,\"4週8休以上\")/(COUNTIF(AS$14:$AS226,\"4週8休以上\")+COUNTIF(AS$14:$AS226,\"週休2日未達成\")),\"\")","v":""},{"$f":"IF(OR(AT236=100%,AT236=\"\"),\"達成\",\"未達成\")","v":"達成"},null,null,null,null,null,null,null,null,null,null,null,null,null,null,null,null,null,null,null,null,null,null,null,null,null,null,null,null,null,null,null,null,null,null,null,null,null,null,null,null,null,null,null,null,null,null,null,"閉所（月単位）",{"$f":"IFERROR(COUNTIF(CQ$14:$CQ226,\"4週8休以上\")/(COUNTIF(CQ$14:$CQ226,\"4週8休以上\")+COUNTIF(CQ$14:$CQ226,\"週休2日未達成\")),\"\")","v":0},{"$f":"IF(OR(CR236=100%,CR236=\"\"),\"達成\",\"未達成\")","v":"未達成"},null,null,null,null,null,null,null,null,null,null,null,null,null,null,null,null,null,null,null,null,null,null,null,null,null,null,null,null,null,null,null,null,null,null,null,null,null,null,null,null,null,null,null,null,null,"閉所（月単位）",{"$f":"IFERROR(COUNTIF($EM$14:EM226,\"4週8休以上\")/(COUNTIF($EM$14:EM226,\"4週8休以上\")+COUNTIF($EM$14:EM226,\"週休2日未達成\")),\"\")","v":1},{"$f":"IF(OR(EN236=100%,EN236=\"\"),\"達成\",\"未達成\")","v":"達成"}]
["",null,null,null,null,null,null,null,null,null,null,null,null,null,null,null,null,null,null,null,null,null,null,null,null,null,null,null,null,null,null,null,null,null,null,null,null,null,null,null,null,null,null,null,"完全週休二日",{"$f":"IF(COUNTIF(AS$14:$AS226,\"OUT\")>=1,\"OUT\",\"OK\")","v":"OK"},{"$f":"IF(AT237=\"OK\",\"達成\",\"未達成\")","v":"達成"},null,null,null,null,null,null,null,null,null,null,null,null,null,null,null,null,null,null,null,null,null,null,null,null,null,null,null,null,null,null,null,null,null,null,null,null,null,null,null,null,null,null,null,null,null,null,null,"完全週休二日",{"$f":"IF(COUNTIF(CQ$14:$CQ226,\"OUT\")>=1,\"OUT\",\"OK\")","v":"OUT"},{"$f":"IF(CR237=\"OK\",\"達成\",\"未達成\")","v":"未達成"},null,null,null,null,null,null,null,null,null,null,null,null,null,null,null,null,null,null,null,null,null,null,null,null,null,null,null,null,null,null,null,null,null,null,null,null,null,null,null,null,null,null,null,null,null,"完全週休二日",{"$f":"IF(COUNTIF($EM$14:EM226,\"OUT\")>=1,\"OUT\",\"OK\")","v":"OUT"},{"$f":"IF(EN237=\"OK\",\"達成\",\"未達成\")","v":"未達成"}]
["",null,"※必要に応じて各月の完全週休2日（月～日）の達成判定の行を修正してください。（曜日に合わせて修正）",null,null,null,null,null,null,null,null,null,null,null,null,null,null,null,null,null,null,null,null,null,null,null,null,null,null,null,null,null,null,null,null,null,null,null,null,null,null,null,null,null,null,null,null,null,null,null,null,null,"※必要に応じて各月の完全週休2日（月～日）の達成判定の行を修正してください。（曜日に合わせて修正）",null,null,null,null,null,null,null,null,null,null,null,null,null,null,null,null,null,null,null,null,null,null,null,null,null,null,null,null,null,null,null,null,null,null,null,null,null,null,null,null,null,null,null,null,null,null,null,"※必要に応じて各月の完全週休2日（月～日）の達成判定の行を修正してください。（曜日に合わせて修正）"]
[""]
[""]
[""]
[""]
[""]
["",null,"算定除外期間以外の祝日（ＧＷ含む）は、算定期間（分母）の対象＝現場閉所の場合は分子にカウントして現場閉所率を算定",null,null,null,null,null,null,null,null,null,null,null,null,null,null,null,null,null,null,null,null,null,null,null,null,null,null,null,null,null,null,null,null,null,null,null,null,null,null,null,null,null,null,null,null,null,null,null,null,null,"算定除外期間以外の祝日（ＧＷ含む）は、算定期間（分母）の対象＝現場閉所の場合は分子にカウントして現場閉所率を算定",null,null,null,null,null,null,null,null,null,null,null,null,null,null,null,null,null,null,null,null,null,null,null,null,null,null,null,null,null,null,null,null,null,null,null,null,null,null,null,null,null,null,null,null,null,null,null,"算定除外期間以外の祝日（ＧＷ含む）は、算定期間（分母）の対象＝現場閉所の場合は分子にカウントして現場閉所率を算定"]
[""]
[{"$f":"IF($AT$246=\"\",\"\",\"対象期間\")","v":""},null,"月",{"$f":"DATE(YEAR(D217),MONTH(D217)+1,1)","v":"2025-12-01"},null,null,null,null,null,null,null,null,null,null,null,null,null,null,null,null,null,null,null,null,null,null,null,null,null,null,null,null,null,null,{"$f":"DATE(YEAR(D246),MONTH(D246)+1,1)","v":"2026-01-01"},null,null,null,null,null,"現場閉所計","現場閉所累計",null,"計画","対象期間",{"$f":"IF(IF(MONTH(入力表!$E$6)=12,YEAR(入力表!$E$6)+1&\"01\",YEAR(入力表!$E$6)&TEXT(MONTH(入力表!$E$6)+1,\"00\"))>YEAR($D246)&TEXT(MONTH($D246),\"00\"),COUNTIF(D250:AH250,\"\")+COUNTIF(D250:AH250,\"○\"),\"\")","v":""},{"$f":"IF(COUNTIF(D247:AH247,\"／\")=0,\"\",IF(COUNTIF(D247:AH247,\"／\")=1,IF(AH250=\"／\",\"\",\"月末「／」漏れ\"),IF(COUNTIF(D247:AH247,\"／\")=2,IF(AND(AG250=\"／\",AH250=\"／\"),\"\",\"月末「／」漏れ\"),IF(AND(AF250=\"／\",AG250=\"／\",AH250=\"／\"),\"\",\"月末「／」漏れ\"))))","v":""},null,null,null,null,null,"月",{"$f":"DATE(YEAR(BB217),MONTH(BB217)+1,1)","v":"2025-12-01"},null,null,null,null,null,null,null,null,null,null,null,null,null,null,null,null,null,null,null,null,null,null,null,null,null,null,null,null,null,null,{"$f":"DATE(YEAR(BB246),MONTH(BB246)+1,1)","v":"2026-01-01"},null,null,null,null,null,"現場閉所計","現場閉所累計",null,"計画","対象期間",{"$f":"IF(IF(MONTH($BL$5)=12,YEAR($BL$5)+1&\"01\",YEAR($BL$5)&TEXT(MONTH($BL$5)+1,\"00\"))>YEAR(BB246)&TEXT(MONTH(BB246),\"00\"),COUNTIF(BB250:CF250,\"\")+COUNTIF(BB250:CF250,\"○\"),\"\")","v":28},{"$f":"IF(COUNTIF(BB247:CF247,\"／\")=0,\"\",IF(COUNTIF(BB247:CF247,\"／\")=1,IF(CF250=\"／\",\"\",\"月末「／」漏れ\"),IF(COUNTIF(BB247:CF247,\"／\")=2,IF(AND(CE250=\"／\",CF250=\"／\"),\"\",\"月末「／」漏れ\"),IF(AND(CD250=\"／\",CE250=\"／\",CF250=\"／\"),\"\",\"月末「／」漏れ\"))))","v":""},null,null,null,"月",{"$f":"DATE(YEAR(CX217),MONTH(CX217)+1,1)","v":"2025-12-01"},null,null,null,null,null,null,null,null,null,null,null,null,null,null,null,null,null,null,null,null,null,null,null,null,null,null,null,null,null,null,{"$f":"DATE(YEAR(CX246),MONTH(CX246)+1,1)","v":"2026-01-01"},null,null,null,null,null,"現場閉所計","現場閉所累計",null,"計画","対象期間",{"$f":"IF(IF(MONTH($BL$5)=12,YEAR($BL$5)+1&\"01\",YEAR($BL$5)&TEXT(MONTH($BL$5)+1,\"00\"))>YEAR($CX246)&TEXT(MONTH($CX246),\"00\"),COUNTIF(CX250:EB250,\"\")+COUNTIF(CX250:EB250,\"○\"),\"\")","v":28},{"$f":"IF(COUNTIF(CX247:EB247,\"／\")=0,\"\",IF(COUNTIF(CX247:EB247,\"／\")=1,IF(EB250=\"／\",\"\",\"月末「／」漏れ\"),IF(COUNTIF(CX247:EB247,\"／\")=2,IF(AND(EA250=\"／\",EB250=\"／\"),\"\",\"月末「／」漏れ\"),IF(AND(DZ250=\"／\",EA250=\"／\",EB250=\"／\"),\"\",\"月末「／」漏れ\"))))","v":""}]
[{"$f":"IF($AT$246=\"\",\"\",\"対象期間\")","v":""},null,"日",{"$f":"D246","v":"2025-12-01"},{"$f":"D247+1","v":"2025-12-02"},{"$f":"E247+1","v":"2025-12-03"},{"$f":"F247+1","v":"2025-12-04"},{"$f":"G247+1","v":"2025-12-05"},{"$f":"H247+1","v":"2025-12-06"},{"$f":"I247+1","v":"2025-12-07"},{"$f":"J247+1","v":"2025-12-08"},{"$f":"K247+1","v":"2025-12-09"},{"$f":"L247+1","v":"2025-12-10"},{"$f":"M247+1","v":"2025-12-11"},{"$f":"N247+1","v":"2025-12-12"},{"$f":"O247+1","v":"2025-12-13"},{"$f":"P247+1","v":"2025-12-14"},{"$f":"Q247+1","v":"2025-12-15"},{"$f":"R247+1","v":"2025-12-16"},{"$f":"S247+1","v":"2025-12-17"},{"$f":"T247+1","v":"2025-12-18"},{"$f":"U247+1","v":"2025-12-19"},{"$f":"V247+1","v":"2025-12-20"},{"$f":"W247+1","v":"2025-12-21"},{"$f":"X247+1","v":"2025-12-22"},{"$f":"Y247+1","v":"2025-12-23"},{"$f":"Z247+1","v":"2025-12-24"},{"$f":"AA247+1","v":"2025-12-25"},{"$f":"AB247+1","v":"2025-12-26"},{"$f":"AC247+1","v":"2025-12-27"},{"$f":"AD247+1","v":"2025-12-28"},{"$f":"IF(AE247=\"／\",\"／\",IF(YEAR($D246)&TEXT(MONTH($D246),\"00\")<YEAR(AE247+1)&TEXT(MONTH(AE247+1),\"00\"),\"／\",AE247+1))","v":"2025-12-29"},{"$f":"IF(AF247=\"／\",\"／\",IF(YEAR($D246)&TEXT(MONTH($D246),\"00\")<YEAR(AF247+1)&TEXT(MONTH(AF247+1),\"00\"),\"／\",AF247+1))","v":"2025-12-30"},{"$f":"IF(AG247=\"／\",\"／\",IF(YEAR($D246)&TEXT(MONTH($D246),\"00\")<YEAR(AG247+1)&TEXT(MONTH(AG247+1),\"00\"),\"／\",AG247+1))","v":"2025-12-31"},{"$f":"AI246","v":"2026-01-01"},{"$f":"AI247+1","v":"2026-01-02"},{"$f":"AJ247+1","v":"2026-01-03"},{"$f":"AK247+1","v":"2026-01-04"},{"$f":"AL247+1","v":"2026-01-05"},{"$f":"AM247+1","v":"2026-01-06"},null,null,null,null,"閉所日数",{"$f":"IF(IF(MONTH(入力表!$E$6)=12,YEAR(入力表!$E$6)+1&\"01\",YEAR(入力表!$E$6)&TEXT(MONTH(入力表!$E$6)+1,\"00\"))>YEAR($D246)&TEXT(MONTH($D246),\"00\"),COUNTIF(D250:AH250,\"○\"),\"\")","v":""},{"$f":"IF(OR(MONTH(D246)=1,MONTH(D246)=8,MONTH(D246)=12),IF(COUNTIF(D250:AH250,\"／\")>=3,\"\",\"算定除外「／」漏れ\"),\"\")","v":"算定除外「／」漏れ"},null,null,null,null,null,"日",{"$f":"BB246","v":"2025-12-01"},{"$f":"BB247+1","v":"2025-12-02"},{"$f":"BC247+1","v":"2025-12-03"},{"$f":"BD247+1","v":"2025-12-04"},{"$f":"BE247+1","v":"2025-12-05"},{"$f":"BF247+1","v":"2025-12-06"},{"$f":"BG247+1","v":"2025-12-07"},{"$f":"BH247+1","v":"2025-12-08"},{"$f":"BI247+1","v":"2025-12-09"},{"$f":"BJ247+1","v":"2025-12-10"},{"$f":"BK247+1","v":"2025-12-11"},{"$f":"BL247+1","v":"2025-12-12"},{"$f":"BM247+1","v":"2025-12-13"},{"$f":"BN247+1","v":"2025-12-14"},{"$f":"BO247+1","v":"2025-12-15"},{"$f":"BP247+1","v":"2025-12-16"},{"$f":"BQ247+1","v":"2025-12-17"},{"$f":"BR247+1","v":"2025-12-18"},{"$f":"BS247+1","v":"2025-12-19"},{"$f":"BT247+1","v":"2025-12-20"},{"$f":"BU247+1","v":"2025-12-21"},{"$f":"BV247+1","v":"2025-12-22"},{"$f":"BW247+1","v":"2025-12-23"},{"$f":"BX247+1","v":"2025-12-24"},{"$f":"BY247+1","v":"2025-12-25"},{"$f":"BZ247+1","v":"2025-12-26"},{"$f":"CA247+1","v":"2025-12-27"},{"$f":"CB247+1","v":"2025-12-28"},{"$f":"IF(CC247=\"／\",\"／\",IF(YEAR(BB246)&TEXT(MONTH(BB246),\"00\")<YEAR(CC247+1)&TEXT(MONTH(CC247+1),\"00\"),\"／\",CC247+1))","v":"2025-12-29"},{"$f":"IF(CD247=\"／\",\"／\",IF(YEAR(BB246)&TEXT(MONTH(BB246),\"00\")<YEAR(CD247+1)&TEXT(MONTH(CD247+1),\"00\"),\"／\",CD247+1))","v":"2025-12-30"},{"$f":"IF(CE247=\"／\",\"／\",IF(YEAR(BB246)&TEXT(MONTH(BB246),\"00\")<YEAR(CE247+1)&TEXT(MONTH(CE247+1),\"00\"),\"／\",CE247+1))","v":"2025-12-31"},{"$f":"CG246","v":"2026-01-01"},{"$f":"CG247+1","v":"2026-01-02"},{"$f":"CH247+1","v":"2026-01-03"},{"$f":"CI247+1","v":"2026-01-04"},{"$f":"CJ247+1","v":"2026-01-05"},{"$f":"CK247+1","v":"2026-01-06"},null,null,null,null,"閉所日数",{"$f":"IF(IF(MONTH($BL$5)=12,YEAR($BL$5)+1&\"01\",YEAR($BL$5)&TEXT(MONTH($BL$5)+1,\"00\"))>YEAR(BB246)&TEXT(MONTH(BB246),\"00\"),COUNTIF(BB250:CF250,\"○\"),\"\")","v":8},{"$f":"IF(OR(MONTH(BB246)=1,MONTH(BB246)=8,MONTH(BB246)=12),IF(COUNTIF(BB250:CF250,\"／\")>=3,\"\",\"算定除外「／」漏れ\"),\"\")","v":""},null,null,null,"日",{"$f":"CX246","v":"2025-12-01"},{"$f":"CX247+1","v":"2025-12-02"},{"$f":"CY247+1","v":"2025-12-03"},{"$f":"CZ247+1","v":"2025-12-04"},{"$f":"DA247+1","v":"2025-12-05"},{"$f":"DB247+1","v":"2025-12-06"},{"$f":"DC247+1","v":"2025-12-07"},{"$f":"DD247+1","v":"2025-12-08"},{"$f":"DE247+1","v":"2025-12-09"},{"$f":"DF247+1","v":"2025-12-10"},{"$f":"DG247+1","v":"2025-12-11"},{"$f":"DH247+1","v":"2025-12-12"},{"$f":"DI247+1","v":"2025-12-13"},{"$f":"DJ247+1","v":"2025-12-14"},{"$f":"DK247+1","v":"2025-12-15"},{"$f":"DL247+1","v":"2025-12-16"},{"$f":"DM247+1","v":"2025-12-17"},{"$f":"DN247+1","v":"2025-12-18"},{"$f":"DO247+1","v":"2025-12-19"},{"$f":"DP247+1","v":"2025-12-20"},{"$f":"DQ247+1","v":"2025-12-21"},{"$f":"DR247+1","v":"2025-12-22"},{"$f":"DS247+1","v":"2025-12-23"},{"$f":"DT247+1","v":"2025-12-24"},{"$f":"DU247+1","v":"2025-12-25"},{"$f":"DV247+1","v":"2025-12-26"},{"$f":"DW247+1","v":"2025-12-27"},{"$f":"DX247+1","v":"2025-12-28"},{"$f":"IF(DY247=\"／\",\"／\",IF(YEAR(CX246)&TEXT(MONTH(CX246),\"00\")<YEAR(DY247+1)&TEXT(MONTH(DY247+1),\"00\"),\"／\",DY247+1))","v":"2025-12-29"},{"$f":"IF(DZ247=\"／\",\"／\",IF(YEAR(CX246)&TEXT(MONTH(CX246),\"00\")<YEAR(DZ247+1)&TEXT(MONTH(DZ247+1),\"00\"),\"／\",DZ247+1))","v":"2025-12-30"},{"$f":"IF(EA247=\"／\",\"／\",IF(YEAR(CX246)&TEXT(MONTH(CX246),\"00\")<YEAR(EA247+1)&TEXT(MONTH(EA247+1),\"00\"),\"／\",EA247+1))","v":"2025-12-31"},{"$f":"EC246","v":"2026-01-01"},{"$f":"EC247+1","v":"2026-01-02"},{"$f":"ED247+1","v":"2026-01-03"},{"$f":"EE247+1","v":"2026-01-04"},{"$f":"EF247+1","v":"2026-01-05"},{"$f":"EG247+1","v":"2026-01-06"},null,null,null,null,"閉所日数",{"$f":"IF(IF(MONTH($BL$5)=12,YEAR($BL$5)+1&\"01\",YEAR($BL$5)&TEXT(MONTH($BL$5)+1,\"00\"))>YEAR($CX246)&TEXT(MONTH($CX246),\"00\"),COUNTIF(CX250:EB250,\"○\"),\"\")","v":8},{"$f":"IF(OR(MONTH(CX246)=1,MONTH(CX246)=8,MONTH(CX246)=12),IF(COUNTIF(CX250:EB250,\"／\")>=3,\"\",\"算定除外「／」漏れ\"),\"\")","v":""}]
["",null,"曜日",{"$f":"TEXT(WEEKDAY(+D247),\"aaa\")","v":"月"},{"$f":"TEXT(WEEKDAY(+E247),\"aaa\")","v":"火"},"水","木","金",{"$f":"TEXT(WEEKDAY(+I247),\"aaa\")","v":"土"},{"$f":"TEXT(WEEKDAY(+J247),\"aaa\")","v":"日"},"月","火","水","木","金","土","日","月","火","水","木","金","土","日","月",{"$f":"TEXT(WEEKDAY(+Z247),\"aaa\")","v":"火"},{"$f":"TEXT(WEEKDAY(+AA247),\"aaa\")","v":"水"},"木","金","土","日",{"$f":"IF(AF247=\"／\",\"／\",TEXT(WEEKDAY(+AF247),\"aaa\"))","v":"月"},{"$f":"IF(AG247=\"／\",\"／\",TEXT(WEEKDAY(+AG247),\"aaa\"))","v":"火"},"水",{"$f":"TEXT(WEEKDAY(+AI247),\"aaa\")","v":"木"},{"$f":"TEXT(WEEKDAY(+AJ247),\"aaa\")","v":"金"},"土","日","月","火",null,null,null,null,"現場閉所率",{"$f":"IFERROR(+AT247/AT246,\"\")","v":""},{"$f":"IF(AT248=\"\",\"\",IF(COUNTIF(D250:AH250,\"○\")>=COUNTIF(D253:AH253,\"◎\"),\"4週8休以上\",IF(AT248>=0.285,\"4週8休以上\",\"週休2日未達成\")))","v":""},null,null,null,null,null,"曜日",{"$f":"TEXT(WEEKDAY(+BB247),\"aaa\")","v":"月"},{"$f":"TEXT(WEEKDAY(+BC247),\"aaa\")","v":"火"},"水","木","金",{"$f":"TEXT(WEEKDAY(+BG247),\"aaa\")","v":"土"},{"$f":"TEXT(WEEKDAY(+BH247),\"aaa\")","v":"日"},"月","火","水","木","金","土","日","月","火","水","木","金","土","日","月",{"$f":"TEXT(WEEKDAY(+BX247),\"aaa\")","v":"火"},{"$f":"TEXT(WEEKDAY(+BY247),\"aaa\")","v":"水"},"木","金","土","日",{"$f":"IF(CD247=\"／\",\"／\",TEXT(WEEKDAY(+CD247),\"aaa\"))","v":"月"},{"$f":"IF(CE247=\"／\",\"／\",TEXT(WEEKDAY(+CE247),\"aaa\"))","v":"火"},"水",{"$f":"TEXT(WEEKDAY(+CG247),\"aaa\")","v":"木"},{"$f":"TEXT(WEEKDAY(+CH247),\"aaa\")","v":"金"},"土","日","月","火",null,null,null,null,"現場閉所率",{"$f":"IFERROR(+CR247/CR246,\"\")","v":0.2857142857142857},{"$f":"IF(CR248=\"\",\"\",IF(COUNTIF(BB250:CF250,\"○\")>=COUNTIF(BB253:CF253,\"◎\"),\"4週8休以上\",IF(CR248>=0.285,\"4週8休以上\",\"週休2日未達成\")))","v":"4週8休以上"},null,null,null,"曜日",{"$f":"TEXT(WEEKDAY(+CX247),\"aaa\")","v":"月"},{"$f":"TEXT(WEEKDAY(+CY247),\"aaa\")","v":"火"},"水","木","金",{"$f":"TEXT(WEEKDAY(+DC247),\"aaa\")","v":"土"},{"$f":"TEXT(WEEKDAY(+DD247),\"aaa\")","v":"日"},"月","火","水","木","金","土","日","月","火","水","木","金","土","日","月",{"$f":"TEXT(WEEKDAY(+DT247),\"aaa\")","v":"火"},{"$f":"TEXT(WEEKDAY(+DU247),\"aaa\")","v":"水"},"木","金","土","日",{"$f":"IF(DZ247=\"／\",\"／\",TEXT(WEEKDAY(+DZ247),\"aaa\"))","v":"月"},{"$f":"IF(EA247=\"／\",\"／\",TEXT(WEEKDAY(+EA247),\"aaa\"))","v":"火"},"水",{"$f":"TEXT(WEEKDAY(+EC247),\"aaa\")","v":"木"},{"$f":"TEXT(WEEKDAY(+ED247),\"aaa\")","v":"金"},"土","日","月","火",null,null,null,null,"現場閉所率",{"$f":"IFERROR(+EN247/EN246,\"\")","v":0.2857142857142857},{"$f":"IF(EN248=\"\",\"\",IF(COUNTIF(CX250:EB250,\"○\")>=COUNTIF(CX253:EB253,\"◎\"),\"4週8休以上\",IF(EN248>=0.285,\"4週8休以上\",\"週休2日未達成\")))","v":"4週8休以上"}]
["",null,"行事",null,null,null,null,null,null,null,null,null,null,null,null,null,null,null,null,null,null,null,null,null,null,null,null,null,null,null,null,null,null,null,{"$f":"IF(D278=\"\",\"\",D278)","v":""},{"$f":"IF(E278=\"\",\"\",E278)","v":""},{"$f":"IF(F278=\"\",\"\",F278)","v":""},{"$f":"IF(G278=\"\",\"\",G278)","v":""},{"$f":"IF(H278=\"\",\"\",H278)","v":""},{"$f":"IF(I278=\"\",\"\",I278)","v":""},null,null,null,"実施","対象期間",{"$f":"IF(IF(MONTH(入力表!$E$6)=12,YEAR(入力表!$E$6)+1&\"01\",YEAR(入力表!$E$6)&TEXT(MONTH(入力表!$E$6)+1,\"00\"))>YEAR($D246)&TEXT(MONTH($D246),\"00\"),COUNTIF(D251:AH251,\"\")+COUNTIF(D251:AH251,\"●\"),\"\")","v":""},{"$f":"IF(COUNTIF(D247:AH247,\"／\")=0,\"\",IF(COUNTIF(D247:AH247,\"／\")=1,IF(AH251=\"／\",\"\",\"月末「／」漏れ\"),IF(COUNTIF(D247:AH247,\"／\")=2,IF(AND(AG251=\"／\",AH251=\"／\"),\"\",\"月末「／」漏れ\"),IF(AND(AF251=\"／\",AG251=\"／\",AH251=\"／\"),\"\",\"月末「／」漏れ\"))))","v":""},null,null,null,null,null,"行事",null,null,null,null,null,null,null,null,null,null,null,null,null,null,null,null,null,null,null,null,null,null,null,null,null,null,null,null,null,null,null,{"$f":"IF(BB278=\"\",\"\",BB278)","v":""},{"$f":"IF(BC278=\"\",\"\",BC278)","v":""},{"$f":"IF(BD278=\"\",\"\",BD278)","v":""},{"$f":"IF(BE278=\"\",\"\",BE278)","v":""},{"$f":"IF(BF278=\"\",\"\",BF278)","v":""},{"$f":"IF(BG278=\"\",\"\",BG278)","v":""},null,null,null,"実施","対象期間",{"$f":"IF(IF(MONTH($BL$5)=12,YEAR($BL$5)+1&\"01\",YEAR($BL$5)&TEXT(MONTH($BL$5)+1,\"00\"))>YEAR(BB246)&TEXT(MONTH(BB246),\"00\"),COUNTIF(BB251:CF251,\"\")+COUNTIF(BB251:CF251,\"●\"),\"\")","v":28},{"$f":"IF(COUNTIF(BB247:CF247,\"／\")=0,\"\",IF(COUNTIF(BB247:CF247,\"／\")=1,IF(CF251=\"／\",\"\",\"月末「／」漏れ\"),IF(COUNTIF(BB247:CF247,\"／\")=2,IF(AND(CE251=\"／\",CF251=\"／\"),\"\",\"月末「／」漏れ\"),IF(AND(CD251=\"／\",CE251=\"／\",CF251=\"／\"),\"\",\"月末「／」漏れ\"))))","v":""},null,null,null,"行事",null,null,null,null,null,null,null,null,null,null,null,null,null,null,null,null,null,null,null,null,null,null,null,null,null,null,null,null,null,null,null,{"$f":"IF(CX278=\"\",\"\",CX278)","v":""},{"$f":"IF(CY278=\"\",\"\",CY278)","v":""},{"$f":"IF(CZ278=\"\",\"\",CZ278)","v":""},{"$f":"IF(DA278=\"\",\"\",DA278)","v":""},{"$f":"IF(DB278=\"\",\"\",DB278)","v":""},{"$f":"IF(DC278=\"\",\"\",DC278)","v":""},null,null,null,"実施","対象期間",{"$f":"IF(IF(MONTH($BL$5)=12,YEAR($BL$5)+1&\"01\",YEAR($BL$5)&TEXT(MONTH($BL$5)+1,\"00\"))>YEAR($CX246)&TEXT(MONTH($CX246),\"00\"),COUNTIF(CX251:EB251,\"\")+COUNTIF(CX251:EB251,\"●\"),\"\")","v":28},{"$f":"IF(COUNTIF(CX247:EB247,\"／\")=0,\"\",IF(COUNTIF(CX247:EB247,\"／\")=1,IF(EB251=\"／\",\"\",\"月末「／」漏れ\"),IF(COUNTIF(CX247:EB247,\"／\")=2,IF(AND(EA251=\"／\",EB251=\"／\"),\"\",\"月末「／」漏れ\"),IF(AND(DZ251=\"／\",EA251=\"／\",EB251=\"／\"),\"\",\"月末「／」漏れ\"))))","v":""}]
["",null,"計画",null,null,null,null,null,null,null,null,null,null,null,null,null,null,null,null,null,null,null,null,null,null,null,null,null,null,null,null,null,null,null,{"$f":"IF(D279=\"\",\"\",D279)","v":""},{"$f":"IF(E279=\"\",\"\",E279)","v":""},{"$f":"IF(F279=\"\",\"\",F279)","v":""},{"$f":"IF(G279=\"\",\"\",G279)","v":""},{"$f":"IF(H279=\"\",\"\",H279)","v":""},{"$f":"IF(I279=\"\",\"\",I279)","v":""},{"$f":"COUNTIF(D250:AH250,\"○\")","v":0},{"$f":"+AO250+AP221","v":0},null,null,"閉所日数",{"$f":"IF(IF(MONTH(入力表!$E$6)=12,YEAR(入力表!$E$6)+1&\"01\",YEAR(入力表!$E$6)&TEXT(MONTH(入力表!$E$6)+1,\"00\"))>YEAR($D246)&TEXT(MONTH($D246),\"00\"),COUNTIF(D251:AH251,\"●\"),\"\")","v":""},{"$f":"IF(OR(MONTH(D246)=1,MONTH(D246)=8,MONTH(D246)=12),IF(COUNTIF(D251:AH251,\"／\")>=3,\"\",\"算定除外「／」漏れ\"),\"\")","v":"算定除外「／」漏れ"},null,null,null,null,null,"計画",null,null,null,null,null,"○","○",null,null,null,null,null,"○","○",null,null,null,null,null,"○","○",null,null,null,null,null,"○","○","／","／","／",{"$f":"IF(BB279=\"\",\"\",BB279)","v":"／"},"／","／","○","","",{"$f":"COUNTIF(BB250:CF250,\"○\")","v":8},{"$f":"+CM250+CN221","v":71},null,null,"閉所日数",{"$f":"IF(IF(MONTH($BL$5)=12,YEAR($BL$5)+1&\"01\",YEAR($BL$5)&TEXT(MONTH($BL$5)+1,\"00\"))>YEAR(BB246)&TEXT(MONTH(BB246),\"00\"),COUNTIF(BB251:CF251,\"●\"),\"\")","v":0},{"$f":"IF(OR(MONTH(BB246)=1,MONTH(BB246)=8,MONTH(BB246)=12),IF(COUNTIF(BB251:CF251,\"／\")>=3,\"\",\"算定除外「／」漏れ\"),\"\")","v":""},null,null,null,"計画",null,null,null,null,null,"○","○",null,null,null,null,null,"○","○",null,null,null,null,null,"○","○",null,null,null,null,null,"○","○","／","／","／",{"$f":"IF(CX279=\"\",\"\",CX279)","v":"／"},"／","／","○","","",{"$f":"COUNTIF(CX250:EB250,\"○\")","v":8},{"$f":"+EI250+EJ221","v":71},null,null,"閉所日数",{"$f":"IF(IF(MONTH($BL$5)=12,YEAR($BL$5)+1&\"01\",YEAR($BL$5)&TEXT(MONTH($BL$5)+1,\"00\"))>YEAR($CX246)&TEXT(MONTH($CX246),\"00\"),COUNTIF(CX251:EB251,\"●\"),\"\")","v":8},{"$f":"IF(OR(MONTH(CX246)=1,MONTH(CX246)=8,MONTH(CX246)=12),IF(COUNTIF(CX251:EB251,\"／\")>=3,\"\",\"算定除外「／」漏れ\"),\"\")","v":""}]
["",null,"実施",null,null,null,null,null,null,null,null,null,null,null,null,null,null,null,null,null,null,null,null,null,null,null,null,null,null,null,null,null,null,null,{"$f":"IF(D280=\"\",\"\",D280)","v":""},{"$f":"IF(E280=\"\",\"\",E280)","v":""},{"$f":"IF(F280=\"\",\"\",F280)","v":""},{"$f":"IF(G280=\"\",\"\",G280)","v":""},{"$f":"IF(H280=\"\",\"\",H280)","v":""},{"$f":"IF(I280=\"\",\"\",I280)","v":""},{"$f":"COUNTIF(D251:AH251,\"●\")","v":0},{"$f":"+AO251+AP222","v":0},null,null,"現場閉所率",{"$f":"IFERROR(+AT250/AT249,\"\")","v":""},{"$f":"IF(AT251=\"\",\"\",IF(COUNTIF(D251:AH251,\"●\")>=COUNTIF(D254:AH254,\"◎\"),\"4週8休以上\",IF(AT251>=0.285,\"4週8休以上\",\"週休2日未達成\")))","v":""},null,null,null,null,null,"実施",null,null,null,null,null,null,null,null,null,null,null,null,null,null,null,null,null,null,null,null,null,null,null,null,null,null,null,null,"／","／","／",{"$f":"IF(BB280=\"\",\"\",BB280)","v":"／"},{"$f":"IF(BC280=\"\",\"\",BC280)","v":"／"},{"$f":"IF(BD280=\"\",\"\",BD280)","v":"／"},{"$f":"IF(BE280=\"\",\"\",BE280)","v":""},{"$f":"IF(BF280=\"\",\"\",BF280)","v":""},{"$f":"IF(BG280=\"\",\"\",BG280)","v":""},{"$f":"COUNTIF(BB251:CF251,\"●\")","v":0},{"$f":"+CM251+CN222","v":0},null,null,"現場閉所率",{"$f":"IFERROR(+CR250/CR249,\"\")","v":0},{"$f":"IF(CR251=\"\",\"\",IF(COUNTIF(BB251:CF251,\"●\")>=COUNTIF(BB254:CF254,\"◎\"),\"4週8休以上\",IF(CR251>=0.285,\"4週8休以上\",\"週休2日未達成\")))","v":"週休2日未達成"},null,null,null,"実施",null,null,null,null,null,"●","●",null,null,null,null,null,"●","●",null,null,null,null,null,"●","●",null,null,null,null,null,"●","●","／","／","／",{"$f":"IF(CX280=\"\",\"\",CX280)","v":"／"},{"$f":"IF(CY280=\"\",\"\",CY280)","v":"／"},{"$f":"IF(CZ280=\"\",\"\",CZ280)","v":"／"},{"$f":"IF(DA280=\"\",\"\",DA280)","v":"●"},{"$f":"IF(DB280=\"\",\"\",DB280)","v":""},{"$f":"IF(DC280=\"\",\"\",DC280)","v":""},{"$f":"COUNTIF(CX251:EB251,\"●\")","v":8},{"$f":"+EI251+EJ222","v":70},null,null,"現場閉所率",{"$f":"IFERROR(+EN250/EN249,\"\")","v":0.2857142857142857},{"$f":"IF(EN251=\"\",\"\",IF(COUNTIF(CX251:EB251,\"●\")>=COUNTIF(CX254:EB254,\"◎\"),\"4週8休以上\",IF(EN251>=0.285,\"4週8休以上\",\"週休2日未達成\")))","v":"4週8休以上"}]
[null,null,null,1,2,3,4,5,6,7,8,9,10,11,12,13,14,15,16,17,18,19,20,21,22,23,24,25,26,27,28,29,30,31,32,33,34,35,36,37,null,null,null,null,{"$f":"AU251","v":""},null,null,null,null,null,null,null,null,1,2,3,4,5,6,7,8,9,10,11,12,13,14,15,16,17,18,19,20,21,22,23,24,25,26,27,28,29,30,31,32,33,34,35,36,37,null,null,null,null,{"$f":"CS251","v":"週休2日未達成"},null,null,null,null,null,null,1,2,3,4,5,6,7,8,9,10,11,12,13,14,15,16,17,18,19,20,21,22,23,24,25,26,27,28,29,30,31,32,33,34,35,36,37,null,null,null,null,{"$f":"EO251","v":"4週8休以上"}]
[null,null,"計画",{"$f":"IF(D250=\"／\",\"／\",IF(OR(D248=\"土\",D248=\"日\"),\"◎\",\"\"))","v":""},{"$f":"IF(E250=\"／\",\"／\",IF(OR(E248=\"土\",E248=\"日\"),\"◎\",\"\"))","v":""},"","","","◎","◎","","","","","","◎","◎","","","","","","◎","◎","","","","","",{"$f":"IF(AD250=\"／\",\"／\",IF(OR(AD248=\"土\",AD248=\"日\"),\"◎\",\"\"))","v":"◎"},{"$f":"IF(AE250=\"／\",\"／\",IF(OR(AE248=\"土\",AE248=\"日\"),\"◎\",\"\"))","v":"◎"},"","","","","","◎","◎","","",null,null,null,null,{"$f":"AT255","v":""},null,null,null,null,null,null,null,"計画",{"$f":"IF(BB250=\"／\",\"／\",IF(OR(BB248=\"土\",BB248=\"日\"),\"◎\",\"\"))","v":""},"","","","","◎","◎","","","","","",{"$f":"IF(BN250=\"／\",\"／\",IF(OR(BN248=\"土\",BN248=\"日\"),\"◎\",\"\"))","v":"◎"},{"$f":"IF(BO250=\"／\",\"／\",IF(OR(BO248=\"土\",BO248=\"日\"),\"◎\",\"\"))","v":"◎"},"","","","","","◎","◎","","","","","",{"$f":"IF(CB250=\"／\",\"／\",IF(OR(CB248=\"土\",CB248=\"日\"),\"◎\",\"\"))","v":"◎"},{"$f":"IF(CC250=\"／\",\"／\",IF(OR(CC248=\"土\",CC248=\"日\"),\"◎\",\"\"))","v":"◎"},"／","／","／","／","／","／","◎","","",null,null,null,null,{"$f":"CR255","v":"OUT"},null,null,null,null,null,"計画",{"$f":"IF(CX250=\"／\",\"／\",IF(OR(CX248=\"土\",CX248=\"日\"),\"◎\",\"\"))","v":""},"","","","","◎","◎","","","","","",{"$f":"IF(DJ250=\"／\",\"／\",IF(OR(DJ248=\"土\",DJ248=\"日\"),\"◎\",\"\"))","v":"◎"},{"$f":"IF(DK250=\"／\",\"／\",IF(OR(DK248=\"土\",DK248=\"日\"),\"◎\",\"\"))","v":"◎"},"","","","","","◎","◎","","","","","",{"$f":"IF(DX250=\"／\",\"／\",IF(OR(DX248=\"土\",DX248=\"日\"),\"◎\",\"\"))","v":"◎"},{"$f":"IF(DY250=\"／\",\"／\",IF(OR(DY248=\"土\",DY248=\"日\"),\"◎\",\"\"))","v":"◎"},"／","／","／","／","／","／","◎","","",null,null,null,null,{"$f":"EN255","v":"OK"}]
[null,null,"実施",{"$f":"IF(D251=\"／\",\"／\",IF(OR(D248=\"土\",D248=\"日\"),\"◎\",\"\"))","v":""},{"$f":"IF(E251=\"／\",\"／\",IF(OR(E248=\"土\",E248=\"日\"),\"◎\",\"\"))","v":""},"","","","◎","◎","","","","","","◎","◎","","","","","","◎","◎","","","","","","◎","◎","","","","","","◎","◎","","",null,null,null,null,null,null,null,null,null,null,null,null,"実施",{"$f":"IF(BB251=\"／\",\"／\",IF(OR(BB248=\"土\",BB248=\"日\"),\"◎\",\"\"))","v":""},{"$f":"IF(BC251=\"／\",\"／\",IF(OR(BC248=\"土\",BC248=\"日\"),\"◎\",\"\"))","v":""},"","","","◎","◎","","","","","","◎","◎","","","","","","◎","◎","","","","","","◎","◎","／","／","／","／","／","／","◎","","",null,null,null,null,null,null,null,null,null,null,"実施",{"$f":"IF(CX251=\"／\",\"／\",IF(OR(CX248=\"土\",CX248=\"日\"),\"◎\",\"\"))","v":""},{"$f":"IF(CY251=\"／\",\"／\",IF(OR(CY248=\"土\",CY248=\"日\"),\"◎\",\"\"))","v":""},"","","","◎","◎","","","","","","◎","◎","","","","","","◎","◎","","","","","","◎","◎","／","／","／","／","／","／","◎","",""]
["",null,"完全",{"$f":"IF(WEEKDAY(DATE(YEAR(D246),MONTH(D246),1),2)=1,DATE(YEAR(D246),MONTH(D246),1),EOMONTH(D246,-1)-MOD(WEEKDAY(EOMONTH(D246,-1),2)+6,7))","v":"2025-12-01"},"～",{"$f":"DATE(YEAR(D246),MONTH(D246),1)+MOD(7-WEEKDAY(DATE(YEAR(D246),MONTH(D246),1),2),7)","v":"2025-12-07"},{"$f":"IF(DAY(D255)=1,IF(COUNTIF(D251:J251,\"／\")>=1,\"対象外\",IF(COUNTIF(INDEX(D251:AN251,DAY(D255)):INDEX(D251:AN251,HLOOKUP(F255,D247:AN252,6,FALSE)),\"\")+COUNTIF(INDEX(D251:AN251,DAY(D255)):INDEX(D251:AN251,HLOOKUP(F255,D247:AN252,6,FALSE)),\"●\")=7,IF(COUNTIF(INDEX(D251:AN251,DAY(D255)):INDEX(D251:AN251,HLOOKUP(F255,D247:AN252,6,FALSE)),\"●\")>=2,\"OK\",\"OUT\"),IF(COUNTIF(INDEX(D251:AN251,DAY(D255)):INDEX(D251:AN251,HLOOKUP(F255,D247:AN252,6,FALSE)),\"●\")>=COUNTIF(INDEX(D254:AN254,DAY(D255)):INDEX(D254:AN254,HLOOKUP(F255,D247:AN252,6,FALSE)),\"○\"),\"OK\",\"OUT\"))),IF(AND(AK226=\"\",AE226=\"\"),Y226,IF(AK226=\"\",AE226,AK226)))","v":"OUT"},null,null,{"$f":"F255+1","v":"2025-12-08"},"～",{"$f":"F255+7","v":"2025-12-14"},{"$f":"IF(COUNTIF(INDEX(D251:AN251,DAY(J255)):INDEX(D251:AN251,HLOOKUP(L255,D247:AN252,6,FALSE)),\"\")+COUNTIF(INDEX(D251:AN251,DAY(J255)):INDEX(D251:AN251,HLOOKUP(L255,D247:AN252,6,FALSE)),\"●\")=7,IF(COUNTIF(INDEX(D251:AN251,DAY(J255)):INDEX(D251:AN251,HLOOKUP(L255,D247:AN252,6,FALSE)),\"●\")>=2,\"OK\",\"OUT\"),\"対象外\")","v":"OUT"},null,null,{"$f":"L255+1","v":"2025-12-15"},"～",{"$f":"L255+7","v":"2025-12-21"},{"$f":"IF(COUNTIF(INDEX(D251:AN251,DAY(P255)):INDEX(D251:AN251,HLOOKUP(R255,D247:AN252,6,FALSE)),\"\")+COUNTIF(INDEX(D251:AN251,DAY(P255)):INDEX(D251:AN251,HLOOKUP(R255,D247:AN252,6,FALSE)),\"●\")=7,IF(COUNTIF(INDEX(D251:AN251,DAY(P255)):INDEX(D251:AN251,HLOOKUP(R255,D247:AN252,6,FALSE)),\"●\")>=2,\"OK\",\"OUT\"),\"対象外\")","v":"OUT"},null,null,{"$f":"R255+1","v":"2025-12-22"},"～",{"$f":"R255+7","v":"2025-12-28"},{"$f":"IF(COUNTIF(INDEX(D251:AN251,DAY(V255)):INDEX(D251:AN251,HLOOKUP(X255,D247:AN252,6,FALSE)),\"\")+COUNTIF(INDEX(D251:AN251,DAY(V255)):INDEX(D251:AN251,HLOOKUP(X255,D247:AN252,6,FALSE)),\"●\")=7,IF(COUNTIF(INDEX(D251:AN251,DAY(V255)):INDEX(D251:AN251,HLOOKUP(X255,D247:AN252,6,FALSE)),\"●\")>=2,\"OK\",\"OUT\"),\"対象外\")","v":"OUT"},null,null,{"$f":"IF(AND(DAY(X255+7)<23,DAY(X255+7)>=7),\"\",X255+1)","v":"2025-12-29"},{"$f":"IF(AND(DAY(X255+7)<23,DAY(X255+7)>=7),\"\",\"～\")","v":"～"},{"$f":"IF(AND(DAY(X255+7)<23,DAY(X255+7)>=7),\"\",X255+7)","v":"2026-01-04"},{"$f":"IF(AND(DAY(X255+7)<23,DAY(X255+7)>=7),\"\",IF(COUNTIF(INDEX(D251:AN251,DAY(AB255)):INDEX(D251:AN251,HLOOKUP(AD255,D247:AN252,6,FALSE)),\"\")+COUNTIF(INDEX(D251:AN251,DAY(AB255)):INDEX(D251:AN251,HLOOKUP(AD255,D247:AN252,6,FALSE)),\"●\")=7,IF(COUNTIF(INDEX(D251:AN251,DAY(AB255)):INDEX(D251:AN251,HLOOKUP(AD255,D247:AN252,6,FALSE)),\"●\")>=2,\"OK\",\"OUT\"),IF(COUNTIF(INDEX(D251:AN251,DAY(AB255)):INDEX(D251:AN251,HLOOKUP(AD255,D247:AN252,6,FALSE)),\"\")+COUNTIF(INDEX(D251:AN251,DAY(AB255)):INDEX(D251:AN251,HLOOKUP(AD255,D247:AN252,6,FALSE)),\"●\")>7,\"「／」漏れ\",\"対象外\")))","v":"OUT"},null,null,{"$f":"IF(AE255=\"\",\"\",IF(AND(DAY(AD255+7)<23,DAY(AD255+7)>=7),\"\",AD255+1))","v":""},{"$f":"IF(AE255=\"\",\"\",IF(AND(DAY(AD255+7)<23,DAY(AD255+7)>=7),\"\",\"～\"))","v":""},{"$f":"IF(AE255=\"\",\"\",IF(AND(DAY(AD255+7)<23,DAY(AD255+7)>=7),\"\",AD255+7))","v":""},{"$f":"IF(AE255=\"\",\"\",IF(AND(DAY(AD255+7)<23,DAY(AD255+7)>=7),\"\",IF(COUNTIF(INDEX(D251:AN251,DAY(AH255)):INDEX(D251:AN251,HLOOKUP(AJ255,D247:AN252,6,FALSE)),\"\")+COUNTIF(INDEX(D251:AN251,DAY(AH255)):INDEX(D251:AN251,HLOOKUP(AJ255,D247:AN252,6,FALSE)),\"●\")=7,IF(COUNTIF(INDEX(D251:AN251,DAY(AH255)):INDEX(D251:AN251,HLOOKUP(AJ255,D247:AN252,6,FALSE)),\"●\")>=2,\"OK\",\"OUT\"),IF(COUNTIF(INDEX(D251:AN251,HLOOKUP(AH255,D247:AN252,6,FALSE)):INDEX(D251:AN251,HLOOKUP(AJ255,D247:AN252,6,FALSE)),\"\")+COUNTIF(INDEX(D251:AN251,HLOOKUP(AH255,D247:AN252,6,FALSE)):INDEX(D251:AN251,HLOOKUP(AJ255,D247:AN252,6,FALSE)),\"●\")>7,\"「／」漏れ\",\"対象外\"))))","v":""},null,null,null,null,null,null,null,"完全週休二日",{"$f":"IF(AT246=\"\",\"\",IF(COUNTIF(D255:AN255,\"OUT\")>=1,\"OUT\",\"OK\"))","v":""},null,null,null,null,null,null,"完全",{"$f":"IF(WEEKDAY(DATE(YEAR(BB246),MONTH(BB246),1),2)=1,DATE(YEAR(BB246),MONTH(BB246),1),EOMONTH(BB246,-1)-MOD(WEEKDAY(EOMONTH(BB246,-1),2)+6,7))","v":"2025-12-01"},"～",{"$f":"DATE(YEAR(BB246),MONTH(BB246),1)+MOD(7-WEEKDAY(DATE(YEAR(BB246),MONTH(BB246),1),2),7)","v":"2025-12-07"},{"$f":"IF(DAY(BB255)=1,IF(COUNTIF(BB251:BH251,\"／\")>=1,\"対象外\",IF(COUNTIF(INDEX(BB251:CL251,DAY(BB255)):INDEX(BB251:CL251,HLOOKUP(BD255,BB247:CL252,6,FALSE)),\"\")+COUNTIF(INDEX(BB251:CL251,DAY(BB255)):INDEX(BB251:CL251,HLOOKUP(BD255,BB247:CL252,6,FALSE)),\"●\")=7,IF(COUNTIF(INDEX(BB251:CL251,DAY(BB255)):INDEX(BB251:CL251,HLOOKUP(BD255,BB247:CL252,6,FALSE)),\"●\")>=2,\"OK\",\"OUT\"),IF(COUNTIF(INDEX(BB251:CL251,DAY(BB255)):INDEX(BB251:CL251,HLOOKUP(BD255,BB247:CL252,6,FALSE)),\"●\")>=COUNTIF(INDEX(BB254:CL254,DAY(BB255)):INDEX(BB254:CL254,HLOOKUP(BD255,BB247:CL252,6,FALSE)),\"○\"),\"OK\",\"OUT\"))),IF(AND(CI226=\"\",CC226=\"\"),BW226,IF(CI226=\"\",CC226,CI226)))","v":"OUT"},null,null,{"$f":"BD255+1","v":"2025-12-08"},"～",{"$f":"BD255+7","v":"2025-12-14"},{"$f":"IF(COUNTIF(INDEX(BB251:CL251,DAY(BH255)):INDEX(BB251:CL251,HLOOKUP(BJ255,BB247:CL252,6,FALSE)),\"\")+COUNTIF(INDEX(BB251:CL251,DAY(BH255)):INDEX(BB251:CL251,HLOOKUP(BJ255,BB247:CL252,6,FALSE)),\"●\")=7,IF(COUNTIF(INDEX(BB251:CL251,DAY(BH255)):INDEX(BB251:CL251,HLOOKUP(BJ255,BB247:CL252,6,FALSE)),\"●\")>=2,\"OK\",\"OUT\"),\"対象外\")","v":"OUT"},null,null,{"$f":"BJ255+1","v":"2025-12-15"},"～",{"$f":"BJ255+7","v":"2025-12-21"},{"$f":"IF(COUNTIF(INDEX(BB251:CL251,DAY(BN255)):INDEX(BB251:CL251,HLOOKUP(BP255,BB247:CL252,6,FALSE)),\"\")+COUNTIF(INDEX(BB251:CL251,DAY(BN255)):INDEX(BB251:CL251,HLOOKUP(BP255,BB247:CL252,6,FALSE)),\"●\")=7,IF(COUNTIF(INDEX(BB251:CL251,DAY(BN255)):INDEX(BB251:CL251,HLOOKUP(BP255,BB247:CL252,6,FALSE)),\"●\")>=2,\"OK\",\"OUT\"),\"対象外\")","v":"OUT"},null,null,{"$f":"BP255+1","v":"2025-12-22"},"～",{"$f":"BP255+7","v":"2025-12-28"},{"$f":"IF(COUNTIF(INDEX(BB251:CL251,DAY(BT255)):INDEX(BB251:CL251,HLOOKUP(BV255,BB247:CL252,6,FALSE)),\"\")+COUNTIF(INDEX(BB251:CL251,DAY(BT255)):INDEX(BB251:CL251,HLOOKUP(BV255,BB247:CL252,6,FALSE)),\"●\")=7,IF(COUNTIF(INDEX(BB251:CL251,DAY(BT255)):INDEX(BB251:CL251,HLOOKUP(BV255,BB247:CL252,6,FALSE)),\"●\")>=2,\"OK\",\"OUT\"),\"対象外\")","v":"OUT"},null,null,{"$f":"IF(AND(DAY(BV255+7)<23,DAY(BV255+7)>=7),\"\",BV255+1)","v":"2025-12-29"},{"$f":"IF(AND(DAY(BV255+7)<23,DAY(BV255+7)>=7),\"\",\"～\")","v":"～"},{"$f":"IF(AND(DAY(BV255+7)<23,DAY(BV255+7)>=7),\"\",BV255+7)","v":"2026-01-04"},{"$f":"IF(AND(DAY(BV255+7)<23,DAY(BV255+7)>=7),\"\",IF(COUNTIF(INDEX(BB251:CL251,DAY(BZ255)):INDEX(BB251:CL251,HLOOKUP(CB255,BB247:CL252,6,FALSE)),\"\")+COUNTIF(INDEX(BB251:CL251,DAY(BZ255)):INDEX(BB251:CL251,HLOOKUP(CB255,BB247:CL252,6,FALSE)),\"●\")=7,IF(COUNTIF(INDEX(BB251:CL251,DAY(BZ255)):INDEX(BB251:CL251,HLOOKUP(CB255,BB247:CL252,6,FALSE)),\"●\")>=2,\"OK\",\"OUT\"),IF(COUNTIF(INDEX(BB251:CL251,DAY(BZ255)):INDEX(BB251:CL251,HLOOKUP(CB255,BB247:CL252,6,FALSE)),\"\")+COUNTIF(INDEX(BB251:CL251,DAY(BZ255)):INDEX(BB251:CL251,HLOOKUP(CB255,BB247:CL252,6,FALSE)),\"●\")>7,\"「／」漏れ\",\"対象外\")))","v":"対象外"},null,null,{"$f":"IF(CC255=\"\",\"\",IF(AND(DAY(CB255+7)<23,DAY(CB255+7)>=7),\"\",CB255+1))","v":""},{"$f":"IF(CC255=\"\",\"\",IF(AND(DAY(CB255+7)<23,DAY(CB255+7)>=7),\"\",\"～\"))","v":""},{"$f":"IF(CC255=\"\",\"\",IF(AND(DAY(CB255+7)<23,DAY(CB255+7)>=7),\"\",CB255+7))","v":""},{"$f":"IF(CC255=\"\",\"\",IF(AND(DAY(CB255+7)<23,DAY(CB255+7)>=7),\"\",IF(COUNTIF(INDEX(BB251:CL251,DAY(CF255)):INDEX(BB251:CL251,HLOOKUP(CH255,BB247:CL252,6,FALSE)),\"\")+COUNTIF(INDEX(BB251:CL251,DAY(CF255)):INDEX(BB251:CL251,HLOOKUP(CH255,BB247:CL252,6,FALSE)),\"●\")=7,IF(COUNTIF(INDEX(BB251:CL251,DAY(CF255)):INDEX(BB251:CL251,HLOOKUP(CH255,BB247:CL252,6,FALSE)),\"●\")>=2,\"OK\",\"OUT\"),IF(COUNTIF(INDEX(BB251:CL251,HLOOKUP(CF255,BB247:CL252,6,FALSE)):INDEX(BB251:CL251,HLOOKUP(CH255,BB247:CL252,6,FALSE)),\"\")+COUNTIF(INDEX(BB251:CL251,HLOOKUP(CF255,BB247:CL252,6,FALSE)):INDEX(BB251:CL251,HLOOKUP(CH255,BB247:CL252,6,FALSE)),\"●\")>7,\"「／」漏れ\",\"対象外\"))))","v":""},null,null,null,null,null,null,null,"完全週休二日",{"$f":"IF(CR246=\"\",\"\",IF(COUNTIF(BB255:CL255,\"OUT\")>=1,\"OUT\",\"OK\"))","v":"OUT"},null,null,null,null,"完全",{"$f":"IF(WEEKDAY(DATE(YEAR(CX246),MONTH(CX246),1),2)=1,DATE(YEAR(CX246),MONTH(CX246),1),EOMONTH(CX246,-1)-MOD(WEEKDAY(EOMONTH(CX246,-1),2)+6,7))","v":"2025-12-01"},"～",{"$f":"DATE(YEAR(CX246),MONTH(CX246),1)+MOD(7-WEEKDAY(DATE(YEAR(CX246),MONTH(CX246),1),2),7)","v":"2025-12-07"},{"$f":"IF(DAY(CX255)=1,IF(COUNTIF(CX251:DD251,\"／\")>=1,\"対象外\",IF(COUNTIF(INDEX(CX251:EH251,DAY(CX255)):INDEX(CX251:EH251,HLOOKUP(CZ255,CX247:EH252,6,FALSE)),\"\")+COUNTIF(INDEX(CX251:EH251,DAY(CX255)):INDEX(CX251:EH251,HLOOKUP(CZ255,CX247:EH252,6,FALSE)),\"●\")=7,IF(COUNTIF(INDEX(CX251:EH251,DAY(CX255)):INDEX(CX251:EH251,HLOOKUP(CZ255,CX247:EH252,6,FALSE)),\"●\")>=2,\"OK\",\"OUT\"),IF(COUNTIF(INDEX(CX251:EH251,DAY(CX255)):INDEX(CX251:EH251,HLOOKUP(CZ255,CX247:EH252,6,FALSE)),\"●\")>=COUNTIF(INDEX(CX254:EH254,DAY(CX255)):INDEX(CX254:EH254,HLOOKUP(CZ255,CX247:EH252,6,FALSE)),\"○\"),\"OK\",\"OUT\"))),IF(AND(EE226=\"\",DY226=\"\"),DS226,IF(EE226=\"\",DY226,EE226)))","v":"OK"},null,null,{"$f":"CZ255+1","v":"2025-12-08"},"～",{"$f":"CZ255+7","v":"2025-12-14"},{"$f":"IF(COUNTIF(INDEX(CX251:EH251,DAY(DD255)):INDEX(CX251:EH251,HLOOKUP(DF255,CX247:EH252,6,FALSE)),\"\")+COUNTIF(INDEX(CX251:EH251,DAY(DD255)):INDEX(CX251:EH251,HLOOKUP(DF255,CX247:EH252,6,FALSE)),\"●\")=7,IF(COUNTIF(INDEX(CX251:EH251,DAY(DD255)):INDEX(CX251:EH251,HLOOKUP(DF255,CX247:EH252,6,FALSE)),\"●\")>=2,\"OK\",\"OUT\"),\"対象外\")","v":"OK"},null,null,{"$f":"DF255+1","v":"2025-12-15"},"～",{"$f":"DF255+7","v":"2025-12-21"},{"$f":"IF(COUNTIF(INDEX(CX251:EH251,DAY(DJ255)):INDEX(CX251:EH251,HLOOKUP(DL255,CX247:EH252,6,FALSE)),\"\")+COUNTIF(INDEX(CX251:EH251,DAY(DJ255)):INDEX(CX251:EH251,HLOOKUP(DL255,CX247:EH252,6,FALSE)),\"●\")=7,IF(COUNTIF(INDEX(CX251:EH251,DAY(DJ255)):INDEX(CX251:EH251,HLOOKUP(DL255,CX247:EH252,6,FALSE)),\"●\")>=2,\"OK\",\"OUT\"),\"対象外\")","v":"OK"},null,null,{"$f":"DL255+1","v":"2025-12-22"},"～",{"$f":"DL255+7","v":"2025-12-28"},{"$f":"IF(COUNTIF(INDEX(CX251:EH251,DAY(DP255)):INDEX(CX251:EH251,HLOOKUP(DR255,CX247:EH252,6,FALSE)),\"\")+COUNTIF(INDEX(CX251:EH251,DAY(DP255)):INDEX(CX251:EH251,HLOOKUP(DR255,CX247:EH252,6,FALSE)),\"●\")=7,IF(COUNTIF(INDEX(CX251:EH251,DAY(DP255)):INDEX(CX251:EH251,HLOOKUP(DR255,CX247:EH252,6,FALSE)),\"●\")>=2,\"OK\",\"OUT\"),\"対象外\")","v":"OK"},null,null,{"$f":"IF(AND(DAY(DR255+7)<23,DAY(DR255+7)>=7),\"\",DR255+1)","v":"2025-12-29"},{"$f":"IF(AND(DAY(DR255+7)<23,DAY(DR255+7)>=7),\"\",\"～\")","v":"～"},{"$f":"IF(AND(DAY(DR255+7)<23,DAY(DR255+7)>=7),\"\",DR255+7)","v":"2026-01-04"},{"$f":"IF(AND(DAY(DR255+7)<23,DAY(DR255+7)>=7),\"\",IF(COUNTIF(INDEX(CX251:EH251,DAY(DV255)):INDEX(CX251:EH251,HLOOKUP(DX255,CX247:EH252,6,FALSE)),\"\")+COUNTIF(INDEX(CX251:EH251,DAY(DV255)):INDEX(CX251:EH251,HLOOKUP(DX255,CX247:EH252,6,FALSE)),\"●\")=7,IF(COUNTIF(INDEX(CX251:EH251,DAY(DV255)):INDEX(CX251:EH251,HLOOKUP(DX255,CX247:EH252,6,FALSE)),\"●\")>=2,\"OK\",\"OUT\"),IF(COUNTIF(INDEX(CX251:EH251,DAY(DV255)):INDEX(CX251:EH251,HLOOKUP(DX255,CX247:EH252,6,FALSE)),\"\")+COUNTIF(INDEX(CX251:EH251,DAY(DV255)):INDEX(CX251:EH251,HLOOKUP(DX255,CX247:EH252,6,FALSE)),\"●\")>7,\"「／」漏れ\",\"対象外\")))","v":"対象外"},null,null,{"$f":"IF(DY255=\"\",\"\",IF(AND(DAY(DX255+7)<23,DAY(DX255+7)>=7),\"\",DX255+1))","v":""},{"$f":"IF(DY255=\"\",\"\",IF(AND(DAY(DX255+7)<23,DAY(DX255+7)>=7),\"\",\"～\"))","v":""},{"$f":"IF(DY255=\"\",\"\",IF(AND(DAY(DX255+7)<23,DAY(DX255+7)>=7),\"\",DX255+7))","v":""},{"$f":"IF(DY255=\"\",\"\",IF(AND(DAY(DX255+7)<23,DAY(DX255+7)>=7),\"\",IF(COUNTIF(INDEX(CX251:EH251,DAY(EB255)):INDEX(CX251:EH251,HLOOKUP(ED255,CX247:EH252,6,FALSE)),\"\")+COUNTIF(INDEX(CX251:EH251,DAY(EB255)):INDEX(CX251:EH251,HLOOKUP(ED255,CX247:EH252,6,FALSE)),\"●\")=7,IF(COUNTIF(INDEX(CX251:EH251,DAY(EB255)):INDEX(CX251:EH251,HLOOKUP(ED255,CX247:EH252,6,FALSE)),\"●\")>=2,\"OK\",\"OUT\"),IF(COUNTIF(INDEX(CX251:EH251,HLOOKUP(EB255,CX247:EH252,6,FALSE)):INDEX(CX251:EH251,HLOOKUP(ED255,CX247:EH252,6,FALSE)),\"\")+COUNTIF(INDEX(CX251:EH251,HLOOKUP(EB255,CX247:EH252,6,FALSE)):INDEX(CX251:EH251,HLOOKUP(ED255,CX247:EH252,6,FALSE)),\"●\")>7,\"「／」漏れ\",\"対象外\"))))","v":""},null,null,null,null,null,null,null,"完全週休二日",{"$f":"IF(EN246=\"\",\"\",IF(COUNTIF(CX255:EH255,\"OUT\")>=1,\"OUT\",\"OK\"))","v":"OK"}]
[""]
[{"$f":"IF(AND(NOT($AT$246=\"\"),$AT$275=\"\"),\"対象期間\",\"\")","v":""}]
[{"$f":"IF(AND(NOT($AT$246=\"\"),$AT$275=\"\"),\"対象期間\",\"\")","v":""},null,"※１工事着手日：始期日以降に準備工事（現場事務所の建設・測量等）、工場製作を含む工事における工場製作工に着手した日",null,null,null,null,null,null,null,null,null,null,null,null,null,null,null,null,null,null,null,null,null,null,null,null,null,null,null,null,null,null,null,null,null,null,null,null,null,null,null,null,"工事全体の確認",null,null,null,null,null,null,null,null,"※１工事着手日：始期日以降に準備工事（現場事務所の建設・測量等）、工場製作を含む工事における工場製作工に着手した日",null,null,null,null,null,null,null,null,null,null,null,null,null,null,null,null,null,null,null,null,null,null,null,null,null,null,null,null,null,null,null,null,null,null,null,null,null,null,null,null,"工事全体の確認",null,null,null,null,null,null,"※１工事着手日：始期日以降に準備工事（現場事務所の建設・測量等）、工場製作を含む工事における工場製作工に着手した日",null,null,null,null,null,null,null,null,null,null,null,null,null,null,null,null,null,null,null,null,null,null,null,null,null,null,null,null,null,null,null,null,null,null,null,null,null,null,null,null,"工事全体の確認"]
["",null,"※２作業完了日：工事施工範囲内で全ての作業（後片付けを含む）が完了した日\n　　　　　　　　　  （工事現場事務所は工事施工範囲外に設置するため、ここでいう後片付けの対象に含まない）",null,null,null,null,null,null,null,null,null,null,null,null,null,null,null,null,null,null,null,null,null,null,null,null,null,null,null,null,null,null,null,null,null,null,null,null,null,null,null,null,"計画","全対象期間",{"$f":"IFERROR(AT230+AT246,\"\")","v":""},null,null,null,null,null,null,"※２作業完了日：工事施工範囲内で全ての作業（後片付けを含む）が完了した日\n　　　　　　　　　  （工事現場事務所は工事施工範囲外に設置するため、ここでいう後片付けの対象に含まない）",null,null,null,null,null,null,null,null,null,null,null,null,null,null,null,null,null,null,null,null,null,null,null,null,null,null,null,null,null,null,null,null,null,null,null,null,null,null,null,null,"計画","全対象期間",{"$f":"IFERROR(CR230+CR246,\"\")","v":""},null,null,null,null,"※２作業完了日：工事施工範囲内で全ての作業（後片付けを含む）が完了した日\n　　　　　　　　　  （工事現場事務所は工事施工範囲外に設置するため、ここでいう後片付けの対象に含まない）",null,null,null,null,null,null,null,null,null,null,null,null,null,null,null,null,null,null,null,null,null,null,null,null,null,null,null,null,null,null,null,null,null,null,null,null,null,null,null,null,"計画","全対象期間",{"$f":"IFERROR(EN230+EN246,\"\")","v":228}]
["",null,null,null,null,null,null,null,null,null,null,null,null,null,null,null,null,null,null,null,null,null,null,null,null,null,null,null,null,null,null,null,null,null,null,null,null,null,null,null,null,null,null,null,"全現場閉所日数",{"$f":"IFERROR(AT231+AT247,\"\")","v":""},null,null,null,null,null,null,null,null,null,null,null,null,null,null,null,null,null,null,null,null,null,null,null,null,null,null,null,null,null,null,null,null,null,null,null,null,null,null,null,null,null,null,null,null,null,null,null,null,"全現場閉所日数",{"$f":"IFERROR(CR231+CR247,\"\")","v":""},null,null,null,null,null,null,null,null,null,null,null,null,null,null,null,null,null,null,null,null,null,null,null,null,null,null,null,null,null,null,null,null,null,null,null,null,null,null,null,null,null,null,null,null,null,null,"全現場閉所日数",{"$f":"IFERROR(EN231+EN247,\"\")","v":72}]
["",null,"【算定除外期間】：夏季休暇（8月13日～8月15日）、年末年始（12月29日～翌年1月3日）は算定期間の分母・分子に含めない",null,null,null,null,null,null,null,null,null,null,null,null,null,null,null,null,null,null,null,null,null,null,null,null,null,null,null,null,null,null,null,null,null,null,null,null,null,null,null,null,null,"現場閉所率",{"$f":"IFERROR(+AT260/AT259,\"\")","v":""},{"$f":"IF(AT261>=0.285,\"4週8休以上\",\"週休2日未達成\")","v":"4週8休以上"},null,null,null,null,null,"【算定除外期間】：夏季休暇（8月13日～8月15日）、年末年始（12月29日～翌年1月3日）は算定期間の分母・分子に含めない",null,null,null,null,null,null,null,null,null,null,null,null,null,null,null,null,null,null,null,null,null,null,null,null,null,null,null,null,null,null,null,null,null,null,null,null,null,null,null,null,null,"現場閉所率",{"$f":"IFERROR(+CR260/CR259,\"\")","v":""},{"$f":"IF(CR261>=0.285,\"4週8休以上\",\"週休2日未達成\")","v":"4週8休以上"},null,null,null,"【算定除外期間】：夏季休暇（8月13日～8月15日）、年末年始（12月29日～翌年1月3日）は算定期間の分母・分子に含めない",null,null,null,null,null,null,null,null,null,null,null,null,null,null,null,null,null,null,null,null,null,null,null,null,null,null,null,null,null,null,null,null,null,null,null,null,null,null,null,null,null,"現場閉所率",{"$f":"IFERROR(+EN260/EN259,\"\")","v":0.31578947368421051},{"$f":"IF(EN261>=0.285,\"4週8休以上\",\"週休2日未達成\")","v":"4週8休以上"}]
["",null,"※３工事期間の全ての月において、達成状況を確認し、一度でも達成できない月があれば、４週８休以上（月単位）は「未達成」となり、補正の対象とならない。\n　　月によっては、土日を全て閉所しても現場閉所率が28.5％に満たない場合があるが、その月の対象期間の土日日数以上閉所していれば達成とみなす。\n\n※４工事対象期間のうち、一度でも完全週休２日（月～日で２日以上の現場閉所）を達成できなければ、\n　　 完全週休２日は「未達成」となり、補正の対象とならない。\n　　 なお、工期始期・終期、年末年始、夏季休暇などにより、７日間に満たない期間は完全週休２日の達成判断の対象外とする。",null,null,null,null,null,null,null,null,null,null,null,null,null,null,null,null,null,null,null,null,null,null,null,null,null,null,null,null,null,null,null,null,null,null,null,null,null,null,null,null,"実施","全対象期間",{"$f":"IFERROR(AT233+AT249,\"\")","v":""},null,null,null,null,null,null,"※３工事期間の全ての月において、達成状況を確認し、一度でも達成できない月があれば、４週８休以上（月単位）は「未達成」となり、補正の対象とならない。\n　　月によっては、土日を全て閉所しても現場閉所率が28.5％に満たない場合があるが、その月の対象期間の土日日数以上閉所していれば達成とみなす。\n\n※４工事対象期間のうち、一度でも完全週休２日（月～日で２日以上の現場閉所）を達成できなければ、\n　　 完全週休２日は「未達成」となり、補正の対象とならない。\n　　 なお、工期始期・終期、年末年始、夏季休暇などにより、７日間に満たない期間は完全週休２日の達成判断の対象外とする。",null,null,null,null,null,null,null,null,null,null,null,null,null,null,null,null,null,null,null,null,null,null,null,null,null,null,null,null,null,null,null,null,null,null,null,null,null,null,null,null,"実施","全対象期間",{"$f":"IFERROR(CR233+CR249,\"\")","v":""},null,null,null,null,"※３工事期間の全ての月において、達成状況を確認し、一度でも達成できない月があれば、４週８休以上（月単位）は「未達成」となり、補正の対象とならない。\n　　月によっては、土日を全て閉所しても現場閉所率が28.5％に満たない場合があるが、その月の対象期間の土日日数以上閉所していれば達成とみなす。\n\n※４工事対象期間のうち、一度でも完全週休２日（月～日で２日以上の現場閉所）を達成できなければ、\n　　 完全週休２日は「未達成」となり、補正の対象とならない。\n　　 なお、工期始期・終期、年末年始、夏季休暇などにより、７日間に満たない期間は完全週休２日の達成判断の対象外とする。",null,null,null,null,null,null,null,null,null,null,null,null,null,null,null,null,null,null,null,null,null,null,null,null,null,null,null,null,null,null,null,null,null,null,null,null,null,null,null,null,"実施","全対象期間",{"$f":"IFERROR(EN233+EN249,\"\")","v":228}]
["",null,null,null,null,null,null,null,null,null,null,null,null,null,null,null,null,null,null,null,null,null,null,null,null,null,null,null,null,null,null,null,null,null,null,null,null,null,null,null,null,null,null,null,"全現場閉所日数",{"$f":"IFERROR(AT234+AT250,\"\")","v":""},null,null,null,null,null,null,null,null,null,null,null,null,null,null,null,null,null,null,null,null,null,null,null,null,null,null,null,null,null,null,null,null,null,null,null,null,null,null,null,null,null,null,null,null,null,null,null,null,"全現場閉所日数",{"$f":"IFERROR(CR234+CR250,\"\")","v":""},null,null,null,null,null,null,null,null,null,null,null,null,null,null,null,null,null,null,null,null,null,null,null,null,null,null,null,null,null,null,null,null,null,null,null,null,null,null,null,null,null,null,null,null,null,null,"全現場閉所日数",{"$f":"IFERROR(EN234+EN250,\"\")","v":71}]
["",null,null,null,null,null,null,null,null,null,null,null,null,null,null,null,null,null,null,null,null,null,null,null,null,null,null,null,null,null,null,null,null,null,null,null,null,null,null,null,null,null,null,null,"現場閉所率",{"$f":"IFERROR(+AT263/AT262,\"\")","v":""},{"$f":"IF(AT264>=0.285,\"4週8休以上\",\"週休2日未達成\")","v":"4週8休以上"},null,null,null,null,null,null,null,null,null,null,null,null,null,null,null,null,null,null,null,null,null,null,null,null,null,null,null,null,null,null,null,null,null,null,null,null,null,null,null,null,null,null,null,null,null,null,null,"現場閉所率",{"$f":"IFERROR(+CR263/CR262,\"\")","v":""},{"$f":"IF(CR264>=0.285,\"4週8休以上\",\"週休2日未達成\")","v":"4週8休以上"},null,null,null,null,null,null,null,null,null,null,null,null,null,null,null,null,null,null,null,null,null,null,null,null,null,null,null,null,null,null,null,null,null,null,null,null,null,null,null,null,null,null,null,null,null,"現場閉所率",{"$f":"IFERROR(+EN263/EN262,\"\")","v":0.31140350877192985},{"$f":"IF(EN264>=0.285,\"4週8休以上\",\"週休2日未達成\")","v":"4週8休以上"}]
["",null,null,null,null,null,null,null,null,null,null,null,null,null,null,null,null,null,null,null,null,null,null,null,null,null,null,null,null,null,null,null,null,null,null,null,null,null,null,null,null,null,null,null,"閉所（月単位）",{"$f":"IFERROR(COUNTIF(AS$14:$AS255,\"4週8休以上\")/(COUNTIF(AS$14:$AS255,\"4週8休以上\")+COUNTIF(AS$14:$AS255,\"週休2日未達成\")),\"\")","v":""},{"$f":"IF(OR(AT265=100%,AT265=\"\"),\"達成\",\"未達成\")","v":"達成"},null,null,null,null,null,null,null,null,null,null,null,null,null,null,null,null,null,null,null,null,null,null,null,null,null,null,null,null,null,null,null,null,null,null,null,null,null,null,null,null,null,null,null,null,null,null,null,"閉所（月単位）",{"$f":"IFERROR(COUNTIF(CQ$14:$CQ255,\"4週8休以上\")/(COUNTIF(CQ$14:$CQ255,\"4週8休以上\")+COUNTIF(CQ$14:$CQ255,\"週休2日未達成\")),\"\")","v":0},{"$f":"IF(OR(CR265=100%,CR265=\"\"),\"達成\",\"未達成\")","v":"未達成"},null,null,null,null,null,null,null,null,null,null,null,null,null,null,null,null,null,null,null,null,null,null,null,null,null,null,null,null,null,null,null,null,null,null,null,null,null,null,null,null,null,null,null,null,null,"閉所（月単位）",{"$f":"IFERROR(COUNTIF($EM$14:EM255,\"4週8休以上\")/(COUNTIF($EM$14:EM255,\"4週8休以上\")+COUNTIF($EM$14:EM255,\"週休2日未達成\")),\"\")","v":1},{"$f":"IF(OR(EN265=100%,EN265=\"\"),\"達成\",\"未達成\")","v":"達成"}]
["",null,null,null,null,null,null,null,null,null,null,null,null,null,null,null,null,null,null,null,null,null,null,null,null,null,null,null,null,null,null,null,null,null,null,null,null,null,null,null,null,null,null,null,"完全週休二日",{"$f":"IF(COUNTIF(AS$14:$AS255,\"OUT\")>=1,\"OUT\",\"OK\")","v":"OK"},{"$f":"IF(AT266=\"OK\",\"達成\",\"未達成\")","v":"達成"},null,null,null,null,null,null,null,null,null,null,null,null,null,null,null,null,null,null,null,null,null,null,null,null,null,null,null,null,null,null,null,null,null,null,null,null,null,null,null,null,null,null,null,null,null,null,null,"完全週休二日",{"$f":"IF(COUNTIF(CQ$14:$CQ255,\"OUT\")>=1,\"OUT\",\"OK\")","v":"OUT"},{"$f":"IF(CR266=\"OK\",\"達成\",\"未達成\")","v":"未達成"},null,null,null,null,null,null,null,null,null,null,null,null,null,null,null,null,null,null,null,null,null,null,null,null,null,null,null,null,null,null,null,null,null,null,null,null,null,null,null,null,null,null,null,null,null,"完全週休二日",{"$f":"IF(COUNTIF($EM$14:EM255,\"OUT\")>=1,\"OUT\",\"OK\")","v":"OUT"},{"$f":"IF(EN266=\"OK\",\"達成\",\"未達成\")","v":"未達成"}]
["",null,"※必要に応じて各月の完全週休2日（月～日）の達成判定の行を修正してください。（曜日に合わせて修正）",null,null,null,null,null,null,null,null,null,null,null,null,null,null,null,null,null,null,null,null,null,null,null,null,null,null,null,null,null,null,null,null,null,null,null,null,null,null,null,null,null,null,null,null,null,null,null,null,null,"※必要に応じて各月の完全週休2日（月～日）の達成判定の行を修正してください。（曜日に合わせて修正）",null,null,null,null,null,null,null,null,null,null,null,null,null,null,null,null,null,null,null,null,null,null,null,null,null,null,null,null,null,null,null,null,null,null,null,null,null,null,null,null,null,null,null,null,null,null,null,"※必要に応じて各月の完全週休2日（月～日）の達成判定の行を修正してください。（曜日に合わせて修正）"]
[""]
[""]
[""]
[""]
[""]
["",null,"算定除外期間以外の祝日（ＧＷ含む）は、算定期間（分母）の対象＝現場閉所の場合は分子にカウントして現場閉所率を算定",null,null,null,null,null,null,null,null,null,null,null,null,null,null,null,null,null,null,null,null,null,null,null,null,null,null,null,null,null,null,null,null,null,null,null,null,null,null,null,null,null,null,null,null,null,null,null,null,null,"算定除外期間以外の祝日（ＧＷ含む）は、算定期間（分母）の対象＝現場閉所の場合は分子にカウントして現場閉所率を算定",null,null,null,null,null,null,null,null,null,null,null,null,null,null,null,null,null,null,null,null,null,null,null,null,null,null,null,null,null,null,null,null,null,null,null,null,null,null,null,null,null,null,null,null,null,null,null,"算定除外期間以外の祝日（ＧＷ含む）は、算定期間（分母）の対象＝現場閉所の場合は分子にカウントして現場閉所率を算定"]
[""]
[{"$f":"IF($AT$275=\"\",\"\",\"対象期間\")","v":""},null,"月",{"$f":"DATE(YEAR(D246),MONTH(D246)+1,1)","v":"2026-01-01"},null,null,null,null,null,null,null,null,null,null,null,null,null,null,null,null,null,null,null,null,null,null,null,null,null,null,null,null,null,null,{"$f":"DATE(YEAR(D275),MONTH(D275)+1,1)","v":"2026-02-01"},null,null,null,null,null,"現場閉所計","現場閉所累計",null,"計画","対象期間",{"$f":"IF(IF(MONTH(入力表!$E$6)=12,YEAR(入力表!$E$6)+1&\"01\",YEAR(入力表!$E$6)&TEXT(MONTH(入力表!$E$6)+1,\"00\"))>YEAR($D275)&TEXT(MONTH($D275),\"00\"),COUNTIF(D279:AH279,\"\")+COUNTIF(D279:AH279,\"○\"),\"\")","v":""},{"$f":"IF(COUNTIF(D276:AH276,\"／\")=0,\"\",IF(COUNTIF(D276:AH276,\"／\")=1,IF(AH279=\"／\",\"\",\"月末「／」漏れ\"),IF(COUNTIF(D276:AH276,\"／\")=2,IF(AND(AG279=\"／\",AH279=\"／\"),\"\",\"月末「／」漏れ\"),IF(AND(AF279=\"／\",AG279=\"／\",AH279=\"／\"),\"\",\"月末「／」漏れ\"))))","v":""},null,null,null,null,null,"月",{"$f":"DATE(YEAR(BB246),MONTH(BB246)+1,1)","v":"2026-01-01"},null,null,null,null,null,null,null,null,null,null,null,null,null,null,null,null,null,null,null,null,null,null,null,null,null,null,null,null,null,null,{"$f":"DATE(YEAR(BB275),MONTH(BB275)+1,1)","v":"2026-02-01"},null,null,null,null,null,"現場閉所計","現場閉所累計",null,"計画","対象期間",{"$f":"IF(IF(MONTH($BL$5)=12,YEAR($BL$5)+1&\"01\",YEAR($BL$5)&TEXT(MONTH($BL$5)+1,\"00\"))>YEAR(BB275)&TEXT(MONTH(BB275),\"00\"),COUNTIF(BB279:CF279,\"\")+COUNTIF(BB279:CF279,\"○\"),\"\")","v":28},{"$f":"IF(COUNTIF(BB276:CF276,\"／\")=0,\"\",IF(COUNTIF(BB276:CF276,\"／\")=1,IF(CF279=\"／\",\"\",\"月末「／」漏れ\"),IF(COUNTIF(BB276:CF276,\"／\")=2,IF(AND(CE279=\"／\",CF279=\"／\"),\"\",\"月末「／」漏れ\"),IF(AND(CD279=\"／\",CE279=\"／\",CF279=\"／\"),\"\",\"月末「／」漏れ\"))))","v":""},null,null,null,"月",{"$f":"DATE(YEAR(CX246),MONTH(CX246)+1,1)","v":"2026-01-01"},null,null,null,null,null,null,null,null,null,null,null,null,null,null,null,null,null,null,null,null,null,null,null,null,null,null,null,null,null,null,{"$f":"DATE(YEAR(CX275),MONTH(CX275)+1,1)","v":"2026-02-01"},null,null,null,null,null,"現場閉所計","現場閉所累計",null,"計画","対象期間",{"$f":"IF(IF(MONTH($BL$5)=12,YEAR($BL$5)+1&\"01\",YEAR($BL$5)&TEXT(MONTH($BL$5)+1,\"00\"))>YEAR($CX275)&TEXT(MONTH($CX275),\"00\"),COUNTIF(CX279:EB279,\"\")+COUNTIF(CX279:EB279,\"○\"),\"\")","v":28},{"$f":"IF(COUNTIF(CX276:EB276,\"／\")=0,\"\",IF(COUNTIF(CX276:EB276,\"／\")=1,IF(EB279=\"／\",\"\",\"月末「／」漏れ\"),IF(COUNTIF(CX276:EB276,\"／\")=2,IF(AND(EA279=\"／\",EB279=\"／\"),\"\",\"月末「／」漏れ\"),IF(AND(DZ279=\"／\",EA279=\"／\",EB279=\"／\"),\"\",\"月末「／」漏れ\"))))","v":""}]
[{"$f":"IF($AT$275=\"\",\"\",\"対象期間\")","v":""},null,"日",{"$f":"D275","v":"2026-01-01"},{"$f":"D276+1","v":"2026-01-02"},{"$f":"E276+1","v":"2026-01-03"},{"$f":"F276+1","v":"2026-01-04"},{"$f":"G276+1","v":"2026-01-05"},{"$f":"H276+1","v":"2026-01-06"},{"$f":"I276+1","v":"2026-01-07"},{"$f":"J276+1","v":"2026-01-08"},{"$f":"K276+1","v":"2026-01-09"},{"$f":"L276+1","v":"2026-01-10"},{"$f":"M276+1","v":"2026-01-11"},{"$f":"N276+1","v":"2026-01-12"},{"$f":"O276+1","v":"2026-01-13"},{"$f":"P276+1","v":"2026-01-14"},{"$f":"Q276+1","v":"2026-01-15"},{"$f":"R276+1","v":"2026-01-16"},{"$f":"S276+1","v":"2026-01-17"},{"$f":"T276+1","v":"2026-01-18"},{"$f":"U276+1","v":"2026-01-19"},{"$f":"V276+1","v":"2026-01-20"},{"$f":"W276+1","v":"2026-01-21"},{"$f":"X276+1","v":"2026-01-22"},{"$f":"Y276+1","v":"2026-01-23"},{"$f":"Z276+1","v":"2026-01-24"},{"$f":"AA276+1","v":"2026-01-25"},{"$f":"AB276+1","v":"2026-01-26"},{"$f":"AC276+1","v":"2026-01-27"},{"$f":"AD276+1","v":"2026-01-28"},{"$f":"IF(AE276=\"／\",\"／\",IF(YEAR($D275)&TEXT(MONTH($D275),\"00\")<YEAR(AE276+1)&TEXT(MONTH(AE276+1),\"00\"),\"／\",AE276+1))","v":"2026-01-29"},{"$f":"IF(AF276=\"／\",\"／\",IF(YEAR($D275)&TEXT(MONTH($D275),\"00\")<YEAR(AF276+1)&TEXT(MONTH(AF276+1),\"00\"),\"／\",AF276+1))","v":"2026-01-30"},{"$f":"IF(AG276=\"／\",\"／\",IF(YEAR($D275)&TEXT(MONTH($D275),\"00\")<YEAR(AG276+1)&TEXT(MONTH(AG276+1),\"00\"),\"／\",AG276+1))","v":"2026-01-31"},{"$f":"AI275","v":"2026-02-01"},{"$f":"AI276+1","v":"2026-02-02"},{"$f":"AJ276+1","v":"2026-02-03"},{"$f":"AK276+1","v":"2026-02-04"},{"$f":"AL276+1","v":"2026-02-05"},{"$f":"AM276+1","v":"2026-02-06"},null,null,null,null,"閉所日数",{"$f":"IF(IF(MONTH(入力表!$E$6)=12,YEAR(入力表!$E$6)+1&\"01\",YEAR(入力表!$E$6)&TEXT(MONTH(入力表!$E$6)+1,\"00\"))>YEAR($D275)&TEXT(MONTH($D275),\"00\"),COUNTIF(D279:AH279,\"○\"),\"\")","v":""},{"$f":"IF(OR(MONTH(D275)=1,MONTH(D275)=8,MONTH(D275)=12),IF(COUNTIF(D279:AH279,\"／\")>=3,\"\",\"算定除外「／」漏れ\"),\"\")","v":"算定除外「／」漏れ"},null,null,null,null,null,"日",{"$f":"BB275","v":"2026-01-01"},{"$f":"BB276+1","v":"2026-01-02"},{"$f":"BC276+1","v":"2026-01-03"},{"$f":"BD276+1","v":"2026-01-04"},{"$f":"BE276+1","v":"2026-01-05"},{"$f":"BF276+1","v":"2026-01-06"},{"$f":"BG276+1","v":"2026-01-07"},{"$f":"BH276+1","v":"2026-01-08"},{"$f":"BI276+1","v":"2026-01-09"},{"$f":"BJ276+1","v":"2026-01-10"},{"$f":"BK276+1","v":"2026-01-11"},{"$f":"BL276+1","v":"2026-01-12"},{"$f":"BM276+1","v":"2026-01-13"},{"$f":"BN276+1","v":"2026-01-14"},{"$f":"BO276+1","v":"2026-01-15"},{"$f":"BP276+1","v":"2026-01-16"},{"$f":"BQ276+1","v":"2026-01-17"},{"$f":"BR276+1","v":"2026-01-18"},{"$f":"BS276+1","v":"2026-01-19"},{"$f":"BT276+1","v":"2026-01-20"},{"$f":"BU276+1","v":"2026-01-21"},{"$f":"BV276+1","v":"2026-01-22"},{"$f":"BW276+1","v":"2026-01-23"},{"$f":"BX276+1","v":"2026-01-24"},{"$f":"BY276+1","v":"2026-01-25"},{"$f":"BZ276+1","v":"2026-01-26"},{"$f":"CA276+1","v":"2026-01-27"},{"$f":"CB276+1","v":"2026-01-28"},{"$f":"IF(CC276=\"／\",\"／\",IF(YEAR(BB275)&TEXT(MONTH(BB275),\"00\")<YEAR(CC276+1)&TEXT(MONTH(CC276+1),\"00\"),\"／\",CC276+1))","v":"2026-01-29"},{"$f":"IF(CD276=\"／\",\"／\",IF(YEAR(BB275)&TEXT(MONTH(BB275),\"00\")<YEAR(CD276+1)&TEXT(MONTH(CD276+1),\"00\"),\"／\",CD276+1))","v":"2026-01-30"},{"$f":"IF(CE276=\"／\",\"／\",IF(YEAR(BB275)&TEXT(MONTH(BB275),\"00\")<YEAR(CE276+1)&TEXT(MONTH(CE276+1),\"00\"),\"／\",CE276+1))","v":"2026-01-31"},{"$f":"CG275","v":"2026-02-01"},{"$f":"CG276+1","v":"2026-02-02"},{"$f":"CH276+1","v":"2026-02-03"},{"$f":"CI276+1","v":"2026-02-04"},{"$f":"CJ276+1","v":"2026-02-05"},{"$f":"CK276+1","v":"2026-02-06"},null,null,null,null,"閉所日数",{"$f":"IF(IF(MONTH($BL$5)=12,YEAR($BL$5)+1&\"01\",YEAR($BL$5)&TEXT(MONTH($BL$5)+1,\"00\"))>YEAR(BB275)&TEXT(MONTH(BB275),\"00\"),COUNTIF(BB279:CF279,\"○\"),\"\")","v":8},{"$f":"IF(OR(MONTH(BB275)=1,MONTH(BB275)=8,MONTH(BB275)=12),IF(COUNTIF(BB279:CF279,\"／\")>=3,\"\",\"算定除外「／」漏れ\"),\"\")","v":""},null,null,null,"日",{"$f":"CX275","v":"2026-01-01"},{"$f":"CX276+1","v":"2026-01-02"},{"$f":"CY276+1","v":"2026-01-03"},{"$f":"CZ276+1","v":"2026-01-04"},{"$f":"DA276+1","v":"2026-01-05"},{"$f":"DB276+1","v":"2026-01-06"},{"$f":"DC276+1","v":"2026-01-07"},{"$f":"DD276+1","v":"2026-01-08"},{"$f":"DE276+1","v":"2026-01-09"},{"$f":"DF276+1","v":"2026-01-10"},{"$f":"DG276+1","v":"2026-01-11"},{"$f":"DH276+1","v":"2026-01-12"},{"$f":"DI276+1","v":"2026-01-13"},{"$f":"DJ276+1","v":"2026-01-14"},{"$f":"DK276+1","v":"2026-01-15"},{"$f":"DL276+1","v":"2026-01-16"},{"$f":"DM276+1","v":"2026-01-17"},{"$f":"DN276+1","v":"2026-01-18"},{"$f":"DO276+1","v":"2026-01-19"},{"$f":"DP276+1","v":"2026-01-20"},{"$f":"DQ276+1","v":"2026-01-21"},{"$f":"DR276+1","v":"2026-01-22"},{"$f":"DS276+1","v":"2026-01-23"},{"$f":"DT276+1","v":"2026-01-24"},{"$f":"DU276+1","v":"2026-01-25"},{"$f":"DV276+1","v":"2026-01-26"},{"$f":"DW276+1","v":"2026-01-27"},{"$f":"DX276+1","v":"2026-01-28"},{"$f":"IF(DY276=\"／\",\"／\",IF(YEAR(CX275)&TEXT(MONTH(CX275),\"00\")<YEAR(DY276+1)&TEXT(MONTH(DY276+1),\"00\"),\"／\",DY276+1))","v":"2026-01-29"},{"$f":"IF(DZ276=\"／\",\"／\",IF(YEAR(CX275)&TEXT(MONTH(CX275),\"00\")<YEAR(DZ276+1)&TEXT(MONTH(DZ276+1),\"00\"),\"／\",DZ276+1))","v":"2026-01-30"},{"$f":"IF(EA276=\"／\",\"／\",IF(YEAR(CX275)&TEXT(MONTH(CX275),\"00\")<YEAR(EA276+1)&TEXT(MONTH(EA276+1),\"00\"),\"／\",EA276+1))","v":"2026-01-31"},{"$f":"EC275","v":"2026-02-01"},{"$f":"EC276+1","v":"2026-02-02"},{"$f":"ED276+1","v":"2026-02-03"},{"$f":"EE276+1","v":"2026-02-04"},{"$f":"EF276+1","v":"2026-02-05"},{"$f":"EG276+1","v":"2026-02-06"},null,null,null,null,"閉所日数",{"$f":"IF(IF(MONTH($BL$5)=12,YEAR($BL$5)+1&\"01\",YEAR($BL$5)&TEXT(MONTH($BL$5)+1,\"00\"))>YEAR($CX275)&TEXT(MONTH($CX275),\"00\"),COUNTIF(CX279:EB279,\"○\"),\"\")","v":8},{"$f":"IF(OR(MONTH(CX275)=1,MONTH(CX275)=8,MONTH(CX275)=12),IF(COUNTIF(CX279:EB279,\"／\")>=3,\"\",\"算定除外「／」漏れ\"),\"\")","v":""}]
["",null,"曜日",{"$f":"TEXT(WEEKDAY(+D276),\"aaa\")","v":"木"},{"$f":"TEXT(WEEKDAY(+E276),\"aaa\")","v":"金"},"土","日","月",{"$f":"TEXT(WEEKDAY(+I276),\"aaa\")","v":"火"},{"$f":"TEXT(WEEKDAY(+J276),\"aaa\")","v":"水"},"木","金","土","日","月","火","水","木","金","土","日","月","火","水","木",{"$f":"TEXT(WEEKDAY(+Z276),\"aaa\")","v":"金"},{"$f":"TEXT(WEEKDAY(+AA276),\"aaa\")","v":"土"},"日","月","火","水",{"$f":"IF(AF276=\"／\",\"／\",TEXT(WEEKDAY(+AF276),\"aaa\"))","v":"木"},{"$f":"IF(AG276=\"／\",\"／\",TEXT(WEEKDAY(+AG276),\"aaa\"))","v":"金"},"土",{"$f":"TEXT(WEEKDAY(+AI276),\"aaa\")","v":"日"},{"$f":"TEXT(WEEKDAY(+AJ276),\"aaa\")","v":"月"},"火","水","木","金",null,null,null,null,"現場閉所率",{"$f":"IFERROR(+AT276/AT275,\"\")","v":""},{"$f":"IF(AT277=\"\",\"\",IF(COUNTIF(D279:AH279,\"○\")>=COUNTIF(D282:AH282,\"◎\"),\"4週8休以上\",IF(AT277>=0.285,\"4週8休以上\",\"週休2日未達成\")))","v":""},null,null,null,null,null,"曜日",{"$f":"TEXT(WEEKDAY(+BB276),\"aaa\")","v":"木"},{"$f":"TEXT(WEEKDAY(+BC276),\"aaa\")","v":"金"},"土","日","月",{"$f":"TEXT(WEEKDAY(+BG276),\"aaa\")","v":"火"},{"$f":"TEXT(WEEKDAY(+BH276),\"aaa\")","v":"水"},"木","金","土","日","月","火","水","木","金","土","日","月","火","水","木",{"$f":"TEXT(WEEKDAY(+BX276),\"aaa\")","v":"金"},{"$f":"TEXT(WEEKDAY(+BY276),\"aaa\")","v":"土"},"日","月","火","水",{"$f":"IF(CD276=\"／\",\"／\",TEXT(WEEKDAY(+CD276),\"aaa\"))","v":"木"},{"$f":"IF(CE276=\"／\",\"／\",TEXT(WEEKDAY(+CE276),\"aaa\"))","v":"金"},"土",{"$f":"TEXT(WEEKDAY(+CG276),\"aaa\")","v":"日"},{"$f":"TEXT(WEEKDAY(+CH276),\"aaa\")","v":"月"},"火","水","木","金",null,null,null,null,"現場閉所率",{"$f":"IFERROR(+CR276/CR275,\"\")","v":0.2857142857142857},{"$f":"IF(CR277=\"\",\"\",IF(COUNTIF(BB279:CF279,\"○\")>=COUNTIF(BB282:CF282,\"◎\"),\"4週8休以上\",IF(CR277>=0.285,\"4週8休以上\",\"週休2日未達成\")))","v":"4週8休以上"},null,null,null,"曜日",{"$f":"TEXT(WEEKDAY(+CX276),\"aaa\")","v":"木"},{"$f":"TEXT(WEEKDAY(+CY276),\"aaa\")","v":"金"},"土","日","月",{"$f":"TEXT(WEEKDAY(+DC276),\"aaa\")","v":"火"},{"$f":"TEXT(WEEKDAY(+DD276),\"aaa\")","v":"水"},"木","金","土","日","月","火","水","木","金","土","日","月","火","水","木",{"$f":"TEXT(WEEKDAY(+DT276),\"aaa\")","v":"金"},{"$f":"TEXT(WEEKDAY(+DU276),\"aaa\")","v":"土"},"日","月","火","水",{"$f":"IF(DZ276=\"／\",\"／\",TEXT(WEEKDAY(+DZ276),\"aaa\"))","v":"木"},{"$f":"IF(EA276=\"／\",\"／\",TEXT(WEEKDAY(+EA276),\"aaa\"))","v":"金"},"土",{"$f":"TEXT(WEEKDAY(+EC276),\"aaa\")","v":"日"},{"$f":"TEXT(WEEKDAY(+ED276),\"aaa\")","v":"月"},"火","水","木","金",null,null,null,null,"現場閉所率",{"$f":"IFERROR(+EN276/EN275,\"\")","v":0.2857142857142857},{"$f":"IF(EN277=\"\",\"\",IF(COUNTIF(CX279:EB279,\"○\")>=COUNTIF(CX282:EB282,\"◎\"),\"4週8休以上\",IF(EN277>=0.285,\"4週8休以上\",\"週休2日未達成\")))","v":"4週8休以上"}]
["",null,"行事",null,null,null,null,null,null,null,null,null,null,null,null,null,null,null,null,null,null,null,null,null,null,null,null,null,null,null,null,null,null,null,{"$f":"IF(D307=\"\",\"\",D307)","v":""},{"$f":"IF(E307=\"\",\"\",E307)","v":""},{"$f":"IF(F307=\"\",\"\",F307)","v":""},{"$f":"IF(G307=\"\",\"\",G307)","v":""},{"$f":"IF(H307=\"\",\"\",H307)","v":""},{"$f":"IF(I307=\"\",\"\",I307)","v":""},null,null,null,"実施","対象期間",{"$f":"IF(IF(MONTH(入力表!$E$6)=12,YEAR(入力表!$E$6)+1&\"01\",YEAR(入力表!$E$6)&TEXT(MONTH(入力表!$E$6)+1,\"00\"))>YEAR($D275)&TEXT(MONTH($D275),\"00\"),COUNTIF(D280:AH280,\"\")+COUNTIF(D280:AH280,\"●\"),\"\")","v":""},{"$f":"IF(COUNTIF(D276:AH276,\"／\")=0,\"\",IF(COUNTIF(D276:AH276,\"／\")=1,IF(AH280=\"／\",\"\",\"月末「／」漏れ\"),IF(COUNTIF(D276:AH276,\"／\")=2,IF(AND(AG280=\"／\",AH280=\"／\"),\"\",\"月末「／」漏れ\"),IF(AND(AF280=\"／\",AG280=\"／\",AH280=\"／\"),\"\",\"月末「／」漏れ\"))))","v":""},null,null,null,null,null,"行事",null,null,null,null,null,null,null,null,null,null,null,null,null,null,null,null,null,null,null,null,null,null,null,null,null,null,null,null,null,null,null,{"$f":"IF(BB307=\"\",\"\",BB307)","v":""},{"$f":"IF(BC307=\"\",\"\",BC307)","v":""},{"$f":"IF(BD307=\"\",\"\",BD307)","v":""},{"$f":"IF(BE307=\"\",\"\",BE307)","v":""},{"$f":"IF(BF307=\"\",\"\",BF307)","v":""},{"$f":"IF(BG307=\"\",\"\",BG307)","v":""},null,null,null,"実施","対象期間",{"$f":"IF(IF(MONTH($BL$5)=12,YEAR($BL$5)+1&\"01\",YEAR($BL$5)&TEXT(MONTH($BL$5)+1,\"00\"))>YEAR(BB275)&TEXT(MONTH(BB275),\"00\"),COUNTIF(BB280:CF280,\"\")+COUNTIF(BB280:CF280,\"●\"),\"\")","v":28},{"$f":"IF(COUNTIF(BB276:CF276,\"／\")=0,\"\",IF(COUNTIF(BB276:CF276,\"／\")=1,IF(CF280=\"／\",\"\",\"月末「／」漏れ\"),IF(COUNTIF(BB276:CF276,\"／\")=2,IF(AND(CE280=\"／\",CF280=\"／\"),\"\",\"月末「／」漏れ\"),IF(AND(CD280=\"／\",CE280=\"／\",CF280=\"／\"),\"\",\"月末「／」漏れ\"))))","v":""},null,null,null,"行事",null,null,null,null,null,null,null,null,null,null,null,null,null,null,null,null,null,null,null,null,null,null,null,null,null,null,null,null,null,null,null,{"$f":"IF(CX307=\"\",\"\",CX307)","v":""},{"$f":"IF(CY307=\"\",\"\",CY307)","v":""},{"$f":"IF(CZ307=\"\",\"\",CZ307)","v":""},{"$f":"IF(DA307=\"\",\"\",DA307)","v":""},{"$f":"IF(DB307=\"\",\"\",DB307)","v":""},{"$f":"IF(DC307=\"\",\"\",DC307)","v":""},null,null,null,"実施","対象期間",{"$f":"IF(IF(MONTH($BL$5)=12,YEAR($BL$5)+1&\"01\",YEAR($BL$5)&TEXT(MONTH($BL$5)+1,\"00\"))>YEAR($CX275)&TEXT(MONTH($CX275),\"00\"),COUNTIF(CX280:EB280,\"\")+COUNTIF(CX280:EB280,\"●\"),\"\")","v":28},{"$f":"IF(COUNTIF(CX276:EB276,\"／\")=0,\"\",IF(COUNTIF(CX276:EB276,\"／\")=1,IF(EB280=\"／\",\"\",\"月末「／」漏れ\"),IF(COUNTIF(CX276:EB276,\"／\")=2,IF(AND(EA280=\"／\",EB280=\"／\"),\"\",\"月末「／」漏れ\"),IF(AND(DZ280=\"／\",EA280=\"／\",EB280=\"／\"),\"\",\"月末「／」漏れ\"))))","v":""}]
["",null,"計画",null,null,null,null,null,null,null,null,null,null,null,null,null,null,null,null,null,null,null,null,null,null,null,null,null,null,null,null,null,null,null,{"$f":"IF(D308=\"\",\"\",D308)","v":""},{"$f":"IF(E308=\"\",\"\",E308)","v":""},{"$f":"IF(F308=\"\",\"\",F308)","v":""},{"$f":"IF(G308=\"\",\"\",G308)","v":""},{"$f":"IF(H308=\"\",\"\",H308)","v":""},{"$f":"IF(I308=\"\",\"\",I308)","v":""},{"$f":"COUNTIF(D279:AH279,\"○\")","v":0},{"$f":"+AO279+AP250","v":0},null,null,"閉所日数",{"$f":"IF(IF(MONTH(入力表!$E$6)=12,YEAR(入力表!$E$6)+1&\"01\",YEAR(入力表!$E$6)&TEXT(MONTH(入力表!$E$6)+1,\"00\"))>YEAR($D275)&TEXT(MONTH($D275),\"00\"),COUNTIF(D280:AH280,\"●\"),\"\")","v":""},{"$f":"IF(OR(MONTH(D275)=1,MONTH(D275)=8,MONTH(D275)=12),IF(COUNTIF(D280:AH280,\"／\")>=3,\"\",\"算定除外「／」漏れ\"),\"\")","v":"算定除外「／」漏れ"},null,null,null,null,null,"計画","／","／","／","○",null,null,null,null,null,"○","○",null,null,null,null,null,"○","○",null,null,null,null,null,"○","○",null,null,null,null,null,"○",{"$f":"IF(BB308=\"\",\"\",BB308)","v":"○"},"","","","","",{"$f":"COUNTIF(BB279:CF279,\"○\")","v":8},{"$f":"+CM279+CN250","v":79},null,null,"閉所日数",{"$f":"IF(IF(MONTH($BL$5)=12,YEAR($BL$5)+1&\"01\",YEAR($BL$5)&TEXT(MONTH($BL$5)+1,\"00\"))>YEAR(BB275)&TEXT(MONTH(BB275),\"00\"),COUNTIF(BB280:CF280,\"●\"),\"\")","v":0},{"$f":"IF(OR(MONTH(BB275)=1,MONTH(BB275)=8,MONTH(BB275)=12),IF(COUNTIF(BB280:CF280,\"／\")>=3,\"\",\"算定除外「／」漏れ\"),\"\")","v":""},null,null,null,"計画","／","／","／","○",null,null,null,null,null,"○","○",null,null,null,null,null,"○","○",null,null,null,null,null,"○","○",null,null,null,null,null,"○",{"$f":"IF(CX308=\"\",\"\",CX308)","v":"○"},"","","","","",{"$f":"COUNTIF(CX279:EB279,\"○\")","v":8},{"$f":"+EI279+EJ250","v":79},null,null,"閉所日数",{"$f":"IF(IF(MONTH($BL$5)=12,YEAR($BL$5)+1&\"01\",YEAR($BL$5)&TEXT(MONTH($BL$5)+1,\"00\"))>YEAR($CX275)&TEXT(MONTH($CX275),\"00\"),COUNTIF(CX280:EB280,\"●\"),\"\")","v":8},{"$f":"IF(OR(MONTH(CX275)=1,MONTH(CX275)=8,MONTH(CX275)=12),IF(COUNTIF(CX280:EB280,\"／\")>=3,\"\",\"算定除外「／」漏れ\"),\"\")","v":""}]
["",null,"実施",null,null,null,null,null,null,null,null,null,null,null,null,null,null,null,null,null,null,null,null,null,null,null,null,null,null,null,null,null,null,null,{"$f":"IF(D309=\"\",\"\",D309)","v":""},{"$f":"IF(E309=\"\",\"\",E309)","v":""},{"$f":"IF(F309=\"\",\"\",F309)","v":""},{"$f":"IF(G309=\"\",\"\",G309)","v":""},{"$f":"IF(H309=\"\",\"\",H309)","v":""},{"$f":"IF(I309=\"\",\"\",I309)","v":""},{"$f":"COUNTIF(D280:AH280,\"●\")","v":0},{"$f":"+AO280+AP251","v":0},null,null,"現場閉所率",{"$f":"IFERROR(+AT279/AT278,\"\")","v":""},{"$f":"IF(AT280=\"\",\"\",IF(COUNTIF(D280:AH280,\"●\")>=COUNTIF(D283:AH283,\"◎\"),\"4週8休以上\",IF(AT280>=0.285,\"4週8休以上\",\"週休2日未達成\")))","v":""},null,null,null,null,null,"実施","／","／","／",null,null,null,null,null,null,null,null,null,null,null,null,null,null,null,null,null,null,null,null,null,null,null,null,null,null,null,null,{"$f":"IF(BB309=\"\",\"\",BB309)","v":""},{"$f":"IF(BC309=\"\",\"\",BC309)","v":""},{"$f":"IF(BD309=\"\",\"\",BD309)","v":""},{"$f":"IF(BE309=\"\",\"\",BE309)","v":""},{"$f":"IF(BF309=\"\",\"\",BF309)","v":""},{"$f":"IF(BG309=\"\",\"\",BG309)","v":""},{"$f":"COUNTIF(BB280:CF280,\"●\")","v":0},{"$f":"+CM280+CN251","v":0},null,null,"現場閉所率",{"$f":"IFERROR(+CR279/CR278,\"\")","v":0},{"$f":"IF(CR280=\"\",\"\",IF(COUNTIF(BB280:CF280,\"●\")>=COUNTIF(BB283:CF283,\"◎\"),\"4週8休以上\",IF(CR280>=0.285,\"4週8休以上\",\"週休2日未達成\")))","v":"週休2日未達成"},null,null,null,"実施","／","／","／","●",null,null,null,null,null,"●","●",null,null,null,null,null,"●","●",null,null,null,null,null,"●","●",null,null,null,null,null,"●",{"$f":"IF(CX309=\"\",\"\",CX309)","v":"●"},{"$f":"IF(CY309=\"\",\"\",CY309)","v":""},{"$f":"IF(CZ309=\"\",\"\",CZ309)","v":""},{"$f":"IF(DA309=\"\",\"\",DA309)","v":""},{"$f":"IF(DB309=\"\",\"\",DB309)","v":""},{"$f":"IF(DC309=\"\",\"\",DC309)","v":""},{"$f":"COUNTIF(CX280:EB280,\"●\")","v":8},{"$f":"+EI280+EJ251","v":78},null,null,"現場閉所率",{"$f":"IFERROR(+EN279/EN278,\"\")","v":0.2857142857142857},{"$f":"IF(EN280=\"\",\"\",IF(COUNTIF(CX280:EB280,\"●\")>=COUNTIF(CX283:EB283,\"◎\"),\"4週8休以上\",IF(EN280>=0.285,\"4週8休以上\",\"週休2日未達成\")))","v":"4週8休以上"}]
[null,null,null,1,2,3,4,5,6,7,8,9,10,11,12,13,14,15,16,17,18,19,20,21,22,23,24,25,26,27,28,29,30,31,32,33,34,35,36,37,null,null,null,null,{"$f":"AU280","v":""},null,null,null,null,null,null,null,null,1,2,3,4,5,6,7,8,9,10,11,12,13,14,15,16,17,18,19,20,21,22,23,24,25,26,27,28,29,30,31,32,33,34,35,36,37,null,null,null,null,{"$f":"CS280","v":"週休2日未達成"},null,null,null,null,null,null,1,2,3,4,5,6,7,8,9,10,11,12,13,14,15,16,17,18,19,20,21,22,23,24,25,26,27,28,29,30,31,32,33,34,35,36,37,null,null,null,null,{"$f":"EO280","v":"4週8休以上"}]
[null,null,"計画",{"$f":"IF(D279=\"／\",\"／\",IF(OR(D277=\"土\",D277=\"日\"),\"◎\",\"\"))","v":""},{"$f":"IF(E279=\"／\",\"／\",IF(OR(E277=\"土\",E277=\"日\"),\"◎\",\"\"))","v":""},"◎","◎","","","","","","◎","◎","","","","","","◎","◎","","","","","","◎","◎","",{"$f":"IF(AD279=\"／\",\"／\",IF(OR(AD277=\"土\",AD277=\"日\"),\"◎\",\"\"))","v":""},{"$f":"IF(AE279=\"／\",\"／\",IF(OR(AE277=\"土\",AE277=\"日\"),\"◎\",\"\"))","v":""},"","","◎","◎","","","","","",null,null,null,null,{"$f":"AT284","v":""},null,null,null,null,null,null,null,"計画",{"$f":"IF(BB279=\"／\",\"／\",IF(OR(BB277=\"土\",BB277=\"日\"),\"◎\",\"\"))","v":"／"},"／","／","◎","","","","","","◎","◎","",{"$f":"IF(BN279=\"／\",\"／\",IF(OR(BN277=\"土\",BN277=\"日\"),\"◎\",\"\"))","v":""},{"$f":"IF(BO279=\"／\",\"／\",IF(OR(BO277=\"土\",BO277=\"日\"),\"◎\",\"\"))","v":""},"","","◎","◎","","","","","","◎","◎","",{"$f":"IF(CB279=\"／\",\"／\",IF(OR(CB277=\"土\",CB277=\"日\"),\"◎\",\"\"))","v":""},{"$f":"IF(CC279=\"／\",\"／\",IF(OR(CC277=\"土\",CC277=\"日\"),\"◎\",\"\"))","v":""},"","","◎","◎","","","","","",null,null,null,null,{"$f":"CR284","v":"OUT"},null,null,null,null,null,"計画",{"$f":"IF(CX279=\"／\",\"／\",IF(OR(CX277=\"土\",CX277=\"日\"),\"◎\",\"\"))","v":"／"},"／","／","◎","","","","","","◎","◎","",{"$f":"IF(DJ279=\"／\",\"／\",IF(OR(DJ277=\"土\",DJ277=\"日\"),\"◎\",\"\"))","v":""},{"$f":"IF(DK279=\"／\",\"／\",IF(OR(DK277=\"土\",DK277=\"日\"),\"◎\",\"\"))","v":""},"","","◎","◎","","","","","","◎","◎","",{"$f":"IF(DX279=\"／\",\"／\",IF(OR(DX277=\"土\",DX277=\"日\"),\"◎\",\"\"))","v":""},{"$f":"IF(DY279=\"／\",\"／\",IF(OR(DY277=\"土\",DY277=\"日\"),\"◎\",\"\"))","v":""},"","","◎","◎","","","","","",null,null,null,null,{"$f":"EN284","v":"OK"}]
[null,null,"実施",{"$f":"IF(D280=\"／\",\"／\",IF(OR(D277=\"土\",D277=\"日\"),\"◎\",\"\"))","v":""},{"$f":"IF(E280=\"／\",\"／\",IF(OR(E277=\"土\",E277=\"日\"),\"◎\",\"\"))","v":""},"◎","◎","","","","","","◎","◎","","","","","","◎","◎","","","","","","◎","◎","","","","","","◎","◎","","","","","",null,null,null,null,null,null,null,null,null,null,null,null,"実施",{"$f":"IF(BB280=\"／\",\"／\",IF(OR(BB277=\"土\",BB277=\"日\"),\"◎\",\"\"))","v":"／"},{"$f":"IF(BC280=\"／\",\"／\",IF(OR(BC277=\"土\",BC277=\"日\"),\"◎\",\"\"))","v":"／"},"／","◎","","","","","","◎","◎","","","","","","◎","◎","","","","","","◎","◎","","","","","","◎","◎","","","","","",null,null,null,null,null,null,null,null,null,null,"実施",{"$f":"IF(CX280=\"／\",\"／\",IF(OR(CX277=\"土\",CX277=\"日\"),\"◎\",\"\"))","v":"／"},{"$f":"IF(CY280=\"／\",\"／\",IF(OR(CY277=\"土\",CY277=\"日\"),\"◎\",\"\"))","v":"／"},"／","◎","","","","","","◎","◎","","","","","","◎","◎","","","","","","◎","◎","","","","","","◎","◎","","","","",""]
["",null,"完全",{"$f":"IF(WEEKDAY(DATE(YEAR(D275),MONTH(D275),1),2)=1,DATE(YEAR(D275),MONTH(D275),1),EOMONTH(D275,-1)-MOD(WEEKDAY(EOMONTH(D275,-1),2)+6,7))","v":"2025-12-29"},"～",{"$f":"DATE(YEAR(D275),MONTH(D275),1)+MOD(7-WEEKDAY(DATE(YEAR(D275),MONTH(D275),1),2),7)","v":"2026-01-04"},{"$f":"IF(DAY(D284)=1,IF(COUNTIF(D280:J280,\"／\")>=1,\"対象外\",IF(COUNTIF(INDEX(D280:AN280,DAY(D284)):INDEX(D280:AN280,HLOOKUP(F284,D276:AN281,6,FALSE)),\"\")+COUNTIF(INDEX(D280:AN280,DAY(D284)):INDEX(D280:AN280,HLOOKUP(F284,D276:AN281,6,FALSE)),\"●\")=7,IF(COUNTIF(INDEX(D280:AN280,DAY(D284)):INDEX(D280:AN280,HLOOKUP(F284,D276:AN281,6,FALSE)),\"●\")>=2,\"OK\",\"OUT\"),IF(COUNTIF(INDEX(D280:AN280,DAY(D284)):INDEX(D280:AN280,HLOOKUP(F284,D276:AN281,6,FALSE)),\"●\")>=COUNTIF(INDEX(D283:AN283,DAY(D284)):INDEX(D283:AN283,HLOOKUP(F284,D276:AN281,6,FALSE)),\"○\"),\"OK\",\"OUT\"))),IF(AND(AK255=\"\",AE255=\"\"),Y255,IF(AK255=\"\",AE255,AK255)))","v":"OUT"},null,null,{"$f":"F284+1","v":"2026-01-05"},"～",{"$f":"F284+7","v":"2026-01-11"},{"$f":"IF(COUNTIF(INDEX(D280:AN280,DAY(J284)):INDEX(D280:AN280,HLOOKUP(L284,D276:AN281,6,FALSE)),\"\")+COUNTIF(INDEX(D280:AN280,DAY(J284)):INDEX(D280:AN280,HLOOKUP(L284,D276:AN281,6,FALSE)),\"●\")=7,IF(COUNTIF(INDEX(D280:AN280,DAY(J284)):INDEX(D280:AN280,HLOOKUP(L284,D276:AN281,6,FALSE)),\"●\")>=2,\"OK\",\"OUT\"),\"対象外\")","v":"OUT"},null,null,{"$f":"L284+1","v":"2026-01-12"},"～",{"$f":"L284+7","v":"2026-01-18"},{"$f":"IF(COUNTIF(INDEX(D280:AN280,DAY(P284)):INDEX(D280:AN280,HLOOKUP(R284,D276:AN281,6,FALSE)),\"\")+COUNTIF(INDEX(D280:AN280,DAY(P284)):INDEX(D280:AN280,HLOOKUP(R284,D276:AN281,6,FALSE)),\"●\")=7,IF(COUNTIF(INDEX(D280:AN280,DAY(P284)):INDEX(D280:AN280,HLOOKUP(R284,D276:AN281,6,FALSE)),\"●\")>=2,\"OK\",\"OUT\"),\"対象外\")","v":"OUT"},null,null,{"$f":"R284+1","v":"2026-01-19"},"～",{"$f":"R284+7","v":"2026-01-25"},{"$f":"IF(COUNTIF(INDEX(D280:AN280,DAY(V284)):INDEX(D280:AN280,HLOOKUP(X284,D276:AN281,6,FALSE)),\"\")+COUNTIF(INDEX(D280:AN280,DAY(V284)):INDEX(D280:AN280,HLOOKUP(X284,D276:AN281,6,FALSE)),\"●\")=7,IF(COUNTIF(INDEX(D280:AN280,DAY(V284)):INDEX(D280:AN280,HLOOKUP(X284,D276:AN281,6,FALSE)),\"●\")>=2,\"OK\",\"OUT\"),\"対象外\")","v":"OUT"},null,null,{"$f":"IF(AND(DAY(X284+7)<23,DAY(X284+7)>=7),\"\",X284+1)","v":"2026-01-26"},{"$f":"IF(AND(DAY(X284+7)<23,DAY(X284+7)>=7),\"\",\"～\")","v":"～"},{"$f":"IF(AND(DAY(X284+7)<23,DAY(X284+7)>=7),\"\",X284+7)","v":"2026-02-01"},{"$f":"IF(AND(DAY(X284+7)<23,DAY(X284+7)>=7),\"\",IF(COUNTIF(INDEX(D280:AN280,DAY(AB284)):INDEX(D280:AN280,HLOOKUP(AD284,D276:AN281,6,FALSE)),\"\")+COUNTIF(INDEX(D280:AN280,DAY(AB284)):INDEX(D280:AN280,HLOOKUP(AD284,D276:AN281,6,FALSE)),\"●\")=7,IF(COUNTIF(INDEX(D280:AN280,DAY(AB284)):INDEX(D280:AN280,HLOOKUP(AD284,D276:AN281,6,FALSE)),\"●\")>=2,\"OK\",\"OUT\"),IF(COUNTIF(INDEX(D280:AN280,DAY(AB284)):INDEX(D280:AN280,HLOOKUP(AD284,D276:AN281,6,FALSE)),\"\")+COUNTIF(INDEX(D280:AN280,DAY(AB284)):INDEX(D280:AN280,HLOOKUP(AD284,D276:AN281,6,FALSE)),\"●\")>7,\"「／」漏れ\",\"対象外\")))","v":"OUT"},null,null,{"$f":"IF(AE284=\"\",\"\",IF(AND(DAY(AD284+7)<23,DAY(AD284+7)>=7),\"\",AD284+1))","v":""},{"$f":"IF(AE284=\"\",\"\",IF(AND(DAY(AD284+7)<23,DAY(AD284+7)>=7),\"\",\"～\"))","v":""},{"$f":"IF(AE284=\"\",\"\",IF(AND(DAY(AD284+7)<23,DAY(AD284+7)>=7),\"\",AD284+7))","v":""},{"$f":"IF(AE284=\"\",\"\",IF(AND(DAY(AD284+7)<23,DAY(AD284+7)>=7),\"\",IF(COUNTIF(INDEX(D280:AN280,DAY(AH284)):INDEX(D280:AN280,HLOOKUP(AJ284,D276:AN281,6,FALSE)),\"\")+COUNTIF(INDEX(D280:AN280,DAY(AH284)):INDEX(D280:AN280,HLOOKUP(AJ284,D276:AN281,6,FALSE)),\"●\")=7,IF(COUNTIF(INDEX(D280:AN280,DAY(AH284)):INDEX(D280:AN280,HLOOKUP(AJ284,D276:AN281,6,FALSE)),\"●\")>=2,\"OK\",\"OUT\"),IF(COUNTIF(INDEX(D280:AN280,HLOOKUP(AH284,D276:AN281,6,FALSE)):INDEX(D280:AN280,HLOOKUP(AJ284,D276:AN281,6,FALSE)),\"\")+COUNTIF(INDEX(D280:AN280,HLOOKUP(AH284,D276:AN281,6,FALSE)):INDEX(D280:AN280,HLOOKUP(AJ284,D276:AN281,6,FALSE)),\"●\")>7,\"「／」漏れ\",\"対象外\"))))","v":""},null,null,null,null,null,null,null,"完全週休二日",{"$f":"IF(AT275=\"\",\"\",IF(COUNTIF(D284:AN284,\"OUT\")>=1,\"OUT\",\"OK\"))","v":""},null,null,null,null,null,null,"完全",{"$f":"IF(WEEKDAY(DATE(YEAR(BB275),MONTH(BB275),1),2)=1,DATE(YEAR(BB275),MONTH(BB275),1),EOMONTH(BB275,-1)-MOD(WEEKDAY(EOMONTH(BB275,-1),2)+6,7))","v":"2025-12-29"},"～",{"$f":"DATE(YEAR(BB275),MONTH(BB275),1)+MOD(7-WEEKDAY(DATE(YEAR(BB275),MONTH(BB275),1),2),7)","v":"2026-01-04"},{"$f":"IF(DAY(BB284)=1,IF(COUNTIF(BB280:BH280,\"／\")>=1,\"対象外\",IF(COUNTIF(INDEX(BB280:CL280,DAY(BB284)):INDEX(BB280:CL280,HLOOKUP(BD284,BB276:CL281,6,FALSE)),\"\")+COUNTIF(INDEX(BB280:CL280,DAY(BB284)):INDEX(BB280:CL280,HLOOKUP(BD284,BB276:CL281,6,FALSE)),\"●\")=7,IF(COUNTIF(INDEX(BB280:CL280,DAY(BB284)):INDEX(BB280:CL280,HLOOKUP(BD284,BB276:CL281,6,FALSE)),\"●\")>=2,\"OK\",\"OUT\"),IF(COUNTIF(INDEX(BB280:CL280,DAY(BB284)):INDEX(BB280:CL280,HLOOKUP(BD284,BB276:CL281,6,FALSE)),\"●\")>=COUNTIF(INDEX(BB283:CL283,DAY(BB284)):INDEX(BB283:CL283,HLOOKUP(BD284,BB276:CL281,6,FALSE)),\"○\"),\"OK\",\"OUT\"))),IF(AND(CI255=\"\",CC255=\"\"),BW255,IF(CI255=\"\",CC255,CI255)))","v":"対象外"},null,null,{"$f":"BD284+1","v":"2026-01-05"},"～",{"$f":"BD284+7","v":"2026-01-11"},{"$f":"IF(COUNTIF(INDEX(BB280:CL280,DAY(BH284)):INDEX(BB280:CL280,HLOOKUP(BJ284,BB276:CL281,6,FALSE)),\"\")+COUNTIF(INDEX(BB280:CL280,DAY(BH284)):INDEX(BB280:CL280,HLOOKUP(BJ284,BB276:CL281,6,FALSE)),\"●\")=7,IF(COUNTIF(INDEX(BB280:CL280,DAY(BH284)):INDEX(BB280:CL280,HLOOKUP(BJ284,BB276:CL281,6,FALSE)),\"●\")>=2,\"OK\",\"OUT\"),\"対象外\")","v":"OUT"},null,null,{"$f":"BJ284+1","v":"2026-01-12"},"～",{"$f":"BJ284+7","v":"2026-01-18"},{"$f":"IF(COUNTIF(INDEX(BB280:CL280,DAY(BN284)):INDEX(BB280:CL280,HLOOKUP(BP284,BB276:CL281,6,FALSE)),\"\")+COUNTIF(INDEX(BB280:CL280,DAY(BN284)):INDEX(BB280:CL280,HLOOKUP(BP284,BB276:CL281,6,FALSE)),\"●\")=7,IF(COUNTIF(INDEX(BB280:CL280,DAY(BN284)):INDEX(BB280:CL280,HLOOKUP(BP284,BB276:CL281,6,FALSE)),\"●\")>=2,\"OK\",\"OUT\"),\"対象外\")","v":"OUT"},null,null,{"$f":"BP284+1","v":"2026-01-19"},"～",{"$f":"BP284+7","v":"2026-01-25"},{"$f":"IF(COUNTIF(INDEX(BB280:CL280,DAY(BT284)):INDEX(BB280:CL280,HLOOKUP(BV284,BB276:CL281,6,FALSE)),\"\")+COUNTIF(INDEX(BB280:CL280,DAY(BT284)):INDEX(BB280:CL280,HLOOKUP(BV284,BB276:CL281,6,FALSE)),\"●\")=7,IF(COUNTIF(INDEX(BB280:CL280,DAY(BT284)):INDEX(BB280:CL280,HLOOKUP(BV284,BB276:CL281,6,FALSE)),\"●\")>=2,\"OK\",\"OUT\"),\"対象外\")","v":"OUT"},null,null,{"$f":"IF(AND(DAY(BV284+7)<23,DAY(BV284+7)>=7),\"\",BV284+1)","v":"2026-01-26"},{"$f":"IF(AND(DAY(BV284+7)<23,DAY(BV284+7)>=7),\"\",\"～\")","v":"～"},{"$f":"IF(AND(DAY(BV284+7)<23,DAY(BV284+7)>=7),\"\",BV284+7)","v":"2026-02-01"},{"$f":"IF(AND(DAY(BV284+7)<23,DAY(BV284+7)>=7),\"\",IF(COUNTIF(INDEX(BB280:CL280,DAY(BZ284)):INDEX(BB280:CL280,HLOOKUP(CB284,BB276:CL281,6,FALSE)),\"\")+COUNTIF(INDEX(BB280:CL280,DAY(BZ284)):INDEX(BB280:CL280,HLOOKUP(CB284,BB276:CL281,6,FALSE)),\"●\")=7,IF(COUNTIF(INDEX(BB280:CL280,DAY(BZ284)):INDEX(BB280:CL280,HLOOKUP(CB284,BB276:CL281,6,FALSE)),\"●\")>=2,\"OK\",\"OUT\"),IF(COUNTIF(INDEX(BB280:CL280,DAY(BZ284)):INDEX(BB280:CL280,HLOOKUP(CB284,BB276:CL281,6,FALSE)),\"\")+COUNTIF(INDEX(BB280:CL280,DAY(BZ284)):INDEX(BB280:CL280,HLOOKUP(CB284,BB276:CL281,6,FALSE)),\"●\")>7,\"「／」漏れ\",\"対象外\")))","v":"OUT"},null,null,{"$f":"IF(CC284=\"\",\"\",IF(AND(DAY(CB284+7)<23,DAY(CB284+7)>=7),\"\",CB284+1))","v":""},{"$f":"IF(CC284=\"\",\"\",IF(AND(DAY(CB284+7)<23,DAY(CB284+7)>=7),\"\",\"～\"))","v":""},{"$f":"IF(CC284=\"\",\"\",IF(AND(DAY(CB284+7)<23,DAY(CB284+7)>=7),\"\",CB284+7))","v":""},{"$f":"IF(CC284=\"\",\"\",IF(AND(DAY(CB284+7)<23,DAY(CB284+7)>=7),\"\",IF(COUNTIF(INDEX(BB280:CL280,DAY(CF284)):INDEX(BB280:CL280,HLOOKUP(CH284,BB276:CL281,6,FALSE)),\"\")+COUNTIF(INDEX(BB280:CL280,DAY(CF284)):INDEX(BB280:CL280,HLOOKUP(CH284,BB276:CL281,6,FALSE)),\"●\")=7,IF(COUNTIF(INDEX(BB280:CL280,DAY(CF284)):INDEX(BB280:CL280,HLOOKUP(CH284,BB276:CL281,6,FALSE)),\"●\")>=2,\"OK\",\"OUT\"),IF(COUNTIF(INDEX(BB280:CL280,HLOOKUP(CF284,BB276:CL281,6,FALSE)):INDEX(BB280:CL280,HLOOKUP(CH284,BB276:CL281,6,FALSE)),\"\")+COUNTIF(INDEX(BB280:CL280,HLOOKUP(CF284,BB276:CL281,6,FALSE)):INDEX(BB280:CL280,HLOOKUP(CH284,BB276:CL281,6,FALSE)),\"●\")>7,\"「／」漏れ\",\"対象外\"))))","v":""},null,null,null,null,null,null,null,"完全週休二日",{"$f":"IF(CR275=\"\",\"\",IF(COUNTIF(BB284:CL284,\"OUT\")>=1,\"OUT\",\"OK\"))","v":"OUT"},null,null,null,null,"完全",{"$f":"IF(WEEKDAY(DATE(YEAR(CX275),MONTH(CX275),1),2)=1,DATE(YEAR(CX275),MONTH(CX275),1),EOMONTH(CX275,-1)-MOD(WEEKDAY(EOMONTH(CX275,-1),2)+6,7))","v":"2025-12-29"},"～",{"$f":"DATE(YEAR(CX275),MONTH(CX275),1)+MOD(7-WEEKDAY(DATE(YEAR(CX275),MONTH(CX275),1),2),7)","v":"2026-01-04"},{"$f":"IF(DAY(CX284)=1,IF(COUNTIF(CX280:DD280,\"／\")>=1,\"対象外\",IF(COUNTIF(INDEX(CX280:EH280,DAY(CX284)):INDEX(CX280:EH280,HLOOKUP(CZ284,CX276:EH281,6,FALSE)),\"\")+COUNTIF(INDEX(CX280:EH280,DAY(CX284)):INDEX(CX280:EH280,HLOOKUP(CZ284,CX276:EH281,6,FALSE)),\"●\")=7,IF(COUNTIF(INDEX(CX280:EH280,DAY(CX284)):INDEX(CX280:EH280,HLOOKUP(CZ284,CX276:EH281,6,FALSE)),\"●\")>=2,\"OK\",\"OUT\"),IF(COUNTIF(INDEX(CX280:EH280,DAY(CX284)):INDEX(CX280:EH280,HLOOKUP(CZ284,CX276:EH281,6,FALSE)),\"●\")>=COUNTIF(INDEX(CX283:EH283,DAY(CX284)):INDEX(CX283:EH283,HLOOKUP(CZ284,CX276:EH281,6,FALSE)),\"○\"),\"OK\",\"OUT\"))),IF(AND(EE255=\"\",DY255=\"\"),DS255,IF(EE255=\"\",DY255,EE255)))","v":"対象外"},null,null,{"$f":"CZ284+1","v":"2026-01-05"},"～",{"$f":"CZ284+7","v":"2026-01-11"},{"$f":"IF(COUNTIF(INDEX(CX280:EH280,DAY(DD284)):INDEX(CX280:EH280,HLOOKUP(DF284,CX276:EH281,6,FALSE)),\"\")+COUNTIF(INDEX(CX280:EH280,DAY(DD284)):INDEX(CX280:EH280,HLOOKUP(DF284,CX276:EH281,6,FALSE)),\"●\")=7,IF(COUNTIF(INDEX(CX280:EH280,DAY(DD284)):INDEX(CX280:EH280,HLOOKUP(DF284,CX276:EH281,6,FALSE)),\"●\")>=2,\"OK\",\"OUT\"),\"対象外\")","v":"OK"},null,null,{"$f":"DF284+1","v":"2026-01-12"},"～",{"$f":"DF284+7","v":"2026-01-18"},{"$f":"IF(COUNTIF(INDEX(CX280:EH280,DAY(DJ284)):INDEX(CX280:EH280,HLOOKUP(DL284,CX276:EH281,6,FALSE)),\"\")+COUNTIF(INDEX(CX280:EH280,DAY(DJ284)):INDEX(CX280:EH280,HLOOKUP(DL284,CX276:EH281,6,FALSE)),\"●\")=7,IF(COUNTIF(INDEX(CX280:EH280,DAY(DJ284)):INDEX(CX280:EH280,HLOOKUP(DL284,CX276:EH281,6,FALSE)),\"●\")>=2,\"OK\",\"OUT\"),\"対象外\")","v":"OK"},null,null,{"$f":"DL284+1","v":"2026-01-19"},"～",{"$f":"DL284+7","v":"2026-01-25"},{"$f":"IF(COUNTIF(INDEX(CX280:EH280,DAY(DP284)):INDEX(CX280:EH280,HLOOKUP(DR284,CX276:EH281,6,FALSE)),\"\")+COUNTIF(INDEX(CX280:EH280,DAY(DP284)):INDEX(CX280:EH280,HLOOKUP(DR284,CX276:EH281,6,FALSE)),\"●\")=7,IF(COUNTIF(INDEX(CX280:EH280,DAY(DP284)):INDEX(CX280:EH280,HLOOKUP(DR284,CX276:EH281,6,FALSE)),\"●\")>=2,\"OK\",\"OUT\"),\"対象外\")","v":"OK"},null,null,{"$f":"IF(AND(DAY(DR284+7)<23,DAY(DR284+7)>=7),\"\",DR284+1)","v":"2026-01-26"},{"$f":"IF(AND(DAY(DR284+7)<23,DAY(DR284+7)>=7),\"\",\"～\")","v":"～"},{"$f":"IF(AND(DAY(DR284+7)<23,DAY(DR284+7)>=7),\"\",DR284+7)","v":"2026-02-01"},{"$f":"IF(AND(DAY(DR284+7)<23,DAY(DR284+7)>=7),\"\",IF(COUNTIF(INDEX(CX280:EH280,DAY(DV284)):INDEX(CX280:EH280,HLOOKUP(DX284,CX276:EH281,6,FALSE)),\"\")+COUNTIF(INDEX(CX280:EH280,DAY(DV284)):INDEX(CX280:EH280,HLOOKUP(DX284,CX276:EH281,6,FALSE)),\"●\")=7,IF(COUNTIF(INDEX(CX280:EH280,DAY(DV284)):INDEX(CX280:EH280,HLOOKUP(DX284,CX276:EH281,6,FALSE)),\"●\")>=2,\"OK\",\"OUT\"),IF(COUNTIF(INDEX(CX280:EH280,DAY(DV284)):INDEX(CX280:EH280,HLOOKUP(DX284,CX276:EH281,6,FALSE)),\"\")+COUNTIF(INDEX(CX280:EH280,DAY(DV284)):INDEX(CX280:EH280,HLOOKUP(DX284,CX276:EH281,6,FALSE)),\"●\")>7,\"「／」漏れ\",\"対象外\")))","v":"OK"},null,null,{"$f":"IF(DY284=\"\",\"\",IF(AND(DAY(DX284+7)<23,DAY(DX284+7)>=7),\"\",DX284+1))","v":""},{"$f":"IF(DY284=\"\",\"\",IF(AND(DAY(DX284+7)<23,DAY(DX284+7)>=7),\"\",\"～\"))","v":""},{"$f":"IF(DY284=\"\",\"\",IF(AND(DAY(DX284+7)<23,DAY(DX284+7)>=7),\"\",DX284+7))","v":""},{"$f":"IF(DY284=\"\",\"\",IF(AND(DAY(DX284+7)<23,DAY(DX284+7)>=7),\"\",IF(COUNTIF(INDEX(CX280:EH280,DAY(EB284)):INDEX(CX280:EH280,HLOOKUP(ED284,CX276:EH281,6,FALSE)),\"\")+COUNTIF(INDEX(CX280:EH280,DAY(EB284)):INDEX(CX280:EH280,HLOOKUP(ED284,CX276:EH281,6,FALSE)),\"●\")=7,IF(COUNTIF(INDEX(CX280:EH280,DAY(EB284)):INDEX(CX280:EH280,HLOOKUP(ED284,CX276:EH281,6,FALSE)),\"●\")>=2,\"OK\",\"OUT\"),IF(COUNTIF(INDEX(CX280:EH280,HLOOKUP(EB284,CX276:EH281,6,FALSE)):INDEX(CX280:EH280,HLOOKUP(ED284,CX276:EH281,6,FALSE)),\"\")+COUNTIF(INDEX(CX280:EH280,HLOOKUP(EB284,CX276:EH281,6,FALSE)):INDEX(CX280:EH280,HLOOKUP(ED284,CX276:EH281,6,FALSE)),\"●\")>7,\"「／」漏れ\",\"対象外\"))))","v":""},null,null,null,null,null,null,null,"完全週休二日",{"$f":"IF(EN275=\"\",\"\",IF(COUNTIF(CX284:EH284,\"OUT\")>=1,\"OUT\",\"OK\"))","v":"OK"}]
[""]
[{"$f":"IF(AND(NOT($AT$275=\"\"),$AT$304=\"\"),\"対象期間\",\"\")","v":""}]
[{"$f":"IF(AND(NOT($AT$275=\"\"),$AT$304=\"\"),\"対象期間\",\"\")","v":""},null,"※１工事着手日：始期日以降に準備工事（現場事務所の建設・測量等）、工場製作を含む工事における工場製作工に着手した日",null,null,null,null,null,null,null,null,null,null,null,null,null,null,null,null,null,null,null,null,null,null,null,null,null,null,null,null,null,null,null,null,null,null,null,null,null,null,null,null,"工事全体の確認",null,null,null,null,null,null,null,null,"※１工事着手日：始期日以降に準備工事（現場事務所の建設・測量等）、工場製作を含む工事における工場製作工に着手した日",null,null,null,null,null,null,null,null,null,null,null,null,null,null,null,null,null,null,null,null,null,null,null,null,null,null,null,null,null,null,null,null,null,null,null,null,null,null,null,null,"工事全体の確認",null,null,null,null,null,null,"※１工事着手日：始期日以降に準備工事（現場事務所の建設・測量等）、工場製作を含む工事における工場製作工に着手した日",null,null,null,null,null,null,null,null,null,null,null,null,null,null,null,null,null,null,null,null,null,null,null,null,null,null,null,null,null,null,null,null,null,null,null,null,null,null,null,null,"工事全体の確認"]
["",null,"※２作業完了日：工事施工範囲内で全ての作業（後片付けを含む）が完了した日\n　　　　　　　　　  （工事現場事務所は工事施工範囲外に設置するため、ここでいう後片付けの対象に含まない）",null,null,null,null,null,null,null,null,null,null,null,null,null,null,null,null,null,null,null,null,null,null,null,null,null,null,null,null,null,null,null,null,null,null,null,null,null,null,null,null,"計画","全対象期間",{"$f":"IFERROR(AT259+AT275,\"\")","v":""},null,null,null,null,null,null,"※２作業完了日：工事施工範囲内で全ての作業（後片付けを含む）が完了した日\n　　　　　　　　　  （工事現場事務所は工事施工範囲外に設置するため、ここでいう後片付けの対象に含まない）",null,null,null,null,null,null,null,null,null,null,null,null,null,null,null,null,null,null,null,null,null,null,null,null,null,null,null,null,null,null,null,null,null,null,null,null,null,null,null,null,"計画","全対象期間",{"$f":"IFERROR(CR259+CR275,\"\")","v":""},null,null,null,null,"※２作業完了日：工事施工範囲内で全ての作業（後片付けを含む）が完了した日\n　　　　　　　　　  （工事現場事務所は工事施工範囲外に設置するため、ここでいう後片付けの対象に含まない）",null,null,null,null,null,null,null,null,null,null,null,null,null,null,null,null,null,null,null,null,null,null,null,null,null,null,null,null,null,null,null,null,null,null,null,null,null,null,null,null,"計画","全対象期間",{"$f":"IFERROR(EN259+EN275,\"\")","v":256}]
["",null,null,null,null,null,null,null,null,null,null,null,null,null,null,null,null,null,null,null,null,null,null,null,null,null,null,null,null,null,null,null,null,null,null,null,null,null,null,null,null,null,null,null,"全現場閉所日数",{"$f":"IFERROR(AT260+AT276,\"\")","v":""},null,null,null,null,null,null,null,null,null,null,null,null,null,null,null,null,null,null,null,null,null,null,null,null,null,null,null,null,null,null,null,null,null,null,null,null,null,null,null,null,null,null,null,null,null,null,null,null,"全現場閉所日数",{"$f":"IFERROR(CR260+CR276,\"\")","v":""},null,null,null,null,null,null,null,null,null,null,null,null,null,null,null,null,null,null,null,null,null,null,null,null,null,null,null,null,null,null,null,null,null,null,null,null,null,null,null,null,null,null,null,null,null,null,"全現場閉所日数",{"$f":"IFERROR(EN260+EN276,\"\")","v":80}]
["",null,"【算定除外期間】：夏季休暇（8月13日～8月15日）、年末年始（12月29日～翌年1月3日）は算定期間の分母・分子に含めない",null,null,null,null,null,null,null,null,null,null,null,null,null,null,null,null,null,null,null,null,null,null,null,null,null,null,null,null,null,null,null,null,null,null,null,null,null,null,null,null,null,"現場閉所率",{"$f":"IFERROR(+AT289/AT288,\"\")","v":""},{"$f":"IF(AT290>=0.285,\"4週8休以上\",\"週休2日未達成\")","v":"4週8休以上"},null,null,null,null,null,"【算定除外期間】：夏季休暇（8月13日～8月15日）、年末年始（12月29日～翌年1月3日）は算定期間の分母・分子に含めない",null,null,null,null,null,null,null,null,null,null,null,null,null,null,null,null,null,null,null,null,null,null,null,null,null,null,null,null,null,null,null,null,null,null,null,null,null,null,null,null,null,"現場閉所率",{"$f":"IFERROR(+CR289/CR288,\"\")","v":""},{"$f":"IF(CR290>=0.285,\"4週8休以上\",\"週休2日未達成\")","v":"4週8休以上"},null,null,null,"【算定除外期間】：夏季休暇（8月13日～8月15日）、年末年始（12月29日～翌年1月3日）は算定期間の分母・分子に含めない",null,null,null,null,null,null,null,null,null,null,null,null,null,null,null,null,null,null,null,null,null,null,null,null,null,null,null,null,null,null,null,null,null,null,null,null,null,null,null,null,null,"現場閉所率",{"$f":"IFERROR(+EN289/EN288,\"\")","v":0.3125},{"$f":"IF(EN290>=0.285,\"4週8休以上\",\"週休2日未達成\")","v":"4週8休以上"}]
["",null,"※３工事期間の全ての月において、達成状況を確認し、一度でも達成できない月があれば、４週８休以上（月単位）は「未達成」となり、補正の対象とならない。\n　　月によっては、土日を全て閉所しても現場閉所率が28.5％に満たない場合があるが、その月の対象期間の土日日数以上閉所していれば達成とみなす。\n\n※４工事対象期間のうち、一度でも完全週休２日（月～日で２日以上の現場閉所）を達成できなければ、\n　　 完全週休２日は「未達成」となり、補正の対象とならない。\n　　 なお、工期始期・終期、年末年始、夏季休暇などにより、７日間に満たない期間は完全週休２日の達成判断の対象外とする。",null,null,null,null,null,null,null,null,null,null,null,null,null,null,null,null,null,null,null,null,null,null,null,null,null,null,null,null,null,null,null,null,null,null,null,null,null,null,null,null,"実施","全対象期間",{"$f":"IFERROR(AT262+AT278,\"\")","v":""},null,null,null,null,null,null,"※３工事期間の全ての月において、達成状況を確認し、一度でも達成できない月があれば、４週８休以上（月単位）は「未達成」となり、補正の対象とならない。\n　　月によっては、土日を全て閉所しても現場閉所率が28.5％に満たない場合があるが、その月の対象期間の土日日数以上閉所していれば達成とみなす。\n\n※４工事対象期間のうち、一度でも完全週休２日（月～日で２日以上の現場閉所）を達成できなければ、\n　　 完全週休２日は「未達成」となり、補正の対象とならない。\n　　 なお、工期始期・終期、年末年始、夏季休暇などにより、７日間に満たない期間は完全週休２日の達成判断の対象外とする。",null,null,null,null,null,null,null,null,null,null,null,null,null,null,null,null,null,null,null,null,null,null,null,null,null,null,null,null,null,null,null,null,null,null,null,null,null,null,null,null,"実施","全対象期間",{"$f":"IFERROR(CR262+CR278,\"\")","v":""},null,null,null,null,"※３工事期間の全ての月において、達成状況を確認し、一度でも達成できない月があれば、４週８休以上（月単位）は「未達成」となり、補正の対象とならない。\n　　月によっては、土日を全て閉所しても現場閉所率が28.5％に満たない場合があるが、その月の対象期間の土日日数以上閉所していれば達成とみなす。\n\n※４工事対象期間のうち、一度でも完全週休２日（月～日で２日以上の現場閉所）を達成できなければ、\n　　 完全週休２日は「未達成」となり、補正の対象とならない。\n　　 なお、工期始期・終期、年末年始、夏季休暇などにより、７日間に満たない期間は完全週休２日の達成判断の対象外とする。",null,null,null,null,null,null,null,null,null,null,null,null,null,null,null,null,null,null,null,null,null,null,null,null,null,null,null,null,null,null,null,null,null,null,null,null,null,null,null,null,"実施","全対象期間",{"$f":"IFERROR(EN262+EN278,\"\")","v":256}]
["",null,null,null,null,null,null,null,null,null,null,null,null,null,null,null,null,null,null,null,null,null,null,null,null,null,null,null,null,null,null,null,null,null,null,null,null,null,null,null,null,null,null,null,"全現場閉所日数",{"$f":"IFERROR(AT263+AT279,\"\")","v":""},null,null,null,null,null,null,null,null,null,null,null,null,null,null,null,null,null,null,null,null,null,null,null,null,null,null,null,null,null,null,null,null,null,null,null,null,null,null,null,null,null,null,null,null,null,null,null,null,"全現場閉所日数",{"$f":"IFERROR(CR263+CR279,\"\")","v":""},null,null,null,null,null,null,null,null,null,null,null,null,null,null,null,null,null,null,null,null,null,null,null,null,null,null,null,null,null,null,null,null,null,null,null,null,null,null,null,null,null,null,null,null,null,null,"全現場閉所日数",{"$f":"IFERROR(EN263+EN279,\"\")","v":79}]
["",null,null,null,null,null,null,null,null,null,null,null,null,null,null,null,null,null,null,null,null,null,null,null,null,null,null,null,null,null,null,null,null,null,null,null,null,null,null,null,null,null,null,null,"現場閉所率",{"$f":"IFERROR(+AT292/AT291,\"\")","v":""},{"$f":"IF(AT293>=0.285,\"4週8休以上\",\"週休2日未達成\")","v":"4週8休以上"},null,null,null,null,null,null,null,null,null,null,null,null,null,null,null,null,null,null,null,null,null,null,null,null,null,null,null,null,null,null,null,null,null,null,null,null,null,null,null,null,null,null,null,null,null,null,null,"現場閉所率",{"$f":"IFERROR(+CR292/CR291,\"\")","v":""},{"$f":"IF(CR293>=0.285,\"4週8休以上\",\"週休2日未達成\")","v":"4週8休以上"},null,null,null,null,null,null,null,null,null,null,null,null,null,null,null,null,null,null,null,null,null,null,null,null,null,null,null,null,null,null,null,null,null,null,null,null,null,null,null,null,null,null,null,null,null,"現場閉所率",{"$f":"IFERROR(+EN292/EN291,\"\")","v":0.30859375},{"$f":"IF(EN293>=0.285,\"4週8休以上\",\"週休2日未達成\")","v":"4週8休以上"}]
["",null,null,null,null,null,null,null,null,null,null,null,null,null,null,null,null,null,null,null,null,null,null,null,null,null,null,null,null,null,null,null,null,null,null,null,null,null,null,null,null,null,null,null,"閉所（月単位）",{"$f":"IFERROR(COUNTIF(AS$14:$AS284,\"4週8休以上\")/(COUNTIF(AS$14:$AS284,\"4週8休以上\")+COUNTIF(AS$14:$AS284,\"週休2日未達成\")),\"\")","v":""},{"$f":"IF(OR(AT294=100%,AT294=\"\"),\"達成\",\"未達成\")","v":"達成"},null,null,null,null,null,null,null,null,null,null,null,null,null,null,null,null,null,null,null,null,null,null,null,null,null,null,null,null,null,null,null,null,null,null,null,null,null,null,null,null,null,null,null,null,null,null,null,"閉所（月単位）",{"$f":"IFERROR(COUNTIF(CQ$14:$CQ284,\"4週8休以上\")/(COUNTIF(CQ$14:$CQ284,\"4週8休以上\")+COUNTIF(CQ$14:$CQ284,\"週休2日未達成\")),\"\")","v":0},{"$f":"IF(OR(CR294=100%,CR294=\"\"),\"達成\",\"未達成\")","v":"未達成"},null,null,null,null,null,null,null,null,null,null,null,null,null,null,null,null,null,null,null,null,null,null,null,null,null,null,null,null,null,null,null,null,null,null,null,null,null,null,null,null,null,null,null,null,null,"閉所（月単位）",{"$f":"IFERROR(COUNTIF($EM$14:EM284,\"4週8休以上\")/(COUNTIF($EM$14:EM284,\"4週8休以上\")+COUNTIF($EM$14:EM284,\"週休2日未達成\")),\"\")","v":1},{"$f":"IF(OR(EN294=100%,EN294=\"\"),\"達成\",\"未達成\")","v":"達成"}]
["",null,null,null,null,null,null,null,null,null,null,null,null,null,null,null,null,null,null,null,null,null,null,null,null,null,null,null,null,null,null,null,null,null,null,null,null,null,null,null,null,null,null,null,"完全週休二日",{"$f":"IF(COUNTIF(AS$14:$AS284,\"OUT\")>=1,\"OUT\",\"OK\")","v":"OK"},{"$f":"IF(AT295=\"OK\",\"達成\",\"未達成\")","v":"達成"},null,null,null,null,null,null,null,null,null,null,null,null,null,null,null,null,null,null,null,null,null,null,null,null,null,null,null,null,null,null,null,null,null,null,null,null,null,null,null,null,null,null,null,null,null,null,null,"完全週休二日",{"$f":"IF(COUNTIF(CQ$14:$CQ284,\"OUT\")>=1,\"OUT\",\"OK\")","v":"OUT"},{"$f":"IF(CR295=\"OK\",\"達成\",\"未達成\")","v":"未達成"},null,null,null,null,null,null,null,null,null,null,null,null,null,null,null,null,null,null,null,null,null,null,null,null,null,null,null,null,null,null,null,null,null,null,null,null,null,null,null,null,null,null,null,null,null,"完全週休二日",{"$f":"IF(COUNTIF($EM$14:EM284,\"OUT\")>=1,\"OUT\",\"OK\")","v":"OUT"},{"$f":"IF(EN295=\"OK\",\"達成\",\"未達成\")","v":"未達成"}]
["",null,"※必要に応じて各月の完全週休2日（月～日）の達成判定の行を修正してください。（曜日に合わせて修正）",null,null,null,null,null,null,null,null,null,null,null,null,null,null,null,null,null,null,null,null,null,null,null,null,null,null,null,null,null,null,null,null,null,null,null,null,null,null,null,null,null,null,null,null,null,null,null,null,null,"※必要に応じて各月の完全週休2日（月～日）の達成判定の行を修正してください。（曜日に合わせて修正）",null,null,null,null,null,null,null,null,null,null,null,null,null,null,null,null,null,null,null,null,null,null,null,null,null,null,null,null,null,null,null,null,null,null,null,null,null,null,null,null,null,null,null,null,null,null,null,"※必要に応じて各月の完全週休2日（月～日）の達成判定の行を修正してください。（曜日に合わせて修正）"]
[""]
[""]
[""]
[""]
[""]
["",null,"算定除外期間以外の祝日（ＧＷ含む）は、算定期間（分母）の対象＝現場閉所の場合は分子にカウントして現場閉所率を算定",null,null,null,null,null,null,null,null,null,null,null,null,null,null,null,null,null,null,null,null,null,null,null,null,null,null,null,null,null,null,null,null,null,null,null,null,null,null,null,null,null,null,null,null,null,null,null,null,null,"算定除外期間以外の祝日（ＧＷ含む）は、算定期間（分母）の対象＝現場閉所の場合は分子にカウントして現場閉所率を算定",null,null,null,null,null,null,null,null,null,null,null,null,null,null,null,null,null,null,null,null,null,null,null,null,null,null,null,null,null,null,null,null,null,null,null,null,null,null,null,null,null,null,null,null,null,null,null,"算定除外期間以外の祝日（ＧＷ含む）は、算定期間（分母）の対象＝現場閉所の場合は分子にカウントして現場閉所率を算定"]
[""]
[{"$f":"IF($AT$304=\"\",\"\",\"対象期間\")","v":""},null,"月",{"$f":"DATE(YEAR(D275),MONTH(D275)+1,1)","v":"2026-02-01"},null,null,null,null,null,null,null,null,null,null,null,null,null,null,null,null,null,null,null,null,null,null,null,null,null,null,null,null,null,null,{"$f":"DATE(YEAR(D304),MONTH(D304)+1,1)","v":"2026-03-01"},null,null,null,null,null,"現場閉所計","現場閉所累計",null,"計画","対象期間",{"$f":"IF(IF(MONTH(入力表!$E$6)=12,YEAR(入力表!$E$6)+1&\"01\",YEAR(入力表!$E$6)&TEXT(MONTH(入力表!$E$6)+1,\"00\"))>YEAR($D304)&TEXT(MONTH($D304),\"00\"),COUNTIF(D308:AH308,\"\")+COUNTIF(D308:AH308,\"○\"),\"\")","v":""},{"$f":"IF(COUNTIF(D305:AH305,\"／\")=0,\"\",IF(COUNTIF(D305:AH305,\"／\")=1,IF(AH308=\"／\",\"\",\"月末「／」漏れ\"),IF(COUNTIF(D305:AH305,\"／\")=2,IF(AND(AG308=\"／\",AH308=\"／\"),\"\",\"月末「／」漏れ\"),IF(AND(AF308=\"／\",AG308=\"／\",AH308=\"／\"),\"\",\"月末「／」漏れ\"))))","v":"月末「／」漏れ"},null,null,null,null,null,"月",{"$f":"DATE(YEAR(BB275),MONTH(BB275)+1,1)","v":"2026-02-01"},null,null,null,null,null,null,null,null,null,null,null,null,null,null,null,null,null,null,null,null,null,null,null,null,null,null,null,null,null,null,{"$f":"DATE(YEAR(BB304),MONTH(BB304)+1,1)","v":"2026-03-01"},null,null,null,null,null,"現場閉所計","現場閉所累計",null,"計画","対象期間",{"$f":"IF(IF(MONTH($BL$5)=12,YEAR($BL$5)+1&\"01\",YEAR($BL$5)&TEXT(MONTH($BL$5)+1,\"00\"))>YEAR(BB304)&TEXT(MONTH(BB304),\"00\"),COUNTIF(BB308:CF308,\"\")+COUNTIF(BB308:CF308,\"○\"),\"\")","v":28},{"$f":"IF(COUNTIF(BB305:CF305,\"／\")=0,\"\",IF(COUNTIF(BB305:CF305,\"／\")=1,IF(CF308=\"／\",\"\",\"月末「／」漏れ\"),IF(COUNTIF(BB305:CF305,\"／\")=2,IF(AND(CE308=\"／\",CF308=\"／\"),\"\",\"月末「／」漏れ\"),IF(AND(CD308=\"／\",CE308=\"／\",CF308=\"／\"),\"\",\"月末「／」漏れ\"))))","v":""},null,null,null,"月",{"$f":"DATE(YEAR(CX275),MONTH(CX275)+1,1)","v":"2026-02-01"},null,null,null,null,null,null,null,null,null,null,null,null,null,null,null,null,null,null,null,null,null,null,null,null,null,null,null,null,null,null,{"$f":"DATE(YEAR(CX304),MONTH(CX304)+1,1)","v":"2026-03-01"},null,null,null,null,null,"現場閉所計","現場閉所累計",null,"計画","対象期間",{"$f":"IF(IF(MONTH($BL$5)=12,YEAR($BL$5)+1&\"01\",YEAR($BL$5)&TEXT(MONTH($BL$5)+1,\"00\"))>YEAR($CX304)&TEXT(MONTH($CX304),\"00\"),COUNTIF(CX308:EB308,\"\")+COUNTIF(CX308:EB308,\"○\"),\"\")","v":28},{"$f":"IF(COUNTIF(CX305:EB305,\"／\")=0,\"\",IF(COUNTIF(CX305:EB305,\"／\")=1,IF(EB308=\"／\",\"\",\"月末「／」漏れ\"),IF(COUNTIF(CX305:EB305,\"／\")=2,IF(AND(EA308=\"／\",EB308=\"／\"),\"\",\"月末「／」漏れ\"),IF(AND(DZ308=\"／\",EA308=\"／\",EB308=\"／\"),\"\",\"月末「／」漏れ\"))))","v":""}]
[{"$f":"IF($AT$304=\"\",\"\",\"対象期間\")","v":""},null,"日",{"$f":"D304","v":"2026-02-01"},{"$f":"D305+1","v":"2026-02-02"},{"$f":"E305+1","v":"2026-02-03"},{"$f":"F305+1","v":"2026-02-04"},{"$f":"G305+1","v":"2026-02-05"},{"$f":"H305+1","v":"2026-02-06"},{"$f":"I305+1","v":"2026-02-07"},{"$f":"J305+1","v":"2026-02-08"},{"$f":"K305+1","v":"2026-02-09"},{"$f":"L305+1","v":"2026-02-10"},{"$f":"M305+1","v":"2026-02-11"},{"$f":"N305+1","v":"2026-02-12"},{"$f":"O305+1","v":"2026-02-13"},{"$f":"P305+1","v":"2026-02-14"},{"$f":"Q305+1","v":"2026-02-15"},{"$f":"R305+1","v":"2026-02-16"},{"$f":"S305+1","v":"2026-02-17"},{"$f":"T305+1","v":"2026-02-18"},{"$f":"U305+1","v":"2026-02-19"},{"$f":"V305+1","v":"2026-02-20"},{"$f":"W305+1","v":"2026-02-21"},{"$f":"X305+1","v":"2026-02-22"},{"$f":"Y305+1","v":"2026-02-23"},{"$f":"Z305+1","v":"2026-02-24"},{"$f":"AA305+1","v":"2026-02-25"},{"$f":"AB305+1","v":"2026-02-26"},{"$f":"AC305+1","v":"2026-02-27"},{"$f":"AD305+1","v":"2026-02-28"},{"$f":"IF(AE305=\"／\",\"／\",IF(YEAR($D304)&TEXT(MONTH($D304),\"00\")<YEAR(AE305+1)&TEXT(MONTH(AE305+1),\"00\"),\"／\",AE305+1))","v":"／"},{"$f":"IF(AF305=\"／\",\"／\",IF(YEAR($D304)&TEXT(MONTH($D304),\"00\")<YEAR(AF305+1)&TEXT(MONTH(AF305+1),\"00\"),\"／\",AF305+1))","v":"／"},{"$f":"IF(AG305=\"／\",\"／\",IF(YEAR($D304)&TEXT(MONTH($D304),\"00\")<YEAR(AG305+1)&TEXT(MONTH(AG305+1),\"00\"),\"／\",AG305+1))","v":"／"},{"$f":"AI304","v":"2026-03-01"},{"$f":"AI305+1","v":"2026-03-02"},{"$f":"AJ305+1","v":"2026-03-03"},{"$f":"AK305+1","v":"2026-03-04"},{"$f":"AL305+1","v":"2026-03-05"},{"$f":"AM305+1","v":"2026-03-06"},null,null,null,null,"閉所日数",{"$f":"IF(IF(MONTH(入力表!$E$6)=12,YEAR(入力表!$E$6)+1&\"01\",YEAR(入力表!$E$6)&TEXT(MONTH(入力表!$E$6)+1,\"00\"))>YEAR($D304)&TEXT(MONTH($D304),\"00\"),COUNTIF(D308:AH308,\"○\"),\"\")","v":""},{"$f":"IF(OR(MONTH(D304)=1,MONTH(D304)=8,MONTH(D304)=12),IF(COUNTIF(D308:AH308,\"／\")>=3,\"\",\"算定除外「／」漏れ\"),\"\")","v":""},null,null,null,null,null,"日",{"$f":"BB304","v":"2026-02-01"},{"$f":"BB305+1","v":"2026-02-02"},{"$f":"BC305+1","v":"2026-02-03"},{"$f":"BD305+1","v":"2026-02-04"},{"$f":"BE305+1","v":"2026-02-05"},{"$f":"BF305+1","v":"2026-02-06"},{"$f":"BG305+1","v":"2026-02-07"},{"$f":"BH305+1","v":"2026-02-08"},{"$f":"BI305+1","v":"2026-02-09"},{"$f":"BJ305+1","v":"2026-02-10"},{"$f":"BK305+1","v":"2026-02-11"},{"$f":"BL305+1","v":"2026-02-12"},{"$f":"BM305+1","v":"2026-02-13"},{"$f":"BN305+1","v":"2026-02-14"},{"$f":"BO305+1","v":"2026-02-15"},{"$f":"BP305+1","v":"2026-02-16"},{"$f":"BQ305+1","v":"2026-02-17"},{"$f":"BR305+1","v":"2026-02-18"},{"$f":"BS305+1","v":"2026-02-19"},{"$f":"BT305+1","v":"2026-02-20"},{"$f":"BU305+1","v":"2026-02-21"},{"$f":"BV305+1","v":"2026-02-22"},{"$f":"BW305+1","v":"2026-02-23"},{"$f":"BX305+1","v":"2026-02-24"},{"$f":"BY305+1","v":"2026-02-25"},{"$f":"BZ305+1","v":"2026-02-26"},{"$f":"CA305+1","v":"2026-02-27"},{"$f":"CB305+1","v":"2026-02-28"},{"$f":"IF(CC305=\"／\",\"／\",IF(YEAR(BB304)&TEXT(MONTH(BB304),\"00\")<YEAR(CC305+1)&TEXT(MONTH(CC305+1),\"00\"),\"／\",CC305+1))","v":"／"},{"$f":"IF(CD305=\"／\",\"／\",IF(YEAR(BB304)&TEXT(MONTH(BB304),\"00\")<YEAR(CD305+1)&TEXT(MONTH(CD305+1),\"00\"),\"／\",CD305+1))","v":"／"},{"$f":"IF(CE305=\"／\",\"／\",IF(YEAR(BB304)&TEXT(MONTH(BB304),\"00\")<YEAR(CE305+1)&TEXT(MONTH(CE305+1),\"00\"),\"／\",CE305+1))","v":"／"},{"$f":"CG304","v":"2026-03-01"},{"$f":"CG305+1","v":"2026-03-02"},{"$f":"CH305+1","v":"2026-03-03"},{"$f":"CI305+1","v":"2026-03-04"},{"$f":"CJ305+1","v":"2026-03-05"},{"$f":"CK305+1","v":"2026-03-06"},null,null,null,null,"閉所日数",{"$f":"IF(IF(MONTH($BL$5)=12,YEAR($BL$5)+1&\"01\",YEAR($BL$5)&TEXT(MONTH($BL$5)+1,\"00\"))>YEAR(BB304)&TEXT(MONTH(BB304),\"00\"),COUNTIF(BB308:CF308,\"○\"),\"\")","v":8},{"$f":"IF(OR(MONTH(BB304)=1,MONTH(BB304)=8,MONTH(BB304)=12),IF(COUNTIF(BB308:CF308,\"／\")>=3,\"\",\"算定除外「／」漏れ\"),\"\")","v":""},null,null,null,"日",{"$f":"CX304","v":"2026-02-01"},{"$f":"CX305+1","v":"2026-02-02"},{"$f":"CY305+1","v":"2026-02-03"},{"$f":"CZ305+1","v":"2026-02-04"},{"$f":"DA305+1","v":"2026-02-05"},{"$f":"DB305+1","v":"2026-02-06"},{"$f":"DC305+1","v":"2026-02-07"},{"$f":"DD305+1","v":"2026-02-08"},{"$f":"DE305+1","v":"2026-02-09"},{"$f":"DF305+1","v":"2026-02-10"},{"$f":"DG305+1","v":"2026-02-11"},{"$f":"DH305+1","v":"2026-02-12"},{"$f":"DI305+1","v":"2026-02-13"},{"$f":"DJ305+1","v":"2026-02-14"},{"$f":"DK305+1","v":"2026-02-15"},{"$f":"DL305+1","v":"2026-02-16"},{"$f":"DM305+1","v":"2026-02-17"},{"$f":"DN305+1","v":"2026-02-18"},{"$f":"DO305+1","v":"2026-02-19"},{"$f":"DP305+1","v":"2026-02-20"},{"$f":"DQ305+1","v":"2026-02-21"},{"$f":"DR305+1","v":"2026-02-22"},{"$f":"DS305+1","v":"2026-02-23"},{"$f":"DT305+1","v":"2026-02-24"},{"$f":"DU305+1","v":"2026-02-25"},{"$f":"DV305+1","v":"2026-02-26"},{"$f":"DW305+1","v":"2026-02-27"},{"$f":"DX305+1","v":"2026-02-28"},{"$f":"IF(DY305=\"／\",\"／\",IF(YEAR(CX304)&TEXT(MONTH(CX304),\"00\")<YEAR(DY305+1)&TEXT(MONTH(DY305+1),\"00\"),\"／\",DY305+1))","v":"／"},{"$f":"IF(DZ305=\"／\",\"／\",IF(YEAR(CX304)&TEXT(MONTH(CX304),\"00\")<YEAR(DZ305+1)&TEXT(MONTH(DZ305+1),\"00\"),\"／\",DZ305+1))","v":"／"},{"$f":"IF(EA305=\"／\",\"／\",IF(YEAR(CX304)&TEXT(MONTH(CX304),\"00\")<YEAR(EA305+1)&TEXT(MONTH(EA305+1),\"00\"),\"／\",EA305+1))","v":"／"},{"$f":"EC304","v":"2026-03-01"},{"$f":"EC305+1","v":"2026-03-02"},{"$f":"ED305+1","v":"2026-03-03"},{"$f":"EE305+1","v":"2026-03-04"},{"$f":"EF305+1","v":"2026-03-05"},{"$f":"EG305+1","v":"2026-03-06"},null,null,null,null,"閉所日数",{"$f":"IF(IF(MONTH($BL$5)=12,YEAR($BL$5)+1&\"01\",YEAR($BL$5)&TEXT(MONTH($BL$5)+1,\"00\"))>YEAR($CX304)&TEXT(MONTH($CX304),\"00\"),COUNTIF(CX308:EB308,\"○\"),\"\")","v":8},{"$f":"IF(OR(MONTH(CX304)=1,MONTH(CX304)=8,MONTH(CX304)=12),IF(COUNTIF(CX308:EB308,\"／\")>=3,\"\",\"算定除外「／」漏れ\"),\"\")","v":""}]
["",null,"曜日",{"$f":"TEXT(WEEKDAY(+D305),\"aaa\")","v":"日"},{"$f":"TEXT(WEEKDAY(+E305),\"aaa\")","v":"月"},"火","水","木",{"$f":"TEXT(WEEKDAY(+I305),\"aaa\")","v":"金"},{"$f":"TEXT(WEEKDAY(+J305),\"aaa\")","v":"土"},"日","月","火","水","木","金","土","日","月","火","水","木","金","土","日",{"$f":"TEXT(WEEKDAY(+Z305),\"aaa\")","v":"月"},{"$f":"TEXT(WEEKDAY(+AA305),\"aaa\")","v":"火"},"水","木","金","土",{"$f":"IF(AF305=\"／\",\"／\",TEXT(WEEKDAY(+AF305),\"aaa\"))","v":"／"},{"$f":"IF(AG305=\"／\",\"／\",TEXT(WEEKDAY(+AG305),\"aaa\"))","v":"／"},"／",{"$f":"TEXT(WEEKDAY(+AI305),\"aaa\")","v":"日"},{"$f":"TEXT(WEEKDAY(+AJ305),\"aaa\")","v":"月"},"火","水","木","金",null,null,null,null,"現場閉所率",{"$f":"IFERROR(+AT305/AT304,\"\")","v":""},{"$f":"IF(AT306=\"\",\"\",IF(COUNTIF(D308:AH308,\"○\")>=COUNTIF(D311:AH311,\"◎\"),\"4週8休以上\",IF(AT306>=0.285,\"4週8休以上\",\"週休2日未達成\")))","v":""},null,null,null,null,null,"曜日",{"$f":"TEXT(WEEKDAY(+BB305),\"aaa\")","v":"日"},{"$f":"TEXT(WEEKDAY(+BC305),\"aaa\")","v":"月"},"火","水","木",{"$f":"TEXT(WEEKDAY(+BG305),\"aaa\")","v":"金"},{"$f":"TEXT(WEEKDAY(+BH305),\"aaa\")","v":"土"},"日","月","火","水","木","金","土","日","月","火","水","木","金","土","日",{"$f":"TEXT(WEEKDAY(+BX305),\"aaa\")","v":"月"},{"$f":"TEXT(WEEKDAY(+BY305),\"aaa\")","v":"火"},"水","木","金","土",{"$f":"IF(CD305=\"／\",\"／\",TEXT(WEEKDAY(+CD305),\"aaa\"))","v":"／"},{"$f":"IF(CE305=\"／\",\"／\",TEXT(WEEKDAY(+CE305),\"aaa\"))","v":"／"},"／",{"$f":"TEXT(WEEKDAY(+CG305),\"aaa\")","v":"日"},{"$f":"TEXT(WEEKDAY(+CH305),\"aaa\")","v":"月"},"火","水","木","金",null,null,null,null,"現場閉所率",{"$f":"IFERROR(+CR305/CR304,\"\")","v":0.2857142857142857},{"$f":"IF(CR306=\"\",\"\",IF(COUNTIF(BB308:CF308,\"○\")>=COUNTIF(BB311:CF311,\"◎\"),\"4週8休以上\",IF(CR306>=0.285,\"4週8休以上\",\"週休2日未達成\")))","v":"4週8休以上"},null,null,null,"曜日",{"$f":"TEXT(WEEKDAY(+CX305),\"aaa\")","v":"日"},{"$f":"TEXT(WEEKDAY(+CY305),\"aaa\")","v":"月"},"火","水","木",{"$f":"TEXT(WEEKDAY(+DC305),\"aaa\")","v":"金"},{"$f":"TEXT(WEEKDAY(+DD305),\"aaa\")","v":"土"},"日","月","火","水","木","金","土","日","月","火","水","木","金","土","日",{"$f":"TEXT(WEEKDAY(+DT305),\"aaa\")","v":"月"},{"$f":"TEXT(WEEKDAY(+DU305),\"aaa\")","v":"火"},"水","木","金","土",{"$f":"IF(DZ305=\"／\",\"／\",TEXT(WEEKDAY(+DZ305),\"aaa\"))","v":"／"},{"$f":"IF(EA305=\"／\",\"／\",TEXT(WEEKDAY(+EA305),\"aaa\"))","v":"／"},"／",{"$f":"TEXT(WEEKDAY(+EC305),\"aaa\")","v":"日"},{"$f":"TEXT(WEEKDAY(+ED305),\"aaa\")","v":"月"},"火","水","木","金",null,null,null,null,"現場閉所率",{"$f":"IFERROR(+EN305/EN304,\"\")","v":0.2857142857142857},{"$f":"IF(EN306=\"\",\"\",IF(COUNTIF(CX308:EB308,\"○\")>=COUNTIF(CX311:EB311,\"◎\"),\"4週8休以上\",IF(EN306>=0.285,\"4週8休以上\",\"週休2日未達成\")))","v":"4週8休以上"}]
["",null,"行事",null,null,null,null,null,null,null,null,null,null,null,null,null,null,null,null,null,null,null,null,null,null,null,null,null,null,null,null,null,null,null,{"$f":"IF(D336=\"\",\"\",D336)","v":""},{"$f":"IF(E336=\"\",\"\",E336)","v":""},{"$f":"IF(F336=\"\",\"\",F336)","v":""},{"$f":"IF(G336=\"\",\"\",G336)","v":""},{"$f":"IF(H336=\"\",\"\",H336)","v":""},{"$f":"IF(I336=\"\",\"\",I336)","v":""},null,null,null,"実施","対象期間",{"$f":"IF(IF(MONTH(入力表!$E$6)=12,YEAR(入力表!$E$6)+1&\"01\",YEAR(入力表!$E$6)&TEXT(MONTH(入力表!$E$6)+1,\"00\"))>YEAR($D304)&TEXT(MONTH($D304),\"00\"),COUNTIF(D309:AH309,\"\")+COUNTIF(D309:AH309,\"●\"),\"\")","v":""},{"$f":"IF(COUNTIF(D305:AH305,\"／\")=0,\"\",IF(COUNTIF(D305:AH305,\"／\")=1,IF(AH309=\"／\",\"\",\"月末「／」漏れ\"),IF(COUNTIF(D305:AH305,\"／\")=2,IF(AND(AG309=\"／\",AH309=\"／\"),\"\",\"月末「／」漏れ\"),IF(AND(AF309=\"／\",AG309=\"／\",AH309=\"／\"),\"\",\"月末「／」漏れ\"))))","v":"月末「／」漏れ"},null,null,null,null,null,"行事",null,null,null,null,null,null,null,null,null,null,null,null,null,null,null,null,null,null,null,null,null,null,null,null,null,null,null,null,null,null,null,{"$f":"IF(BB336=\"\",\"\",BB336)","v":""},{"$f":"IF(BC336=\"\",\"\",BC336)","v":""},{"$f":"IF(BD336=\"\",\"\",BD336)","v":""},{"$f":"IF(BE336=\"\",\"\",BE336)","v":""},{"$f":"IF(BF336=\"\",\"\",BF336)","v":""},{"$f":"IF(BG336=\"\",\"\",BG336)","v":"作業完了日"},null,null,null,"実施","対象期間",{"$f":"IF(IF(MONTH($BL$5)=12,YEAR($BL$5)+1&\"01\",YEAR($BL$5)&TEXT(MONTH($BL$5)+1,\"00\"))>YEAR(BB304)&TEXT(MONTH(BB304),\"00\"),COUNTIF(BB309:CF309,\"\")+COUNTIF(BB309:CF309,\"●\"),\"\")","v":28},{"$f":"IF(COUNTIF(BB305:CF305,\"／\")=0,\"\",IF(COUNTIF(BB305:CF305,\"／\")=1,IF(CF309=\"／\",\"\",\"月末「／」漏れ\"),IF(COUNTIF(BB305:CF305,\"／\")=2,IF(AND(CE309=\"／\",CF309=\"／\"),\"\",\"月末「／」漏れ\"),IF(AND(CD309=\"／\",CE309=\"／\",CF309=\"／\"),\"\",\"月末「／」漏れ\"))))","v":""},null,null,null,"行事",null,null,null,null,null,null,null,null,null,null,null,null,null,null,null,null,null,null,null,null,null,null,null,null,null,null,null,null,null,null,null,{"$f":"IF(CX336=\"\",\"\",CX336)","v":""},{"$f":"IF(CY336=\"\",\"\",CY336)","v":""},{"$f":"IF(CZ336=\"\",\"\",CZ336)","v":""},{"$f":"IF(DA336=\"\",\"\",DA336)","v":""},{"$f":"IF(DB336=\"\",\"\",DB336)","v":""},{"$f":"IF(DC336=\"\",\"\",DC336)","v":"当初完了日"},null,null,null,"実施","対象期間",{"$f":"IF(IF(MONTH($BL$5)=12,YEAR($BL$5)+1&\"01\",YEAR($BL$5)&TEXT(MONTH($BL$5)+1,\"00\"))>YEAR($CX304)&TEXT(MONTH($CX304),\"00\"),COUNTIF(CX309:EB309,\"\")+COUNTIF(CX309:EB309,\"●\"),\"\")","v":28},{"$f":"IF(COUNTIF(CX305:EB305,\"／\")=0,\"\",IF(COUNTIF(CX305:EB305,\"／\")=1,IF(EB309=\"／\",\"\",\"月末「／」漏れ\"),IF(COUNTIF(CX305:EB305,\"／\")=2,IF(AND(EA309=\"／\",EB309=\"／\"),\"\",\"月末「／」漏れ\"),IF(AND(DZ309=\"／\",EA309=\"／\",EB309=\"／\"),\"\",\"月末「／」漏れ\"))))","v":""}]
["",null,"計画",null,null,null,null,null,null,null,null,null,null,null,null,null,null,null,null,null,null,null,null,null,null,null,null,null,null,null,null,null,null,null,{"$f":"IF(D337=\"\",\"\",D337)","v":""},{"$f":"IF(E337=\"\",\"\",E337)","v":""},{"$f":"IF(F337=\"\",\"\",F337)","v":""},{"$f":"IF(G337=\"\",\"\",G337)","v":""},{"$f":"IF(H337=\"\",\"\",H337)","v":""},{"$f":"IF(I337=\"\",\"\",I337)","v":""},{"$f":"COUNTIF(D308:AE308,\"○\")","v":0},{"$f":"+AO308+AP279","v":0},null,null,"閉所日数",{"$f":"IF(IF(MONTH(入力表!$E$6)=12,YEAR(入力表!$E$6)+1&\"01\",YEAR(入力表!$E$6)&TEXT(MONTH(入力表!$E$6)+1,\"00\"))>YEAR($D304)&TEXT(MONTH($D304),\"00\"),COUNTIF(D309:AH309,\"●\"),\"\")","v":""},{"$f":"IF(OR(MONTH(D304)=1,MONTH(D304)=8,MONTH(D304)=12),IF(COUNTIF(D309:AH309,\"／\")>=3,\"\",\"算定除外「／」漏れ\"),\"\")","v":""},null,null,null,null,null,"計画","○",null,null,null,null,null,"○","○",null,null,null,null,null,"○","○",null,null,null,null,null,"○","○",null,null,null,null,null,"○","／","／","／",{"$f":"IF(BB337=\"\",\"\",BB337)","v":"○"},"","","","","",{"$f":"COUNTIF(BB308:CC308,\"○\")","v":8},{"$f":"+CM308+CN279","v":87},null,null,"閉所日数",{"$f":"IF(IF(MONTH($BL$5)=12,YEAR($BL$5)+1&\"01\",YEAR($BL$5)&TEXT(MONTH($BL$5)+1,\"00\"))>YEAR(BB304)&TEXT(MONTH(BB304),\"00\"),COUNTIF(BB309:CF309,\"●\"),\"\")","v":0},{"$f":"IF(OR(MONTH(BB304)=1,MONTH(BB304)=8,MONTH(BB304)=12),IF(COUNTIF(BB309:CF309,\"／\")>=3,\"\",\"算定除外「／」漏れ\"),\"\")","v":""},null,null,null,"計画","○",null,null,null,null,null,"○","○",null,null,null,null,null,"○","○",null,null,null,null,null,"○","○",null,null,null,null,null,"○","／","／","／",{"$f":"IF(CX337=\"\",\"\",CX337)","v":"○"},"","","","","",{"$f":"COUNTIF(CX308:DY308,\"○\")","v":8},{"$f":"+EI308+EJ279","v":87},null,null,"閉所日数",{"$f":"IF(IF(MONTH($BL$5)=12,YEAR($BL$5)+1&\"01\",YEAR($BL$5)&TEXT(MONTH($BL$5)+1,\"00\"))>YEAR($CX304)&TEXT(MONTH($CX304),\"00\"),COUNTIF(CX309:EB309,\"●\"),\"\")","v":8},{"$f":"IF(OR(MONTH(CX304)=1,MONTH(CX304)=8,MONTH(CX304)=12),IF(COUNTIF(CX309:EB309,\"／\")>=3,\"\",\"算定除外「／」漏れ\"),\"\")","v":""}]
["",null,"実施",null,null,null,null,null,null,null,null,null,null,null,null,null,null,null,null,null,null,null,null,null,null,null,null,null,null,null,null,null,null,null,{"$f":"IF(D338=\"\",\"\",D338)","v":""},{"$f":"IF(E338=\"\",\"\",E338)","v":""},{"$f":"IF(F338=\"\",\"\",F338)","v":""},{"$f":"IF(G338=\"\",\"\",G338)","v":""},{"$f":"IF(H338=\"\",\"\",H338)","v":""},{"$f":"IF(I338=\"\",\"\",I338)","v":""},{"$f":"COUNTIF(D309:AE309,\"●\")","v":0},{"$f":"+AO309+AP280","v":0},null,null,"現場閉所率",{"$f":"IFERROR(+AT308/AT307,\"\")","v":""},{"$f":"IF(AT309=\"\",\"\",IF(COUNTIF(D309:AH309,\"●\")>=COUNTIF(D312:AH312,\"◎\"),\"4週8休以上\",IF(AT309>=0.285,\"4週8休以上\",\"週休2日未達成\")))","v":""},null,null,null,null,null,"実施",null,null,null,null,null,null,null,null,null,null,null,null,null,null,null,null,null,null,null,null,null,null,null,null,null,null,null,null,"／","／","／",{"$f":"IF(BB338=\"\",\"\",BB338)","v":""},{"$f":"IF(BC338=\"\",\"\",BC338)","v":""},{"$f":"IF(BD338=\"\",\"\",BD338)","v":""},{"$f":"IF(BE338=\"\",\"\",BE338)","v":""},{"$f":"IF(BF338=\"\",\"\",BF338)","v":""},{"$f":"IF(BG338=\"\",\"\",BG338)","v":""},{"$f":"COUNTIF(BB309:CC309,\"●\")","v":0},{"$f":"+CM309+CN280","v":0},null,null,"現場閉所率",{"$f":"IFERROR(+CR308/CR307,\"\")","v":0},{"$f":"IF(CR309=\"\",\"\",IF(COUNTIF(BB309:CF309,\"●\")>=COUNTIF(BB312:CF312,\"◎\"),\"4週8休以上\",IF(CR309>=0.285,\"4週8休以上\",\"週休2日未達成\")))","v":"週休2日未達成"},null,null,null,"実施","●",null,null,null,null,null,"●","●",null,null,null,null,null,"●","●",null,null,null,null,null,"●","●",null,null,null,null,null,"●","／","／","／",{"$f":"IF(CX338=\"\",\"\",CX338)","v":"●"},{"$f":"IF(CY338=\"\",\"\",CY338)","v":""},{"$f":"IF(CZ338=\"\",\"\",CZ338)","v":""},{"$f":"IF(DA338=\"\",\"\",DA338)","v":""},{"$f":"IF(DB338=\"\",\"\",DB338)","v":""},{"$f":"IF(DC338=\"\",\"\",DC338)","v":""},{"$f":"COUNTIF(CX309:DY309,\"●\")","v":8},{"$f":"+EI309+EJ280","v":86},null,null,"現場閉所率",{"$f":"IFERROR(+EN308/EN307,\"\")","v":0.2857142857142857},{"$f":"IF(EN309=\"\",\"\",IF(COUNTIF(CX309:EB309,\"●\")>=COUNTIF(CX312:EB312,\"◎\"),\"4週8休以上\",IF(EN309>=0.285,\"4週8休以上\",\"週休2日未達成\")))","v":"4週8休以上"}]
[null,null,null,1,2,3,4,5,6,7,8,9,10,11,12,13,14,15,16,17,18,19,20,21,22,23,24,25,26,27,28,29,30,31,32,33,34,35,36,37,null,null,null,null,{"$f":"AU309","v":""},null,null,null,null,null,null,null,null,1,2,3,4,5,6,7,8,9,10,11,12,13,14,15,16,17,18,19,20,21,22,23,24,25,26,27,28,29,30,31,32,33,34,35,36,37,null,null,null,null,{"$f":"CS309","v":"週休2日未達成"},null,null,null,null,null,null,1,2,3,4,5,6,7,8,9,10,11,12,13,14,15,16,17,18,19,20,21,22,23,24,25,26,27,28,29,30,31,32,33,34,35,36,37,null,null,null,null,{"$f":"EO309","v":"4週8休以上"}]
[null,null,"計画",{"$f":"IF(D308=\"／\",\"／\",IF(OR(D306=\"土\",D306=\"日\"),\"◎\",\"\"))","v":"◎"},{"$f":"IF(E308=\"／\",\"／\",IF(OR(E306=\"土\",E306=\"日\"),\"◎\",\"\"))","v":""},"","","","","◎","◎","","","","","","◎","◎","","","","","","◎","◎","","","","",{"$f":"IF(AD308=\"／\",\"／\",IF(OR(AD306=\"土\",AD306=\"日\"),\"◎\",\"\"))","v":""},{"$f":"IF(AE308=\"／\",\"／\",IF(OR(AE306=\"土\",AE306=\"日\"),\"◎\",\"\"))","v":"◎"},"","","","◎","","","","","",null,null,null,null,{"$f":"AT313","v":""},null,null,null,null,null,null,null,"計画",{"$f":"IF(BB308=\"／\",\"／\",IF(OR(BB306=\"土\",BB306=\"日\"),\"◎\",\"\"))","v":"◎"},"","","","","","◎","◎","","","","",{"$f":"IF(BN308=\"／\",\"／\",IF(OR(BN306=\"土\",BN306=\"日\"),\"◎\",\"\"))","v":""},{"$f":"IF(BO308=\"／\",\"／\",IF(OR(BO306=\"土\",BO306=\"日\"),\"◎\",\"\"))","v":"◎"},"◎","","","","","","◎","◎","","","","",{"$f":"IF(CB308=\"／\",\"／\",IF(OR(CB306=\"土\",CB306=\"日\"),\"◎\",\"\"))","v":""},{"$f":"IF(CC308=\"／\",\"／\",IF(OR(CC306=\"土\",CC306=\"日\"),\"◎\",\"\"))","v":"◎"},"／","／","／","◎","","","","","",null,null,null,null,{"$f":"CR313","v":"OUT"},null,null,null,null,null,"計画",{"$f":"IF(CX308=\"／\",\"／\",IF(OR(CX306=\"土\",CX306=\"日\"),\"◎\",\"\"))","v":"◎"},"","","","","","◎","◎","","","","",{"$f":"IF(DJ308=\"／\",\"／\",IF(OR(DJ306=\"土\",DJ306=\"日\"),\"◎\",\"\"))","v":""},{"$f":"IF(DK308=\"／\",\"／\",IF(OR(DK306=\"土\",DK306=\"日\"),\"◎\",\"\"))","v":"◎"},"◎","","","","","","◎","◎","","","","",{"$f":"IF(DX308=\"／\",\"／\",IF(OR(DX306=\"土\",DX306=\"日\"),\"◎\",\"\"))","v":""},{"$f":"IF(DY308=\"／\",\"／\",IF(OR(DY306=\"土\",DY306=\"日\"),\"◎\",\"\"))","v":"◎"},"／","／","／","◎","","","","","",null,null,null,null,{"$f":"EN313","v":"OK"}]
[null,null,"実施",{"$f":"IF(D309=\"／\",\"／\",IF(OR(D306=\"土\",D306=\"日\"),\"◎\",\"\"))","v":"◎"},{"$f":"IF(E309=\"／\",\"／\",IF(OR(E306=\"土\",E306=\"日\"),\"◎\",\"\"))","v":""},"","","","","◎","◎","","","","","","◎","◎","","","","","","◎","◎","","","","","","◎","","","","◎","","","","","",null,null,null,null,null,null,null,null,null,null,null,null,"実施",{"$f":"IF(BB309=\"／\",\"／\",IF(OR(BB306=\"土\",BB306=\"日\"),\"◎\",\"\"))","v":"◎"},{"$f":"IF(BC309=\"／\",\"／\",IF(OR(BC306=\"土\",BC306=\"日\"),\"◎\",\"\"))","v":""},"","","","","◎","◎","","","","","","◎","◎","","","","","","◎","◎","","","","","","◎","／","／","／","◎","","","","","",null,null,null,null,null,null,null,null,null,null,"実施",{"$f":"IF(CX309=\"／\",\"／\",IF(OR(CX306=\"土\",CX306=\"日\"),\"◎\",\"\"))","v":"◎"},{"$f":"IF(CY309=\"／\",\"／\",IF(OR(CY306=\"土\",CY306=\"日\"),\"◎\",\"\"))","v":""},"","","","","◎","◎","","","","","","◎","◎","","","","","","◎","◎","","","","","","◎","／","／","／","◎","","","","",""]
["",null,"完全",{"$f":"IF(WEEKDAY(DATE(YEAR(D304),MONTH(D304),1),2)=1,DATE(YEAR(D304),MONTH(D304),1),EOMONTH(D304,-1)-MOD(WEEKDAY(EOMONTH(D304,-1),2)+6,7))","v":"2026-01-26"},"～",{"$f":"DATE(YEAR(D304),MONTH(D304),1)+MOD(7-WEEKDAY(DATE(YEAR(D304),MONTH(D304),1),2),7)","v":"2026-02-01"},{"$f":"IF(DAY(D313)=1,IF(COUNTIF(D309:J309,\"／\")>=1,\"対象外\",IF(COUNTIF(INDEX(D309:AN309,DAY(D313)):INDEX(D309:AN309,HLOOKUP(F313,D305:AN310,6,FALSE)),\"\")+COUNTIF(INDEX(D309:AN309,DAY(D313)):INDEX(D309:AN309,HLOOKUP(F313,D305:AN310,6,FALSE)),\"●\")=7,IF(COUNTIF(INDEX(D309:AN309,DAY(D313)):INDEX(D309:AN309,HLOOKUP(F313,D305:AN310,6,FALSE)),\"●\")>=2,\"OK\",\"OUT\"),IF(COUNTIF(INDEX(D309:AN309,DAY(D313)):INDEX(D309:AN309,HLOOKUP(F313,D305:AN310,6,FALSE)),\"●\")>=COUNTIF(INDEX(D312:AN312,DAY(D313)):INDEX(D312:AN312,HLOOKUP(F313,D305:AN310,6,FALSE)),\"○\"),\"OK\",\"OUT\"))),IF(AND(AK284=\"\",AE284=\"\"),Y284,IF(AK284=\"\",AE284,AK284)))","v":"OUT"},null,null,{"$f":"F313+1","v":"2026-02-02"},"～",{"$f":"F313+7","v":"2026-02-08"},{"$f":"IF(COUNTIF(INDEX(D309:AN309,DAY(J313)):INDEX(D309:AN309,HLOOKUP(L313,D305:AN310,6,FALSE)),\"\")+COUNTIF(INDEX(D309:AN309,DAY(J313)):INDEX(D309:AN309,HLOOKUP(L313,D305:AN310,6,FALSE)),\"●\")=7,IF(COUNTIF(INDEX(D309:AN309,DAY(J313)):INDEX(D309:AN309,HLOOKUP(L313,D305:AN310,6,FALSE)),\"●\")>=2,\"OK\",\"OUT\"),\"対象外\")","v":"OUT"},null,null,{"$f":"L313+1","v":"2026-02-09"},"～",{"$f":"L313+7","v":"2026-02-15"},{"$f":"IF(COUNTIF(INDEX(D309:AN309,DAY(P313)):INDEX(D309:AN309,HLOOKUP(R313,D305:AN310,6,FALSE)),\"\")+COUNTIF(INDEX(D309:AN309,DAY(P313)):INDEX(D309:AN309,HLOOKUP(R313,D305:AN310,6,FALSE)),\"●\")=7,IF(COUNTIF(INDEX(D309:AN309,DAY(P313)):INDEX(D309:AN309,HLOOKUP(R313,D305:AN310,6,FALSE)),\"●\")>=2,\"OK\",\"OUT\"),\"対象外\")","v":"OUT"},null,null,{"$f":"R313+1","v":"2026-02-16"},"～",{"$f":"R313+7","v":"2026-02-22"},{"$f":"IF(COUNTIF(INDEX(D309:AN309,DAY(V313)):INDEX(D309:AN309,HLOOKUP(X313,D305:AN310,6,FALSE)),\"\")+COUNTIF(INDEX(D309:AN309,DAY(V313)):INDEX(D309:AN309,HLOOKUP(X313,D305:AN310,6,FALSE)),\"●\")=7,IF(COUNTIF(INDEX(D309:AN309,DAY(V313)):INDEX(D309:AN309,HLOOKUP(X313,D305:AN310,6,FALSE)),\"●\")>=2,\"OK\",\"OUT\"),\"対象外\")","v":"OUT"},null,null,{"$f":"IF(AND(DAY(X313+7)<23,DAY(X313+7)>=7),\"\",X313+1)","v":"2026-02-23"},{"$f":"IF(AND(DAY(X313+7)<23,DAY(X313+7)>=7),\"\",\"～\")","v":"～"},{"$f":"IF(AND(DAY(X313+7)<23,DAY(X313+7)>=7),\"\",X313+7)","v":"2026-03-01"},{"$f":"IF(AND(DAY(X313+7)<23,DAY(X313+7)>=7),\"\",IF(COUNTIF(INDEX(D309:AN309,DAY(AB313)):INDEX(D309:AN309,HLOOKUP(AD313,D305:AN310,6,FALSE)),\"\")+COUNTIF(INDEX(D309:AN309,DAY(AB313)):INDEX(D309:AN309,HLOOKUP(AD313,D305:AN310,6,FALSE)),\"●\")=7,IF(COUNTIF(INDEX(D309:AN309,DAY(AB313)):INDEX(D309:AN309,HLOOKUP(AD313,D305:AN310,6,FALSE)),\"●\")>=2,\"OK\",\"OUT\"),IF(COUNTIF(INDEX(D309:AN309,DAY(AB313)):INDEX(D309:AN309,HLOOKUP(AD313,D305:AN310,6,FALSE)),\"\")+COUNTIF(INDEX(D309:AN309,DAY(AB313)):INDEX(D309:AN309,HLOOKUP(AD313,D305:AN310,6,FALSE)),\"●\")>7,\"「／」漏れ\",\"対象外\")))","v":"「／」漏れ"},null,null,{"$f":"IF(AE313=\"\",\"\",IF(AND(DAY(AD313+7)<23,DAY(AD313+7)>=7),\"\",AD313+1))","v":""},{"$f":"IF(AE313=\"\",\"\",IF(AND(DAY(AD313+7)<23,DAY(AD313+7)>=7),\"\",\"～\"))","v":""},{"$f":"IF(AE313=\"\",\"\",IF(AND(DAY(AD313+7)<23,DAY(AD313+7)>=7),\"\",AD313+7))","v":""},{"$f":"IF(AE313=\"\",\"\",IF(AND(DAY(AD313+7)<23,DAY(AD313+7)>=7),\"\",IF(COUNTIF(INDEX(D309:AN309,DAY(AH313)):INDEX(D309:AN309,HLOOKUP(AJ313,D305:AN310,6,FALSE)),\"\")+COUNTIF(INDEX(D309:AN309,DAY(AH313)):INDEX(D309:AN309,HLOOKUP(AJ313,D305:AN310,6,FALSE)),\"●\")=7,IF(COUNTIF(INDEX(D309:AN309,DAY(AH313)):INDEX(D309:AN309,HLOOKUP(AJ313,D305:AN310,6,FALSE)),\"●\")>=2,\"OK\",\"OUT\"),IF(COUNTIF(INDEX(D309:AN309,HLOOKUP(AH313,D305:AN310,6,FALSE)):INDEX(D309:AN309,HLOOKUP(AJ313,D305:AN310,6,FALSE)),\"\")+COUNTIF(INDEX(D309:AN309,HLOOKUP(AH313,D305:AN310,6,FALSE)):INDEX(D309:AN309,HLOOKUP(AJ313,D305:AN310,6,FALSE)),\"●\")>7,\"「／」漏れ\",\"対象外\"))))","v":""},null,null,null,null,null,null,null,"完全週休二日",{"$f":"IF(AT304=\"\",\"\",IF(COUNTIF(D313:AN313,\"OUT\")>=1,\"OUT\",\"OK\"))","v":""},null,null,null,null,null,null,"完全",{"$f":"IF(WEEKDAY(DATE(YEAR(BB304),MONTH(BB304),1),2)=1,DATE(YEAR(BB304),MONTH(BB304),1),EOMONTH(BB304,-1)-MOD(WEEKDAY(EOMONTH(BB304,-1),2)+6,7))","v":"2026-01-26"},"～",{"$f":"DATE(YEAR(BB304),MONTH(BB304),1)+MOD(7-WEEKDAY(DATE(YEAR(BB304),MONTH(BB304),1),2),7)","v":"2026-02-01"},{"$f":"IF(DAY(BB313)=1,IF(COUNTIF(BB309:BH309,\"／\")>=1,\"対象外\",IF(COUNTIF(INDEX(BB309:CL309,DAY(BB313)):INDEX(BB309:CL309,HLOOKUP(BD313,BB305:CL310,6,FALSE)),\"\")+COUNTIF(INDEX(BB309:CL309,DAY(BB313)):INDEX(BB309:CL309,HLOOKUP(BD313,BB305:CL310,6,FALSE)),\"●\")=7,IF(COUNTIF(INDEX(BB309:CL309,DAY(BB313)):INDEX(BB309:CL309,HLOOKUP(BD313,BB305:CL310,6,FALSE)),\"●\")>=2,\"OK\",\"OUT\"),IF(COUNTIF(INDEX(BB309:CL309,DAY(BB313)):INDEX(BB309:CL309,HLOOKUP(BD313,BB305:CL310,6,FALSE)),\"●\")>=COUNTIF(INDEX(BB312:CL312,DAY(BB313)):INDEX(BB312:CL312,HLOOKUP(BD313,BB305:CL310,6,FALSE)),\"○\"),\"OK\",\"OUT\"))),IF(AND(CI284=\"\",CC284=\"\"),BW284,IF(CI284=\"\",CC284,CI284)))","v":"OUT"},null,null,{"$f":"BD313+1","v":"2026-02-02"},"～",{"$f":"BD313+7","v":"2026-02-08"},{"$f":"IF(COUNTIF(INDEX(BB309:CL309,DAY(BH313)):INDEX(BB309:CL309,HLOOKUP(BJ313,BB305:CL310,6,FALSE)),\"\")+COUNTIF(INDEX(BB309:CL309,DAY(BH313)):INDEX(BB309:CL309,HLOOKUP(BJ313,BB305:CL310,6,FALSE)),\"●\")=7,IF(COUNTIF(INDEX(BB309:CL309,DAY(BH313)):INDEX(BB309:CL309,HLOOKUP(BJ313,BB305:CL310,6,FALSE)),\"●\")>=2,\"OK\",\"OUT\"),\"対象外\")","v":"OUT"},null,null,{"$f":"BJ313+1","v":"2026-02-09"},"～",{"$f":"BJ313+7","v":"2026-02-15"},{"$f":"IF(COUNTIF(INDEX(BB309:CL309,DAY(BN313)):INDEX(BB309:CL309,HLOOKUP(BP313,BB305:CL310,6,FALSE)),\"\")+COUNTIF(INDEX(BB309:CL309,DAY(BN313)):INDEX(BB309:CL309,HLOOKUP(BP313,BB305:CL310,6,FALSE)),\"●\")=7,IF(COUNTIF(INDEX(BB309:CL309,DAY(BN313)):INDEX(BB309:CL309,HLOOKUP(BP313,BB305:CL310,6,FALSE)),\"●\")>=2,\"OK\",\"OUT\"),\"対象外\")","v":"OUT"},null,null,{"$f":"BP313+1","v":"2026-02-16"},"～",{"$f":"BP313+7","v":"2026-02-22"},{"$f":"IF(COUNTIF(INDEX(BB309:CL309,DAY(BT313)):INDEX(BB309:CL309,HLOOKUP(BV313,BB305:CL310,6,FALSE)),\"\")+COUNTIF(INDEX(BB309:CL309,DAY(BT313)):INDEX(BB309:CL309,HLOOKUP(BV313,BB305:CL310,6,FALSE)),\"●\")=7,IF(COUNTIF(INDEX(BB309:CL309,DAY(BT313)):INDEX(BB309:CL309,HLOOKUP(BV313,BB305:CL310,6,FALSE)),\"●\")>=2,\"OK\",\"OUT\"),\"対象外\")","v":"OUT"},null,null,{"$f":"IF(AND(DAY(BV313+7)<23,DAY(BV313+7)>=7),\"\",BV313+1)","v":"2026-02-23"},{"$f":"IF(AND(DAY(BV313+7)<23,DAY(BV313+7)>=7),\"\",\"～\")","v":"～"},{"$f":"IF(AND(DAY(BV313+7)<23,DAY(BV313+7)>=7),\"\",BV313+7)","v":"2026-03-01"},{"$f":"IF(AND(DAY(BV313+7)<23,DAY(BV313+7)>=7),\"\",IF(COUNTIF(INDEX(BB309:CL309,DAY(BZ313)):INDEX(BB309:CL309,HLOOKUP(CB313,BB305:CL310,6,FALSE)),\"\")+COUNTIF(INDEX(BB309:CL309,DAY(BZ313)):INDEX(BB309:CL309,HLOOKUP(CB313,BB305:CL310,6,FALSE)),\"●\")=7,IF(COUNTIF(INDEX(BB309:CL309,DAY(BZ313)):INDEX(BB309:CL309,HLOOKUP(CB313,BB305:CL310,6,FALSE)),\"●\")>=2,\"OK\",\"OUT\"),IF(COUNTIF(INDEX(BB309:CL309,DAY(BZ313)):INDEX(BB309:CL309,HLOOKUP(CB313,BB305:CL310,6,FALSE)),\"\")+COUNTIF(INDEX(BB309:CL309,DAY(BZ313)):INDEX(BB309:CL309,HLOOKUP(CB313,BB305:CL310,6,FALSE)),\"●\")>7,\"「／」漏れ\",\"対象外\")))","v":"OUT"},null,null,{"$f":"IF(CC313=\"\",\"\",IF(AND(DAY(CB313+7)<23,DAY(CB313+7)>=7),\"\",CB313+1))","v":""},{"$f":"IF(CC313=\"\",\"\",IF(AND(DAY(CB313+7)<23,DAY(CB313+7)>=7),\"\",\"～\"))","v":""},{"$f":"IF(CC313=\"\",\"\",IF(AND(DAY(CB313+7)<23,DAY(CB313+7)>=7),\"\",CB313+7))","v":""},{"$f":"IF(CC313=\"\",\"\",IF(AND(DAY(CB313+7)<23,DAY(CB313+7)>=7),\"\",IF(COUNTIF(INDEX(BB309:CL309,DAY(CF313)):INDEX(BB309:CL309,HLOOKUP(CH313,BB305:CL310,6,FALSE)),\"\")+COUNTIF(INDEX(BB309:CL309,DAY(CF313)):INDEX(BB309:CL309,HLOOKUP(CH313,BB305:CL310,6,FALSE)),\"●\")=7,IF(COUNTIF(INDEX(BB309:CL309,DAY(CF313)):INDEX(BB309:CL309,HLOOKUP(CH313,BB305:CL310,6,FALSE)),\"●\")>=2,\"OK\",\"OUT\"),IF(COUNTIF(INDEX(BB309:CL309,HLOOKUP(CF313,BB305:CL310,6,FALSE)):INDEX(BB309:CL309,HLOOKUP(CH313,BB305:CL310,6,FALSE)),\"\")+COUNTIF(INDEX(BB309:CL309,HLOOKUP(CF313,BB305:CL310,6,FALSE)):INDEX(BB309:CL309,HLOOKUP(CH313,BB305:CL310,6,FALSE)),\"●\")>7,\"「／」漏れ\",\"対象外\"))))","v":""},null,null,null,null,null,null,null,"完全週休二日",{"$f":"IF(CR304=\"\",\"\",IF(COUNTIF(BB313:CL313,\"OUT\")>=1,\"OUT\",\"OK\"))","v":"OUT"},null,null,null,null,"完全",{"$f":"IF(WEEKDAY(DATE(YEAR(CX304),MONTH(CX304),1),2)=1,DATE(YEAR(CX304),MONTH(CX304),1),EOMONTH(CX304,-1)-MOD(WEEKDAY(EOMONTH(CX304,-1),2)+6,7))","v":"2026-01-26"},"～",{"$f":"DATE(YEAR(CX304),MONTH(CX304),1)+MOD(7-WEEKDAY(DATE(YEAR(CX304),MONTH(CX304),1),2),7)","v":"2026-02-01"},{"$f":"IF(DAY(CX313)=1,IF(COUNTIF(CX309:DD309,\"／\")>=1,\"対象外\",IF(COUNTIF(INDEX(CX309:EH309,DAY(CX313)):INDEX(CX309:EH309,HLOOKUP(CZ313,CX305:EH310,6,FALSE)),\"\")+COUNTIF(INDEX(CX309:EH309,DAY(CX313)):INDEX(CX309:EH309,HLOOKUP(CZ313,CX305:EH310,6,FALSE)),\"●\")=7,IF(COUNTIF(INDEX(CX309:EH309,DAY(CX313)):INDEX(CX309:EH309,HLOOKUP(CZ313,CX305:EH310,6,FALSE)),\"●\")>=2,\"OK\",\"OUT\"),IF(COUNTIF(INDEX(CX309:EH309,DAY(CX313)):INDEX(CX309:EH309,HLOOKUP(CZ313,CX305:EH310,6,FALSE)),\"●\")>=COUNTIF(INDEX(CX312:EH312,DAY(CX313)):INDEX(CX312:EH312,HLOOKUP(CZ313,CX305:EH310,6,FALSE)),\"○\"),\"OK\",\"OUT\"))),IF(AND(EE284=\"\",DY284=\"\"),DS284,IF(EE284=\"\",DY284,EE284)))","v":"OK"},null,null,{"$f":"CZ313+1","v":"2026-02-02"},"～",{"$f":"CZ313+7","v":"2026-02-08"},{"$f":"IF(COUNTIF(INDEX(CX309:EH309,DAY(DD313)):INDEX(CX309:EH309,HLOOKUP(DF313,CX305:EH310,6,FALSE)),\"\")+COUNTIF(INDEX(CX309:EH309,DAY(DD313)):INDEX(CX309:EH309,HLOOKUP(DF313,CX305:EH310,6,FALSE)),\"●\")=7,IF(COUNTIF(INDEX(CX309:EH309,DAY(DD313)):INDEX(CX309:EH309,HLOOKUP(DF313,CX305:EH310,6,FALSE)),\"●\")>=2,\"OK\",\"OUT\"),\"対象外\")","v":"OK"},null,null,{"$f":"DF313+1","v":"2026-02-09"},"～",{"$f":"DF313+7","v":"2026-02-15"},{"$f":"IF(COUNTIF(INDEX(CX309:EH309,DAY(DJ313)):INDEX(CX309:EH309,HLOOKUP(DL313,CX305:EH310,6,FALSE)),\"\")+COUNTIF(INDEX(CX309:EH309,DAY(DJ313)):INDEX(CX309:EH309,HLOOKUP(DL313,CX305:EH310,6,FALSE)),\"●\")=7,IF(COUNTIF(INDEX(CX309:EH309,DAY(DJ313)):INDEX(CX309:EH309,HLOOKUP(DL313,CX305:EH310,6,FALSE)),\"●\")>=2,\"OK\",\"OUT\"),\"対象外\")","v":"OK"},null,null,{"$f":"DL313+1","v":"2026-02-16"},"～",{"$f":"DL313+7","v":"2026-02-22"},{"$f":"IF(COUNTIF(INDEX(CX309:EH309,DAY(DP313)):INDEX(CX309:EH309,HLOOKUP(DR313,CX305:EH310,6,FALSE)),\"\")+COUNTIF(INDEX(CX309:EH309,DAY(DP313)):INDEX(CX309:EH309,HLOOKUP(DR313,CX305:EH310,6,FALSE)),\"●\")=7,IF(COUNTIF(INDEX(CX309:EH309,DAY(DP313)):INDEX(CX309:EH309,HLOOKUP(DR313,CX305:EH310,6,FALSE)),\"●\")>=2,\"OK\",\"OUT\"),\"対象外\")","v":"OK"},null,null,{"$f":"IF(AND(DAY(DR313+7)<23,DAY(DR313+7)>=7),\"\",DR313+1)","v":"2026-02-23"},{"$f":"IF(AND(DAY(DR313+7)<23,DAY(DR313+7)>=7),\"\",\"～\")","v":"～"},{"$f":"IF(AND(DAY(DR313+7)<23,DAY(DR313+7)>=7),\"\",DR313+7)","v":"2026-03-01"},{"$f":"IF(AND(DAY(DR313+7)<23,DAY(DR313+7)>=7),\"\",IF(COUNTIF(INDEX(CX309:EH309,DAY(DV313)):INDEX(CX309:EH309,HLOOKUP(DX313,CX305:EH310,6,FALSE)),\"\")+COUNTIF(INDEX(CX309:EH309,DAY(DV313)):INDEX(CX309:EH309,HLOOKUP(DX313,CX305:EH310,6,FALSE)),\"●\")=7,IF(COUNTIF(INDEX(CX309:EH309,DAY(DV313)):INDEX(CX309:EH309,HLOOKUP(DX313,CX305:EH310,6,FALSE)),\"●\")>=2,\"OK\",\"OUT\"),IF(COUNTIF(INDEX(CX309:EH309,DAY(DV313)):INDEX(CX309:EH309,HLOOKUP(DX313,CX305:EH310,6,FALSE)),\"\")+COUNTIF(INDEX(CX309:EH309,DAY(DV313)):INDEX(CX309:EH309,HLOOKUP(DX313,CX305:EH310,6,FALSE)),\"●\")>7,\"「／」漏れ\",\"対象外\")))","v":"OK"},null,null,{"$f":"IF(DY313=\"\",\"\",IF(AND(DAY(DX313+7)<23,DAY(DX313+7)>=7),\"\",DX313+1))","v":""},{"$f":"IF(DY313=\"\",\"\",IF(AND(DAY(DX313+7)<23,DAY(DX313+7)>=7),\"\",\"～\"))","v":""},{"$f":"IF(DY313=\"\",\"\",IF(AND(DAY(DX313+7)<23,DAY(DX313+7)>=7),\"\",DX313+7))","v":""},{"$f":"IF(DY313=\"\",\"\",IF(AND(DAY(DX313+7)<23,DAY(DX313+7)>=7),\"\",IF(COUNTIF(INDEX(CX309:EH309,DAY(EB313)):INDEX(CX309:EH309,HLOOKUP(ED313,CX305:EH310,6,FALSE)),\"\")+COUNTIF(INDEX(CX309:EH309,DAY(EB313)):INDEX(CX309:EH309,HLOOKUP(ED313,CX305:EH310,6,FALSE)),\"●\")=7,IF(COUNTIF(INDEX(CX309:EH309,DAY(EB313)):INDEX(CX309:EH309,HLOOKUP(ED313,CX305:EH310,6,FALSE)),\"●\")>=2,\"OK\",\"OUT\"),IF(COUNTIF(INDEX(CX309:EH309,HLOOKUP(EB313,CX305:EH310,6,FALSE)):INDEX(CX309:EH309,HLOOKUP(ED313,CX305:EH310,6,FALSE)),\"\")+COUNTIF(INDEX(CX309:EH309,HLOOKUP(EB313,CX305:EH310,6,FALSE)):INDEX(CX309:EH309,HLOOKUP(ED313,CX305:EH310,6,FALSE)),\"●\")>7,\"「／」漏れ\",\"対象外\"))))","v":""},null,null,null,null,null,null,null,"完全週休二日",{"$f":"IF(EN304=\"\",\"\",IF(COUNTIF(CX313:EH313,\"OUT\")>=1,\"OUT\",\"OK\"))","v":"OK"}]
[""]
[{"$f":"IF(AND(NOT($AT$304=\"\"),$AT$333=\"\"),\"対象期間\",\"\")","v":""}]
[{"$f":"IF(AND(NOT($AT$304=\"\"),$AT$333=\"\"),\"対象期間\",\"\")","v":""},null,"※１工事着手日：始期日以降に準備工事（現場事務所の建設・測量等）、工場製作を含む工事における工場製作工に着手した日",null,null,null,null,null,null,null,null,null,null,null,null,null,null,null,null,null,null,null,null,null,null,null,null,null,null,null,null,null,null,null,null,null,null,null,null,null,null,null,null,"工事全体の確認",null,null,null,null,null,null,null,null,"※１工事着手日：始期日以降に準備工事（現場事務所の建設・測量等）、工場製作を含む工事における工場製作工に着手した日",null,null,null,null,null,null,null,null,null,null,null,null,null,null,null,null,null,null,null,null,null,null,null,null,null,null,null,null,null,null,null,null,null,null,null,null,null,null,null,null,"工事全体の確認",null,null,null,null,null,null,"※１工事着手日：始期日以降に準備工事（現場事務所の建設・測量等）、工場製作を含む工事における工場製作工に着手した日",null,null,null,null,null,null,null,null,null,null,null,null,null,null,null,null,null,null,null,null,null,null,null,null,null,null,null,null,null,null,null,null,null,null,null,null,null,null,null,null,"工事全体の確認"]
["",null,"※２作業完了日：工事施工範囲内で全ての作業（後片付けを含む）が完了した日\n　　　　　　　　　  （工事現場事務所は工事施工範囲外に設置するため、ここでいう後片付けの対象に含まない）",null,null,null,null,null,null,null,null,null,null,null,null,null,null,null,null,null,null,null,null,null,null,null,null,null,null,null,null,null,null,null,null,null,null,null,null,null,null,null,null,"計画","全対象期間",{"$f":"IFERROR(AT288+AT304,\"\")","v":""},null,null,null,null,null,null,"※２作業完了日：工事施工範囲内で全ての作業（後片付けを含む）が完了した日\n　　　　　　　　　  （工事現場事務所は工事施工範囲外に設置するため、ここでいう後片付けの対象に含まない）",null,null,null,null,null,null,null,null,null,null,null,null,null,null,null,null,null,null,null,null,null,null,null,null,null,null,null,null,null,null,null,null,null,null,null,null,null,null,null,null,"計画","全対象期間",{"$f":"IFERROR(CR288+CR304,\"\")","v":""},null,null,null,null,"※２作業完了日：工事施工範囲内で全ての作業（後片付けを含む）が完了した日\n　　　　　　　　　  （工事現場事務所は工事施工範囲外に設置するため、ここでいう後片付けの対象に含まない）",null,null,null,null,null,null,null,null,null,null,null,null,null,null,null,null,null,null,null,null,null,null,null,null,null,null,null,null,null,null,null,null,null,null,null,null,null,null,null,null,"計画","全対象期間",{"$f":"IFERROR(EN288+EN304,\"\")","v":284}]
["",null,null,null,null,null,null,null,null,null,null,null,null,null,null,null,null,null,null,null,null,null,null,null,null,null,null,null,null,null,null,null,null,null,null,null,null,null,null,null,null,null,null,null,"全現場閉所日数",{"$f":"IFERROR(AT289+AT305,\"\")","v":""},null,null,null,null,null,null,null,null,null,null,null,null,null,null,null,null,null,null,null,null,null,null,null,null,null,null,null,null,null,null,null,null,null,null,null,null,null,null,null,null,null,null,null,null,null,null,null,null,"全現場閉所日数",{"$f":"IFERROR(CR289+CR305,\"\")","v":""},null,null,null,null,null,null,null,null,null,null,null,null,null,null,null,null,null,null,null,null,null,null,null,null,null,null,null,null,null,null,null,null,null,null,null,null,null,null,null,null,null,null,null,null,null,null,"全現場閉所日数",{"$f":"IFERROR(EN289+EN305,\"\")","v":88}]
["",null,"【算定除外期間】：夏季休暇（8月13日～8月15日）、年末年始（12月29日～翌年1月3日）は算定期間の分母・分子に含めない",null,null,null,null,null,null,null,null,null,null,null,null,null,null,null,null,null,null,null,null,null,null,null,null,null,null,null,null,null,null,null,null,null,null,null,null,null,null,null,null,null,"現場閉所率",{"$f":"IFERROR(+AT318/AT317,\"\")","v":""},{"$f":"IF(AT319>=0.285,\"4週8休以上\",\"週休2日未達成\")","v":"4週8休以上"},null,null,null,null,null,"【算定除外期間】：夏季休暇（8月13日～8月15日）、年末年始（12月29日～翌年1月3日）は算定期間の分母・分子に含めない",null,null,null,null,null,null,null,null,null,null,null,null,null,null,null,null,null,null,null,null,null,null,null,null,null,null,null,null,null,null,null,null,null,null,null,null,null,null,null,null,null,"現場閉所率",{"$f":"IFERROR(+CR318/CR317,\"\")","v":""},{"$f":"IF(CR319>=0.285,\"4週8休以上\",\"週休2日未達成\")","v":"4週8休以上"},null,null,null,"【算定除外期間】：夏季休暇（8月13日～8月15日）、年末年始（12月29日～翌年1月3日）は算定期間の分母・分子に含めない",null,null,null,null,null,null,null,null,null,null,null,null,null,null,null,null,null,null,null,null,null,null,null,null,null,null,null,null,null,null,null,null,null,null,null,null,null,null,null,null,null,"現場閉所率",{"$f":"IFERROR(+EN318/EN317,\"\")","v":0.30985915492957744},{"$f":"IF(EN319>=0.285,\"4週8休以上\",\"週休2日未達成\")","v":"4週8休以上"}]
["",null,"※３工事期間の全ての月において、達成状況を確認し、一度でも達成できない月があれば、４週８休以上（月単位）は「未達成」となり、補正の対象とならない。\n　　月によっては、土日を全て閉所しても現場閉所率が28.5％に満たない場合があるが、その月の対象期間の土日日数以上閉所していれば達成とみなす。\n\n※４工事対象期間のうち、一度でも完全週休２日（月～日で２日以上の現場閉所）を達成できなければ、\n　　 完全週休２日は「未達成」となり、補正の対象とならない。\n　　 なお、工期始期・終期、年末年始、夏季休暇などにより、７日間に満たない期間は完全週休２日の達成判断の対象外とする。",null,null,null,null,null,null,null,null,null,null,null,null,null,null,null,null,null,null,null,null,null,null,null,null,null,null,null,null,null,null,null,null,null,null,null,null,null,null,null,null,"実施","全対象期間",{"$f":"IFERROR(AT291+AT307,\"\")","v":""},null,null,null,null,null,null,"※３工事期間の全ての月において、達成状況を確認し、一度でも達成できない月があれば、４週８休以上（月単位）は「未達成」となり、補正の対象とならない。\n　　月によっては、土日を全て閉所しても現場閉所率が28.5％に満たない場合があるが、その月の対象期間の土日日数以上閉所していれば達成とみなす。\n\n※４工事対象期間のうち、一度でも完全週休２日（月～日で２日以上の現場閉所）を達成できなければ、\n　　 完全週休２日は「未達成」となり、補正の対象とならない。\n　　 なお、工期始期・終期、年末年始、夏季休暇などにより、７日間に満たない期間は完全週休２日の達成判断の対象外とする。",null,null,null,null,null,null,null,null,null,null,null,null,null,null,null,null,null,null,null,null,null,null,null,null,null,null,null,null,null,null,null,null,null,null,null,null,null,null,null,null,"実施","全対象期間",{"$f":"IFERROR(CR291+CR307,\"\")","v":""},null,null,null,null,"※３工事期間の全ての月において、達成状況を確認し、一度でも達成できない月があれば、４週８休以上（月単位）は「未達成」となり、補正の対象とならない。\n　　月によっては、土日を全て閉所しても現場閉所率が28.5％に満たない場合があるが、その月の対象期間の土日日数以上閉所していれば達成とみなす。\n\n※４工事対象期間のうち、一度でも完全週休２日（月～日で２日以上の現場閉所）を達成できなければ、\n　　 完全週休２日は「未達成」となり、補正の対象とならない。\n　　 なお、工期始期・終期、年末年始、夏季休暇などにより、７日間に満たない期間は完全週休２日の達成判断の対象外とする。",null,null,null,null,null,null,null,null,null,null,null,null,null,null,null,null,null,null,null,null,null,null,null,null,null,null,null,null,null,null,null,null,null,null,null,null,null,null,null,null,"実施","全対象期間",{"$f":"IFERROR(EN291+EN307,\"\")","v":284}]
["",null,null,null,null,null,null,null,null,null,null,null,null,null,null,null,null,null,null,null,null,null,null,null,null,null,null,null,null,null,null,null,null,null,null,null,null,null,null,null,null,null,null,null,"全現場閉所日数",{"$f":"IFERROR(AT292+AT308,\"\")","v":""},null,null,null,null,null,null,null,null,null,null,null,null,null,null,null,null,null,null,null,null,null,null,null,null,null,null,null,null,null,null,null,null,null,null,null,null,null,null,null,null,null,null,null,null,null,null,null,null,"全現場閉所日数",{"$f":"IFERROR(CR292+CR308,\"\")","v":""},null,null,null,null,null,null,null,null,null,null,null,null,null,null,null,null,null,null,null,null,null,null,null,null,null,null,null,null,null,null,null,null,null,null,null,null,null,null,null,null,null,null,null,null,null,null,"全現場閉所日数",{"$f":"IFERROR(EN292+EN308,\"\")","v":87}]
["",null,null,null,null,null,null,null,null,null,null,null,null,null,null,null,null,null,null,null,null,null,null,null,null,null,null,null,null,null,null,null,null,null,null,null,null,null,null,null,null,null,null,null,"現場閉所率",{"$f":"IFERROR(+AT321/AT320,\"\")","v":""},{"$f":"IF(AT322>=0.285,\"4週8休以上\",\"週休2日未達成\")","v":"4週8休以上"},null,null,null,null,null,null,null,null,null,null,null,null,null,null,null,null,null,null,null,null,null,null,null,null,null,null,null,null,null,null,null,null,null,null,null,null,null,null,null,null,null,null,null,null,null,null,null,"現場閉所率",{"$f":"IFERROR(+CR321/CR320,\"\")","v":""},{"$f":"IF(CR322>=0.285,\"4週8休以上\",\"週休2日未達成\")","v":"4週8休以上"},null,null,null,null,null,null,null,null,null,null,null,null,null,null,null,null,null,null,null,null,null,null,null,null,null,null,null,null,null,null,null,null,null,null,null,null,null,null,null,null,null,null,null,null,null,"現場閉所率",{"$f":"IFERROR(+EN321/EN320,\"\")","v":0.30633802816901406},{"$f":"IF(EN322>=0.285,\"4週8休以上\",\"週休2日未達成\")","v":"4週8休以上"}]
["",null,null,null,null,null,null,null,null,null,null,null,null,null,null,null,null,null,null,null,null,null,null,null,null,null,null,null,null,null,null,null,null,null,null,null,null,null,null,null,null,null,null,null,"閉所（月単位）",{"$f":"IFERROR(COUNTIF(AS$14:$AS313,\"4週8休以上\")/(COUNTIF(AS$14:$AS313,\"4週8休以上\")+COUNTIF(AS$14:$AS313,\"週休2日未達成\")),\"\")","v":""},{"$f":"IF(OR(AT323=100%,AT323=\"\"),\"達成\",\"未達成\")","v":"達成"},null,null,null,null,null,null,null,null,null,null,null,null,null,null,null,null,null,null,null,null,null,null,null,null,null,null,null,null,null,null,null,null,null,null,null,null,null,null,null,null,null,null,null,null,null,null,null,"閉所（月単位）",{"$f":"IFERROR(COUNTIF(CQ$14:$CQ313,\"4週8休以上\")/(COUNTIF(CQ$14:$CQ313,\"4週8休以上\")+COUNTIF(CQ$14:$CQ313,\"週休2日未達成\")),\"\")","v":0},{"$f":"IF(OR(CR323=100%,CR323=\"\"),\"達成\",\"未達成\")","v":"未達成"},null,null,null,null,null,null,null,null,null,null,null,null,null,null,null,null,null,null,null,null,null,null,null,null,null,null,null,null,null,null,null,null,null,null,null,null,null,null,null,null,null,null,null,null,null,"閉所（月単位）",{"$f":"IFERROR(COUNTIF($EM$14:EM313,\"4週8休以上\")/(COUNTIF($EM$14:EM313,\"4週8休以上\")+COUNTIF($EM$14:EM313,\"週休2日未達成\")),\"\")","v":1},{"$f":"IF(OR(EN323=100%,EN323=\"\"),\"達成\",\"未達成\")","v":"達成"}]
["",null,null,null,null,null,null,null,null,null,null,null,null,null,null,null,null,null,null,null,null,null,null,null,null,null,null,null,null,null,null,null,null,null,null,null,null,null,null,null,null,null,null,null,"完全週休二日",{"$f":"IF(COUNTIF(AS$14:$AS313,\"OUT\")>=1,\"OUT\",\"OK\")","v":"OK"},{"$f":"IF(AT324=\"OK\",\"達成\",\"未達成\")","v":"達成"},null,null,null,null,null,null,null,null,null,null,null,null,null,null,null,null,null,null,null,null,null,null,null,null,null,null,null,null,null,null,null,null,null,null,null,null,null,null,null,null,null,null,null,null,null,null,null,"完全週休二日",{"$f":"IF(COUNTIF(CQ$14:$CQ313,\"OUT\")>=1,\"OUT\",\"OK\")","v":"OUT"},{"$f":"IF(CR324=\"OK\",\"達成\",\"未達成\")","v":"未達成"},null,null,null,null,null,null,null,null,null,null,null,null,null,null,null,null,null,null,null,null,null,null,null,null,null,null,null,null,null,null,null,null,null,null,null,null,null,null,null,null,null,null,null,null,null,"完全週休二日",{"$f":"IF(COUNTIF($EM$14:EM313,\"OUT\")>=1,\"OUT\",\"OK\")","v":"OUT"},{"$f":"IF(EN324=\"OK\",\"達成\",\"未達成\")","v":"未達成"}]
["",null,"※必要に応じて各月の完全週休2日（月～日）の達成判定の行を修正してください。（曜日に合わせて修正）",null,null,null,null,null,null,null,null,null,null,null,null,null,null,null,null,null,null,null,null,null,null,null,null,null,null,null,null,null,null,null,null,null,null,null,null,null,null,null,null,null,null,null,null,null,null,null,null,null,"※必要に応じて各月の完全週休2日（月～日）の達成判定の行を修正してください。（曜日に合わせて修正）",null,null,null,null,null,null,null,null,null,null,null,null,null,null,null,null,null,null,null,null,null,null,null,null,null,null,null,null,null,null,null,null,null,null,null,null,null,null,null,null,null,null,null,null,null,null,null,"※必要に応じて各月の完全週休2日（月～日）の達成判定の行を修正してください。（曜日に合わせて修正）"]
[""]
[""]
[""]
[""]
[""]
["",null,"算定除外期間以外の祝日（ＧＷ含む）は、算定期間（分母）の対象＝現場閉所の場合は分子にカウントして現場閉所率を算定",null,null,null,null,null,null,null,null,null,null,null,null,null,null,null,null,null,null,null,null,null,null,null,null,null,null,null,null,null,null,null,null,null,null,null,null,null,null,null,null,null,null,null,null,null,null,null,null,null,"算定除外期間以外の祝日（ＧＷ含む）は、算定期間（分母）の対象＝現場閉所の場合は分子にカウントして現場閉所率を算定",null,null,null,null,null,null,null,null,null,null,null,null,null,null,null,null,null,null,null,null,null,null,null,null,null,null,null,null,null,null,null,null,null,null,null,null,null,null,null,null,null,null,null,null,null,null,null,"算定除外期間以外の祝日（ＧＷ含む）は、算定期間（分母）の対象＝現場閉所の場合は分子にカウントして現場閉所率を算定"]
[""]
[{"$f":"IF($AT$333=\"\",\"\",\"対象期間\")","v":""},null,"月",{"$f":"DATE(YEAR(D304),MONTH(D304)+1,1)","v":"2026-03-01"},null,null,null,null,null,null,null,null,null,null,null,null,null,null,null,null,null,null,null,null,null,null,null,null,null,null,null,null,null,null,{"$f":"DATE(YEAR(D333),MONTH(D333)+1,1)","v":"2026-04-01"},null,null,null,null,null,"現場閉所計","現場閉所累計",null,"計画","対象期間",{"$f":"IF(IF(MONTH(入力表!$E$6)=12,YEAR(入力表!$E$6)+1&\"01\",YEAR(入力表!$E$6)&TEXT(MONTH(入力表!$E$6)+1,\"00\"))>YEAR($D333)&TEXT(MONTH($D333),\"00\"),COUNTIF(D337:AH337,\"\")+COUNTIF(D337:AH337,\"○\"),\"\")","v":""},{"$f":"IF(COUNTIF(D334:AH334,\"／\")=0,\"\",IF(COUNTIF(D334:AH334,\"／\")=1,IF(AH337=\"／\",\"\",\"月末「／」漏れ\"),IF(COUNTIF(D334:AH334,\"／\")=2,IF(AND(AG337=\"／\",AH337=\"／\"),\"\",\"月末「／」漏れ\"),IF(AND(AF337=\"／\",AG337=\"／\",AH337=\"／\"),\"\",\"月末「／」漏れ\"))))","v":""},null,null,null,null,null,"月",{"$f":"DATE(YEAR(BB304),MONTH(BB304)+1,1)","v":"2026-03-01"},null,null,null,null,null,null,null,null,null,null,null,null,null,null,null,null,null,null,null,null,null,null,null,null,null,null,null,null,null,null,{"$f":"DATE(YEAR(BB333),MONTH(BB333)+1,1)","v":"2026-04-01"},null,null,null,null,null,"現場閉所計","現場閉所累計",null,"計画","対象期間",{"$f":"IF(IF(MONTH($BL$5)=12,YEAR($BL$5)+1&\"01\",YEAR($BL$5)&TEXT(MONTH($BL$5)+1,\"00\"))>YEAR(BB333)&TEXT(MONTH(BB333),\"00\"),COUNTIF(BB337:CF337,\"\")+COUNTIF(BB337:CF337,\"○\"),\"\")","v":6},{"$f":"IF(COUNTIF(BB334:CF334,\"／\")=0,\"\",IF(COUNTIF(BB334:CF334,\"／\")=1,IF(CF337=\"／\",\"\",\"月末「／」漏れ\"),IF(COUNTIF(BB334:CF334,\"／\")=2,IF(AND(CE337=\"／\",CF337=\"／\"),\"\",\"月末「／」漏れ\"),IF(AND(CD337=\"／\",CE337=\"／\",CF337=\"／\"),\"\",\"月末「／」漏れ\"))))","v":""},null,null,null,"月",{"$f":"DATE(YEAR(CX304),MONTH(CX304)+1,1)","v":"2026-03-01"},null,null,null,null,null,null,null,null,null,null,null,null,null,null,null,null,null,null,null,null,null,null,null,null,null,null,null,null,null,null,{"$f":"DATE(YEAR(CX333),MONTH(CX333)+1,1)","v":"2026-04-01"},null,null,null,null,null,"現場閉所計","現場閉所累計",null,"計画","対象期間",{"$f":"IF(IF(MONTH($BL$5)=12,YEAR($BL$5)+1&\"01\",YEAR($BL$5)&TEXT(MONTH($BL$5)+1,\"00\"))>YEAR($CX333)&TEXT(MONTH($CX333),\"00\"),COUNTIF(CX337:EB337,\"\")+COUNTIF(CX337:EB337,\"○\"),\"\")","v":6},{"$f":"IF(COUNTIF(CX334:EB334,\"／\")=0,\"\",IF(COUNTIF(CX334:EB334,\"／\")=1,IF(EB337=\"／\",\"\",\"月末「／」漏れ\"),IF(COUNTIF(CX334:EB334,\"／\")=2,IF(AND(EA337=\"／\",EB337=\"／\"),\"\",\"月末「／」漏れ\"),IF(AND(DZ337=\"／\",EA337=\"／\",EB337=\"／\"),\"\",\"月末「／」漏れ\"))))","v":""}]
[{"$f":"IF($AT$333=\"\",\"\",\"対象期間\")","v":""},null,"日",{"$f":"D333","v":"2026-03-01"},{"$f":"D334+1","v":"2026-03-02"},{"$f":"E334+1","v":"2026-03-03"},{"$f":"F334+1","v":"2026-03-04"},{"$f":"G334+1","v":"2026-03-05"},{"$f":"H334+1","v":"2026-03-06"},{"$f":"I334+1","v":"2026-03-07"},{"$f":"J334+1","v":"2026-03-08"},{"$f":"K334+1","v":"2026-03-09"},{"$f":"L334+1","v":"2026-03-10"},{"$f":"M334+1","v":"2026-03-11"},{"$f":"N334+1","v":"2026-03-12"},{"$f":"O334+1","v":"2026-03-13"},{"$f":"P334+1","v":"2026-03-14"},{"$f":"Q334+1","v":"2026-03-15"},{"$f":"R334+1","v":"2026-03-16"},{"$f":"S334+1","v":"2026-03-17"},{"$f":"T334+1","v":"2026-03-18"},{"$f":"U334+1","v":"2026-03-19"},{"$f":"V334+1","v":"2026-03-20"},{"$f":"W334+1","v":"2026-03-21"},{"$f":"X334+1","v":"2026-03-22"},{"$f":"Y334+1","v":"2026-03-23"},{"$f":"Z334+1","v":"2026-03-24"},{"$f":"AA334+1","v":"2026-03-25"},{"$f":"AB334+1","v":"2026-03-26"},{"$f":"AC334+1","v":"2026-03-27"},{"$f":"AD334+1","v":"2026-03-28"},{"$f":"IF(AE334=\"／\",\"／\",IF(YEAR($D333)&TEXT(MONTH($D333),\"00\")<YEAR(AE334+1)&TEXT(MONTH(AE334+1),\"00\"),\"／\",AE334+1))","v":"2026-03-29"},{"$f":"IF(AF334=\"／\",\"／\",IF(YEAR($D333)&TEXT(MONTH($D333),\"00\")<YEAR(AF334+1)&TEXT(MONTH(AF334+1),\"00\"),\"／\",AF334+1))","v":"2026-03-30"},{"$f":"IF(AG334=\"／\",\"／\",IF(YEAR($D333)&TEXT(MONTH($D333),\"00\")<YEAR(AG334+1)&TEXT(MONTH(AG334+1),\"00\"),\"／\",AG334+1))","v":"2026-03-31"},{"$f":"AI333","v":"2026-04-01"},{"$f":"AI334+1","v":"2026-04-02"},{"$f":"AJ334+1","v":"2026-04-03"},{"$f":"AK334+1","v":"2026-04-04"},{"$f":"AL334+1","v":"2026-04-05"},{"$f":"AM334+1","v":"2026-04-06"},null,null,null,null,"閉所日数",{"$f":"IF(IF(MONTH(入力表!$E$6)=12,YEAR(入力表!$E$6)+1&\"01\",YEAR(入力表!$E$6)&TEXT(MONTH(入力表!$E$6)+1,\"00\"))>YEAR($D333)&TEXT(MONTH($D333),\"00\"),COUNTIF(D337:AH337,\"○\"),\"\")","v":""},{"$f":"IF(OR(MONTH(D333)=1,MONTH(D333)=8,MONTH(D333)=12),IF(COUNTIF(D337:AH337,\"／\")>=3,\"\",\"算定除外「／」漏れ\"),\"\")","v":""},null,null,null,null,null,"日",{"$f":"BB333","v":"2026-03-01"},{"$f":"BB334+1","v":"2026-03-02"},{"$f":"BC334+1","v":"2026-03-03"},{"$f":"BD334+1","v":"2026-03-04"},{"$f":"BE334+1","v":"2026-03-05"},{"$f":"BF334+1","v":"2026-03-06"},{"$f":"BG334+1","v":"2026-03-07"},{"$f":"BH334+1","v":"2026-03-08"},{"$f":"BI334+1","v":"2026-03-09"},{"$f":"BJ334+1","v":"2026-03-10"},{"$f":"BK334+1","v":"2026-03-11"},{"$f":"BL334+1","v":"2026-03-12"},{"$f":"BM334+1","v":"2026-03-13"},{"$f":"BN334+1","v":"2026-03-14"},{"$f":"BO334+1","v":"2026-03-15"},{"$f":"BP334+1","v":"2026-03-16"},{"$f":"BQ334+1","v":"2026-03-17"},{"$f":"BR334+1","v":"2026-03-18"},{"$f":"BS334+1","v":"2026-03-19"},{"$f":"BT334+1","v":"2026-03-20"},{"$f":"BU334+1","v":"2026-03-21"},{"$f":"BV334+1","v":"2026-03-22"},{"$f":"BW334+1","v":"2026-03-23"},{"$f":"BX334+1","v":"2026-03-24"},{"$f":"BY334+1","v":"2026-03-25"},{"$f":"BZ334+1","v":"2026-03-26"},{"$f":"CA334+1","v":"2026-03-27"},{"$f":"CB334+1","v":"2026-03-28"},{"$f":"IF(CC334=\"／\",\"／\",IF(YEAR(BB333)&TEXT(MONTH(BB333),\"00\")<YEAR(CC334+1)&TEXT(MONTH(CC334+1),\"00\"),\"／\",CC334+1))","v":"2026-03-29"},{"$f":"IF(CD334=\"／\",\"／\",IF(YEAR(BB333)&TEXT(MONTH(BB333),\"00\")<YEAR(CD334+1)&TEXT(MONTH(CD334+1),\"00\"),\"／\",CD334+1))","v":"2026-03-30"},{"$f":"IF(CE334=\"／\",\"／\",IF(YEAR(BB333)&TEXT(MONTH(BB333),\"00\")<YEAR(CE334+1)&TEXT(MONTH(CE334+1),\"00\"),\"／\",CE334+1))","v":"2026-03-31"},{"$f":"CG333","v":"2026-04-01"},{"$f":"CG334+1","v":"2026-04-02"},{"$f":"CH334+1","v":"2026-04-03"},{"$f":"CI334+1","v":"2026-04-04"},{"$f":"CJ334+1","v":"2026-04-05"},{"$f":"CK334+1","v":"2026-04-06"},null,null,null,null,"閉所日数",{"$f":"IF(IF(MONTH($BL$5)=12,YEAR($BL$5)+1&\"01\",YEAR($BL$5)&TEXT(MONTH($BL$5)+1,\"00\"))>YEAR(BB333)&TEXT(MONTH(BB333),\"00\"),COUNTIF(BB337:CF337,\"○\"),\"\")","v":1},{"$f":"IF(OR(MONTH(BB333)=1,MONTH(BB333)=8,MONTH(BB333)=12),IF(COUNTIF(BB337:CF337,\"／\")>=3,\"\",\"算定除外「／」漏れ\"),\"\")","v":""},null,null,null,"日",{"$f":"CX333","v":"2026-03-01"},{"$f":"CX334+1","v":"2026-03-02"},{"$f":"CY334+1","v":"2026-03-03"},{"$f":"CZ334+1","v":"2026-03-04"},{"$f":"DA334+1","v":"2026-03-05"},{"$f":"DB334+1","v":"2026-03-06"},{"$f":"DC334+1","v":"2026-03-07"},{"$f":"DD334+1","v":"2026-03-08"},{"$f":"DE334+1","v":"2026-03-09"},{"$f":"DF334+1","v":"2026-03-10"},{"$f":"DG334+1","v":"2026-03-11"},{"$f":"DH334+1","v":"2026-03-12"},{"$f":"DI334+1","v":"2026-03-13"},{"$f":"DJ334+1","v":"2026-03-14"},{"$f":"DK334+1","v":"2026-03-15"},{"$f":"DL334+1","v":"2026-03-16"},{"$f":"DM334+1","v":"2026-03-17"},{"$f":"DN334+1","v":"2026-03-18"},{"$f":"DO334+1","v":"2026-03-19"},{"$f":"DP334+1","v":"2026-03-20"},{"$f":"DQ334+1","v":"2026-03-21"},{"$f":"DR334+1","v":"2026-03-22"},{"$f":"DS334+1","v":"2026-03-23"},{"$f":"DT334+1","v":"2026-03-24"},{"$f":"DU334+1","v":"2026-03-25"},{"$f":"DV334+1","v":"2026-03-26"},{"$f":"DW334+1","v":"2026-03-27"},{"$f":"DX334+1","v":"2026-03-28"},{"$f":"IF(DY334=\"／\",\"／\",IF(YEAR(CX333)&TEXT(MONTH(CX333),\"00\")<YEAR(DY334+1)&TEXT(MONTH(DY334+1),\"00\"),\"／\",DY334+1))","v":"2026-03-29"},{"$f":"IF(DZ334=\"／\",\"／\",IF(YEAR(CX333)&TEXT(MONTH(CX333),\"00\")<YEAR(DZ334+1)&TEXT(MONTH(DZ334+1),\"00\"),\"／\",DZ334+1))","v":"2026-03-30"},{"$f":"IF(EA334=\"／\",\"／\",IF(YEAR(CX333)&TEXT(MONTH(CX333),\"00\")<YEAR(EA334+1)&TEXT(MONTH(EA334+1),\"00\"),\"／\",EA334+1))","v":"2026-03-31"},{"$f":"EC333","v":"2026-04-01"},{"$f":"EC334+1","v":"2026-04-02"},{"$f":"ED334+1","v":"2026-04-03"},{"$f":"EE334+1","v":"2026-04-04"},{"$f":"EF334+1","v":"2026-04-05"},{"$f":"EG334+1","v":"2026-04-06"},null,null,null,null,"閉所日数",{"$f":"IF(IF(MONTH($BL$5)=12,YEAR($BL$5)+1&\"01\",YEAR($BL$5)&TEXT(MONTH($BL$5)+1,\"00\"))>YEAR($CX333)&TEXT(MONTH($CX333),\"00\"),COUNTIF(CX337:EB337,\"○\"),\"\")","v":1},{"$f":"IF(OR(MONTH(CX333)=1,MONTH(CX333)=8,MONTH(CX333)=12),IF(COUNTIF(CX337:EB337,\"／\")>=3,\"\",\"算定除外「／」漏れ\"),\"\")","v":""}]
["",null,"曜日",{"$f":"TEXT(WEEKDAY(+D334),\"aaa\")","v":"日"},{"$f":"TEXT(WEEKDAY(+E334),\"aaa\")","v":"月"},"火","水","木",{"$f":"TEXT(WEEKDAY(+I334),\"aaa\")","v":"金"},{"$f":"TEXT(WEEKDAY(+J334),\"aaa\")","v":"土"},"日","月","火","水","木","金","土","日","月","火","水","木","金","土","日",{"$f":"TEXT(WEEKDAY(+Z334),\"aaa\")","v":"月"},{"$f":"TEXT(WEEKDAY(+AA334),\"aaa\")","v":"火"},"水","木","金","土",{"$f":"IF(AF334=\"／\",\"／\",TEXT(WEEKDAY(+AF334),\"aaa\"))","v":"日"},{"$f":"IF(AG334=\"／\",\"／\",TEXT(WEEKDAY(+AG334),\"aaa\"))","v":"月"},"火",{"$f":"TEXT(WEEKDAY(+AI334),\"aaa\")","v":"水"},{"$f":"TEXT(WEEKDAY(+AJ334),\"aaa\")","v":"木"},"金","土","日","月",null,null,null,null,"現場閉所率",{"$f":"IFERROR(+AT334/AT333,\"\")","v":""},{"$f":"IF(AT335=\"\",\"\",IF(COUNTIF(D337:AH337,\"○\")>=COUNTIF(D340:AH340,\"◎\"),\"4週8休以上\",IF(AT335>=0.285,\"4週8休以上\",\"週休2日未達成\")))","v":""},null,null,null,null,null,"曜日",{"$f":"TEXT(WEEKDAY(+BB334),\"aaa\")","v":"日"},{"$f":"TEXT(WEEKDAY(+BC334),\"aaa\")","v":"月"},"火","水","木",{"$f":"TEXT(WEEKDAY(+BG334),\"aaa\")","v":"金"},{"$f":"TEXT(WEEKDAY(+BH334),\"aaa\")","v":"土"},"日","月","火","水","木","金","土","日","月","火","水","木","金","土","日",{"$f":"TEXT(WEEKDAY(+BX334),\"aaa\")","v":"月"},{"$f":"TEXT(WEEKDAY(+BY334),\"aaa\")","v":"火"},"水","木","金","土",{"$f":"IF(CD334=\"／\",\"／\",TEXT(WEEKDAY(+CD334),\"aaa\"))","v":"日"},{"$f":"IF(CE334=\"／\",\"／\",TEXT(WEEKDAY(+CE334),\"aaa\"))","v":"月"},"火",{"$f":"TEXT(WEEKDAY(+CG334),\"aaa\")","v":"水"},{"$f":"TEXT(WEEKDAY(+CH334),\"aaa\")","v":"木"},"金","土","日","月",null,null,null,null,"現場閉所率",{"$f":"IFERROR(+CR334/CR333,\"\")","v":0.16666666666666666},{"$f":"IF(CR335=\"\",\"\",IF(COUNTIF(BB337:CF337,\"○\")>=COUNTIF(BB340:CF340,\"◎\"),\"4週8休以上\",IF(CR335>=0.285,\"4週8休以上\",\"週休2日未達成\")))","v":"4週8休以上"},null,null,null,"曜日",{"$f":"TEXT(WEEKDAY(+CX334),\"aaa\")","v":"日"},{"$f":"TEXT(WEEKDAY(+CY334),\"aaa\")","v":"月"},"火","水","木",{"$f":"TEXT(WEEKDAY(+DC334),\"aaa\")","v":"金"},{"$f":"TEXT(WEEKDAY(+DD334),\"aaa\")","v":"土"},"日","月","火","水","木","金","土","日","月","火","水","木","金","土","日",{"$f":"TEXT(WEEKDAY(+DT334),\"aaa\")","v":"月"},{"$f":"TEXT(WEEKDAY(+DU334),\"aaa\")","v":"火"},"水","木","金","土",{"$f":"IF(DZ334=\"／\",\"／\",TEXT(WEEKDAY(+DZ334),\"aaa\"))","v":"日"},{"$f":"IF(EA334=\"／\",\"／\",TEXT(WEEKDAY(+EA334),\"aaa\"))","v":"月"},"火",{"$f":"TEXT(WEEKDAY(+EC334),\"aaa\")","v":"水"},{"$f":"TEXT(WEEKDAY(+ED334),\"aaa\")","v":"木"},"金","土","日","月",null,null,null,null,"現場閉所率",{"$f":"IFERROR(+EN334/EN333,\"\")","v":0.16666666666666666},{"$f":"IF(EN335=\"\",\"\",IF(COUNTIF(CX337:EB337,\"○\")>=COUNTIF(CX340:EB340,\"◎\"),\"4週8休以上\",IF(EN335>=0.285,\"4週8休以上\",\"週休2日未達成\")))","v":"4週8休以上"}]
["",null,"行事",null,null,null,null,null,null,null,null,null,null,null,null,null,null,null,null,null,null,null,null,null,null,null,null,null,null,null,null,null,null,null,{"$f":"IF(D365=\"\",\"\",D365)","v":""},{"$f":"IF(E365=\"\",\"\",E365)","v":""},{"$f":"IF(F365=\"\",\"\",F365)","v":""},{"$f":"IF(G365=\"\",\"\",G365)","v":""},{"$f":"IF(H365=\"\",\"\",H365)","v":""},{"$f":"IF(I365=\"\",\"\",I365)","v":""},null,null,null,"実施","対象期間",{"$f":"IF(IF(MONTH(入力表!$E$6)=12,YEAR(入力表!$E$6)+1&\"01\",YEAR(入力表!$E$6)&TEXT(MONTH(入力表!$E$6)+1,\"00\"))>YEAR($D333)&TEXT(MONTH($D333),\"00\"),COUNTIF(D338:AH338,\"\")+COUNTIF(D338:AH338,\"●\"),\"\")","v":""},{"$f":"IF(COUNTIF(D334:AH334,\"／\")=0,\"\",IF(COUNTIF(D334:AH334,\"／\")=1,IF(AH338=\"／\",\"\",\"月末「／」漏れ\"),IF(COUNTIF(D334:AH334,\"／\")=2,IF(AND(AG338=\"／\",AH338=\"／\"),\"\",\"月末「／」漏れ\"),IF(AND(AF338=\"／\",AG338=\"／\",AH338=\"／\"),\"\",\"月末「／」漏れ\"))))","v":""},null,null,null,null,null,"行事",null,null,null,null,null,"作業完了日",null,null,null,null,null,null,null,null,null,null,null,null,null,null,null,null,"完成届日",null,null,null,null,null,null,null,null,{"$f":"IF(BB365=\"\",\"\",BB365)","v":""},{"$f":"IF(BC365=\"\",\"\",BC365)","v":""},{"$f":"IF(BD365=\"\",\"\",BD365)","v":""},{"$f":"IF(BE365=\"\",\"\",BE365)","v":""},{"$f":"IF(BF365=\"\",\"\",BF365)","v":""},{"$f":"IF(BG365=\"\",\"\",BG365)","v":""},null,null,null,"実施","対象期間",{"$f":"IF(IF(MONTH($BL$5)=12,YEAR($BL$5)+1&\"01\",YEAR($BL$5)&TEXT(MONTH($BL$5)+1,\"00\"))>YEAR(BB333)&TEXT(MONTH(BB333),\"00\"),COUNTIF(BB338:CF338,\"\")+COUNTIF(BB338:CF338,\"●\"),\"\")","v":6},{"$f":"IF(COUNTIF(BB334:CF334,\"／\")=0,\"\",IF(COUNTIF(BB334:CF334,\"／\")=1,IF(CF338=\"／\",\"\",\"月末「／」漏れ\"),IF(COUNTIF(BB334:CF334,\"／\")=2,IF(AND(CE338=\"／\",CF338=\"／\"),\"\",\"月末「／」漏れ\"),IF(AND(CD338=\"／\",CE338=\"／\",CF338=\"／\"),\"\",\"月末「／」漏れ\"))))","v":""},null,null,null,"行事",null,null,null,null,null,"当初完了日",null,null,null,"作業完了日",null,null,null,null,null,null,null,null,null,null,null,null,"完成届日",null,null,null,null,null,null,null,null,{"$f":"IF(CX365=\"\",\"\",CX365)","v":""},{"$f":"IF(CY365=\"\",\"\",CY365)","v":""},{"$f":"IF(CZ365=\"\",\"\",CZ365)","v":""},{"$f":"IF(DA365=\"\",\"\",DA365)","v":""},{"$f":"IF(DB365=\"\",\"\",DB365)","v":""},{"$f":"IF(DC365=\"\",\"\",DC365)","v":""},null,null,null,"実施","対象期間",{"$f":"IF(IF(MONTH($BL$5)=12,YEAR($BL$5)+1&\"01\",YEAR($BL$5)&TEXT(MONTH($BL$5)+1,\"00\"))>YEAR($CX333)&TEXT(MONTH($CX333),\"00\"),COUNTIF(CX338:EB338,\"\")+COUNTIF(CX338:EB338,\"●\"),\"\")","v":10},{"$f":"IF(COUNTIF(CX334:EB334,\"／\")=0,\"\",IF(COUNTIF(CX334:EB334,\"／\")=1,IF(EB338=\"／\",\"\",\"月末「／」漏れ\"),IF(COUNTIF(CX334:EB334,\"／\")=2,IF(AND(EA338=\"／\",EB338=\"／\"),\"\",\"月末「／」漏れ\"),IF(AND(DZ338=\"／\",EA338=\"／\",EB338=\"／\"),\"\",\"月末「／」漏れ\"))))","v":""}]
["",null,"計画",null,null,null,null,null,null,null,null,null,null,null,null,null,null,null,null,null,null,null,null,null,null,null,null,null,null,null,null,null,null,null,{"$f":"IF(D366=\"\",\"\",D366)","v":""},{"$f":"IF(E366=\"\",\"\",E366)","v":""},{"$f":"IF(F366=\"\",\"\",F366)","v":""},{"$f":"IF(G366=\"\",\"\",G366)","v":""},{"$f":"IF(H366=\"\",\"\",H366)","v":""},{"$f":"IF(I366=\"\",\"\",I366)","v":""},{"$f":"COUNTIF(D337:AH337,\"○\")","v":0},{"$f":"+AO337+AP308","v":0},null,null,"閉所日数",{"$f":"IF(IF(MONTH(入力表!$E$6)=12,YEAR(入力表!$E$6)+1&\"01\",YEAR(入力表!$E$6)&TEXT(MONTH(入力表!$E$6)+1,\"00\"))>YEAR($D333)&TEXT(MONTH($D333),\"00\"),COUNTIF(D338:AH338,\"●\"),\"\")","v":""},{"$f":"IF(OR(MONTH(D333)=1,MONTH(D333)=8,MONTH(D333)=12),IF(COUNTIF(D338:AH338,\"／\")>=3,\"\",\"算定除外「／」漏れ\"),\"\")","v":""},null,null,null,null,null,"計画","○",null,null,null,null,null,"／","／","／","／","／","／","／","／","／","／","／","／","／","／","／","／","／","／","／","／","／","／","／","／","／",{"$f":"IF(BB366=\"\",\"\",BB366)","v":""},"","","","","",{"$f":"COUNTIF(BB337:CF337,\"○\")","v":1},{"$f":"+CM337+CN308","v":88},null,null,"閉所日数",{"$f":"IF(IF(MONTH($BL$5)=12,YEAR($BL$5)+1&\"01\",YEAR($BL$5)&TEXT(MONTH($BL$5)+1,\"00\"))>YEAR(BB333)&TEXT(MONTH(BB333),\"00\"),COUNTIF(BB338:CF338,\"●\"),\"\")","v":0},{"$f":"IF(OR(MONTH(BB333)=1,MONTH(BB333)=8,MONTH(BB333)=12),IF(COUNTIF(BB338:CF338,\"／\")>=3,\"\",\"算定除外「／」漏れ\"),\"\")","v":""},null,null,null,"計画","○",null,null,null,null,null,"／","／","／","／","／","／","／","／","／","／","／","／","／","／","／","／","／","／","／","／","／","／","／","／","／",{"$f":"IF(CX366=\"\",\"\",CX366)","v":""},"","","","","",{"$f":"COUNTIF(CX337:EB337,\"○\")","v":1},{"$f":"+EI337+EJ308","v":88},null,null,"閉所日数",{"$f":"IF(IF(MONTH($BL$5)=12,YEAR($BL$5)+1&\"01\",YEAR($BL$5)&TEXT(MONTH($BL$5)+1,\"00\"))>YEAR($CX333)&TEXT(MONTH($CX333),\"00\"),COUNTIF(CX338:EB338,\"●\"),\"\")","v":3},{"$f":"IF(OR(MONTH(CX333)=1,MONTH(CX333)=8,MONTH(CX333)=12),IF(COUNTIF(CX338:EB338,\"／\")>=3,\"\",\"算定除外「／」漏れ\"),\"\")","v":""}]
["",null,"実施",null,null,null,null,null,null,null,null,null,null,null,null,null,null,null,null,null,null,null,null,null,null,null,null,null,null,null,null,null,null,null,{"$f":"IF(D367=\"\",\"\",D367)","v":""},{"$f":"IF(E367=\"\",\"\",E367)","v":""},{"$f":"IF(F367=\"\",\"\",F367)","v":""},{"$f":"IF(G367=\"\",\"\",G367)","v":""},{"$f":"IF(H367=\"\",\"\",H367)","v":""},{"$f":"IF(I367=\"\",\"\",I367)","v":""},{"$f":"COUNTIF(D338:AH338,\"●\")","v":0},{"$f":"+AO338+AP309","v":0},null,null,"現場閉所率",{"$f":"IFERROR(+AT337/AT336,\"\")","v":""},{"$f":"IF(AT338=\"\",\"\",IF(COUNTIF(D338:AH338,\"●\")>=COUNTIF(D341:AH341,\"◎\"),\"4週8休以上\",IF(AT338>=0.285,\"4週8休以上\",\"週休2日未達成\")))","v":""},null,null,null,null,null,"実施",null,null,null,null,null,null,"／","／","／","／","／","／","／","／","／","／","／","／","／","／","／","／","／","／","／","／","／","／","／","／","／",{"$f":"IF(BB367=\"\",\"\",BB367)","v":""},{"$f":"IF(BC367=\"\",\"\",BC367)","v":""},{"$f":"IF(BD367=\"\",\"\",BD367)","v":""},{"$f":"IF(BE367=\"\",\"\",BE367)","v":""},{"$f":"IF(BF367=\"\",\"\",BF367)","v":""},{"$f":"IF(BG367=\"\",\"\",BG367)","v":""},{"$f":"COUNTIF(BB338:CF338,\"●\")","v":0},{"$f":"+CM338+CN309","v":0},null,null,"現場閉所率",{"$f":"IFERROR(+CR337/CR336,\"\")","v":0},{"$f":"IF(CR338=\"\",\"\",IF(COUNTIF(BB338:CF338,\"●\")>=COUNTIF(BB341:CF341,\"◎\"),\"4週8休以上\",IF(CR338>=0.285,\"4週8休以上\",\"週休2日未達成\")))","v":"週休2日未達成"},null,null,null,"実施","●",null,null,null,null,null,"●","●",null,null,"／","／","／","／","／","／","／","／","／","／","／","／","／","／","／","／","／","／","／","／","／",{"$f":"IF(CX367=\"\",\"\",CX367)","v":""},{"$f":"IF(CY367=\"\",\"\",CY367)","v":""},{"$f":"IF(CZ367=\"\",\"\",CZ367)","v":""},{"$f":"IF(DA367=\"\",\"\",DA367)","v":""},{"$f":"IF(DB367=\"\",\"\",DB367)","v":""},{"$f":"IF(DC367=\"\",\"\",DC367)","v":""},{"$f":"COUNTIF(CX338:EB338,\"●\")","v":3},{"$f":"+EI338+EJ309","v":89},null,null,"現場閉所率",{"$f":"IFERROR(+EN337/EN336,\"\")","v":0.3},{"$f":"IF(EN338=\"\",\"\",IF(COUNTIF(CX338:EB338,\"●\")>=COUNTIF(CX341:EB341,\"◎\"),\"4週8休以上\",IF(EN338>=0.285,\"4週8休以上\",\"週休2日未達成\")))","v":"4週8休以上"}]
[null,null,null,1,2,3,4,5,6,7,8,9,10,11,12,13,14,15,16,17,18,19,20,21,22,23,24,25,26,27,28,29,30,31,32,33,34,35,36,37,null,null,null,null,{"$f":"AU338","v":""},null,null,null,null,null,null,null,null,1,2,3,4,5,6,7,8,9,10,11,12,13,14,15,16,17,18,19,20,21,22,23,24,25,26,27,28,29,30,31,32,33,34,35,36,37,null,null,null,null,{"$f":"CS338","v":"週休2日未達成"},null,null,null,null,null,null,1,2,3,4,5,6,7,8,9,10,11,12,13,14,15,16,17,18,19,20,21,22,23,24,25,26,27,28,29,30,31,32,33,34,35,36,37,null,null,null,null,{"$f":"EO338","v":"4週8休以上"}]
[null,null,"計画",{"$f":"IF(D337=\"／\",\"／\",IF(OR(D335=\"土\",D335=\"日\"),\"◎\",\"\"))","v":"◎"},{"$f":"IF(E337=\"／\",\"／\",IF(OR(E335=\"土\",E335=\"日\"),\"◎\",\"\"))","v":""},"","","","","◎","◎","","","","","","◎","◎","","","","","","◎","◎","","","","",{"$f":"IF(AD337=\"／\",\"／\",IF(OR(AD335=\"土\",AD335=\"日\"),\"◎\",\"\"))","v":""},{"$f":"IF(AE337=\"／\",\"／\",IF(OR(AE335=\"土\",AE335=\"日\"),\"◎\",\"\"))","v":"◎"},"◎","","","","","","◎","◎","",null,null,null,null,{"$f":"AT342","v":""},null,null,null,null,null,null,null,"計画",{"$f":"IF(BB337=\"／\",\"／\",IF(OR(BB335=\"土\",BB335=\"日\"),\"◎\",\"\"))","v":"◎"},"","","","","","／","／","／","／","／","／",{"$f":"IF(BN337=\"／\",\"／\",IF(OR(BN335=\"土\",BN335=\"日\"),\"◎\",\"\"))","v":"／"},{"$f":"IF(BO337=\"／\",\"／\",IF(OR(BO335=\"土\",BO335=\"日\"),\"◎\",\"\"))","v":"／"},"／","／","／","／","／","／","／","／","／","／","／","／",{"$f":"IF(CB337=\"／\",\"／\",IF(OR(CB335=\"土\",CB335=\"日\"),\"◎\",\"\"))","v":"／"},{"$f":"IF(CC337=\"／\",\"／\",IF(OR(CC335=\"土\",CC335=\"日\"),\"◎\",\"\"))","v":"／"},"／","／","／","","","","◎","◎","",null,null,null,null,{"$f":"CR342","v":"OUT"},null,null,null,null,null,"計画",{"$f":"IF(CX337=\"／\",\"／\",IF(OR(CX335=\"土\",CX335=\"日\"),\"◎\",\"\"))","v":"◎"},"","","","","","／","／","／","／","／","／",{"$f":"IF(DJ337=\"／\",\"／\",IF(OR(DJ335=\"土\",DJ335=\"日\"),\"◎\",\"\"))","v":"／"},{"$f":"IF(DK337=\"／\",\"／\",IF(OR(DK335=\"土\",DK335=\"日\"),\"◎\",\"\"))","v":"／"},"／","／","／","／","／","／","／","／","／","／","／","／",{"$f":"IF(DX337=\"／\",\"／\",IF(OR(DX335=\"土\",DX335=\"日\"),\"◎\",\"\"))","v":"／"},{"$f":"IF(DY337=\"／\",\"／\",IF(OR(DY335=\"土\",DY335=\"日\"),\"◎\",\"\"))","v":"／"},"／","／","／","","","","◎","◎","",null,null,null,null,{"$f":"EN342","v":"OK"}]
[null,null,"実施",{"$f":"IF(D338=\"／\",\"／\",IF(OR(D335=\"土\",D335=\"日\"),\"◎\",\"\"))","v":"◎"},{"$f":"IF(E338=\"／\",\"／\",IF(OR(E335=\"土\",E335=\"日\"),\"◎\",\"\"))","v":""},"","","","","◎","◎","","","","","","◎","◎","","","","","","◎","◎","","","","","","◎","◎","","","","","","◎","◎","",null,null,null,null,null,null,null,null,null,null,null,null,"実施",{"$f":"IF(BB338=\"／\",\"／\",IF(OR(BB335=\"土\",BB335=\"日\"),\"◎\",\"\"))","v":"◎"},{"$f":"IF(BC338=\"／\",\"／\",IF(OR(BC335=\"土\",BC335=\"日\"),\"◎\",\"\"))","v":""},"","","","","／","／","／","／","／","／","／","／","／","／","／","／","／","／","／","／","／","／","／","／","／","／","／","／","／","","","","◎","◎","",null,null,null,null,null,null,null,null,null,null,"実施",{"$f":"IF(CX338=\"／\",\"／\",IF(OR(CX335=\"土\",CX335=\"日\"),\"◎\",\"\"))","v":"◎"},{"$f":"IF(CY338=\"／\",\"／\",IF(OR(CY335=\"土\",CY335=\"日\"),\"◎\",\"\"))","v":""},"","","","","◎","◎","","","／","／","／","／","／","／","／","／","／","／","／","／","／","／","／","／","／","／","／","／","／","","","","◎","◎",""]
["",null,"完全",{"$f":"IF(WEEKDAY(DATE(YEAR(D333),MONTH(D333),1),2)=1,DATE(YEAR(D333),MONTH(D333),1),EOMONTH(D333,-1)-MOD(WEEKDAY(EOMONTH(D333,-1),2)+6,7))","v":"2026-02-23"},"～",{"$f":"DATE(YEAR(D333),MONTH(D333),1)+MOD(7-WEEKDAY(DATE(YEAR(D333),MONTH(D333),1),2),7)","v":"2026-03-01"},{"$f":"IF(DAY(D342)=1,IF(COUNTIF(D338:J338,\"／\")>=1,\"対象外\",IF(COUNTIF(INDEX(D338:AN338,DAY(D342)):INDEX(D338:AN338,HLOOKUP(F342,D334:AN339,6,FALSE)),\"\")+COUNTIF(INDEX(D338:AN338,DAY(D342)):INDEX(D338:AN338,HLOOKUP(F342,D334:AN339,6,FALSE)),\"●\")=7,IF(COUNTIF(INDEX(D338:AN338,DAY(D342)):INDEX(D338:AN338,HLOOKUP(F342,D334:AN339,6,FALSE)),\"●\")>=2,\"OK\",\"OUT\"),IF(COUNTIF(INDEX(D338:AN338,DAY(D342)):INDEX(D338:AN338,HLOOKUP(F342,D334:AN339,6,FALSE)),\"●\")>=COUNTIF(INDEX(D341:AN341,DAY(D342)):INDEX(D341:AN341,HLOOKUP(F342,D334:AN339,6,FALSE)),\"○\"),\"OK\",\"OUT\"))),IF(AND(AK313=\"\",AE313=\"\"),Y313,IF(AK313=\"\",AE313,AK313)))","v":"「／」漏れ"},null,null,{"$f":"F342+1","v":"2026-03-02"},"～",{"$f":"F342+7","v":"2026-03-08"},{"$f":"IF(COUNTIF(INDEX(D338:AN338,DAY(J342)):INDEX(D338:AN338,HLOOKUP(L342,D334:AN339,6,FALSE)),\"\")+COUNTIF(INDEX(D338:AN338,DAY(J342)):INDEX(D338:AN338,HLOOKUP(L342,D334:AN339,6,FALSE)),\"●\")=7,IF(COUNTIF(INDEX(D338:AN338,DAY(J342)):INDEX(D338:AN338,HLOOKUP(L342,D334:AN339,6,FALSE)),\"●\")>=2,\"OK\",\"OUT\"),\"対象外\")","v":"OUT"},null,null,{"$f":"L342+1","v":"2026-03-09"},"～",{"$f":"L342+7","v":"2026-03-15"},{"$f":"IF(COUNTIF(INDEX(D338:AN338,DAY(P342)):INDEX(D338:AN338,HLOOKUP(R342,D334:AN339,6,FALSE)),\"\")+COUNTIF(INDEX(D338:AN338,DAY(P342)):INDEX(D338:AN338,HLOOKUP(R342,D334:AN339,6,FALSE)),\"●\")=7,IF(COUNTIF(INDEX(D338:AN338,DAY(P342)):INDEX(D338:AN338,HLOOKUP(R342,D334:AN339,6,FALSE)),\"●\")>=2,\"OK\",\"OUT\"),\"対象外\")","v":"OUT"},null,null,{"$f":"R342+1","v":"2026-03-16"},"～",{"$f":"R342+7","v":"2026-03-22"},{"$f":"IF(COUNTIF(INDEX(D338:AN338,DAY(V342)):INDEX(D338:AN338,HLOOKUP(X342,D334:AN339,6,FALSE)),\"\")+COUNTIF(INDEX(D338:AN338,DAY(V342)):INDEX(D338:AN338,HLOOKUP(X342,D334:AN339,6,FALSE)),\"●\")=7,IF(COUNTIF(INDEX(D338:AN338,DAY(V342)):INDEX(D338:AN338,HLOOKUP(X342,D334:AN339,6,FALSE)),\"●\")>=2,\"OK\",\"OUT\"),\"対象外\")","v":"OUT"},null,null,{"$f":"IF(AND(DAY(X342+7)<23,DAY(X342+7)>=7),\"\",X342+1)","v":"2026-03-23"},{"$f":"IF(AND(DAY(X342+7)<23,DAY(X342+7)>=7),\"\",\"～\")","v":"～"},{"$f":"IF(AND(DAY(X342+7)<23,DAY(X342+7)>=7),\"\",X342+7)","v":"2026-03-29"},{"$f":"IF(AND(DAY(X342+7)<23,DAY(X342+7)>=7),\"\",IF(COUNTIF(INDEX(D338:AN338,DAY(AB342)):INDEX(D338:AN338,HLOOKUP(AD342,D334:AN339,6,FALSE)),\"\")+COUNTIF(INDEX(D338:AN338,DAY(AB342)):INDEX(D338:AN338,HLOOKUP(AD342,D334:AN339,6,FALSE)),\"●\")=7,IF(COUNTIF(INDEX(D338:AN338,DAY(AB342)):INDEX(D338:AN338,HLOOKUP(AD342,D334:AN339,6,FALSE)),\"●\")>=2,\"OK\",\"OUT\"),IF(COUNTIF(INDEX(D338:AN338,DAY(AB342)):INDEX(D338:AN338,HLOOKUP(AD342,D334:AN339,6,FALSE)),\"\")+COUNTIF(INDEX(D338:AN338,DAY(AB342)):INDEX(D338:AN338,HLOOKUP(AD342,D334:AN339,6,FALSE)),\"●\")>7,\"「／」漏れ\",\"対象外\")))","v":"OUT"},null,null,{"$f":"IF(AE342=\"\",\"\",IF(AND(DAY(AD342+7)<23,DAY(AD342+7)>=7),\"\",AD342+1))","v":"2026-03-30"},{"$f":"IF(AE342=\"\",\"\",IF(AND(DAY(AD342+7)<23,DAY(AD342+7)>=7),\"\",\"～\"))","v":"～"},{"$f":"IF(AE342=\"\",\"\",IF(AND(DAY(AD342+7)<23,DAY(AD342+7)>=7),\"\",AD342+7))","v":"2026-04-05"},{"$f":"IF(AE342=\"\",\"\",IF(AND(DAY(AD342+7)<23,DAY(AD342+7)>=7),\"\",IF(COUNTIF(INDEX(D338:AN338,DAY(AH342)):INDEX(D338:AN338,HLOOKUP(AJ342,D334:AN339,6,FALSE)),\"\")+COUNTIF(INDEX(D338:AN338,DAY(AH342)):INDEX(D338:AN338,HLOOKUP(AJ342,D334:AN339,6,FALSE)),\"●\")=7,IF(COUNTIF(INDEX(D338:AN338,DAY(AH342)):INDEX(D338:AN338,HLOOKUP(AJ342,D334:AN339,6,FALSE)),\"●\")>=2,\"OK\",\"OUT\"),IF(COUNTIF(INDEX(D338:AN338,HLOOKUP(AH342,D334:AN339,6,FALSE)):INDEX(D338:AN338,HLOOKUP(AJ342,D334:AN339,6,FALSE)),\"\")+COUNTIF(INDEX(D338:AN338,HLOOKUP(AH342,D334:AN339,6,FALSE)):INDEX(D338:AN338,HLOOKUP(AJ342,D334:AN339,6,FALSE)),\"●\")>7,\"「／」漏れ\",\"対象外\"))))","v":"OUT"},null,null,null,null,null,null,null,"完全週休二日",{"$f":"IF(AT333=\"\",\"\",IF(COUNTIF(D342:AN342,\"OUT\")>=1,\"OUT\",\"OK\"))","v":""},null,null,null,null,null,null,"完全",{"$f":"IF(WEEKDAY(DATE(YEAR(BB333),MONTH(BB333),1),2)=1,DATE(YEAR(BB333),MONTH(BB333),1),EOMONTH(BB333,-1)-MOD(WEEKDAY(EOMONTH(BB333,-1),2)+6,7))","v":"2026-02-23"},"～",{"$f":"DATE(YEAR(BB333),MONTH(BB333),1)+MOD(7-WEEKDAY(DATE(YEAR(BB333),MONTH(BB333),1),2),7)","v":"2026-03-01"},{"$f":"IF(DAY(BB342)=1,IF(COUNTIF(BB338:BH338,\"／\")>=1,\"対象外\",IF(COUNTIF(INDEX(BB338:CL338,DAY(BB342)):INDEX(BB338:CL338,HLOOKUP(BD342,BB334:CL339,6,FALSE)),\"\")+COUNTIF(INDEX(BB338:CL338,DAY(BB342)):INDEX(BB338:CL338,HLOOKUP(BD342,BB334:CL339,6,FALSE)),\"●\")=7,IF(COUNTIF(INDEX(BB338:CL338,DAY(BB342)):INDEX(BB338:CL338,HLOOKUP(BD342,BB334:CL339,6,FALSE)),\"●\")>=2,\"OK\",\"OUT\"),IF(COUNTIF(INDEX(BB338:CL338,DAY(BB342)):INDEX(BB338:CL338,HLOOKUP(BD342,BB334:CL339,6,FALSE)),\"●\")>=COUNTIF(INDEX(BB341:CL341,DAY(BB342)):INDEX(BB341:CL341,HLOOKUP(BD342,BB334:CL339,6,FALSE)),\"○\"),\"OK\",\"OUT\"))),IF(AND(CI313=\"\",CC313=\"\"),BW313,IF(CI313=\"\",CC313,CI313)))","v":"OUT"},null,null,{"$f":"BD342+1","v":"2026-03-02"},"～",{"$f":"BD342+7","v":"2026-03-08"},{"$f":"IF(COUNTIF(INDEX(BB338:CL338,DAY(BH342)):INDEX(BB338:CL338,HLOOKUP(BJ342,BB334:CL339,6,FALSE)),\"\")+COUNTIF(INDEX(BB338:CL338,DAY(BH342)):INDEX(BB338:CL338,HLOOKUP(BJ342,BB334:CL339,6,FALSE)),\"●\")=7,IF(COUNTIF(INDEX(BB338:CL338,DAY(BH342)):INDEX(BB338:CL338,HLOOKUP(BJ342,BB334:CL339,6,FALSE)),\"●\")>=2,\"OK\",\"OUT\"),\"対象外\")","v":"対象外"},null,null,{"$f":"BJ342+1","v":"2026-03-09"},"～",{"$f":"BJ342+7","v":"2026-03-15"},{"$f":"IF(COUNTIF(INDEX(BB338:CL338,DAY(BN342)):INDEX(BB338:CL338,HLOOKUP(BP342,BB334:CL339,6,FALSE)),\"\")+COUNTIF(INDEX(BB338:CL338,DAY(BN342)):INDEX(BB338:CL338,HLOOKUP(BP342,BB334:CL339,6,FALSE)),\"●\")=7,IF(COUNTIF(INDEX(BB338:CL338,DAY(BN342)):INDEX(BB338:CL338,HLOOKUP(BP342,BB334:CL339,6,FALSE)),\"●\")>=2,\"OK\",\"OUT\"),\"対象外\")","v":"対象外"},null,null,{"$f":"BP342+1","v":"2026-03-16"},"～",{"$f":"BP342+7","v":"2026-03-22"},{"$f":"IF(COUNTIF(INDEX(BB338:CL338,DAY(BT342)):INDEX(BB338:CL338,HLOOKUP(BV342,BB334:CL339,6,FALSE)),\"\")+COUNTIF(INDEX(BB338:CL338,DAY(BT342)):INDEX(BB338:CL338,HLOOKUP(BV342,BB334:CL339,6,FALSE)),\"●\")=7,IF(COUNTIF(INDEX(BB338:CL338,DAY(BT342)):INDEX(BB338:CL338,HLOOKUP(BV342,BB334:CL339,6,FALSE)),\"●\")>=2,\"OK\",\"OUT\"),\"対象外\")","v":"対象外"},null,null,{"$f":"IF(AND(DAY(BV342+7)<23,DAY(BV342+7)>=7),\"\",BV342+1)","v":"2026-03-23"},{"$f":"IF(AND(DAY(BV342+7)<23,DAY(BV342+7)>=7),\"\",\"～\")","v":"～"},{"$f":"IF(AND(DAY(BV342+7)<23,DAY(BV342+7)>=7),\"\",BV342+7)","v":"2026-03-29"},{"$f":"IF(AND(DAY(BV342+7)<23,DAY(BV342+7)>=7),\"\",IF(COUNTIF(INDEX(BB338:CL338,DAY(BZ342)):INDEX(BB338:CL338,HLOOKUP(CB342,BB334:CL339,6,FALSE)),\"\")+COUNTIF(INDEX(BB338:CL338,DAY(BZ342)):INDEX(BB338:CL338,HLOOKUP(CB342,BB334:CL339,6,FALSE)),\"●\")=7,IF(COUNTIF(INDEX(BB338:CL338,DAY(BZ342)):INDEX(BB338:CL338,HLOOKUP(CB342,BB334:CL339,6,FALSE)),\"●\")>=2,\"OK\",\"OUT\"),IF(COUNTIF(INDEX(BB338:CL338,DAY(BZ342)):INDEX(BB338:CL338,HLOOKUP(CB342,BB334:CL339,6,FALSE)),\"\")+COUNTIF(INDEX(BB338:CL338,DAY(BZ342)):INDEX(BB338:CL338,HLOOKUP(CB342,BB334:CL339,6,FALSE)),\"●\")>7,\"「／」漏れ\",\"対象外\")))","v":"対象外"},null,null,{"$f":"IF(CC342=\"\",\"\",IF(AND(DAY(CB342+7)<23,DAY(CB342+7)>=7),\"\",CB342+1))","v":"2026-03-30"},{"$f":"IF(CC342=\"\",\"\",IF(AND(DAY(CB342+7)<23,DAY(CB342+7)>=7),\"\",\"～\"))","v":"～"},{"$f":"IF(CC342=\"\",\"\",IF(AND(DAY(CB342+7)<23,DAY(CB342+7)>=7),\"\",CB342+7))","v":"2026-04-05"},{"$f":"IF(CC342=\"\",\"\",IF(AND(DAY(CB342+7)<23,DAY(CB342+7)>=7),\"\",IF(COUNTIF(INDEX(BB338:CL338,DAY(CF342)):INDEX(BB338:CL338,HLOOKUP(CH342,BB334:CL339,6,FALSE)),\"\")+COUNTIF(INDEX(BB338:CL338,DAY(CF342)):INDEX(BB338:CL338,HLOOKUP(CH342,BB334:CL339,6,FALSE)),\"●\")=7,IF(COUNTIF(INDEX(BB338:CL338,DAY(CF342)):INDEX(BB338:CL338,HLOOKUP(CH342,BB334:CL339,6,FALSE)),\"●\")>=2,\"OK\",\"OUT\"),IF(COUNTIF(INDEX(BB338:CL338,HLOOKUP(CF342,BB334:CL339,6,FALSE)):INDEX(BB338:CL338,HLOOKUP(CH342,BB334:CL339,6,FALSE)),\"\")+COUNTIF(INDEX(BB338:CL338,HLOOKUP(CF342,BB334:CL339,6,FALSE)):INDEX(BB338:CL338,HLOOKUP(CH342,BB334:CL339,6,FALSE)),\"●\")>7,\"「／」漏れ\",\"対象外\"))))","v":"対象外"},null,null,null,null,null,null,null,"完全週休二日",{"$f":"IF(CR333=\"\",\"\",IF(COUNTIF(BB342:CL342,\"OUT\")>=1,\"OUT\",\"OK\"))","v":"OUT"},null,null,null,null,"完全",{"$f":"IF(WEEKDAY(DATE(YEAR(CX333),MONTH(CX333),1),2)=1,DATE(YEAR(CX333),MONTH(CX333),1),EOMONTH(CX333,-1)-MOD(WEEKDAY(EOMONTH(CX333,-1),2)+6,7))","v":"2026-02-23"},"～",{"$f":"DATE(YEAR(CX333),MONTH(CX333),1)+MOD(7-WEEKDAY(DATE(YEAR(CX333),MONTH(CX333),1),2),7)","v":"2026-03-01"},{"$f":"IF(DAY(CX342)=1,IF(COUNTIF(CX338:DD338,\"／\")>=1,\"対象外\",IF(COUNTIF(INDEX(CX338:EH338,DAY(CX342)):INDEX(CX338:EH338,HLOOKUP(CZ342,CX334:EH339,6,FALSE)),\"\")+COUNTIF(INDEX(CX338:EH338,DAY(CX342)):INDEX(CX338:EH338,HLOOKUP(CZ342,CX334:EH339,6,FALSE)),\"●\")=7,IF(COUNTIF(INDEX(CX338:EH338,DAY(CX342)):INDEX(CX338:EH338,HLOOKUP(CZ342,CX334:EH339,6,FALSE)),\"●\")>=2,\"OK\",\"OUT\"),IF(COUNTIF(INDEX(CX338:EH338,DAY(CX342)):INDEX(CX338:EH338,HLOOKUP(CZ342,CX334:EH339,6,FALSE)),\"●\")>=COUNTIF(INDEX(CX341:EH341,DAY(CX342)):INDEX(CX341:EH341,HLOOKUP(CZ342,CX334:EH339,6,FALSE)),\"○\"),\"OK\",\"OUT\"))),IF(AND(EE313=\"\",DY313=\"\"),DS313,IF(EE313=\"\",DY313,EE313)))","v":"OK"},null,null,{"$f":"CZ342+1","v":"2026-03-02"},"～",{"$f":"CZ342+7","v":"2026-03-08"},{"$f":"IF(COUNTIF(INDEX(CX338:EH338,DAY(DD342)):INDEX(CX338:EH338,HLOOKUP(DF342,CX334:EH339,6,FALSE)),\"\")+COUNTIF(INDEX(CX338:EH338,DAY(DD342)):INDEX(CX338:EH338,HLOOKUP(DF342,CX334:EH339,6,FALSE)),\"●\")=7,IF(COUNTIF(INDEX(CX338:EH338,DAY(DD342)):INDEX(CX338:EH338,HLOOKUP(DF342,CX334:EH339,6,FALSE)),\"●\")>=2,\"OK\",\"OUT\"),\"対象外\")","v":"OK"},null,null,{"$f":"DF342+1","v":"2026-03-09"},"～",{"$f":"DF342+7","v":"2026-03-15"},{"$f":"IF(COUNTIF(INDEX(CX338:EH338,DAY(DJ342)):INDEX(CX338:EH338,HLOOKUP(DL342,CX334:EH339,6,FALSE)),\"\")+COUNTIF(INDEX(CX338:EH338,DAY(DJ342)):INDEX(CX338:EH338,HLOOKUP(DL342,CX334:EH339,6,FALSE)),\"●\")=7,IF(COUNTIF(INDEX(CX338:EH338,DAY(DJ342)):INDEX(CX338:EH338,HLOOKUP(DL342,CX334:EH339,6,FALSE)),\"●\")>=2,\"OK\",\"OUT\"),\"対象外\")","v":"対象外"},null,null,{"$f":"DL342+1","v":"2026-03-16"},"～",{"$f":"DL342+7","v":"2026-03-22"},{"$f":"IF(COUNTIF(INDEX(CX338:EH338,DAY(DP342)):INDEX(CX338:EH338,HLOOKUP(DR342,CX334:EH339,6,FALSE)),\"\")+COUNTIF(INDEX(CX338:EH338,DAY(DP342)):INDEX(CX338:EH338,HLOOKUP(DR342,CX334:EH339,6,FALSE)),\"●\")=7,IF(COUNTIF(INDEX(CX338:EH338,DAY(DP342)):INDEX(CX338:EH338,HLOOKUP(DR342,CX334:EH339,6,FALSE)),\"●\")>=2,\"OK\",\"OUT\"),\"対象外\")","v":"対象外"},null,null,{"$f":"IF(AND(DAY(DR342+7)<23,DAY(DR342+7)>=7),\"\",DR342+1)","v":"2026-03-23"},{"$f":"IF(AND(DAY(DR342+7)<23,DAY(DR342+7)>=7),\"\",\"～\")","v":"～"},{"$f":"IF(AND(DAY(DR342+7)<23,DAY(DR342+7)>=7),\"\",DR342+7)","v":"2026-03-29"},{"$f":"IF(AND(DAY(DR342+7)<23,DAY(DR342+7)>=7),\"\",IF(COUNTIF(INDEX(CX338:EH338,DAY(DV342)):INDEX(CX338:EH338,HLOOKUP(DX342,CX334:EH339,6,FALSE)),\"\")+COUNTIF(INDEX(CX338:EH338,DAY(DV342)):INDEX(CX338:EH338,HLOOKUP(DX342,CX334:EH339,6,FALSE)),\"●\")=7,IF(COUNTIF(INDEX(CX338:EH338,DAY(DV342)):INDEX(CX338:EH338,HLOOKUP(DX342,CX334:EH339,6,FALSE)),\"●\")>=2,\"OK\",\"OUT\"),IF(COUNTIF(INDEX(CX338:EH338,DAY(DV342)):INDEX(CX338:EH338,HLOOKUP(DX342,CX334:EH339,6,FALSE)),\"\")+COUNTIF(INDEX(CX338:EH338,DAY(DV342)):INDEX(CX338:EH338,HLOOKUP(DX342,CX334:EH339,6,FALSE)),\"●\")>7,\"「／」漏れ\",\"対象外\")))","v":"対象外"},null,null,{"$f":"IF(DY342=\"\",\"\",IF(AND(DAY(DX342+7)<23,DAY(DX342+7)>=7),\"\",DX342+1))","v":"2026-03-30"},{"$f":"IF(DY342=\"\",\"\",IF(AND(DAY(DX342+7)<23,DAY(DX342+7)>=7),\"\",\"～\"))","v":"～"},{"$f":"IF(DY342=\"\",\"\",IF(AND(DAY(DX342+7)<23,DAY(DX342+7)>=7),\"\",DX342+7))","v":"2026-04-05"},{"$f":"IF(DY342=\"\",\"\",IF(AND(DAY(DX342+7)<23,DAY(DX342+7)>=7),\"\",IF(COUNTIF(INDEX(CX338:EH338,DAY(EB342)):INDEX(CX338:EH338,HLOOKUP(ED342,CX334:EH339,6,FALSE)),\"\")+COUNTIF(INDEX(CX338:EH338,DAY(EB342)):INDEX(CX338:EH338,HLOOKUP(ED342,CX334:EH339,6,FALSE)),\"●\")=7,IF(COUNTIF(INDEX(CX338:EH338,DAY(EB342)):INDEX(CX338:EH338,HLOOKUP(ED342,CX334:EH339,6,FALSE)),\"●\")>=2,\"OK\",\"OUT\"),IF(COUNTIF(INDEX(CX338:EH338,HLOOKUP(EB342,CX334:EH339,6,FALSE)):INDEX(CX338:EH338,HLOOKUP(ED342,CX334:EH339,6,FALSE)),\"\")+COUNTIF(INDEX(CX338:EH338,HLOOKUP(EB342,CX334:EH339,6,FALSE)):INDEX(CX338:EH338,HLOOKUP(ED342,CX334:EH339,6,FALSE)),\"●\")>7,\"「／」漏れ\",\"対象外\"))))","v":"対象外"},null,null,null,null,null,null,null,"完全週休二日",{"$f":"IF(EN333=\"\",\"\",IF(COUNTIF(CX342:EH342,\"OUT\")>=1,\"OUT\",\"OK\"))","v":"OK"}]
[""]
[{"$f":"IF(AND(NOT($AT$333=\"\"),$AT$362=\"\"),\"対象期間\",\"\")","v":""}]
[{"$f":"IF(AND(NOT($AT$333=\"\"),$AT$362=\"\"),\"対象期間\",\"\")","v":""},null,"※１工事着手日：始期日以降に準備工事（現場事務所の建設・測量等）、工場製作を含む工事における工場製作工に着手した日",null,null,null,null,null,null,null,null,null,null,null,null,null,null,null,null,null,null,null,null,null,null,null,null,null,null,null,null,null,null,null,null,null,null,null,null,null,null,null,null,"工事全体の確認",null,null,null,null,null,null,null,null,"※１工事着手日：始期日以降に準備工事（現場事務所の建設・測量等）、工場製作を含む工事における工場製作工に着手した日",null,null,null,null,null,null,null,null,null,null,null,null,null,null,null,null,null,null,null,null,null,null,null,null,null,null,null,null,null,null,null,null,null,null,null,null,null,null,null,null,"工事全体の確認",null,null,null,null,null,null,"※１工事着手日：始期日以降に準備工事（現場事務所の建設・測量等）、工場製作を含む工事における工場製作工に着手した日",null,null,null,null,null,null,null,null,null,null,null,null,null,null,null,null,null,null,null,null,null,null,null,null,null,null,null,null,null,null,null,null,null,null,null,null,null,null,null,null,"工事全体の確認"]
["",null,"※２作業完了日：工事施工範囲内で全ての作業（後片付けを含む）が完了した日\n　　　　　　　　　  （工事現場事務所は工事施工範囲外に設置するため、ここでいう後片付けの対象に含まない）",null,null,null,null,null,null,null,null,null,null,null,null,null,null,null,null,null,null,null,null,null,null,null,null,null,null,null,null,null,null,null,null,null,null,null,null,null,null,null,null,"計画","全対象期間",{"$f":"IFERROR(AT317+AT333,\"\")","v":""},null,null,null,null,null,null,"※２作業完了日：工事施工範囲内で全ての作業（後片付けを含む）が完了した日\n　　　　　　　　　  （工事現場事務所は工事施工範囲外に設置するため、ここでいう後片付けの対象に含まない）",null,null,null,null,null,null,null,null,null,null,null,null,null,null,null,null,null,null,null,null,null,null,null,null,null,null,null,null,null,null,null,null,null,null,null,null,null,null,null,null,"計画","全対象期間",{"$f":"IFERROR(CR317+CR333,\"\")","v":""},null,null,null,null,"※２作業完了日：工事施工範囲内で全ての作業（後片付けを含む）が完了した日\n　　　　　　　　　  （工事現場事務所は工事施工範囲外に設置するため、ここでいう後片付けの対象に含まない）",null,null,null,null,null,null,null,null,null,null,null,null,null,null,null,null,null,null,null,null,null,null,null,null,null,null,null,null,null,null,null,null,null,null,null,null,null,null,null,null,"計画","全対象期間",{"$f":"IFERROR(EN317+EN333,\"\")","v":290}]
["",null,null,null,null,null,null,null,null,null,null,null,null,null,null,null,null,null,null,null,null,null,null,null,null,null,null,null,null,null,null,null,null,null,null,null,null,null,null,null,null,null,null,null,"全現場閉所日数",{"$f":"IFERROR(AT318+AT334,\"\")","v":""},null,null,null,null,null,null,null,null,null,null,null,null,null,null,null,null,null,null,null,null,null,null,null,null,null,null,null,null,null,null,null,null,null,null,null,null,null,null,null,null,null,null,null,null,null,null,null,null,"全現場閉所日数",{"$f":"IFERROR(CR318+CR334,\"\")","v":""},null,null,null,null,null,null,null,null,null,null,null,null,null,null,null,null,null,null,null,null,null,null,null,null,null,null,null,null,null,null,null,null,null,null,null,null,null,null,null,null,null,null,null,null,null,null,"全現場閉所日数",{"$f":"IFERROR(EN318+EN334,\"\")","v":89}]
["",null,"【算定除外期間】：夏季休暇（8月13日～8月15日）、年末年始（12月29日～翌年1月3日）は算定期間の分母・分子に含めない",null,null,null,null,null,null,null,null,null,null,null,null,null,null,null,null,null,null,null,null,null,null,null,null,null,null,null,null,null,null,null,null,null,null,null,null,null,null,null,null,null,"現場閉所率",{"$f":"IFERROR(+AT347/AT346,\"\")","v":""},{"$f":"IF(AT348>=0.285,\"4週8休以上\",\"週休2日未達成\")","v":"4週8休以上"},null,null,null,null,null,"【算定除外期間】：夏季休暇（8月13日～8月15日）、年末年始（12月29日～翌年1月3日）は算定期間の分母・分子に含めない",null,null,null,null,null,null,null,null,null,null,null,null,null,null,null,null,null,null,null,null,null,null,null,null,null,null,null,null,null,null,null,null,null,null,null,null,null,null,null,null,null,"現場閉所率",{"$f":"IFERROR(+CR347/CR346,\"\")","v":""},{"$f":"IF(CR348>=0.285,\"4週8休以上\",\"週休2日未達成\")","v":"4週8休以上"},null,null,null,"【算定除外期間】：夏季休暇（8月13日～8月15日）、年末年始（12月29日～翌年1月3日）は算定期間の分母・分子に含めない",null,null,null,null,null,null,null,null,null,null,null,null,null,null,null,null,null,null,null,null,null,null,null,null,null,null,null,null,null,null,null,null,null,null,null,null,null,null,null,null,null,"現場閉所率",{"$f":"IFERROR(+EN347/EN346,\"\")","v":0.30689655172413793},{"$f":"IF(EN348>=0.285,\"4週8休以上\",\"週休2日未達成\")","v":"4週8休以上"}]
["",null,"※３工事期間の全ての月において、達成状況を確認し、一度でも達成できない月があれば、４週８休以上（月単位）は「未達成」となり、補正の対象とならない。\n　　月によっては、土日を全て閉所しても現場閉所率が28.5％に満たない場合があるが、その月の対象期間の土日日数以上閉所していれば達成とみなす。\n\n※４工事対象期間のうち、一度でも完全週休２日（月～日で２日以上の現場閉所）を達成できなければ、\n　　 完全週休２日は「未達成」となり、補正の対象とならない。\n　　 なお、工期始期・終期、年末年始、夏季休暇などにより、７日間に満たない期間は完全週休２日の達成判断の対象外とする。",null,null,null,null,null,null,null,null,null,null,null,null,null,null,null,null,null,null,null,null,null,null,null,null,null,null,null,null,null,null,null,null,null,null,null,null,null,null,null,null,"実施","全対象期間",{"$f":"IFERROR(AT320+AT336,\"\")","v":""},null,null,null,null,null,null,"※３工事期間の全ての月において、達成状況を確認し、一度でも達成できない月があれば、４週８休以上（月単位）は「未達成」となり、補正の対象とならない。\n　　月によっては、土日を全て閉所しても現場閉所率が28.5％に満たない場合があるが、その月の対象期間の土日日数以上閉所していれば達成とみなす。\n\n※４工事対象期間のうち、一度でも完全週休２日（月～日で２日以上の現場閉所）を達成できなければ、\n　　 完全週休２日は「未達成」となり、補正の対象とならない。\n　　 なお、工期始期・終期、年末年始、夏季休暇などにより、７日間に満たない期間は完全週休２日の達成判断の対象外とする。",null,null,null,null,null,null,null,null,null,null,null,null,null,null,null,null,null,null,null,null,null,null,null,null,null,null,null,null,null,null,null,null,null,null,null,null,null,null,null,null,"実施","全対象期間",{"$f":"IFERROR(CR320+CR336,\"\")","v":""},null,null,null,null,"※３工事期間の全ての月において、達成状況を確認し、一度でも達成できない月があれば、４週８休以上（月単位）は「未達成」となり、補正の対象とならない。\n　　月によっては、土日を全て閉所しても現場閉所率が28.5％に満たない場合があるが、その月の対象期間の土日日数以上閉所していれば達成とみなす。\n\n※４工事対象期間のうち、一度でも完全週休２日（月～日で２日以上の現場閉所）を達成できなければ、\n　　 完全週休２日は「未達成」となり、補正の対象とならない。\n　　 なお、工期始期・終期、年末年始、夏季休暇などにより、７日間に満たない期間は完全週休２日の達成判断の対象外とする。",null,null,null,null,null,null,null,null,null,null,null,null,null,null,null,null,null,null,null,null,null,null,null,null,null,null,null,null,null,null,null,null,null,null,null,null,null,null,null,null,"実施","全対象期間",{"$f":"IFERROR(EN320+EN336,\"\")","v":294}]
["",null,null,null,null,null,null,null,null,null,null,null,null,null,null,null,null,null,null,null,null,null,null,null,null,null,null,null,null,null,null,null,null,null,null,null,null,null,null,null,null,null,null,null,"全現場閉所日数",{"$f":"IFERROR(AT321+AT337,\"\")","v":""},null,null,null,null,null,null,null,null,null,null,null,null,null,null,null,null,null,null,null,null,null,null,null,null,null,null,null,null,null,null,null,null,null,null,null,null,null,null,null,null,null,null,null,null,null,null,null,null,"全現場閉所日数",{"$f":"IFERROR(CR321+CR337,\"\")","v":""},null,null,null,null,null,null,null,null,null,null,null,null,null,null,null,null,null,null,null,null,null,null,null,null,null,null,null,null,null,null,null,null,null,null,null,null,null,null,null,null,null,null,null,null,null,null,"全現場閉所日数",{"$f":"IFERROR(EN321+EN337,\"\")","v":90}]
["",null,null,null,null,null,null,null,null,null,null,null,null,null,null,null,null,null,null,null,null,null,null,null,null,null,null,null,null,null,null,null,null,null,null,null,null,null,null,null,null,null,null,null,"現場閉所率",{"$f":"IFERROR(+AT350/AT349,\"\")","v":""},{"$f":"IF(AT351>=0.285,\"4週8休以上\",\"週休2日未達成\")","v":"4週8休以上"},null,null,null,null,null,null,null,null,null,null,null,null,null,null,null,null,null,null,null,null,null,null,null,null,null,null,null,null,null,null,null,null,null,null,null,null,null,null,null,null,null,null,null,null,null,null,null,"現場閉所率",{"$f":"IFERROR(+CR350/CR349,\"\")","v":""},{"$f":"IF(CR351>=0.285,\"4週8休以上\",\"週休2日未達成\")","v":"4週8休以上"},null,null,null,null,null,null,null,null,null,null,null,null,null,null,null,null,null,null,null,null,null,null,null,null,null,null,null,null,null,null,null,null,null,null,null,null,null,null,null,null,null,null,null,null,null,"現場閉所率",{"$f":"IFERROR(+EN350/EN349,\"\")","v":0.30612244897959184},{"$f":"IF(EN351>=0.285,\"4週8休以上\",\"週休2日未達成\")","v":"4週8休以上"}]
["",null,null,null,null,null,null,null,null,null,null,null,null,null,null,null,null,null,null,null,null,null,null,null,null,null,null,null,null,null,null,null,null,null,null,null,null,null,null,null,null,null,null,null,"閉所（月単位）",{"$f":"IFERROR(COUNTIF(AS$14:$AS342,\"4週8休以上\")/(COUNTIF(AS$14:$AS342,\"4週8休以上\")+COUNTIF(AS$14:$AS342,\"週休2日未達成\")),\"\")","v":""},{"$f":"IF(OR(AT352=100%,AT352=\"\"),\"達成\",\"未達成\")","v":"達成"},null,null,null,null,null,null,null,null,null,null,null,null,null,null,null,null,null,null,null,null,null,null,null,null,null,null,null,null,null,null,null,null,null,null,null,null,null,null,null,null,null,null,null,null,null,null,null,"閉所（月単位）",{"$f":"IFERROR(COUNTIF(CQ$14:$CQ342,\"4週8休以上\")/(COUNTIF(CQ$14:$CQ342,\"4週8休以上\")+COUNTIF(CQ$14:$CQ342,\"週休2日未達成\")),\"\")","v":0},{"$f":"IF(OR(CR352=100%,CR352=\"\"),\"達成\",\"未達成\")","v":"未達成"},null,null,null,null,null,null,null,null,null,null,null,null,null,null,null,null,null,null,null,null,null,null,null,null,null,null,null,null,null,null,null,null,null,null,null,null,null,null,null,null,null,null,null,null,null,"閉所（月単位）",{"$f":"IFERROR(COUNTIF($EM$14:EM342,\"4週8休以上\")/(COUNTIF($EM$14:EM342,\"4週8休以上\")+COUNTIF($EM$14:EM342,\"週休2日未達成\")),\"\")","v":1},{"$f":"IF(OR(EN352=100%,EN352=\"\"),\"達成\",\"未達成\")","v":"達成"}]
["",null,null,null,null,null,null,null,null,null,null,null,null,null,null,null,null,null,null,null,null,null,null,null,null,null,null,null,null,null,null,null,null,null,null,null,null,null,null,null,null,null,null,null,"完全週休二日",{"$f":"IF(COUNTIF(AS$14:$AS342,\"OUT\")>=1,\"OUT\",\"OK\")","v":"OK"},{"$f":"IF(AT353=\"OK\",\"達成\",\"未達成\")","v":"達成"},null,null,null,null,null,null,null,null,null,null,null,null,null,null,null,null,null,null,null,null,null,null,null,null,null,null,null,null,null,null,null,null,null,null,null,null,null,null,null,null,null,null,null,null,null,null,null,"完全週休二日",{"$f":"IF(COUNTIF(CQ$14:$CQ342,\"OUT\")>=1,\"OUT\",\"OK\")","v":"OUT"},{"$f":"IF(CR353=\"OK\",\"達成\",\"未達成\")","v":"未達成"},null,null,null,null,null,null,null,null,null,null,null,null,null,null,null,null,null,null,null,null,null,null,null,null,null,null,null,null,null,null,null,null,null,null,null,null,null,null,null,null,null,null,null,null,null,"完全週休二日",{"$f":"IF(COUNTIF($EM$14:EM342,\"OUT\")>=1,\"OUT\",\"OK\")","v":"OUT"},{"$f":"IF(EN353=\"OK\",\"達成\",\"未達成\")","v":"未達成"}]
["",null,"※必要に応じて各月の完全週休2日（月～日）の達成判定の行を修正してください。（曜日に合わせて修正）",null,null,null,null,null,null,null,null,null,null,null,null,null,null,null,null,null,null,null,null,null,null,null,null,null,null,null,null,null,null,null,null,null,null,null,null,null,null,null,null,null,null,null,null,null,null,null,null,null,"※必要に応じて各月の完全週休2日（月～日）の達成判定の行を修正してください。（曜日に合わせて修正）",null,null,null,null,null,null,null,null,null,null,null,null,null,null,null,null,null,null,null,null,null,null,null,null,null,null,null,null,null,null,null,null,null,null,null,null,null,null,null,null,null,null,null,null,null,null,null,"※必要に応じて各月の完全週休2日（月～日）の達成判定の行を修正してください。（曜日に合わせて修正）"]
[""]
[""]
[""]
[""]
[""]
["",null,"算定除外期間以外の祝日（ＧＷ含む）は、算定期間（分母）の対象＝現場閉所の場合は分子にカウントして現場閉所率を算定",null,null,null,null,null,null,null,null,null,null,null,null,null,null,null,null,null,null,null,null,null,null,null,null,null,null,null,null,null,null,null,null,null,null,null,null,null,null,null,null,null,null,null,null,null,null,null,null,null,"算定除外期間以外の祝日（ＧＷ含む）は、算定期間（分母）の対象＝現場閉所の場合は分子にカウントして現場閉所率を算定",null,null,null,null,null,null,null,null,null,null,null,null,null,null,null,null,null,null,null,null,null,null,null,null,null,null,null,null,null,null,null,null,null,null,null,null,null,null,null,null,null,null,null,null,null,null,null,"算定除外期間以外の祝日（ＧＷ含む）は、算定期間（分母）の対象＝現場閉所の場合は分子にカウントして現場閉所率を算定"]
[""]
[{"$f":"IF($AT$362=\"\",\"\",\"対象期間\")","v":""},null,"月",{"$f":"DATE(YEAR(D333),MONTH(D333)+1,1)","v":"2026-04-01"},null,null,null,null,null,null,null,null,null,null,null,null,null,null,null,null,null,null,null,null,null,null,null,null,null,null,null,null,null,null,{"$f":"DATE(YEAR(D362),MONTH(D362)+1,1)","v":"2026-05-01"},null,null,null,null,null,"現場閉所計","現場閉所累計",null,"計画","対象期間",{"$f":"IF(IF(MONTH(入力表!$E$6)=12,YEAR(入力表!$E$6)+1&\"01\",YEAR(入力表!$E$6)&TEXT(MONTH(入力表!$E$6)+1,\"00\"))>YEAR($D362)&TEXT(MONTH($D362),\"00\"),COUNTIF(D366:AH366,\"\")+COUNTIF(D366:AH366,\"○\"),\"\")","v":""},{"$f":"IF(COUNTIF(D363:AH363,\"／\")=0,\"\",IF(COUNTIF(D363:AH363,\"／\")=1,IF(AH366=\"／\",\"\",\"月末「／」漏れ\"),IF(COUNTIF(D363:AH363,\"／\")=2,IF(AND(AG366=\"／\",AH366=\"／\"),\"\",\"月末「／」漏れ\"),IF(AND(AF366=\"／\",AG366=\"／\",AH366=\"／\"),\"\",\"月末「／」漏れ\"))))","v":"月末「／」漏れ"},null,null,null,null,null,"月",{"$f":"DATE(YEAR(BB333),MONTH(BB333)+1,1)","v":"2026-04-01"},null,null,null,null,null,null,null,null,null,null,null,null,null,null,null,null,null,null,null,null,null,null,null,null,null,null,null,null,null,null,{"$f":"DATE(YEAR(BB362),MONTH(BB362)+1,1)","v":"2026-05-01"},null,null,null,null,null,"現場閉所計","現場閉所累計",null,"計画","対象期間",{"$f":"IF(IF(MONTH($BL$5)=12,YEAR($BL$5)+1&\"01\",YEAR($BL$5)&TEXT(MONTH($BL$5)+1,\"00\"))>YEAR(BB362)&TEXT(MONTH(BB362),\"00\"),COUNTIF(BB366:CF366,\"\")+COUNTIF(BB366:CF366,\"○\"),\"\")","v":""},{"$f":"IF(COUNTIF(BB363:CF363,\"／\")=0,\"\",IF(COUNTIF(BB363:CF363,\"／\")=1,IF(CF366=\"／\",\"\",\"月末「／」漏れ\"),IF(COUNTIF(BB363:CF363,\"／\")=2,IF(AND(CE366=\"／\",CF366=\"／\"),\"\",\"月末「／」漏れ\"),IF(AND(CD366=\"／\",CE366=\"／\",CF366=\"／\"),\"\",\"月末「／」漏れ\"))))","v":""},null,null,null,"月",{"$f":"DATE(YEAR(CX333),MONTH(CX333)+1,1)","v":"2026-04-01"},null,null,null,null,null,null,null,null,null,null,null,null,null,null,null,null,null,null,null,null,null,null,null,null,null,null,null,null,null,null,{"$f":"DATE(YEAR(CX362),MONTH(CX362)+1,1)","v":"2026-05-01"},null,null,null,null,null,"現場閉所計","現場閉所累計",null,"計画","対象期間",{"$f":"IF(IF(MONTH($BL$5)=12,YEAR($BL$5)+1&\"01\",YEAR($BL$5)&TEXT(MONTH($BL$5)+1,\"00\"))>YEAR($CX362)&TEXT(MONTH($CX362),\"00\"),COUNTIF(CX366:EB366,\"\")+COUNTIF(CX366:EB366,\"○\"),\"\")","v":""},{"$f":"IF(COUNTIF(CX363:EB363,\"／\")=0,\"\",IF(COUNTIF(CX363:EB363,\"／\")=1,IF(EB366=\"／\",\"\",\"月末「／」漏れ\"),IF(COUNTIF(CX363:EB363,\"／\")=2,IF(AND(EA366=\"／\",EB366=\"／\"),\"\",\"月末「／」漏れ\"),IF(AND(DZ366=\"／\",EA366=\"／\",EB366=\"／\"),\"\",\"月末「／」漏れ\"))))","v":""}]
[{"$f":"IF($AT$362=\"\",\"\",\"対象期間\")","v":""},null,"日",{"$f":"D362","v":"2026-04-01"},{"$f":"D363+1","v":"2026-04-02"},{"$f":"E363+1","v":"2026-04-03"},{"$f":"F363+1","v":"2026-04-04"},{"$f":"G363+1","v":"2026-04-05"},{"$f":"H363+1","v":"2026-04-06"},{"$f":"I363+1","v":"2026-04-07"},{"$f":"J363+1","v":"2026-04-08"},{"$f":"K363+1","v":"2026-04-09"},{"$f":"L363+1","v":"2026-04-10"},{"$f":"M363+1","v":"2026-04-11"},{"$f":"N363+1","v":"2026-04-12"},{"$f":"O363+1","v":"2026-04-13"},{"$f":"P363+1","v":"2026-04-14"},{"$f":"Q363+1","v":"2026-04-15"},{"$f":"R363+1","v":"2026-04-16"},{"$f":"S363+1","v":"2026-04-17"},{"$f":"T363+1","v":"2026-04-18"},{"$f":"U363+1","v":"2026-04-19"},{"$f":"V363+1","v":"2026-04-20"},{"$f":"W363+1","v":"2026-04-21"},{"$f":"X363+1","v":"2026-04-22"},{"$f":"Y363+1","v":"2026-04-23"},{"$f":"Z363+1","v":"2026-04-24"},{"$f":"AA363+1","v":"2026-04-25"},{"$f":"AB363+1","v":"2026-04-26"},{"$f":"AC363+1","v":"2026-04-27"},{"$f":"AD363+1","v":"2026-04-28"},{"$f":"IF(AE363=\"／\",\"／\",IF(YEAR($D362)&TEXT(MONTH($D362),\"00\")<YEAR(AE363+1)&TEXT(MONTH(AE363+1),\"00\"),\"／\",AE363+1))","v":"2026-04-29"},{"$f":"IF(AF363=\"／\",\"／\",IF(YEAR($D362)&TEXT(MONTH($D362),\"00\")<YEAR(AF363+1)&TEXT(MONTH(AF363+1),\"00\"),\"／\",AF363+1))","v":"2026-04-30"},{"$f":"IF(AG363=\"／\",\"／\",IF(YEAR($D362)&TEXT(MONTH($D362),\"00\")<YEAR(AG363+1)&TEXT(MONTH(AG363+1),\"00\"),\"／\",AG363+1))","v":"／"},{"$f":"AI362","v":"2026-05-01"},{"$f":"AI363+1","v":"2026-05-02"},{"$f":"AJ363+1","v":"2026-05-03"},{"$f":"AK363+1","v":"2026-05-04"},{"$f":"AL363+1","v":"2026-05-05"},{"$f":"AM363+1","v":"2026-05-06"},null,null,null,null,"閉所日数",{"$f":"IF(IF(MONTH(入力表!$E$6)=12,YEAR(入力表!$E$6)+1&\"01\",YEAR(入力表!$E$6)&TEXT(MONTH(入力表!$E$6)+1,\"00\"))>YEAR($D362)&TEXT(MONTH($D362),\"00\"),COUNTIF(D366:AH366,\"○\"),\"\")","v":""},{"$f":"IF(OR(MONTH(D362)=1,MONTH(D362)=8,MONTH(D362)=12),IF(COUNTIF(D366:AH366,\"／\")>=3,\"\",\"算定除外「／」漏れ\"),\"\")","v":""},null,null,null,null,null,"日",{"$f":"BB362","v":"2026-04-01"},{"$f":"BB363+1","v":"2026-04-02"},{"$f":"BC363+1","v":"2026-04-03"},{"$f":"BD363+1","v":"2026-04-04"},{"$f":"BE363+1","v":"2026-04-05"},{"$f":"BF363+1","v":"2026-04-06"},{"$f":"BG363+1","v":"2026-04-07"},{"$f":"BH363+1","v":"2026-04-08"},{"$f":"BI363+1","v":"2026-04-09"},{"$f":"BJ363+1","v":"2026-04-10"},{"$f":"BK363+1","v":"2026-04-11"},{"$f":"BL363+1","v":"2026-04-12"},{"$f":"BM363+1","v":"2026-04-13"},{"$f":"BN363+1","v":"2026-04-14"},{"$f":"BO363+1","v":"2026-04-15"},{"$f":"BP363+1","v":"2026-04-16"},{"$f":"BQ363+1","v":"2026-04-17"},{"$f":"BR363+1","v":"2026-04-18"},{"$f":"BS363+1","v":"2026-04-19"},{"$f":"BT363+1","v":"2026-04-20"},{"$f":"BU363+1","v":"2026-04-21"},{"$f":"BV363+1","v":"2026-04-22"},{"$f":"BW363+1","v":"2026-04-23"},{"$f":"BX363+1","v":"2026-04-24"},{"$f":"BY363+1","v":"2026-04-25"},{"$f":"BZ363+1","v":"2026-04-26"},{"$f":"CA363+1","v":"2026-04-27"},{"$f":"CB363+1","v":"2026-04-28"},{"$f":"IF(CC363=\"／\",\"／\",IF(YEAR(BB362)&TEXT(MONTH(BB362),\"00\")<YEAR(CC363+1)&TEXT(MONTH(CC363+1),\"00\"),\"／\",CC363+1))","v":"2026-04-29"},{"$f":"IF(CD363=\"／\",\"／\",IF(YEAR(BB362)&TEXT(MONTH(BB362),\"00\")<YEAR(CD363+1)&TEXT(MONTH(CD363+1),\"00\"),\"／\",CD363+1))","v":"2026-04-30"},{"$f":"IF(CE363=\"／\",\"／\",IF(YEAR(BB362)&TEXT(MONTH(BB362),\"00\")<YEAR(CE363+1)&TEXT(MONTH(CE363+1),\"00\"),\"／\",CE363+1))","v":"／"},{"$f":"CG362","v":"2026-05-01"},{"$f":"CG363+1","v":"2026-05-02"},{"$f":"CH363+1","v":"2026-05-03"},{"$f":"CI363+1","v":"2026-05-04"},{"$f":"CJ363+1","v":"2026-05-05"},{"$f":"CK363+1","v":"2026-05-06"},null,null,null,null,"閉所日数",{"$f":"IF(IF(MONTH($BL$5)=12,YEAR($BL$5)+1&\"01\",YEAR($BL$5)&TEXT(MONTH($BL$5)+1,\"00\"))>YEAR(BB362)&TEXT(MONTH(BB362),\"00\"),COUNTIF(BB366:CF366,\"○\"),\"\")","v":""},{"$f":"IF(OR(MONTH(BB362)=1,MONTH(BB362)=8,MONTH(BB362)=12),IF(COUNTIF(BB366:CF366,\"／\")>=3,\"\",\"算定除外「／」漏れ\"),\"\")","v":""},null,null,null,"日",{"$f":"CX362","v":"2026-04-01"},{"$f":"CX363+1","v":"2026-04-02"},{"$f":"CY363+1","v":"2026-04-03"},{"$f":"CZ363+1","v":"2026-04-04"},{"$f":"DA363+1","v":"2026-04-05"},{"$f":"DB363+1","v":"2026-04-06"},{"$f":"DC363+1","v":"2026-04-07"},{"$f":"DD363+1","v":"2026-04-08"},{"$f":"DE363+1","v":"2026-04-09"},{"$f":"DF363+1","v":"2026-04-10"},{"$f":"DG363+1","v":"2026-04-11"},{"$f":"DH363+1","v":"2026-04-12"},{"$f":"DI363+1","v":"2026-04-13"},{"$f":"DJ363+1","v":"2026-04-14"},{"$f":"DK363+1","v":"2026-04-15"},{"$f":"DL363+1","v":"2026-04-16"},{"$f":"DM363+1","v":"2026-04-17"},{"$f":"DN363+1","v":"2026-04-18"},{"$f":"DO363+1","v":"2026-04-19"},{"$f":"DP363+1","v":"2026-04-20"},{"$f":"DQ363+1","v":"2026-04-21"},{"$f":"DR363+1","v":"2026-04-22"},{"$f":"DS363+1","v":"2026-04-23"},{"$f":"DT363+1","v":"2026-04-24"},{"$f":"DU363+1","v":"2026-04-25"},{"$f":"DV363+1","v":"2026-04-26"},{"$f":"DW363+1","v":"2026-04-27"},{"$f":"DX363+1","v":"2026-04-28"},{"$f":"IF(DY363=\"／\",\"／\",IF(YEAR(CX362)&TEXT(MONTH(CX362),\"00\")<YEAR(DY363+1)&TEXT(MONTH(DY363+1),\"00\"),\"／\",DY363+1))","v":"2026-04-29"},{"$f":"IF(DZ363=\"／\",\"／\",IF(YEAR(CX362)&TEXT(MONTH(CX362),\"00\")<YEAR(DZ363+1)&TEXT(MONTH(DZ363+1),\"00\"),\"／\",DZ363+1))","v":"2026-04-30"},{"$f":"IF(EA363=\"／\",\"／\",IF(YEAR(CX362)&TEXT(MONTH(CX362),\"00\")<YEAR(EA363+1)&TEXT(MONTH(EA363+1),\"00\"),\"／\",EA363+1))","v":"／"},{"$f":"EC362","v":"2026-05-01"},{"$f":"EC363+1","v":"2026-05-02"},{"$f":"ED363+1","v":"2026-05-03"},{"$f":"EE363+1","v":"2026-05-04"},{"$f":"EF363+1","v":"2026-05-05"},{"$f":"EG363+1","v":"2026-05-06"},null,null,null,null,"閉所日数",{"$f":"IF(IF(MONTH($BL$5)=12,YEAR($BL$5)+1&\"01\",YEAR($BL$5)&TEXT(MONTH($BL$5)+1,\"00\"))>YEAR($CX362)&TEXT(MONTH($CX362),\"00\"),COUNTIF(CX366:EB366,\"○\"),\"\")","v":""},{"$f":"IF(OR(MONTH(CX362)=1,MONTH(CX362)=8,MONTH(CX362)=12),IF(COUNTIF(CX366:EB366,\"／\")>=3,\"\",\"算定除外「／」漏れ\"),\"\")","v":""}]
["",null,"曜日",{"$f":"TEXT(WEEKDAY(+D363),\"aaa\")","v":"水"},{"$f":"TEXT(WEEKDAY(+E363),\"aaa\")","v":"木"},"金","土","日",{"$f":"TEXT(WEEKDAY(+I363),\"aaa\")","v":"月"},{"$f":"TEXT(WEEKDAY(+J363),\"aaa\")","v":"火"},"水","木","金","土","日","月","火","水","木","金","土","日","月","火","水",{"$f":"TEXT(WEEKDAY(+Z363),\"aaa\")","v":"木"},{"$f":"TEXT(WEEKDAY(+AA363),\"aaa\")","v":"金"},"土","日","月","火",{"$f":"IF(AF363=\"／\",\"／\",TEXT(WEEKDAY(+AF363),\"aaa\"))","v":"水"},{"$f":"IF(AG363=\"／\",\"／\",TEXT(WEEKDAY(+AG363),\"aaa\"))","v":"木"},"／",{"$f":"TEXT(WEEKDAY(+AI363),\"aaa\")","v":"金"},{"$f":"TEXT(WEEKDAY(+AJ363),\"aaa\")","v":"土"},"日","月","火","水",null,null,null,null,"現場閉所率",{"$f":"IFERROR(+AT363/AT362,\"\")","v":""},{"$f":"IF(AT364=\"\",\"\",IF(COUNTIF(D366:AH366,\"○\")>=COUNTIF(D369:AH369,\"◎\"),\"4週8休以上\",IF(AT364>=0.285,\"4週8休以上\",\"週休2日未達成\")))","v":""},null,null,null,null,null,"曜日",{"$f":"TEXT(WEEKDAY(+BB363),\"aaa\")","v":"水"},{"$f":"TEXT(WEEKDAY(+BC363),\"aaa\")","v":"木"},"金","土","日",{"$f":"TEXT(WEEKDAY(+BG363),\"aaa\")","v":"月"},{"$f":"TEXT(WEEKDAY(+BH363),\"aaa\")","v":"火"},"水","木","金","土","日","月","火","水","木","金","土","日","月","火","水",{"$f":"TEXT(WEEKDAY(+BX363),\"aaa\")","v":"木"},{"$f":"TEXT(WEEKDAY(+BY363),\"aaa\")","v":"金"},"土","日","月","火",{"$f":"IF(CD363=\"／\",\"／\",TEXT(WEEKDAY(+CD363),\"aaa\"))","v":"水"},{"$f":"IF(CE363=\"／\",\"／\",TEXT(WEEKDAY(+CE363),\"aaa\"))","v":"木"},"／",{"$f":"TEXT(WEEKDAY(+CG363),\"aaa\")","v":"金"},{"$f":"TEXT(WEEKDAY(+CH363),\"aaa\")","v":"土"},"日","月","火","水",null,null,null,null,"現場閉所率",{"$f":"IFERROR(+CR363/CR362,\"\")","v":""},{"$f":"IF(CR364=\"\",\"\",IF(COUNTIF(BB366:CF366,\"○\")>=COUNTIF(BB369:CF369,\"◎\"),\"4週8休以上\",IF(CR364>=0.285,\"4週8休以上\",\"週休2日未達成\")))","v":""},null,null,null,"曜日",{"$f":"TEXT(WEEKDAY(+CX363),\"aaa\")","v":"水"},{"$f":"TEXT(WEEKDAY(+CY363),\"aaa\")","v":"木"},"金","土","日",{"$f":"TEXT(WEEKDAY(+DC363),\"aaa\")","v":"月"},{"$f":"TEXT(WEEKDAY(+DD363),\"aaa\")","v":"火"},"水","木","金","土","日","月","火","水","木","金","土","日","月","火","水",{"$f":"TEXT(WEEKDAY(+DT363),\"aaa\")","v":"木"},{"$f":"TEXT(WEEKDAY(+DU363),\"aaa\")","v":"金"},"土","日","月","火",{"$f":"IF(DZ363=\"／\",\"／\",TEXT(WEEKDAY(+DZ363),\"aaa\"))","v":"水"},{"$f":"IF(EA363=\"／\",\"／\",TEXT(WEEKDAY(+EA363),\"aaa\"))","v":"木"},"／",{"$f":"TEXT(WEEKDAY(+EC363),\"aaa\")","v":"金"},{"$f":"TEXT(WEEKDAY(+ED363),\"aaa\")","v":"土"},"日","月","火","水",null,null,null,null,"現場閉所率",{"$f":"IFERROR(+EN363/EN362,\"\")","v":""},{"$f":"IF(EN364=\"\",\"\",IF(COUNTIF(CX366:EB366,\"○\")>=COUNTIF(CX369:EB369,\"◎\"),\"4週8休以上\",IF(EN364>=0.285,\"4週8休以上\",\"週休2日未達成\")))","v":""}]
["",null,"行事",null,null,null,null,null,null,null,null,null,null,null,null,null,null,null,null,null,null,null,null,null,null,null,null,null,null,null,null,null,null,null,{"$f":"IF(D394=\"\",\"\",D394)","v":""},{"$f":"IF(E394=\"\",\"\",E394)","v":""},{"$f":"IF(F394=\"\",\"\",F394)","v":""},{"$f":"IF(G394=\"\",\"\",G394)","v":""},{"$f":"IF(H394=\"\",\"\",H394)","v":""},{"$f":"IF(I394=\"\",\"\",I394)","v":""},null,null,null,"実施","対象期間",{"$f":"IF(IF(MONTH(入力表!$E$6)=12,YEAR(入力表!$E$6)+1&\"01\",YEAR(入力表!$E$6)&TEXT(MONTH(入力表!$E$6)+1,\"00\"))>YEAR($D362)&TEXT(MONTH($D362),\"00\"),COUNTIF(D367:AH367,\"\")+COUNTIF(D367:AH367,\"●\"),\"\")","v":""},{"$f":"IF(COUNTIF(D363:AH363,\"／\")=0,\"\",IF(COUNTIF(D363:AH363,\"／\")=1,IF(AH367=\"／\",\"\",\"月末「／」漏れ\"),IF(COUNTIF(D363:AH363,\"／\")=2,IF(AND(AG367=\"／\",AH367=\"／\"),\"\",\"月末「／」漏れ\"),IF(AND(AF367=\"／\",AG367=\"／\",AH367=\"／\"),\"\",\"月末「／」漏れ\"))))","v":"月末「／」漏れ"},null,null,null,null,null,"行事",null,null,null,null,null,null,null,null,null,null,null,null,null,null,null,null,null,null,null,null,null,null,null,null,null,null,null,null,null,null,null,{"$f":"IF(BB394=\"\",\"\",BB394)","v":""},{"$f":"IF(BC394=\"\",\"\",BC394)","v":""},{"$f":"IF(BD394=\"\",\"\",BD394)","v":""},{"$f":"IF(BE394=\"\",\"\",BE394)","v":""},{"$f":"IF(BF394=\"\",\"\",BF394)","v":""},{"$f":"IF(BG394=\"\",\"\",BG394)","v":""},null,null,null,"実施","対象期間",{"$f":"IF(IF(MONTH($BL$5)=12,YEAR($BL$5)+1&\"01\",YEAR($BL$5)&TEXT(MONTH($BL$5)+1,\"00\"))>YEAR(BB362)&TEXT(MONTH(BB362),\"00\"),COUNTIF(BB367:CF367,\"\")+COUNTIF(BB367:CF367,\"●\"),\"\")","v":""},{"$f":"IF(COUNTIF(BB363:CF363,\"／\")=0,\"\",IF(COUNTIF(BB363:CF363,\"／\")=1,IF(CF367=\"／\",\"\",\"月末「／」漏れ\"),IF(COUNTIF(BB363:CF363,\"／\")=2,IF(AND(CE367=\"／\",CF367=\"／\"),\"\",\"月末「／」漏れ\"),IF(AND(CD367=\"／\",CE367=\"／\",CF367=\"／\"),\"\",\"月末「／」漏れ\"))))","v":""},null,null,null,"行事",null,null,null,null,null,null,null,null,null,null,null,null,null,null,null,null,null,null,null,null,null,null,null,null,null,null,null,null,null,null,null,{"$f":"IF(CX394=\"\",\"\",CX394)","v":""},{"$f":"IF(CY394=\"\",\"\",CY394)","v":""},{"$f":"IF(CZ394=\"\",\"\",CZ394)","v":""},{"$f":"IF(DA394=\"\",\"\",DA394)","v":""},{"$f":"IF(DB394=\"\",\"\",DB394)","v":""},{"$f":"IF(DC394=\"\",\"\",DC394)","v":""},null,null,null,"実施","対象期間",{"$f":"IF(IF(MONTH($BL$5)=12,YEAR($BL$5)+1&\"01\",YEAR($BL$5)&TEXT(MONTH($BL$5)+1,\"00\"))>YEAR($CX362)&TEXT(MONTH($CX362),\"00\"),COUNTIF(CX367:EB367,\"\")+COUNTIF(CX367:EB367,\"●\"),\"\")","v":""},{"$f":"IF(COUNTIF(CX363:EB363,\"／\")=0,\"\",IF(COUNTIF(CX363:EB363,\"／\")=1,IF(EB367=\"／\",\"\",\"月末「／」漏れ\"),IF(COUNTIF(CX363:EB363,\"／\")=2,IF(AND(EA367=\"／\",EB367=\"／\"),\"\",\"月末「／」漏れ\"),IF(AND(DZ367=\"／\",EA367=\"／\",EB367=\"／\"),\"\",\"月末「／」漏れ\"))))","v":""}]
["",null,"計画",null,null,null,null,null,null,null,null,null,null,null,null,null,null,null,null,null,null,null,null,null,null,null,null,null,null,null,null,null,null,null,{"$f":"IF(D395=\"\",\"\",D395)","v":""},{"$f":"IF(E395=\"\",\"\",E395)","v":""},{"$f":"IF(F395=\"\",\"\",F395)","v":""},{"$f":"IF(G395=\"\",\"\",G395)","v":""},{"$f":"IF(H395=\"\",\"\",H395)","v":""},{"$f":"IF(I395=\"\",\"\",I395)","v":""},{"$f":"COUNTIF(D366:AG366,\"○\")","v":0},{"$f":"+AO366","v":0},null,null,"閉所日数",{"$f":"IF(IF(MONTH(入力表!$E$6)=12,YEAR(入力表!$E$6)+1&\"01\",YEAR(入力表!$E$6)&TEXT(MONTH(入力表!$E$6)+1,\"00\"))>YEAR($D362)&TEXT(MONTH($D362),\"00\"),COUNTIF(D367:AH367,\"●\"),\"\")","v":""},{"$f":"IF(OR(MONTH(D362)=1,MONTH(D362)=8,MONTH(D362)=12),IF(COUNTIF(D367:AH367,\"／\")>=3,\"\",\"算定除外「／」漏れ\"),\"\")","v":""},null,null,null,null,null,"計画",null,null,null,null,null,null,null,null,null,null,null,null,null,null,null,null,null,null,null,null,null,null,null,null,null,null,null,null,null,null,"／",{"$f":"IF(BB395=\"\",\"\",BB395)","v":""},"","","","","",{"$f":"COUNTIF(BB366:CE366,\"○\")","v":0},{"$f":"+CM366","v":0},null,null,"閉所日数",{"$f":"IF(IF(MONTH($BL$5)=12,YEAR($BL$5)+1&\"01\",YEAR($BL$5)&TEXT(MONTH($BL$5)+1,\"00\"))>YEAR(BB362)&TEXT(MONTH(BB362),\"00\"),COUNTIF(BB367:CF367,\"●\"),\"\")","v":""},{"$f":"IF(OR(MONTH(BB362)=1,MONTH(BB362)=8,MONTH(BB362)=12),IF(COUNTIF(BB367:CF367,\"／\")>=3,\"\",\"算定除外「／」漏れ\"),\"\")","v":""},null,null,null,"計画",null,null,null,null,null,null,null,null,null,null,null,null,null,null,null,null,null,null,null,null,null,null,null,null,null,null,null,null,null,null,"／",{"$f":"IF(CX395=\"\",\"\",CX395)","v":""},"","","","","",{"$f":"COUNTIF(CX366:EA366,\"○\")","v":0},{"$f":"+EI366","v":0},null,null,"閉所日数",{"$f":"IF(IF(MONTH($BL$5)=12,YEAR($BL$5)+1&\"01\",YEAR($BL$5)&TEXT(MONTH($BL$5)+1,\"00\"))>YEAR($CX362)&TEXT(MONTH($CX362),\"00\"),COUNTIF(CX367:EB367,\"●\"),\"\")","v":""},{"$f":"IF(OR(MONTH(CX362)=1,MONTH(CX362)=8,MONTH(CX362)=12),IF(COUNTIF(CX367:EB367,\"／\")>=3,\"\",\"算定除外「／」漏れ\"),\"\")","v":""}]
["",null,"実施",null,null,null,null,null,null,null,null,null,null,null,null,null,null,null,null,null,null,null,null,null,null,null,null,null,null,null,null,null,null,null,{"$f":"IF(D396=\"\",\"\",D396)","v":""},{"$f":"IF(E396=\"\",\"\",E396)","v":""},{"$f":"IF(F396=\"\",\"\",F396)","v":""},{"$f":"IF(G396=\"\",\"\",G396)","v":""},{"$f":"IF(H396=\"\",\"\",H396)","v":""},{"$f":"IF(I396=\"\",\"\",I396)","v":""},{"$f":"COUNTIF(D367:AG367,\"●\")","v":0},{"$f":"+AO367","v":0},null,null,"現場閉所率",{"$f":"IFERROR(+AT366/AT365,\"\")","v":""},{"$f":"IF(AT367=\"\",\"\",IF(COUNTIF(D367:AH367,\"●\")>=COUNTIF(D370:AH370,\"◎\"),\"4週8休以上\",IF(AT367>=0.285,\"4週8休以上\",\"週休2日未達成\")))","v":""},null,null,null,null,null,"実施",null,null,null,null,null,null,null,null,null,null,null,null,null,null,null,null,null,null,null,null,null,null,null,null,null,null,null,null,null,null,"／",{"$f":"IF(BB396=\"\",\"\",BB396)","v":""},{"$f":"IF(BC396=\"\",\"\",BC396)","v":""},{"$f":"IF(BD396=\"\",\"\",BD396)","v":""},{"$f":"IF(BE396=\"\",\"\",BE396)","v":""},{"$f":"IF(BF396=\"\",\"\",BF396)","v":""},{"$f":"IF(BG396=\"\",\"\",BG396)","v":""},{"$f":"COUNTIF(BB367:CE367,\"●\")","v":0},{"$f":"+CM367","v":0},null,null,"現場閉所率",{"$f":"IFERROR(+CR366/CR365,\"\")","v":""},{"$f":"IF(CR367=\"\",\"\",IF(COUNTIF(BB367:CF367,\"●\")>=COUNTIF(BB370:CF370,\"◎\"),\"4週8休以上\",IF(CR367>=0.285,\"4週8休以上\",\"週休2日未達成\")))","v":""},null,null,null,"実施",null,null,null,null,null,null,null,null,null,null,null,null,null,null,null,null,null,null,null,null,null,null,null,null,null,null,null,null,null,null,"／",{"$f":"IF(CX396=\"\",\"\",CX396)","v":""},{"$f":"IF(CY396=\"\",\"\",CY396)","v":""},{"$f":"IF(CZ396=\"\",\"\",CZ396)","v":""},{"$f":"IF(DA396=\"\",\"\",DA396)","v":""},{"$f":"IF(DB396=\"\",\"\",DB396)","v":""},{"$f":"IF(DC396=\"\",\"\",DC396)","v":""},{"$f":"COUNTIF(CX367:EA367,\"●\")","v":0},{"$f":"+EI367","v":0},null,null,"現場閉所率",{"$f":"IFERROR(+EN366/EN365,\"\")","v":""},{"$f":"IF(EN367=\"\",\"\",IF(COUNTIF(CX367:EB367,\"●\")>=COUNTIF(CX370:EB370,\"◎\"),\"4週8休以上\",IF(EN367>=0.285,\"4週8休以上\",\"週休2日未達成\")))","v":""}]
[null,null,null,1,2,3,4,5,6,7,8,9,10,11,12,13,14,15,16,17,18,19,20,21,22,23,24,25,26,27,28,29,30,31,32,33,34,35,36,37,null,null,null,null,{"$f":"AU367","v":""},null,null,null,null,null,null,null,null,1,2,3,4,5,6,7,8,9,10,11,12,13,14,15,16,17,18,19,20,21,22,23,24,25,26,27,28,29,30,31,32,33,34,35,36,37,null,null,null,null,{"$f":"CS367","v":""},null,null,null,null,null,null,1,2,3,4,5,6,7,8,9,10,11,12,13,14,15,16,17,18,19,20,21,22,23,24,25,26,27,28,29,30,31,32,33,34,35,36,37,null,null,null,null,{"$f":"EO367","v":""}]
[null,null,"計画",{"$f":"IF(D366=\"／\",\"／\",IF(OR(D364=\"土\",D364=\"日\"),\"◎\",\"\"))","v":""},{"$f":"IF(E366=\"／\",\"／\",IF(OR(E364=\"土\",E364=\"日\"),\"◎\",\"\"))","v":""},"","◎","◎","","","","","","◎","◎","","","","","","◎","◎","","","","","","◎","◎",{"$f":"IF(AD366=\"／\",\"／\",IF(OR(AD364=\"土\",AD364=\"日\"),\"◎\",\"\"))","v":""},{"$f":"IF(AE366=\"／\",\"／\",IF(OR(AE364=\"土\",AE364=\"日\"),\"◎\",\"\"))","v":""},"","","","","◎","◎","","","",null,null,null,null,{"$f":"AT371","v":""},null,null,null,null,null,null,null,"計画",{"$f":"IF(BB366=\"／\",\"／\",IF(OR(BB364=\"土\",BB364=\"日\"),\"◎\",\"\"))","v":""},"","","◎","◎","","","","","","◎","◎",{"$f":"IF(BN366=\"／\",\"／\",IF(OR(BN364=\"土\",BN364=\"日\"),\"◎\",\"\"))","v":""},{"$f":"IF(BO366=\"／\",\"／\",IF(OR(BO364=\"土\",BO364=\"日\"),\"◎\",\"\"))","v":""},"","","","◎","◎","","","","","","◎","◎",{"$f":"IF(CB366=\"／\",\"／\",IF(OR(CB364=\"土\",CB364=\"日\"),\"◎\",\"\"))","v":""},{"$f":"IF(CC366=\"／\",\"／\",IF(OR(CC364=\"土\",CC364=\"日\"),\"◎\",\"\"))","v":""},"","","／","","◎","◎","","","",null,null,null,null,{"$f":"CR371","v":""},null,null,null,null,null,"計画",{"$f":"IF(CX366=\"／\",\"／\",IF(OR(CX364=\"土\",CX364=\"日\"),\"◎\",\"\"))","v":""},"","","◎","◎","","","","","","◎","◎",{"$f":"IF(DJ366=\"／\",\"／\",IF(OR(DJ364=\"土\",DJ364=\"日\"),\"◎\",\"\"))","v":""},{"$f":"IF(DK366=\"／\",\"／\",IF(OR(DK364=\"土\",DK364=\"日\"),\"◎\",\"\"))","v":""},"","","","◎","◎","","","","","","◎","◎",{"$f":"IF(DX366=\"／\",\"／\",IF(OR(DX364=\"土\",DX364=\"日\"),\"◎\",\"\"))","v":""},{"$f":"IF(DY366=\"／\",\"／\",IF(OR(DY364=\"土\",DY364=\"日\"),\"◎\",\"\"))","v":""},"","","／","","◎","◎","","","",null,null,null,null,{"$f":"EN371","v":""}]
[null,null,"実施",{"$f":"IF(D367=\"／\",\"／\",IF(OR(D364=\"土\",D364=\"日\"),\"◎\",\"\"))","v":""},{"$f":"IF(E367=\"／\",\"／\",IF(OR(E364=\"土\",E364=\"日\"),\"◎\",\"\"))","v":""},"","◎","◎","","","","","","◎","◎","","","","","","◎","◎","","","","","","◎","◎","","","","","","","◎","◎","","","",null,null,null,null,null,null,null,null,null,null,null,null,"実施",{"$f":"IF(BB367=\"／\",\"／\",IF(OR(BB364=\"土\",BB364=\"日\"),\"◎\",\"\"))","v":""},{"$f":"IF(BC367=\"／\",\"／\",IF(OR(BC364=\"土\",BC364=\"日\"),\"◎\",\"\"))","v":""},"","◎","◎","","","","","","◎","◎","","","","","","◎","◎","","","","","","◎","◎","","","","","／","","◎","◎","","","",null,null,null,null,null,null,null,null,null,null,"実施",{"$f":"IF(CX367=\"／\",\"／\",IF(OR(CX364=\"土\",CX364=\"日\"),\"◎\",\"\"))","v":""},{"$f":"IF(CY367=\"／\",\"／\",IF(OR(CY364=\"土\",CY364=\"日\"),\"◎\",\"\"))","v":""},"","◎","◎","","","","","","◎","◎","","","","","","◎","◎","","","","","","◎","◎","","","","","／","","◎","◎","","",""]
["",null,"完全",{"$f":"IF(WEEKDAY(DATE(YEAR(D362),MONTH(D362),1),2)=1,DATE(YEAR(D362),MONTH(D362),1),EOMONTH(D362,-1)-MOD(WEEKDAY(EOMONTH(D362,-1),2)+6,7))","v":"2026-03-30"},"～",{"$f":"DATE(YEAR(D362),MONTH(D362),1)+MOD(7-WEEKDAY(DATE(YEAR(D362),MONTH(D362),1),2),7)","v":"2026-04-05"},{"$f":"IF(DAY(D371)=1,IF(COUNTIF(D367:J367,\"／\")>=1,\"対象外\",IF(COUNTIF(INDEX(D367:AN367,DAY(D371)):INDEX(D367:AN367,HLOOKUP(F371,D363:AN368,6,FALSE)),\"\")+COUNTIF(INDEX(D367:AN367,DAY(D371)):INDEX(D367:AN367,HLOOKUP(F371,D363:AN368,6,FALSE)),\"●\")=7,IF(COUNTIF(INDEX(D367:AN367,DAY(D371)):INDEX(D367:AN367,HLOOKUP(F371,D363:AN368,6,FALSE)),\"●\")>=2,\"OK\",\"OUT\"),IF(COUNTIF(INDEX(D367:AN367,DAY(D371)):INDEX(D367:AN367,HLOOKUP(F371,D363:AN368,6,FALSE)),\"●\")>=COUNTIF(INDEX(D370:AN370,DAY(D371)):INDEX(D370:AN370,HLOOKUP(F371,D363:AN368,6,FALSE)),\"○\"),\"OK\",\"OUT\"))),IF(AND(AK342=\"\",AE342=\"\"),Y342,IF(AK342=\"\",AE342,AK342)))","v":"OUT"},null,null,{"$f":"F371+1","v":"2026-04-06"},"～",{"$f":"F371+7","v":"2026-04-12"},{"$f":"IF(COUNTIF(INDEX(D367:AN367,DAY(J371)):INDEX(D367:AN367,HLOOKUP(L371,D363:AN368,6,FALSE)),\"\")+COUNTIF(INDEX(D367:AN367,DAY(J371)):INDEX(D367:AN367,HLOOKUP(L371,D363:AN368,6,FALSE)),\"●\")=7,IF(COUNTIF(INDEX(D367:AN367,DAY(J371)):INDEX(D367:AN367,HLOOKUP(L371,D363:AN368,6,FALSE)),\"●\")>=2,\"OK\",\"OUT\"),\"対象外\")","v":"OUT"},null,null,{"$f":"L371+1","v":"2026-04-13"},"～",{"$f":"L371+7","v":"2026-04-19"},{"$f":"IF(COUNTIF(INDEX(D367:AN367,DAY(P371)):INDEX(D367:AN367,HLOOKUP(R371,D363:AN368,6,FALSE)),\"\")+COUNTIF(INDEX(D367:AN367,DAY(P371)):INDEX(D367:AN367,HLOOKUP(R371,D363:AN368,6,FALSE)),\"●\")=7,IF(COUNTIF(INDEX(D367:AN367,DAY(P371)):INDEX(D367:AN367,HLOOKUP(R371,D363:AN368,6,FALSE)),\"●\")>=2,\"OK\",\"OUT\"),\"対象外\")","v":"OUT"},null,null,{"$f":"R371+1","v":"2026-04-20"},"～",{"$f":"R371+7","v":"2026-04-26"},{"$f":"IF(COUNTIF(INDEX(D367:AN367,DAY(V371)):INDEX(D367:AN367,HLOOKUP(X371,D363:AN368,6,FALSE)),\"\")+COUNTIF(INDEX(D367:AN367,DAY(V371)):INDEX(D367:AN367,HLOOKUP(X371,D363:AN368,6,FALSE)),\"●\")=7,IF(COUNTIF(INDEX(D367:AN367,DAY(V371)):INDEX(D367:AN367,HLOOKUP(X371,D363:AN368,6,FALSE)),\"●\")>=2,\"OK\",\"OUT\"),\"対象外\")","v":"OUT"},null,null,{"$f":"IF(AND(DAY(X371+7)<23,DAY(X371+7)>=7),\"\",X371+1)","v":"2026-04-27"},{"$f":"IF(AND(DAY(X371+7)<23,DAY(X371+7)>=7),\"\",\"～\")","v":"～"},{"$f":"IF(AND(DAY(X371+7)<23,DAY(X371+7)>=7),\"\",X371+7)","v":"2026-05-03"},{"$f":"IF(AND(DAY(X371+7)<23,DAY(X371+7)>=7),\"\",IF(COUNTIF(INDEX(D367:AN367,DAY(AB371)):INDEX(D367:AN367,HLOOKUP(AD371,D363:AN368,6,FALSE)),\"\")+COUNTIF(INDEX(D367:AN367,DAY(AB371)):INDEX(D367:AN367,HLOOKUP(AD371,D363:AN368,6,FALSE)),\"●\")=7,IF(COUNTIF(INDEX(D367:AN367,DAY(AB371)):INDEX(D367:AN367,HLOOKUP(AD371,D363:AN368,6,FALSE)),\"●\")>=2,\"OK\",\"OUT\"),IF(COUNTIF(INDEX(D367:AN367,DAY(AB371)):INDEX(D367:AN367,HLOOKUP(AD371,D363:AN368,6,FALSE)),\"\")+COUNTIF(INDEX(D367:AN367,DAY(AB371)):INDEX(D367:AN367,HLOOKUP(AD371,D363:AN368,6,FALSE)),\"●\")>7,\"「／」漏れ\",\"対象外\")))","v":"「／」漏れ"},null,null,{"$f":"IF(AE371=\"\",\"\",IF(AND(DAY(AD371+7)<23,DAY(AD371+7)>=7),\"\",AD371+1))","v":""},{"$f":"IF(AE371=\"\",\"\",IF(AND(DAY(AD371+7)<23,DAY(AD371+7)>=7),\"\",\"～\"))","v":""},{"$f":"IF(AE371=\"\",\"\",IF(AND(DAY(AD371+7)<23,DAY(AD371+7)>=7),\"\",AD371+7))","v":""},{"$f":"IF(AE371=\"\",\"\",IF(AND(DAY(AD371+7)<23,DAY(AD371+7)>=7),\"\",IF(COUNTIF(INDEX(D367:AN367,DAY(AH371)):INDEX(D367:AN367,HLOOKUP(AJ371,D363:AN368,6,FALSE)),\"\")+COUNTIF(INDEX(D367:AN367,DAY(AH371)):INDEX(D367:AN367,HLOOKUP(AJ371,D363:AN368,6,FALSE)),\"●\")=7,IF(COUNTIF(INDEX(D367:AN367,DAY(AH371)):INDEX(D367:AN367,HLOOKUP(AJ371,D363:AN368,6,FALSE)),\"●\")>=2,\"OK\",\"OUT\"),IF(COUNTIF(INDEX(D367:AN367,HLOOKUP(AH371,D363:AN368,6,FALSE)):INDEX(D367:AN367,HLOOKUP(AJ371,D363:AN368,6,FALSE)),\"\")+COUNTIF(INDEX(D367:AN367,HLOOKUP(AH371,D363:AN368,6,FALSE)):INDEX(D367:AN367,HLOOKUP(AJ371,D363:AN368,6,FALSE)),\"●\")>7,\"「／」漏れ\",\"対象外\"))))","v":""},null,null,null,null,null,null,null,"完全週休二日",{"$f":"IF(AT362=\"\",\"\",IF(COUNTIF(D371:AN371,\"OUT\")>=1,\"OUT\",\"OK\"))","v":""},null,null,null,null,null,null,"完全",{"$f":"IF(WEEKDAY(DATE(YEAR(BB362),MONTH(BB362),1),2)=1,DATE(YEAR(BB362),MONTH(BB362),1),EOMONTH(BB362,-1)-MOD(WEEKDAY(EOMONTH(BB362,-1),2)+6,7))","v":"2026-03-30"},"～",{"$f":"DATE(YEAR(BB362),MONTH(BB362),1)+MOD(7-WEEKDAY(DATE(YEAR(BB362),MONTH(BB362),1),2),7)","v":"2026-04-05"},{"$f":"IF(DAY(BB371)=1,IF(COUNTIF(BB367:BH367,\"／\")>=1,\"対象外\",IF(COUNTIF(INDEX(BB367:CL367,DAY(BB371)):INDEX(BB367:CL367,HLOOKUP(BD371,BB363:CL368,6,FALSE)),\"\")+COUNTIF(INDEX(BB367:CL367,DAY(BB371)):INDEX(BB367:CL367,HLOOKUP(BD371,BB363:CL368,6,FALSE)),\"●\")=7,IF(COUNTIF(INDEX(BB367:CL367,DAY(BB371)):INDEX(BB367:CL367,HLOOKUP(BD371,BB363:CL368,6,FALSE)),\"●\")>=2,\"OK\",\"OUT\"),IF(COUNTIF(INDEX(BB367:CL367,DAY(BB371)):INDEX(BB367:CL367,HLOOKUP(BD371,BB363:CL368,6,FALSE)),\"●\")>=COUNTIF(INDEX(BB370:CL370,DAY(BB371)):INDEX(BB370:CL370,HLOOKUP(BD371,BB363:CL368,6,FALSE)),\"○\"),\"OK\",\"OUT\"))),IF(AND(CI342=\"\",CC342=\"\"),BW342,IF(CI342=\"\",CC342,CI342)))","v":"対象外"},null,null,{"$f":"BD371+1","v":"2026-04-06"},"～",{"$f":"BD371+7","v":"2026-04-12"},{"$f":"IF(COUNTIF(INDEX(BB367:CL367,DAY(BH371)):INDEX(BB367:CL367,HLOOKUP(BJ371,BB363:CL368,6,FALSE)),\"\")+COUNTIF(INDEX(BB367:CL367,DAY(BH371)):INDEX(BB367:CL367,HLOOKUP(BJ371,BB363:CL368,6,FALSE)),\"●\")=7,IF(COUNTIF(INDEX(BB367:CL367,DAY(BH371)):INDEX(BB367:CL367,HLOOKUP(BJ371,BB363:CL368,6,FALSE)),\"●\")>=2,\"OK\",\"OUT\"),\"対象外\")","v":"OUT"},null,null,{"$f":"BJ371+1","v":"2026-04-13"},"～",{"$f":"BJ371+7","v":"2026-04-19"},{"$f":"IF(COUNTIF(INDEX(BB367:CL367,DAY(BN371)):INDEX(BB367:CL367,HLOOKUP(BP371,BB363:CL368,6,FALSE)),\"\")+COUNTIF(INDEX(BB367:CL367,DAY(BN371)):INDEX(BB367:CL367,HLOOKUP(BP371,BB363:CL368,6,FALSE)),\"●\")=7,IF(COUNTIF(INDEX(BB367:CL367,DAY(BN371)):INDEX(BB367:CL367,HLOOKUP(BP371,BB363:CL368,6,FALSE)),\"●\")>=2,\"OK\",\"OUT\"),\"対象外\")","v":"OUT"},null,null,{"$f":"BP371+1","v":"2026-04-20"},"～",{"$f":"BP371+7","v":"2026-04-26"},{"$f":"IF(COUNTIF(INDEX(BB367:CL367,DAY(BT371)):INDEX(BB367:CL367,HLOOKUP(BV371,BB363:CL368,6,FALSE)),\"\")+COUNTIF(INDEX(BB367:CL367,DAY(BT371)):INDEX(BB367:CL367,HLOOKUP(BV371,BB363:CL368,6,FALSE)),\"●\")=7,IF(COUNTIF(INDEX(BB367:CL367,DAY(BT371)):INDEX(BB367:CL367,HLOOKUP(BV371,BB363:CL368,6,FALSE)),\"●\")>=2,\"OK\",\"OUT\"),\"対象外\")","v":"OUT"},null,null,{"$f":"IF(AND(DAY(BV371+7)<23,DAY(BV371+7)>=7),\"\",BV371+1)","v":"2026-04-27"},{"$f":"IF(AND(DAY(BV371+7)<23,DAY(BV371+7)>=7),\"\",\"～\")","v":"～"},{"$f":"IF(AND(DAY(BV371+7)<23,DAY(BV371+7)>=7),\"\",BV371+7)","v":"2026-05-03"},{"$f":"IF(AND(DAY(BV371+7)<23,DAY(BV371+7)>=7),\"\",IF(COUNTIF(INDEX(BB367:CL367,DAY(BZ371)):INDEX(BB367:CL367,HLOOKUP(CB371,BB363:CL368,6,FALSE)),\"\")+COUNTIF(INDEX(BB367:CL367,DAY(BZ371)):INDEX(BB367:CL367,HLOOKUP(CB371,BB363:CL368,6,FALSE)),\"●\")=7,IF(COUNTIF(INDEX(BB367:CL367,DAY(BZ371)):INDEX(BB367:CL367,HLOOKUP(CB371,BB363:CL368,6,FALSE)),\"●\")>=2,\"OK\",\"OUT\"),IF(COUNTIF(INDEX(BB367:CL367,DAY(BZ371)):INDEX(BB367:CL367,HLOOKUP(CB371,BB363:CL368,6,FALSE)),\"\")+COUNTIF(INDEX(BB367:CL367,DAY(BZ371)):INDEX(BB367:CL367,HLOOKUP(CB371,BB363:CL368,6,FALSE)),\"●\")>7,\"「／」漏れ\",\"対象外\")))","v":"OUT"},null,null,{"$f":"IF(CC371=\"\",\"\",IF(AND(DAY(CB371+7)<23,DAY(CB371+7)>=7),\"\",CB371+1))","v":""},{"$f":"IF(CC371=\"\",\"\",IF(AND(DAY(CB371+7)<23,DAY(CB371+7)>=7),\"\",\"～\"))","v":""},{"$f":"IF(CC371=\"\",\"\",IF(AND(DAY(CB371+7)<23,DAY(CB371+7)>=7),\"\",CB371+7))","v":""},{"$f":"IF(CC371=\"\",\"\",IF(AND(DAY(CB371+7)<23,DAY(CB371+7)>=7),\"\",IF(COUNTIF(INDEX(BB367:CL367,DAY(CF371)):INDEX(BB367:CL367,HLOOKUP(CH371,BB363:CL368,6,FALSE)),\"\")+COUNTIF(INDEX(BB367:CL367,DAY(CF371)):INDEX(BB367:CL367,HLOOKUP(CH371,BB363:CL368,6,FALSE)),\"●\")=7,IF(COUNTIF(INDEX(BB367:CL367,DAY(CF371)):INDEX(BB367:CL367,HLOOKUP(CH371,BB363:CL368,6,FALSE)),\"●\")>=2,\"OK\",\"OUT\"),IF(COUNTIF(INDEX(BB367:CL367,HLOOKUP(CF371,BB363:CL368,6,FALSE)):INDEX(BB367:CL367,HLOOKUP(CH371,BB363:CL368,6,FALSE)),\"\")+COUNTIF(INDEX(BB367:CL367,HLOOKUP(CF371,BB363:CL368,6,FALSE)):INDEX(BB367:CL367,HLOOKUP(CH371,BB363:CL368,6,FALSE)),\"●\")>7,\"「／」漏れ\",\"対象外\"))))","v":""},null,null,null,null,null,null,null,"完全週休二日",{"$f":"IF(CR362=\"\",\"\",IF(COUNTIF(BB371:CL371,\"OUT\")>=1,\"OUT\",\"OK\"))","v":""},null,null,null,null,"完全",{"$f":"IF(WEEKDAY(DATE(YEAR(CX362),MONTH(CX362),1),2)=1,DATE(YEAR(CX362),MONTH(CX362),1),EOMONTH(CX362,-1)-MOD(WEEKDAY(EOMONTH(CX362,-1),2)+6,7))","v":"2026-03-30"},"～",{"$f":"DATE(YEAR(CX362),MONTH(CX362),1)+MOD(7-WEEKDAY(DATE(YEAR(CX362),MONTH(CX362),1),2),7)","v":"2026-04-05"},{"$f":"IF(DAY(CX371)=1,IF(COUNTIF(CX367:DD367,\"／\")>=1,\"対象外\",IF(COUNTIF(INDEX(CX367:EH367,DAY(CX371)):INDEX(CX367:EH367,HLOOKUP(CZ371,CX363:EH368,6,FALSE)),\"\")+COUNTIF(INDEX(CX367:EH367,DAY(CX371)):INDEX(CX367:EH367,HLOOKUP(CZ371,CX363:EH368,6,FALSE)),\"●\")=7,IF(COUNTIF(INDEX(CX367:EH367,DAY(CX371)):INDEX(CX367:EH367,HLOOKUP(CZ371,CX363:EH368,6,FALSE)),\"●\")>=2,\"OK\",\"OUT\"),IF(COUNTIF(INDEX(CX367:EH367,DAY(CX371)):INDEX(CX367:EH367,HLOOKUP(CZ371,CX363:EH368,6,FALSE)),\"●\")>=COUNTIF(INDEX(CX370:EH370,DAY(CX371)):INDEX(CX370:EH370,HLOOKUP(CZ371,CX363:EH368,6,FALSE)),\"○\"),\"OK\",\"OUT\"))),IF(AND(EE342=\"\",DY342=\"\"),DS342,IF(EE342=\"\",DY342,EE342)))","v":"対象外"},null,null,{"$f":"CZ371+1","v":"2026-04-06"},"～",{"$f":"CZ371+7","v":"2026-04-12"},{"$f":"IF(COUNTIF(INDEX(CX367:EH367,DAY(DD371)):INDEX(CX367:EH367,HLOOKUP(DF371,CX363:EH368,6,FALSE)),\"\")+COUNTIF(INDEX(CX367:EH367,DAY(DD371)):INDEX(CX367:EH367,HLOOKUP(DF371,CX363:EH368,6,FALSE)),\"●\")=7,IF(COUNTIF(INDEX(CX367:EH367,DAY(DD371)):INDEX(CX367:EH367,HLOOKUP(DF371,CX363:EH368,6,FALSE)),\"●\")>=2,\"OK\",\"OUT\"),\"対象外\")","v":"OUT"},null,null,{"$f":"DF371+1","v":"2026-04-13"},"～",{"$f":"DF371+7","v":"2026-04-19"},{"$f":"IF(COUNTIF(INDEX(CX367:EH367,DAY(DJ371)):INDEX(CX367:EH367,HLOOKUP(DL371,CX363:EH368,6,FALSE)),\"\")+COUNTIF(INDEX(CX367:EH367,DAY(DJ371)):INDEX(CX367:EH367,HLOOKUP(DL371,CX363:EH368,6,FALSE)),\"●\")=7,IF(COUNTIF(INDEX(CX367:EH367,DAY(DJ371)):INDEX(CX367:EH367,HLOOKUP(DL371,CX363:EH368,6,FALSE)),\"●\")>=2,\"OK\",\"OUT\"),\"対象外\")","v":"OUT"},null,null,{"$f":"DL371+1","v":"2026-04-20"},"～",{"$f":"DL371+7","v":"2026-04-26"},{"$f":"IF(COUNTIF(INDEX(CX367:EH367,DAY(DP371)):INDEX(CX367:EH367,HLOOKUP(DR371,CX363:EH368,6,FALSE)),\"\")+COUNTIF(INDEX(CX367:EH367,DAY(DP371)):INDEX(CX367:EH367,HLOOKUP(DR371,CX363:EH368,6,FALSE)),\"●\")=7,IF(COUNTIF(INDEX(CX367:EH367,DAY(DP371)):INDEX(CX367:EH367,HLOOKUP(DR371,CX363:EH368,6,FALSE)),\"●\")>=2,\"OK\",\"OUT\"),\"対象外\")","v":"OUT"},null,null,{"$f":"IF(AND(DAY(DR371+7)<23,DAY(DR371+7)>=7),\"\",DR371+1)","v":"2026-04-27"},{"$f":"IF(AND(DAY(DR371+7)<23,DAY(DR371+7)>=7),\"\",\"～\")","v":"～"},{"$f":"IF(AND(DAY(DR371+7)<23,DAY(DR371+7)>=7),\"\",DR371+7)","v":"2026-05-03"},{"$f":"IF(AND(DAY(DR371+7)<23,DAY(DR371+7)>=7),\"\",IF(COUNTIF(INDEX(CX367:EH367,DAY(DV371)):INDEX(CX367:EH367,HLOOKUP(DX371,CX363:EH368,6,FALSE)),\"\")+COUNTIF(INDEX(CX367:EH367,DAY(DV371)):INDEX(CX367:EH367,HLOOKUP(DX371,CX363:EH368,6,FALSE)),\"●\")=7,IF(COUNTIF(INDEX(CX367:EH367,DAY(DV371)):INDEX(CX367:EH367,HLOOKUP(DX371,CX363:EH368,6,FALSE)),\"●\")>=2,\"OK\",\"OUT\"),IF(COUNTIF(INDEX(CX367:EH367,DAY(DV371)):INDEX(CX367:EH367,HLOOKUP(DX371,CX363:EH368,6,FALSE)),\"\")+COUNTIF(INDEX(CX367:EH367,DAY(DV371)):INDEX(CX367:EH367,HLOOKUP(DX371,CX363:EH368,6,FALSE)),\"●\")>7,\"「／」漏れ\",\"対象外\")))","v":"OUT"},null,null,{"$f":"IF(DY371=\"\",\"\",IF(AND(DAY(DX371+7)<23,DAY(DX371+7)>=7),\"\",DX371+1))","v":""},{"$f":"IF(DY371=\"\",\"\",IF(AND(DAY(DX371+7)<23,DAY(DX371+7)>=7),\"\",\"～\"))","v":""},{"$f":"IF(DY371=\"\",\"\",IF(AND(DAY(DX371+7)<23,DAY(DX371+7)>=7),\"\",DX371+7))","v":""},{"$f":"IF(DY371=\"\",\"\",IF(AND(DAY(DX371+7)<23,DAY(DX371+7)>=7),\"\",IF(COUNTIF(INDEX(CX367:EH367,DAY(EB371)):INDEX(CX367:EH367,HLOOKUP(ED371,CX363:EH368,6,FALSE)),\"\")+COUNTIF(INDEX(CX367:EH367,DAY(EB371)):INDEX(CX367:EH367,HLOOKUP(ED371,CX363:EH368,6,FALSE)),\"●\")=7,IF(COUNTIF(INDEX(CX367:EH367,DAY(EB371)):INDEX(CX367:EH367,HLOOKUP(ED371,CX363:EH368,6,FALSE)),\"●\")>=2,\"OK\",\"OUT\"),IF(COUNTIF(INDEX(CX367:EH367,HLOOKUP(EB371,CX363:EH368,6,FALSE)):INDEX(CX367:EH367,HLOOKUP(ED371,CX363:EH368,6,FALSE)),\"\")+COUNTIF(INDEX(CX367:EH367,HLOOKUP(EB371,CX363:EH368,6,FALSE)):INDEX(CX367:EH367,HLOOKUP(ED371,CX363:EH368,6,FALSE)),\"●\")>7,\"「／」漏れ\",\"対象外\"))))","v":""},null,null,null,null,null,null,null,"完全週休二日",{"$f":"IF(EN362=\"\",\"\",IF(COUNTIF(CX371:EH371,\"OUT\")>=1,\"OUT\",\"OK\"))","v":""}]
[""]
[{"$f":"IF(AND(NOT($AT$362=\"\"),$AT$391=\"\"),\"対象期間\",\"\")","v":""}]
[{"$f":"IF(AND(NOT($AT$362=\"\"),$AT$391=\"\"),\"対象期間\",\"\")","v":""},null,"※１工事着手日：始期日以降に準備工事（現場事務所の建設・測量等）、工場製作を含む工事における工場製作工に着手した日",null,null,null,null,null,null,null,null,null,null,null,null,null,null,null,null,null,null,null,null,null,null,null,null,null,null,null,null,null,null,null,null,null,null,null,null,null,null,null,null,"工事全体の確認",null,null,null,null,null,null,null,null,"※１工事着手日：始期日以降に準備工事（現場事務所の建設・測量等）、工場製作を含む工事における工場製作工に着手した日",null,null,null,null,null,null,null,null,null,null,null,null,null,null,null,null,null,null,null,null,null,null,null,null,null,null,null,null,null,null,null,null,null,null,null,null,null,null,null,null,"工事全体の確認",null,null,null,null,null,null,"※１工事着手日：始期日以降に準備工事（現場事務所の建設・測量等）、工場製作を含む工事における工場製作工に着手した日",null,null,null,null,null,null,null,null,null,null,null,null,null,null,null,null,null,null,null,null,null,null,null,null,null,null,null,null,null,null,null,null,null,null,null,null,null,null,null,null,"工事全体の確認"]
["",null,"※２作業完了日：工事施工範囲内で全ての作業（後片付けを含む）が完了した日\n　　　　　　　　　  （工事現場事務所は工事施工範囲外に設置するため、ここでいう後片付けの対象に含まない）",null,null,null,null,null,null,null,null,null,null,null,null,null,null,null,null,null,null,null,null,null,null,null,null,null,null,null,null,null,null,null,null,null,null,null,null,null,null,null,null,"計画","全対象期間",{"$f":"IFERROR(AT346+AT362,\"\")","v":""},null,null,null,null,null,null,"※２作業完了日：工事施工範囲内で全ての作業（後片付けを含む）が完了した日\n　　　　　　　　　  （工事現場事務所は工事施工範囲外に設置するため、ここでいう後片付けの対象に含まない）",null,null,null,null,null,null,null,null,null,null,null,null,null,null,null,null,null,null,null,null,null,null,null,null,null,null,null,null,null,null,null,null,null,null,null,null,null,null,null,null,"計画","全対象期間",{"$f":"IFERROR(CR346+CR362,\"\")","v":""},null,null,null,null,"※２作業完了日：工事施工範囲内で全ての作業（後片付けを含む）が完了した日\n　　　　　　　　　  （工事現場事務所は工事施工範囲外に設置するため、ここでいう後片付けの対象に含まない）",null,null,null,null,null,null,null,null,null,null,null,null,null,null,null,null,null,null,null,null,null,null,null,null,null,null,null,null,null,null,null,null,null,null,null,null,null,null,null,null,"計画","全対象期間",{"$f":"IFERROR(EN346+EN362,\"\")","v":""}]
["",null,null,null,null,null,null,null,null,null,null,null,null,null,null,null,null,null,null,null,null,null,null,null,null,null,null,null,null,null,null,null,null,null,null,null,null,null,null,null,null,null,null,null,"全現場閉所日数",{"$f":"IFERROR(AT347+AT363,\"\")","v":""},null,null,null,null,null,null,null,null,null,null,null,null,null,null,null,null,null,null,null,null,null,null,null,null,null,null,null,null,null,null,null,null,null,null,null,null,null,null,null,null,null,null,null,null,null,null,null,null,"全現場閉所日数",{"$f":"IFERROR(CR347+CR363,\"\")","v":""},null,null,null,null,null,null,null,null,null,null,null,null,null,null,null,null,null,null,null,null,null,null,null,null,null,null,null,null,null,null,null,null,null,null,null,null,null,null,null,null,null,null,null,null,null,null,"全現場閉所日数",{"$f":"IFERROR(EN347+EN363,\"\")","v":""}]
["",null,"【算定除外期間】：夏季休暇（8月13日～8月15日）、年末年始（12月29日～翌年1月3日）は算定期間の分母・分子に含めない",null,null,null,null,null,null,null,null,null,null,null,null,null,null,null,null,null,null,null,null,null,null,null,null,null,null,null,null,null,null,null,null,null,null,null,null,null,null,null,null,null,"現場閉所率",{"$f":"IFERROR(+AT376/AT375,\"\")","v":""},{"$f":"IF(AT377>=0.285,\"4週8休以上\",\"週休2日未達成\")","v":"4週8休以上"},null,null,null,null,null,"【算定除外期間】：夏季休暇（8月13日～8月15日）、年末年始（12月29日～翌年1月3日）は算定期間の分母・分子に含めない",null,null,null,null,null,null,null,null,null,null,null,null,null,null,null,null,null,null,null,null,null,null,null,null,null,null,null,null,null,null,null,null,null,null,null,null,null,null,null,null,null,"現場閉所率",{"$f":"IFERROR(+CR376/CR375,\"\")","v":""},{"$f":"IF(CR377>=0.285,\"4週8休以上\",\"週休2日未達成\")","v":"4週8休以上"},null,null,null,"【算定除外期間】：夏季休暇（8月13日～8月15日）、年末年始（12月29日～翌年1月3日）は算定期間の分母・分子に含めない",null,null,null,null,null,null,null,null,null,null,null,null,null,null,null,null,null,null,null,null,null,null,null,null,null,null,null,null,null,null,null,null,null,null,null,null,null,null,null,null,null,"現場閉所率",{"$f":"IFERROR(+EN376/EN375,\"\")","v":""},{"$f":"IF(EN377>=0.285,\"4週8休以上\",\"週休2日未達成\")","v":"4週8休以上"}]
["",null,"※３工事期間の全ての月において、達成状況を確認し、一度でも達成できない月があれば、４週８休以上（月単位）は「未達成」となり、補正の対象とならない。\n　　月によっては、土日を全て閉所しても現場閉所率が28.5％に満たない場合があるが、その月の対象期間の土日日数以上閉所していれば達成とみなす。\n\n※４工事対象期間のうち、一度でも完全週休２日（月～日で２日以上の現場閉所）を達成できなければ、\n　　 完全週休２日は「未達成」となり、補正の対象とならない。\n　　 なお、工期始期・終期、年末年始、夏季休暇などにより、７日間に満たない期間は完全週休２日の達成判断の対象外とする。",null,null,null,null,null,null,null,null,null,null,null,null,null,null,null,null,null,null,null,null,null,null,null,null,null,null,null,null,null,null,null,null,null,null,null,null,null,null,null,null,"実施","全対象期間",{"$f":"IFERROR(AT349+AT365,\"\")","v":""},null,null,null,null,null,null,"※３工事期間の全ての月において、達成状況を確認し、一度でも達成できない月があれば、４週８休以上（月単位）は「未達成」となり、補正の対象とならない。\n　　月によっては、土日を全て閉所しても現場閉所率が28.5％に満たない場合があるが、その月の対象期間の土日日数以上閉所していれば達成とみなす。\n\n※４工事対象期間のうち、一度でも完全週休２日（月～日で２日以上の現場閉所）を達成できなければ、\n　　 完全週休２日は「未達成」となり、補正の対象とならない。\n　　 なお、工期始期・終期、年末年始、夏季休暇などにより、７日間に満たない期間は完全週休２日の達成判断の対象外とする。",null,null,null,null,null,null,null,null,null,null,null,null,null,null,null,null,null,null,null,null,null,null,null,null,null,null,null,null,null,null,null,null,null,null,null,null,null,null,null,null,"実施","全対象期間",{"$f":"IFERROR(CR349+CR365,\"\")","v":""},null,null,null,null,"※３工事期間の全ての月において、達成状況を確認し、一度でも達成できない月があれば、４週８休以上（月単位）は「未達成」となり、補正の対象とならない。\n　　月によっては、土日を全て閉所しても現場閉所率が28.5％に満たない場合があるが、その月の対象期間の土日日数以上閉所していれば達成とみなす。\n\n※４工事対象期間のうち、一度でも完全週休２日（月～日で２日以上の現場閉所）を達成できなければ、\n　　 完全週休２日は「未達成」となり、補正の対象とならない。\n　　 なお、工期始期・終期、年末年始、夏季休暇などにより、７日間に満たない期間は完全週休２日の達成判断の対象外とする。",null,null,null,null,null,null,null,null,null,null,null,null,null,null,null,null,null,null,null,null,null,null,null,null,null,null,null,null,null,null,null,null,null,null,null,null,null,null,null,null,"実施","全対象期間",{"$f":"IFERROR(EN349+EN365,\"\")","v":""}]
["",null,null,null,null,null,null,null,null,null,null,null,null,null,null,null,null,null,null,null,null,null,null,null,null,null,null,null,null,null,null,null,null,null,null,null,null,null,null,null,null,null,null,null,"全現場閉所日数",{"$f":"IFERROR(AT350+AT366,\"\")","v":""},null,null,null,null,null,null,null,null,null,null,null,null,null,null,null,null,null,null,null,null,null,null,null,null,null,null,null,null,null,null,null,null,null,null,null,null,null,null,null,null,null,null,null,null,null,null,null,null,"全現場閉所日数",{"$f":"IFERROR(CR350+CR366,\"\")","v":""},null,null,null,null,null,null,null,null,null,null,null,null,null,null,null,null,null,null,null,null,null,null,null,null,null,null,null,null,null,null,null,null,null,null,null,null,null,null,null,null,null,null,null,null,null,null,"全現場閉所日数",{"$f":"IFERROR(EN350+EN366,\"\")","v":""}]
["",null,null,null,null,null,null,null,null,null,null,null,null,null,null,null,null,null,null,null,null,null,null,null,null,null,null,null,null,null,null,null,null,null,null,null,null,null,null,null,null,null,null,null,"現場閉所率",{"$f":"IFERROR(+AT379/AT378,\"\")","v":""},{"$f":"IF(AT380>=0.285,\"4週8休以上\",\"週休2日未達成\")","v":"4週8休以上"},null,null,null,null,null,null,null,null,null,null,null,null,null,null,null,null,null,null,null,null,null,null,null,null,null,null,null,null,null,null,null,null,null,null,null,null,null,null,null,null,null,null,null,null,null,null,null,"現場閉所率",{"$f":"IFERROR(+CR379/CR378,\"\")","v":""},{"$f":"IF(CR380>=0.285,\"4週8休以上\",\"週休2日未達成\")","v":"4週8休以上"},null,null,null,null,null,null,null,null,null,null,null,null,null,null,null,null,null,null,null,null,null,null,null,null,null,null,null,null,null,null,null,null,null,null,null,null,null,null,null,null,null,null,null,null,null,"現場閉所率",{"$f":"IFERROR(+EN379/EN378,\"\")","v":""},{"$f":"IF(EN380>=0.285,\"4週8休以上\",\"週休2日未達成\")","v":"4週8休以上"}]
["",null,null,null,null,null,null,null,null,null,null,null,null,null,null,null,null,null,null,null,null,null,null,null,null,null,null,null,null,null,null,null,null,null,null,null,null,null,null,null,null,null,null,null,"閉所（月単位）",{"$f":"IFERROR(COUNTIF(AS$14:$AS371,\"4週8休以上\")/(COUNTIF(AS$14:$AS371,\"4週8休以上\")+COUNTIF(AS$14:$AS371,\"週休2日未達成\")),\"\")","v":""},{"$f":"IF(OR(AT381=100%,AT381=\"\"),\"達成\",\"未達成\")","v":"達成"},null,null,null,null,null,null,null,null,null,null,null,null,null,null,null,null,null,null,null,null,null,null,null,null,null,null,null,null,null,null,null,null,null,null,null,null,null,null,null,null,null,null,null,null,null,null,null,"閉所（月単位）",{"$f":"IFERROR(COUNTIF(CQ$14:$CQ371,\"4週8休以上\")/(COUNTIF(CQ$14:$CQ371,\"4週8休以上\")+COUNTIF(CQ$14:$CQ371,\"週休2日未達成\")),\"\")","v":0},{"$f":"IF(OR(CR381=100%,CR381=\"\"),\"達成\",\"未達成\")","v":"未達成"},null,null,null,null,null,null,null,null,null,null,null,null,null,null,null,null,null,null,null,null,null,null,null,null,null,null,null,null,null,null,null,null,null,null,null,null,null,null,null,null,null,null,null,null,null,"閉所（月単位）",{"$f":"IFERROR(COUNTIF($EM$14:EM371,\"4週8休以上\")/(COUNTIF($EM$14:EM371,\"4週8休以上\")+COUNTIF($EM$14:EM371,\"週休2日未達成\")),\"\")","v":1},{"$f":"IF(OR(EN381=100%,EN381=\"\"),\"達成\",\"未達成\")","v":"達成"}]
["",null,null,null,null,null,null,null,null,null,null,null,null,null,null,null,null,null,null,null,null,null,null,null,null,null,null,null,null,null,null,null,null,null,null,null,null,null,null,null,null,null,null,null,"完全週休二日",{"$f":"IF(COUNTIF(AS$14:$AS371,\"OUT\")>=1,\"OUT\",\"OK\")","v":"OK"},{"$f":"IF(AT382=\"OK\",\"達成\",\"未達成\")","v":"達成"},null,null,null,null,null,null,null,null,null,null,null,null,null,null,null,null,null,null,null,null,null,null,null,null,null,null,null,null,null,null,null,null,null,null,null,null,null,null,null,null,null,null,null,null,null,null,null,"完全週休二日",{"$f":"IF(COUNTIF(CQ$14:$CQ371,\"OUT\")>=1,\"OUT\",\"OK\")","v":"OUT"},{"$f":"IF(CR382=\"OK\",\"達成\",\"未達成\")","v":"未達成"},null,null,null,null,null,null,null,null,null,null,null,null,null,null,null,null,null,null,null,null,null,null,null,null,null,null,null,null,null,null,null,null,null,null,null,null,null,null,null,null,null,null,null,null,null,"完全週休二日",{"$f":"IF(COUNTIF($EM$14:EM371,\"OUT\")>=1,\"OUT\",\"OK\")","v":"OUT"},{"$f":"IF(EN382=\"OK\",\"達成\",\"未達成\")","v":"未達成"}]
["",null,"※必要に応じて各月の完全週休2日（月～日）の達成判定の行を修正してください。（曜日に合わせて修正）",null,null,null,null,null,null,null,null,null,null,null,null,null,null,null,null,null,null,null,null,null,null,null,null,null,null,null,null,null,null,null,null,null,null,null,null,null,null,null,null,null,null,null,null,null,null,null,null,null,"※必要に応じて各月の完全週休2日（月～日）の達成判定の行を修正してください。（曜日に合わせて修正）",null,null,null,null,null,null,null,null,null,null,null,null,null,null,null,null,null,null,null,null,null,null,null,null,null,null,null,null,null,null,null,null,null,null,null,null,null,null,null,null,null,null,null,null,null,null,null,"※必要に応じて各月の完全週休2日（月～日）の達成判定の行を修正してください。（曜日に合わせて修正）"]
[""]
[""]
[""]
[""]
[""]
["",null,"算定除外期間以外の祝日（ＧＷ含む）は、算定期間（分母）の対象＝現場閉所の場合は分子にカウントして現場閉所率を算定",null,null,null,null,null,null,null,null,null,null,null,null,null,null,null,null,null,null,null,null,null,null,null,null,null,null,null,null,null,null,null,null,null,null,null,null,null,null,null,null,null,null,null,null,null,null,null,null,null,"算定除外期間以外の祝日（ＧＷ含む）は、算定期間（分母）の対象＝現場閉所の場合は分子にカウントして現場閉所率を算定",null,null,null,null,null,null,null,null,null,null,null,null,null,null,null,null,null,null,null,null,null,null,null,null,null,null,null,null,null,null,null,null,null,null,null,null,null,null,null,null,null,null,null,null,null,null,null,"算定除外期間以外の祝日（ＧＷ含む）は、算定期間（分母）の対象＝現場閉所の場合は分子にカウントして現場閉所率を算定"]
[""]
[{"$f":"IF($AT$391=\"\",\"\",\"対象期間\")","v":""},null,"月",{"$f":"DATE(YEAR(D362),MONTH(D362)+1,1)","v":"2026-05-01"},null,null,null,null,null,null,null,null,null,null,null,null,null,null,null,null,null,null,null,null,null,null,null,null,null,null,null,null,null,null,{"$f":"DATE(YEAR(D391),MONTH(D391)+1,1)","v":"2026-06-01"},null,null,null,null,null,"現場閉所計","現場閉所累計",null,"計画","対象期間",{"$f":"IF(IF(MONTH(入力表!$E$6)=12,YEAR(入力表!$E$6)+1&\"01\",YEAR(入力表!$E$6)&TEXT(MONTH(入力表!$E$6)+1,\"00\"))>YEAR($D391)&TEXT(MONTH($D391),\"00\"),COUNTIF(D395:AH395,\"\")+COUNTIF(D395:AH395,\"○\"),\"\")","v":""},{"$f":"IF(COUNTIF(D392:AH392,\"／\")=0,\"\",IF(COUNTIF(D392:AH392,\"／\")=1,IF(AH395=\"／\",\"\",\"月末「／」漏れ\"),IF(COUNTIF(D392:AH392,\"／\")=2,IF(AND(AG395=\"／\",AH395=\"／\"),\"\",\"月末「／」漏れ\"),IF(AND(AF395=\"／\",AG395=\"／\",AH395=\"／\"),\"\",\"月末「／」漏れ\"))))","v":""},null,null,null,null,null,"月",{"$f":"DATE(YEAR(BB362),MONTH(BB362)+1,1)","v":"2026-05-01"},null,null,null,null,null,null,null,null,null,null,null,null,null,null,null,null,null,null,null,null,null,null,null,null,null,null,null,null,null,null,{"$f":"DATE(YEAR(BB391),MONTH(BB391)+1,1)","v":"2026-06-01"},null,null,null,null,null,"現場閉所計","現場閉所累計",null,"計画","対象期間",{"$f":"IF(IF(MONTH($BL$5)=12,YEAR($BL$5)+1&\"01\",YEAR($BL$5)&TEXT(MONTH($BL$5)+1,\"00\"))>YEAR(BB391)&TEXT(MONTH(BB391),\"00\"),COUNTIF(BB395:CF395,\"\")+COUNTIF(BB395:CF395,\"○\"),\"\")","v":""},{"$f":"IF(COUNTIF(BB392:CF392,\"／\")=0,\"\",IF(COUNTIF(BB392:CF392,\"／\")=1,IF(CF395=\"／\",\"\",\"月末「／」漏れ\"),IF(COUNTIF(BB392:CF392,\"／\")=2,IF(AND(CE395=\"／\",CF395=\"／\"),\"\",\"月末「／」漏れ\"),IF(AND(CD395=\"／\",CE395=\"／\",CF395=\"／\"),\"\",\"月末「／」漏れ\"))))","v":""},null,null,null,"月",{"$f":"DATE(YEAR(CX362),MONTH(CX362)+1,1)","v":"2026-05-01"},null,null,null,null,null,null,null,null,null,null,null,null,null,null,null,null,null,null,null,null,null,null,null,null,null,null,null,null,null,null,{"$f":"DATE(YEAR(CX391),MONTH(CX391)+1,1)","v":"2026-06-01"},null,null,null,null,null,"現場閉所計","現場閉所累計",null,"計画","対象期間",{"$f":"IF(IF(MONTH($BL$5)=12,YEAR($BL$5)+1&\"01\",YEAR($BL$5)&TEXT(MONTH($BL$5)+1,\"00\"))>YEAR($CX391)&TEXT(MONTH($CX391),\"00\"),COUNTIF(CX395:EB395,\"\")+COUNTIF(CX395:EB395,\"○\"),\"\")","v":""},{"$f":"IF(COUNTIF(CX392:EB392,\"／\")=0,\"\",IF(COUNTIF(CX392:EB392,\"／\")=1,IF(EB395=\"／\",\"\",\"月末「／」漏れ\"),IF(COUNTIF(CX392:EB392,\"／\")=2,IF(AND(EA395=\"／\",EB395=\"／\"),\"\",\"月末「／」漏れ\"),IF(AND(DZ395=\"／\",EA395=\"／\",EB395=\"／\"),\"\",\"月末「／」漏れ\"))))","v":""}]
[{"$f":"IF($AT$391=\"\",\"\",\"対象期間\")","v":""},null,"日",{"$f":"D391","v":"2026-05-01"},{"$f":"D392+1","v":"2026-05-02"},{"$f":"E392+1","v":"2026-05-03"},{"$f":"F392+1","v":"2026-05-04"},{"$f":"G392+1","v":"2026-05-05"},{"$f":"H392+1","v":"2026-05-06"},{"$f":"I392+1","v":"2026-05-07"},{"$f":"J392+1","v":"2026-05-08"},{"$f":"K392+1","v":"2026-05-09"},{"$f":"L392+1","v":"2026-05-10"},{"$f":"M392+1","v":"2026-05-11"},{"$f":"N392+1","v":"2026-05-12"},{"$f":"O392+1","v":"2026-05-13"},{"$f":"P392+1","v":"2026-05-14"},{"$f":"Q392+1","v":"2026-05-15"},{"$f":"R392+1","v":"2026-05-16"},{"$f":"S392+1","v":"2026-05-17"},{"$f":"T392+1","v":"2026-05-18"},{"$f":"U392+1","v":"2026-05-19"},{"$f":"V392+1","v":"2026-05-20"},{"$f":"W392+1","v":"2026-05-21"},{"$f":"X392+1","v":"2026-05-22"},{"$f":"Y392+1","v":"2026-05-23"},{"$f":"Z392+1","v":"2026-05-24"},{"$f":"AA392+1","v":"2026-05-25"},{"$f":"AB392+1","v":"2026-05-26"},{"$f":"AC392+1","v":"2026-05-27"},{"$f":"AD392+1","v":"2026-05-28"},{"$f":"IF(AE392=\"／\",\"／\",IF(YEAR($D391)&TEXT(MONTH($D391),\"00\")<YEAR(AE392+1)&TEXT(MONTH(AE392+1),\"00\"),\"／\",AE392+1))","v":"2026-05-29"},{"$f":"IF(AF392=\"／\",\"／\",IF(YEAR($D391)&TEXT(MONTH($D391),\"00\")<YEAR(AF392+1)&TEXT(MONTH(AF392+1),\"00\"),\"／\",AF392+1))","v":"2026-05-30"},{"$f":"IF(AG392=\"／\",\"／\",IF(YEAR($D391)&TEXT(MONTH($D391),\"00\")<YEAR(AG392+1)&TEXT(MONTH(AG392+1),\"00\"),\"／\",AG392+1))","v":"2026-05-31"},{"$f":"AI391","v":"2026-06-01"},{"$f":"AI392+1","v":"2026-06-02"},{"$f":"AJ392+1","v":"2026-06-03"},{"$f":"AK392+1","v":"2026-06-04"},{"$f":"AL392+1","v":"2026-06-05"},{"$f":"AM392+1","v":"2026-06-06"},null,null,null,null,"閉所日数",{"$f":"IF(IF(MONTH(入力表!$E$6)=12,YEAR(入力表!$E$6)+1&\"01\",YEAR(入力表!$E$6)&TEXT(MONTH(入力表!$E$6)+1,\"00\"))>YEAR($D391)&TEXT(MONTH($D391),\"00\"),COUNTIF(D395:AH395,\"○\"),\"\")","v":""},{"$f":"IF(OR(MONTH(D391)=1,MONTH(D391)=8,MONTH(D391)=12),IF(COUNTIF(D395:AH395,\"／\")>=3,\"\",\"算定除外「／」漏れ\"),\"\")","v":""},null,null,null,null,null,"日",{"$f":"BB391","v":"2026-05-01"},{"$f":"BB392+1","v":"2026-05-02"},{"$f":"BC392+1","v":"2026-05-03"},{"$f":"BD392+1","v":"2026-05-04"},{"$f":"BE392+1","v":"2026-05-05"},{"$f":"BF392+1","v":"2026-05-06"},{"$f":"BG392+1","v":"2026-05-07"},{"$f":"BH392+1","v":"2026-05-08"},{"$f":"BI392+1","v":"2026-05-09"},{"$f":"BJ392+1","v":"2026-05-10"},{"$f":"BK392+1","v":"2026-05-11"},{"$f":"BL392+1","v":"2026-05-12"},{"$f":"BM392+1","v":"2026-05-13"},{"$f":"BN392+1","v":"2026-05-14"},{"$f":"BO392+1","v":"2026-05-15"},{"$f":"BP392+1","v":"2026-05-16"},{"$f":"BQ392+1","v":"2026-05-17"},{"$f":"BR392+1","v":"2026-05-18"},{"$f":"BS392+1","v":"2026-05-19"},{"$f":"BT392+1","v":"2026-05-20"},{"$f":"BU392+1","v":"2026-05-21"},{"$f":"BV392+1","v":"2026-05-22"},{"$f":"BW392+1","v":"2026-05-23"},{"$f":"BX392+1","v":"2026-05-24"},{"$f":"BY392+1","v":"2026-05-25"},{"$f":"BZ392+1","v":"2026-05-26"},{"$f":"CA392+1","v":"2026-05-27"},{"$f":"CB392+1","v":"2026-05-28"},{"$f":"IF(CC392=\"／\",\"／\",IF(YEAR(BB391)&TEXT(MONTH(BB391),\"00\")<YEAR(CC392+1)&TEXT(MONTH(CC392+1),\"00\"),\"／\",CC392+1))","v":"2026-05-29"},{"$f":"IF(CD392=\"／\",\"／\",IF(YEAR(BB391)&TEXT(MONTH(BB391),\"00\")<YEAR(CD392+1)&TEXT(MONTH(CD392+1),\"00\"),\"／\",CD392+1))","v":"2026-05-30"},{"$f":"IF(CE392=\"／\",\"／\",IF(YEAR(BB391)&TEXT(MONTH(BB391),\"00\")<YEAR(CE392+1)&TEXT(MONTH(CE392+1),\"00\"),\"／\",CE392+1))","v":"2026-05-31"},{"$f":"CG391","v":"2026-06-01"},{"$f":"CG392+1","v":"2026-06-02"},{"$f":"CH392+1","v":"2026-06-03"},{"$f":"CI392+1","v":"2026-06-04"},{"$f":"CJ392+1","v":"2026-06-05"},{"$f":"CK392+1","v":"2026-06-06"},null,null,null,null,"閉所日数",{"$f":"IF(IF(MONTH($BL$5)=12,YEAR($BL$5)+1&\"01\",YEAR($BL$5)&TEXT(MONTH($BL$5)+1,\"00\"))>YEAR(BB391)&TEXT(MONTH(BB391),\"00\"),COUNTIF(BB395:CF395,\"○\"),\"\")","v":""},{"$f":"IF(OR(MONTH(BB391)=1,MONTH(BB391)=8,MONTH(BB391)=12),IF(COUNTIF(BB395:CF395,\"／\")>=3,\"\",\"算定除外「／」漏れ\"),\"\")","v":""},null,null,null,"日",{"$f":"CX391","v":"2026-05-01"},{"$f":"CX392+1","v":"2026-05-02"},{"$f":"CY392+1","v":"2026-05-03"},{"$f":"CZ392+1","v":"2026-05-04"},{"$f":"DA392+1","v":"2026-05-05"},{"$f":"DB392+1","v":"2026-05-06"},{"$f":"DC392+1","v":"2026-05-07"},{"$f":"DD392+1","v":"2026-05-08"},{"$f":"DE392+1","v":"2026-05-09"},{"$f":"DF392+1","v":"2026-05-10"},{"$f":"DG392+1","v":"2026-05-11"},{"$f":"DH392+1","v":"2026-05-12"},{"$f":"DI392+1","v":"2026-05-13"},{"$f":"DJ392+1","v":"2026-05-14"},{"$f":"DK392+1","v":"2026-05-15"},{"$f":"DL392+1","v":"2026-05-16"},{"$f":"DM392+1","v":"2026-05-17"},{"$f":"DN392+1","v":"2026-05-18"},{"$f":"DO392+1","v":"2026-05-19"},{"$f":"DP392+1","v":"2026-05-20"},{"$f":"DQ392+1","v":"2026-05-21"},{"$f":"DR392+1","v":"2026-05-22"},{"$f":"DS392+1","v":"2026-05-23"},{"$f":"DT392+1","v":"2026-05-24"},{"$f":"DU392+1","v":"2026-05-25"},{"$f":"DV392+1","v":"2026-05-26"},{"$f":"DW392+1","v":"2026-05-27"},{"$f":"DX392+1","v":"2026-05-28"},{"$f":"IF(DY392=\"／\",\"／\",IF(YEAR(CX391)&TEXT(MONTH(CX391),\"00\")<YEAR(DY392+1)&TEXT(MONTH(DY392+1),\"00\"),\"／\",DY392+1))","v":"2026-05-29"},{"$f":"IF(DZ392=\"／\",\"／\",IF(YEAR(CX391)&TEXT(MONTH(CX391),\"00\")<YEAR(DZ392+1)&TEXT(MONTH(DZ392+1),\"00\"),\"／\",DZ392+1))","v":"2026-05-30"},{"$f":"IF(EA392=\"／\",\"／\",IF(YEAR(CX391)&TEXT(MONTH(CX391),\"00\")<YEAR(EA392+1)&TEXT(MONTH(EA392+1),\"00\"),\"／\",EA392+1))","v":"2026-05-31"},{"$f":"EC391","v":"2026-06-01"},{"$f":"EC392+1","v":"2026-06-02"},{"$f":"ED392+1","v":"2026-06-03"},{"$f":"EE392+1","v":"2026-06-04"},{"$f":"EF392+1","v":"2026-06-05"},{"$f":"EG392+1","v":"2026-06-06"},null,null,null,null,"閉所日数",{"$f":"IF(IF(MONTH($BL$5)=12,YEAR($BL$5)+1&\"01\",YEAR($BL$5)&TEXT(MONTH($BL$5)+1,\"00\"))>YEAR($CX391)&TEXT(MONTH($CX391),\"00\"),COUNTIF(CX395:EB395,\"○\"),\"\")","v":""},{"$f":"IF(OR(MONTH(CX391)=1,MONTH(CX391)=8,MONTH(CX391)=12),IF(COUNTIF(CX395:EB395,\"／\")>=3,\"\",\"算定除外「／」漏れ\"),\"\")","v":""}]
["",null,"曜日",{"$f":"TEXT(WEEKDAY(+D392),\"aaa\")","v":"金"},{"$f":"TEXT(WEEKDAY(+E392),\"aaa\")","v":"土"},"日","月","火",{"$f":"TEXT(WEEKDAY(+I392),\"aaa\")","v":"水"},{"$f":"TEXT(WEEKDAY(+J392),\"aaa\")","v":"木"},"金","土","日","月","火","水","木","金","土","日","月","火","水","木","金",{"$f":"TEXT(WEEKDAY(+Z392),\"aaa\")","v":"土"},{"$f":"TEXT(WEEKDAY(+AA392),\"aaa\")","v":"日"},"月","火","水","木",{"$f":"IF(AF392=\"／\",\"／\",TEXT(WEEKDAY(+AF392),\"aaa\"))","v":"金"},{"$f":"IF(AG392=\"／\",\"／\",TEXT(WEEKDAY(+AG392),\"aaa\"))","v":"土"},"日",{"$f":"TEXT(WEEKDAY(+AI392),\"aaa\")","v":"月"},{"$f":"TEXT(WEEKDAY(+AJ392),\"aaa\")","v":"火"},"水","木","金","土",null,null,null,null,"現場閉所率",{"$f":"IFERROR(+AT392/AT391,\"\")","v":""},{"$f":"IF(AT393=\"\",\"\",IF(COUNTIF(D395:AH395,\"○\")>=COUNTIF(D398:AH398,\"◎\"),\"4週8休以上\",IF(AT393>=0.285,\"4週8休以上\",\"週休2日未達成\")))","v":""},null,null,null,null,null,"曜日",{"$f":"TEXT(WEEKDAY(+BB392),\"aaa\")","v":"金"},{"$f":"TEXT(WEEKDAY(+BC392),\"aaa\")","v":"土"},"日","月","火",{"$f":"TEXT(WEEKDAY(+BG392),\"aaa\")","v":"水"},{"$f":"TEXT(WEEKDAY(+BH392),\"aaa\")","v":"木"},"金","土","日","月","火","水","木","金","土","日","月","火","水","木","金",{"$f":"TEXT(WEEKDAY(+BX392),\"aaa\")","v":"土"},{"$f":"TEXT(WEEKDAY(+BY392),\"aaa\")","v":"日"},"月","火","水","木",{"$f":"IF(CD392=\"／\",\"／\",TEXT(WEEKDAY(+CD392),\"aaa\"))","v":"金"},{"$f":"IF(CE392=\"／\",\"／\",TEXT(WEEKDAY(+CE392),\"aaa\"))","v":"土"},"日",{"$f":"TEXT(WEEKDAY(+CG392),\"aaa\")","v":"月"},{"$f":"TEXT(WEEKDAY(+CH392),\"aaa\")","v":"火"},"水","木","金","土",null,null,null,null,"現場閉所率",{"$f":"IFERROR(+CR392/CR391,\"\")","v":""},{"$f":"IF(CR393=\"\",\"\",IF(COUNTIF(BB395:CF395,\"○\")>=COUNTIF(BB398:CF398,\"◎\"),\"4週8休以上\",IF(CR393>=0.285,\"4週8休以上\",\"週休2日未達成\")))","v":""},null,null,null,"曜日",{"$f":"TEXT(WEEKDAY(+CX392),\"aaa\")","v":"金"},{"$f":"TEXT(WEEKDAY(+CY392),\"aaa\")","v":"土"},"日","月","火",{"$f":"TEXT(WEEKDAY(+DC392),\"aaa\")","v":"水"},{"$f":"TEXT(WEEKDAY(+DD392),\"aaa\")","v":"木"},"金","土","日","月","火","水","木","金","土","日","月","火","水","木","金",{"$f":"TEXT(WEEKDAY(+DT392),\"aaa\")","v":"土"},{"$f":"TEXT(WEEKDAY(+DU392),\"aaa\")","v":"日"},"月","火","水","木",{"$f":"IF(DZ392=\"／\",\"／\",TEXT(WEEKDAY(+DZ392),\"aaa\"))","v":"金"},{"$f":"IF(EA392=\"／\",\"／\",TEXT(WEEKDAY(+EA392),\"aaa\"))","v":"土"},"日",{"$f":"TEXT(WEEKDAY(+EC392),\"aaa\")","v":"月"},{"$f":"TEXT(WEEKDAY(+ED392),\"aaa\")","v":"火"},"水","木","金","土",null,null,null,null,"現場閉所率",{"$f":"IFERROR(+EN392/EN391,\"\")","v":""},{"$f":"IF(EN393=\"\",\"\",IF(COUNTIF(CX395:EB395,\"○\")>=COUNTIF(CX398:EB398,\"◎\"),\"4週8休以上\",IF(EN393>=0.285,\"4週8休以上\",\"週休2日未達成\")))","v":""}]
["",null,"行事",null,null,null,null,null,null,null,null,null,null,null,null,null,null,null,null,null,null,null,null,null,null,null,null,null,null,null,null,null,null,null,{"$f":"IF(D423=\"\",\"\",D423)","v":""},{"$f":"IF(E423=\"\",\"\",E423)","v":""},{"$f":"IF(F423=\"\",\"\",F423)","v":""},{"$f":"IF(G423=\"\",\"\",G423)","v":""},{"$f":"IF(H423=\"\",\"\",H423)","v":""},{"$f":"IF(I423=\"\",\"\",I423)","v":""},null,null,null,"実施","対象期間",{"$f":"IF(IF(MONTH(入力表!$E$6)=12,YEAR(入力表!$E$6)+1&\"01\",YEAR(入力表!$E$6)&TEXT(MONTH(入力表!$E$6)+1,\"00\"))>YEAR($D391)&TEXT(MONTH($D391),\"00\"),COUNTIF(D396:AH396,\"\")+COUNTIF(D396:AH396,\"●\"),\"\")","v":""},{"$f":"IF(COUNTIF(D392:AH392,\"／\")=0,\"\",IF(COUNTIF(D392:AH392,\"／\")=1,IF(AH396=\"／\",\"\",\"月末「／」漏れ\"),IF(COUNTIF(D392:AH392,\"／\")=2,IF(AND(AG396=\"／\",AH396=\"／\"),\"\",\"月末「／」漏れ\"),IF(AND(AF396=\"／\",AG396=\"／\",AH396=\"／\"),\"\",\"月末「／」漏れ\"))))","v":""},null,null,null,null,null,"行事",null,null,null,null,null,null,null,null,null,null,null,null,null,null,null,null,null,null,null,null,null,null,null,null,null,null,null,null,null,null,null,{"$f":"IF(BB423=\"\",\"\",BB423)","v":""},{"$f":"IF(BC423=\"\",\"\",BC423)","v":""},{"$f":"IF(BD423=\"\",\"\",BD423)","v":""},{"$f":"IF(BE423=\"\",\"\",BE423)","v":""},{"$f":"IF(BF423=\"\",\"\",BF423)","v":""},{"$f":"IF(BG423=\"\",\"\",BG423)","v":""},null,null,null,"実施","対象期間",{"$f":"IF(IF(MONTH($BL$5)=12,YEAR($BL$5)+1&\"01\",YEAR($BL$5)&TEXT(MONTH($BL$5)+1,\"00\"))>YEAR(BB391)&TEXT(MONTH(BB391),\"00\"),COUNTIF(BB396:CF396,\"\")+COUNTIF(BB396:CF396,\"●\"),\"\")","v":""},{"$f":"IF(COUNTIF(BB392:CF392,\"／\")=0,\"\",IF(COUNTIF(BB392:CF392,\"／\")=1,IF(CF396=\"／\",\"\",\"月末「／」漏れ\"),IF(COUNTIF(BB392:CF392,\"／\")=2,IF(AND(CE396=\"／\",CF396=\"／\"),\"\",\"月末「／」漏れ\"),IF(AND(CD396=\"／\",CE396=\"／\",CF396=\"／\"),\"\",\"月末「／」漏れ\"))))","v":""},null,null,null,"行事",null,null,null,null,null,null,null,null,null,null,null,null,null,null,null,null,null,null,null,null,null,null,null,null,null,null,null,null,null,null,null,{"$f":"IF(CX423=\"\",\"\",CX423)","v":""},{"$f":"IF(CY423=\"\",\"\",CY423)","v":""},{"$f":"IF(CZ423=\"\",\"\",CZ423)","v":""},{"$f":"IF(DA423=\"\",\"\",DA423)","v":""},{"$f":"IF(DB423=\"\",\"\",DB423)","v":""},{"$f":"IF(DC423=\"\",\"\",DC423)","v":""},null,null,null,"実施","対象期間",{"$f":"IF(IF(MONTH($BL$5)=12,YEAR($BL$5)+1&\"01\",YEAR($BL$5)&TEXT(MONTH($BL$5)+1,\"00\"))>YEAR($CX391)&TEXT(MONTH($CX391),\"00\"),COUNTIF(CX396:EB396,\"\")+COUNTIF(CX396:EB396,\"●\"),\"\")","v":""},{"$f":"IF(COUNTIF(CX392:EB392,\"／\")=0,\"\",IF(COUNTIF(CX392:EB392,\"／\")=1,IF(EB396=\"／\",\"\",\"月末「／」漏れ\"),IF(COUNTIF(CX392:EB392,\"／\")=2,IF(AND(EA396=\"／\",EB396=\"／\"),\"\",\"月末「／」漏れ\"),IF(AND(DZ396=\"／\",EA396=\"／\",EB396=\"／\"),\"\",\"月末「／」漏れ\"))))","v":""}]
["",null,"計画",null,null,null,null,null,null,null,null,null,null,null,null,null,null,null,null,null,null,null,null,null,null,null,null,null,null,null,null,null,null,null,{"$f":"IF(D424=\"\",\"\",D424)","v":""},{"$f":"IF(E424=\"\",\"\",E424)","v":""},{"$f":"IF(F424=\"\",\"\",F424)","v":""},{"$f":"IF(G424=\"\",\"\",G424)","v":""},{"$f":"IF(H424=\"\",\"\",H424)","v":""},{"$f":"IF(I424=\"\",\"\",I424)","v":""},{"$f":"COUNTIF(D395:AH395,\"○\")","v":0},{"$f":"+AO395+AP366","v":0},null,null,"閉所日数",{"$f":"IF(IF(MONTH(入力表!$E$6)=12,YEAR(入力表!$E$6)+1&\"01\",YEAR(入力表!$E$6)&TEXT(MONTH(入力表!$E$6)+1,\"00\"))>YEAR($D391)&TEXT(MONTH($D391),\"00\"),COUNTIF(D396:AH396,\"●\"),\"\")","v":""},{"$f":"IF(OR(MONTH(D391)=1,MONTH(D391)=8,MONTH(D391)=12),IF(COUNTIF(D396:AH396,\"／\")>=3,\"\",\"算定除外「／」漏れ\"),\"\")","v":""},null,null,null,null,null,"計画",null,null,null,null,null,null,null,null,null,null,null,null,null,null,null,null,null,null,null,null,null,null,null,null,null,null,null,null,null,null,null,{"$f":"IF(BB424=\"\",\"\",BB424)","v":""},"","","","","",{"$f":"COUNTIF(BB395:CF395,\"○\")","v":0},{"$f":"+CM395+CN366","v":0},null,null,"閉所日数",{"$f":"IF(IF(MONTH($BL$5)=12,YEAR($BL$5)+1&\"01\",YEAR($BL$5)&TEXT(MONTH($BL$5)+1,\"00\"))>YEAR(BB391)&TEXT(MONTH(BB391),\"00\"),COUNTIF(BB396:CF396,\"●\"),\"\")","v":""},{"$f":"IF(OR(MONTH(BB391)=1,MONTH(BB391)=8,MONTH(BB391)=12),IF(COUNTIF(BB396:CF396,\"／\")>=3,\"\",\"算定除外「／」漏れ\"),\"\")","v":""},null,null,null,"計画",null,null,null,null,null,null,null,null,null,null,null,null,null,null,null,null,null,null,null,null,null,null,null,null,null,null,null,null,null,null,null,{"$f":"IF(CX424=\"\",\"\",CX424)","v":""},"","","","","",{"$f":"COUNTIF(CX395:EB395,\"○\")","v":0},{"$f":"+EI395+EJ366","v":0},null,null,"閉所日数",{"$f":"IF(IF(MONTH($BL$5)=12,YEAR($BL$5)+1&\"01\",YEAR($BL$5)&TEXT(MONTH($BL$5)+1,\"00\"))>YEAR($CX391)&TEXT(MONTH($CX391),\"00\"),COUNTIF(CX396:EB396,\"●\"),\"\")","v":""},{"$f":"IF(OR(MONTH(CX391)=1,MONTH(CX391)=8,MONTH(CX391)=12),IF(COUNTIF(CX396:EB396,\"／\")>=3,\"\",\"算定除外「／」漏れ\"),\"\")","v":""}]
["",null,"実施",null,null,null,null,null,null,null,null,null,null,null,null,null,null,null,null,null,null,null,null,null,null,null,null,null,null,null,null,null,null,null,{"$f":"IF(D425=\"\",\"\",D425)","v":""},{"$f":"IF(E425=\"\",\"\",E425)","v":""},{"$f":"IF(F425=\"\",\"\",F425)","v":""},{"$f":"IF(G425=\"\",\"\",G425)","v":""},{"$f":"IF(H425=\"\",\"\",H425)","v":""},{"$f":"IF(I425=\"\",\"\",I425)","v":""},{"$f":"COUNTIF(D396:AH396,\"●\")","v":0},{"$f":"+AO396+AP367","v":0},null,null,"現場閉所率",{"$f":"IFERROR(+AT395/AT394,\"\")","v":""},{"$f":"IF(AT396=\"\",\"\",IF(COUNTIF(D396:AH396,\"●\")>=COUNTIF(D399:AH399,\"◎\"),\"4週8休以上\",IF(AT396>=0.285,\"4週8休以上\",\"週休2日未達成\")))","v":""},null,null,null,null,null,"実施",null,null,null,null,null,null,null,null,null,null,null,null,null,null,null,null,null,null,null,null,null,null,null,null,null,null,null,null,null,null,null,{"$f":"IF(BB425=\"\",\"\",BB425)","v":""},{"$f":"IF(BC425=\"\",\"\",BC425)","v":""},{"$f":"IF(BD425=\"\",\"\",BD425)","v":""},{"$f":"IF(BE425=\"\",\"\",BE425)","v":""},{"$f":"IF(BF425=\"\",\"\",BF425)","v":""},{"$f":"IF(BG425=\"\",\"\",BG425)","v":""},{"$f":"COUNTIF(BB396:CF396,\"●\")","v":0},{"$f":"+CM396+CN367","v":0},null,null,"現場閉所率",{"$f":"IFERROR(+CR395/CR394,\"\")","v":""},{"$f":"IF(CR396=\"\",\"\",IF(COUNTIF(BB396:CF396,\"●\")>=COUNTIF(BB399:CF399,\"◎\"),\"4週8休以上\",IF(CR396>=0.285,\"4週8休以上\",\"週休2日未達成\")))","v":""},null,null,null,"実施",null,null,null,null,null,null,null,null,null,null,null,null,null,null,null,null,null,null,null,null,null,null,null,null,null,null,null,null,null,null,null,{"$f":"IF(CX425=\"\",\"\",CX425)","v":""},{"$f":"IF(CY425=\"\",\"\",CY425)","v":""},{"$f":"IF(CZ425=\"\",\"\",CZ425)","v":""},{"$f":"IF(DA425=\"\",\"\",DA425)","v":""},{"$f":"IF(DB425=\"\",\"\",DB425)","v":""},{"$f":"IF(DC425=\"\",\"\",DC425)","v":""},{"$f":"COUNTIF(CX396:EB396,\"●\")","v":0},{"$f":"+EI396+EJ367","v":0},null,null,"現場閉所率",{"$f":"IFERROR(+EN395/EN394,\"\")","v":""},{"$f":"IF(EN396=\"\",\"\",IF(COUNTIF(CX396:EB396,\"●\")>=COUNTIF(CX399:EB399,\"◎\"),\"4週8休以上\",IF(EN396>=0.285,\"4週8休以上\",\"週休2日未達成\")))","v":""}]
[null,null,null,1,2,3,4,5,6,7,8,9,10,11,12,13,14,15,16,17,18,19,20,21,22,23,24,25,26,27,28,29,30,31,32,33,34,35,36,37,null,null,null,null,{"$f":"AU396","v":""},null,null,null,null,null,null,null,null,1,2,3,4,5,6,7,8,9,10,11,12,13,14,15,16,17,18,19,20,21,22,23,24,25,26,27,28,29,30,31,32,33,34,35,36,37,null,null,null,null,{"$f":"CS396","v":""},null,null,null,null,null,null,1,2,3,4,5,6,7,8,9,10,11,12,13,14,15,16,17,18,19,20,21,22,23,24,25,26,27,28,29,30,31,32,33,34,35,36,37,null,null,null,null,{"$f":"EO396","v":""}]
[null,null,"計画",{"$f":"IF(D395=\"／\",\"／\",IF(OR(D393=\"土\",D393=\"日\"),\"◎\",\"\"))","v":""},{"$f":"IF(E395=\"／\",\"／\",IF(OR(E393=\"土\",E393=\"日\"),\"◎\",\"\"))","v":"◎"},"◎","","","","","","◎","◎","","","","","","◎","◎","","","","","","◎","◎","","",{"$f":"IF(AD395=\"／\",\"／\",IF(OR(AD393=\"土\",AD393=\"日\"),\"◎\",\"\"))","v":""},{"$f":"IF(AE395=\"／\",\"／\",IF(OR(AE393=\"土\",AE393=\"日\"),\"◎\",\"\"))","v":""},"","◎","◎","","","","","","◎",null,null,null,null,{"$f":"AT400","v":""},null,null,null,null,null,null,null,"計画",{"$f":"IF(BB395=\"／\",\"／\",IF(OR(BB393=\"土\",BB393=\"日\"),\"◎\",\"\"))","v":""},"◎","◎","","","","","","◎","◎","","",{"$f":"IF(BN395=\"／\",\"／\",IF(OR(BN393=\"土\",BN393=\"日\"),\"◎\",\"\"))","v":""},{"$f":"IF(BO395=\"／\",\"／\",IF(OR(BO393=\"土\",BO393=\"日\"),\"◎\",\"\"))","v":""},"","◎","◎","","","","","","◎","◎","","",{"$f":"IF(CB395=\"／\",\"／\",IF(OR(CB393=\"土\",CB393=\"日\"),\"◎\",\"\"))","v":""},{"$f":"IF(CC395=\"／\",\"／\",IF(OR(CC393=\"土\",CC393=\"日\"),\"◎\",\"\"))","v":""},"","◎","◎","","","","","","◎",null,null,null,null,{"$f":"CR400","v":""},null,null,null,null,null,"計画",{"$f":"IF(CX395=\"／\",\"／\",IF(OR(CX393=\"土\",CX393=\"日\"),\"◎\",\"\"))","v":""},"◎","◎","","","","","","◎","◎","","",{"$f":"IF(DJ395=\"／\",\"／\",IF(OR(DJ393=\"土\",DJ393=\"日\"),\"◎\",\"\"))","v":""},{"$f":"IF(DK395=\"／\",\"／\",IF(OR(DK393=\"土\",DK393=\"日\"),\"◎\",\"\"))","v":""},"","◎","◎","","","","","","◎","◎","","",{"$f":"IF(DX395=\"／\",\"／\",IF(OR(DX393=\"土\",DX393=\"日\"),\"◎\",\"\"))","v":""},{"$f":"IF(DY395=\"／\",\"／\",IF(OR(DY393=\"土\",DY393=\"日\"),\"◎\",\"\"))","v":""},"","◎","◎","","","","","","◎",null,null,null,null,{"$f":"EN400","v":""}]
[null,null,"実施",{"$f":"IF(D396=\"／\",\"／\",IF(OR(D393=\"土\",D393=\"日\"),\"◎\",\"\"))","v":""},{"$f":"IF(E396=\"／\",\"／\",IF(OR(E393=\"土\",E393=\"日\"),\"◎\",\"\"))","v":"◎"},"◎","","","","","","◎","◎","","","","","","◎","◎","","","","","","◎","◎","","","","","","◎","◎","","","","","","◎",null,null,null,null,null,null,null,null,null,null,null,null,"実施",{"$f":"IF(BB396=\"／\",\"／\",IF(OR(BB393=\"土\",BB393=\"日\"),\"◎\",\"\"))","v":""},{"$f":"IF(BC396=\"／\",\"／\",IF(OR(BC393=\"土\",BC393=\"日\"),\"◎\",\"\"))","v":"◎"},"◎","","","","","","◎","◎","","","","","","◎","◎","","","","","","◎","◎","","","","","","◎","◎","","","","","","◎",null,null,null,null,null,null,null,null,null,null,"実施",{"$f":"IF(CX396=\"／\",\"／\",IF(OR(CX393=\"土\",CX393=\"日\"),\"◎\",\"\"))","v":""},{"$f":"IF(CY396=\"／\",\"／\",IF(OR(CY393=\"土\",CY393=\"日\"),\"◎\",\"\"))","v":"◎"},"◎","","","","","","◎","◎","","","","","","◎","◎","","","","","","◎","◎","","","","","","◎","◎","","","","","","◎"]
["",null,"完全",{"$f":"IF(WEEKDAY(DATE(YEAR(D391),MONTH(D391),1),2)=1,DATE(YEAR(D391),MONTH(D391),1),EOMONTH(D391,-1)-MOD(WEEKDAY(EOMONTH(D391,-1),2)+6,7))","v":"2026-04-27"},"～",{"$f":"DATE(YEAR(D391),MONTH(D391),1)+MOD(7-WEEKDAY(DATE(YEAR(D391),MONTH(D391),1),2),7)","v":"2026-05-03"},{"$f":"IF(DAY(D400)=1,IF(COUNTIF(D396:J396,\"／\")>=1,\"対象外\",IF(COUNTIF(INDEX(D396:AN396,DAY(D400)):INDEX(D396:AN396,HLOOKUP(F400,D392:AN397,6,FALSE)),\"\")+COUNTIF(INDEX(D396:AN396,DAY(D400)):INDEX(D396:AN396,HLOOKUP(F400,D392:AN397,6,FALSE)),\"●\")=7,IF(COUNTIF(INDEX(D396:AN396,DAY(D400)):INDEX(D396:AN396,HLOOKUP(F400,D392:AN397,6,FALSE)),\"●\")>=2,\"OK\",\"OUT\"),IF(COUNTIF(INDEX(D396:AN396,DAY(D400)):INDEX(D396:AN396,HLOOKUP(F400,D392:AN397,6,FALSE)),\"●\")>=COUNTIF(INDEX(D399:AN399,DAY(D400)):INDEX(D399:AN399,HLOOKUP(F400,D392:AN397,6,FALSE)),\"○\"),\"OK\",\"OUT\"))),IF(AND(AK371=\"\",AE371=\"\"),Y371,IF(AK371=\"\",AE371,AK371)))","v":"「／」漏れ"},null,null,{"$f":"F400+1","v":"2026-05-04"},"～",{"$f":"F400+7","v":"2026-05-10"},{"$f":"IF(COUNTIF(INDEX(D396:AN396,DAY(J400)):INDEX(D396:AN396,HLOOKUP(L400,D392:AN397,6,FALSE)),\"\")+COUNTIF(INDEX(D396:AN396,DAY(J400)):INDEX(D396:AN396,HLOOKUP(L400,D392:AN397,6,FALSE)),\"●\")=7,IF(COUNTIF(INDEX(D396:AN396,DAY(J400)):INDEX(D396:AN396,HLOOKUP(L400,D392:AN397,6,FALSE)),\"●\")>=2,\"OK\",\"OUT\"),\"対象外\")","v":"OUT"},null,null,{"$f":"L400+1","v":"2026-05-11"},"～",{"$f":"L400+7","v":"2026-05-17"},{"$f":"IF(COUNTIF(INDEX(D396:AN396,DAY(P400)):INDEX(D396:AN396,HLOOKUP(R400,D392:AN397,6,FALSE)),\"\")+COUNTIF(INDEX(D396:AN396,DAY(P400)):INDEX(D396:AN396,HLOOKUP(R400,D392:AN397,6,FALSE)),\"●\")=7,IF(COUNTIF(INDEX(D396:AN396,DAY(P400)):INDEX(D396:AN396,HLOOKUP(R400,D392:AN397,6,FALSE)),\"●\")>=2,\"OK\",\"OUT\"),\"対象外\")","v":"OUT"},null,null,{"$f":"R400+1","v":"2026-05-18"},"～",{"$f":"R400+7","v":"2026-05-24"},{"$f":"IF(COUNTIF(INDEX(D396:AN396,DAY(V400)):INDEX(D396:AN396,HLOOKUP(X400,D392:AN397,6,FALSE)),\"\")+COUNTIF(INDEX(D396:AN396,DAY(V400)):INDEX(D396:AN396,HLOOKUP(X400,D392:AN397,6,FALSE)),\"●\")=7,IF(COUNTIF(INDEX(D396:AN396,DAY(V400)):INDEX(D396:AN396,HLOOKUP(X400,D392:AN397,6,FALSE)),\"●\")>=2,\"OK\",\"OUT\"),\"対象外\")","v":"OUT"},null,null,{"$f":"IF(AND(DAY(X400+7)<23,DAY(X400+7)>=7),\"\",X400+1)","v":"2026-05-25"},{"$f":"IF(AND(DAY(X400+7)<23,DAY(X400+7)>=7),\"\",\"～\")","v":"～"},{"$f":"IF(AND(DAY(X400+7)<23,DAY(X400+7)>=7),\"\",X400+7)","v":"2026-05-31"},{"$f":"IF(AND(DAY(X400+7)<23,DAY(X400+7)>=7),\"\",IF(COUNTIF(INDEX(D396:AN396,DAY(AB400)):INDEX(D396:AN396,HLOOKUP(AD400,D392:AN397,6,FALSE)),\"\")+COUNTIF(INDEX(D396:AN396,DAY(AB400)):INDEX(D396:AN396,HLOOKUP(AD400,D392:AN397,6,FALSE)),\"●\")=7,IF(COUNTIF(INDEX(D396:AN396,DAY(AB400)):INDEX(D396:AN396,HLOOKUP(AD400,D392:AN397,6,FALSE)),\"●\")>=2,\"OK\",\"OUT\"),IF(COUNTIF(INDEX(D396:AN396,DAY(AB400)):INDEX(D396:AN396,HLOOKUP(AD400,D392:AN397,6,FALSE)),\"\")+COUNTIF(INDEX(D396:AN396,DAY(AB400)):INDEX(D396:AN396,HLOOKUP(AD400,D392:AN397,6,FALSE)),\"●\")>7,\"「／」漏れ\",\"対象外\")))","v":"OUT"},null,null,{"$f":"IF(AE400=\"\",\"\",IF(AND(DAY(AD400+7)<23,DAY(AD400+7)>=7),\"\",AD400+1))","v":""},{"$f":"IF(AE400=\"\",\"\",IF(AND(DAY(AD400+7)<23,DAY(AD400+7)>=7),\"\",\"～\"))","v":""},{"$f":"IF(AE400=\"\",\"\",IF(AND(DAY(AD400+7)<23,DAY(AD400+7)>=7),\"\",AD400+7))","v":""},{"$f":"IF(AE400=\"\",\"\",IF(AND(DAY(AD400+7)<23,DAY(AD400+7)>=7),\"\",IF(COUNTIF(INDEX(D396:AN396,DAY(AH400)):INDEX(D396:AN396,HLOOKUP(AJ400,D392:AN397,6,FALSE)),\"\")+COUNTIF(INDEX(D396:AN396,DAY(AH400)):INDEX(D396:AN396,HLOOKUP(AJ400,D392:AN397,6,FALSE)),\"●\")=7,IF(COUNTIF(INDEX(D396:AN396,DAY(AH400)):INDEX(D396:AN396,HLOOKUP(AJ400,D392:AN397,6,FALSE)),\"●\")>=2,\"OK\",\"OUT\"),IF(COUNTIF(INDEX(D396:AN396,HLOOKUP(AH400,D392:AN397,6,FALSE)):INDEX(D396:AN396,HLOOKUP(AJ400,D392:AN397,6,FALSE)),\"\")+COUNTIF(INDEX(D396:AN396,HLOOKUP(AH400,D392:AN397,6,FALSE)):INDEX(D396:AN396,HLOOKUP(AJ400,D392:AN397,6,FALSE)),\"●\")>7,\"「／」漏れ\",\"対象外\"))))","v":""},null,null,null,null,null,null,null,"完全週休二日",{"$f":"IF(AT391=\"\",\"\",IF(COUNTIF(D400:AN400,\"OUT\")>=1,\"OUT\",\"OK\"))","v":""},null,null,null,null,null,null,"完全",{"$f":"IF(WEEKDAY(DATE(YEAR(BB391),MONTH(BB391),1),2)=1,DATE(YEAR(BB391),MONTH(BB391),1),EOMONTH(BB391,-1)-MOD(WEEKDAY(EOMONTH(BB391,-1),2)+6,7))","v":"2026-04-27"},"～",{"$f":"DATE(YEAR(BB391),MONTH(BB391),1)+MOD(7-WEEKDAY(DATE(YEAR(BB391),MONTH(BB391),1),2),7)","v":"2026-05-03"},{"$f":"IF(DAY(BB400)=1,IF(COUNTIF(BB396:BH396,\"／\")>=1,\"対象外\",IF(COUNTIF(INDEX(BB396:CL396,DAY(BB400)):INDEX(BB396:CL396,HLOOKUP(BD400,BB392:CL397,6,FALSE)),\"\")+COUNTIF(INDEX(BB396:CL396,DAY(BB400)):INDEX(BB396:CL396,HLOOKUP(BD400,BB392:CL397,6,FALSE)),\"●\")=7,IF(COUNTIF(INDEX(BB396:CL396,DAY(BB400)):INDEX(BB396:CL396,HLOOKUP(BD400,BB392:CL397,6,FALSE)),\"●\")>=2,\"OK\",\"OUT\"),IF(COUNTIF(INDEX(BB396:CL396,DAY(BB400)):INDEX(BB396:CL396,HLOOKUP(BD400,BB392:CL397,6,FALSE)),\"●\")>=COUNTIF(INDEX(BB399:CL399,DAY(BB400)):INDEX(BB399:CL399,HLOOKUP(BD400,BB392:CL397,6,FALSE)),\"○\"),\"OK\",\"OUT\"))),IF(AND(CI371=\"\",CC371=\"\"),BW371,IF(CI371=\"\",CC371,CI371)))","v":"OUT"},null,null,{"$f":"BD400+1","v":"2026-05-04"},"～",{"$f":"BD400+7","v":"2026-05-10"},{"$f":"IF(COUNTIF(INDEX(BB396:CL396,DAY(BH400)):INDEX(BB396:CL396,HLOOKUP(BJ400,BB392:CL397,6,FALSE)),\"\")+COUNTIF(INDEX(BB396:CL396,DAY(BH400)):INDEX(BB396:CL396,HLOOKUP(BJ400,BB392:CL397,6,FALSE)),\"●\")=7,IF(COUNTIF(INDEX(BB396:CL396,DAY(BH400)):INDEX(BB396:CL396,HLOOKUP(BJ400,BB392:CL397,6,FALSE)),\"●\")>=2,\"OK\",\"OUT\"),\"対象外\")","v":"OUT"},null,null,{"$f":"BJ400+1","v":"2026-05-11"},"～",{"$f":"BJ400+7","v":"2026-05-17"},{"$f":"IF(COUNTIF(INDEX(BB396:CL396,DAY(BN400)):INDEX(BB396:CL396,HLOOKUP(BP400,BB392:CL397,6,FALSE)),\"\")+COUNTIF(INDEX(BB396:CL396,DAY(BN400)):INDEX(BB396:CL396,HLOOKUP(BP400,BB392:CL397,6,FALSE)),\"●\")=7,IF(COUNTIF(INDEX(BB396:CL396,DAY(BN400)):INDEX(BB396:CL396,HLOOKUP(BP400,BB392:CL397,6,FALSE)),\"●\")>=2,\"OK\",\"OUT\"),\"対象外\")","v":"OUT"},null,null,{"$f":"BP400+1","v":"2026-05-18"},"～",{"$f":"BP400+7","v":"2026-05-24"},{"$f":"IF(COUNTIF(INDEX(BB396:CL396,DAY(BT400)):INDEX(BB396:CL396,HLOOKUP(BV400,BB392:CL397,6,FALSE)),\"\")+COUNTIF(INDEX(BB396:CL396,DAY(BT400)):INDEX(BB396:CL396,HLOOKUP(BV400,BB392:CL397,6,FALSE)),\"●\")=7,IF(COUNTIF(INDEX(BB396:CL396,DAY(BT400)):INDEX(BB396:CL396,HLOOKUP(BV400,BB392:CL397,6,FALSE)),\"●\")>=2,\"OK\",\"OUT\"),\"対象外\")","v":"OUT"},null,null,{"$f":"IF(AND(DAY(BV400+7)<23,DAY(BV400+7)>=7),\"\",BV400+1)","v":"2026-05-25"},{"$f":"IF(AND(DAY(BV400+7)<23,DAY(BV400+7)>=7),\"\",\"～\")","v":"～"},{"$f":"IF(AND(DAY(BV400+7)<23,DAY(BV400+7)>=7),\"\",BV400+7)","v":"2026-05-31"},{"$f":"IF(AND(DAY(BV400+7)<23,DAY(BV400+7)>=7),\"\",IF(COUNTIF(INDEX(BB396:CL396,DAY(BZ400)):INDEX(BB396:CL396,HLOOKUP(CB400,BB392:CL397,6,FALSE)),\"\")+COUNTIF(INDEX(BB396:CL396,DAY(BZ400)):INDEX(BB396:CL396,HLOOKUP(CB400,BB392:CL397,6,FALSE)),\"●\")=7,IF(COUNTIF(INDEX(BB396:CL396,DAY(BZ400)):INDEX(BB396:CL396,HLOOKUP(CB400,BB392:CL397,6,FALSE)),\"●\")>=2,\"OK\",\"OUT\"),IF(COUNTIF(INDEX(BB396:CL396,DAY(BZ400)):INDEX(BB396:CL396,HLOOKUP(CB400,BB392:CL397,6,FALSE)),\"\")+COUNTIF(INDEX(BB396:CL396,DAY(BZ400)):INDEX(BB396:CL396,HLOOKUP(CB400,BB392:CL397,6,FALSE)),\"●\")>7,\"「／」漏れ\",\"対象外\")))","v":"OUT"},null,null,{"$f":"IF(CC400=\"\",\"\",IF(AND(DAY(CB400+7)<23,DAY(CB400+7)>=7),\"\",CB400+1))","v":""},{"$f":"IF(CC400=\"\",\"\",IF(AND(DAY(CB400+7)<23,DAY(CB400+7)>=7),\"\",\"～\"))","v":""},{"$f":"IF(CC400=\"\",\"\",IF(AND(DAY(CB400+7)<23,DAY(CB400+7)>=7),\"\",CB400+7))","v":""},{"$f":"IF(CC400=\"\",\"\",IF(AND(DAY(CB400+7)<23,DAY(CB400+7)>=7),\"\",IF(COUNTIF(INDEX(BB396:CL396,DAY(CF400)):INDEX(BB396:CL396,HLOOKUP(CH400,BB392:CL397,6,FALSE)),\"\")+COUNTIF(INDEX(BB396:CL396,DAY(CF400)):INDEX(BB396:CL396,HLOOKUP(CH400,BB392:CL397,6,FALSE)),\"●\")=7,IF(COUNTIF(INDEX(BB396:CL396,DAY(CF400)):INDEX(BB396:CL396,HLOOKUP(CH400,BB392:CL397,6,FALSE)),\"●\")>=2,\"OK\",\"OUT\"),IF(COUNTIF(INDEX(BB396:CL396,HLOOKUP(CF400,BB392:CL397,6,FALSE)):INDEX(BB396:CL396,HLOOKUP(CH400,BB392:CL397,6,FALSE)),\"\")+COUNTIF(INDEX(BB396:CL396,HLOOKUP(CF400,BB392:CL397,6,FALSE)):INDEX(BB396:CL396,HLOOKUP(CH400,BB392:CL397,6,FALSE)),\"●\")>7,\"「／」漏れ\",\"対象外\"))))","v":""},null,null,null,null,null,null,null,"完全週休二日",{"$f":"IF(CR391=\"\",\"\",IF(COUNTIF(BB400:CL400,\"OUT\")>=1,\"OUT\",\"OK\"))","v":""},null,null,null,null,"完全",{"$f":"IF(WEEKDAY(DATE(YEAR(CX391),MONTH(CX391),1),2)=1,DATE(YEAR(CX391),MONTH(CX391),1),EOMONTH(CX391,-1)-MOD(WEEKDAY(EOMONTH(CX391,-1),2)+6,7))","v":"2026-04-27"},"～",{"$f":"DATE(YEAR(CX391),MONTH(CX391),1)+MOD(7-WEEKDAY(DATE(YEAR(CX391),MONTH(CX391),1),2),7)","v":"2026-05-03"},{"$f":"IF(DAY(CX400)=1,IF(COUNTIF(CX396:DD396,\"／\")>=1,\"対象外\",IF(COUNTIF(INDEX(CX396:EH396,DAY(CX400)):INDEX(CX396:EH396,HLOOKUP(CZ400,CX392:EH397,6,FALSE)),\"\")+COUNTIF(INDEX(CX396:EH396,DAY(CX400)):INDEX(CX396:EH396,HLOOKUP(CZ400,CX392:EH397,6,FALSE)),\"●\")=7,IF(COUNTIF(INDEX(CX396:EH396,DAY(CX400)):INDEX(CX396:EH396,HLOOKUP(CZ400,CX392:EH397,6,FALSE)),\"●\")>=2,\"OK\",\"OUT\"),IF(COUNTIF(INDEX(CX396:EH396,DAY(CX400)):INDEX(CX396:EH396,HLOOKUP(CZ400,CX392:EH397,6,FALSE)),\"●\")>=COUNTIF(INDEX(CX399:EH399,DAY(CX400)):INDEX(CX399:EH399,HLOOKUP(CZ400,CX392:EH397,6,FALSE)),\"○\"),\"OK\",\"OUT\"))),IF(AND(EE371=\"\",DY371=\"\"),DS371,IF(EE371=\"\",DY371,EE371)))","v":"OUT"},null,null,{"$f":"CZ400+1","v":"2026-05-04"},"～",{"$f":"CZ400+7","v":"2026-05-10"},{"$f":"IF(COUNTIF(INDEX(CX396:EH396,DAY(DD400)):INDEX(CX396:EH396,HLOOKUP(DF400,CX392:EH397,6,FALSE)),\"\")+COUNTIF(INDEX(CX396:EH396,DAY(DD400)):INDEX(CX396:EH396,HLOOKUP(DF400,CX392:EH397,6,FALSE)),\"●\")=7,IF(COUNTIF(INDEX(CX396:EH396,DAY(DD400)):INDEX(CX396:EH396,HLOOKUP(DF400,CX392:EH397,6,FALSE)),\"●\")>=2,\"OK\",\"OUT\"),\"対象外\")","v":"OUT"},null,null,{"$f":"DF400+1","v":"2026-05-11"},"～",{"$f":"DF400+7","v":"2026-05-17"},{"$f":"IF(COUNTIF(INDEX(CX396:EH396,DAY(DJ400)):INDEX(CX396:EH396,HLOOKUP(DL400,CX392:EH397,6,FALSE)),\"\")+COUNTIF(INDEX(CX396:EH396,DAY(DJ400)):INDEX(CX396:EH396,HLOOKUP(DL400,CX392:EH397,6,FALSE)),\"●\")=7,IF(COUNTIF(INDEX(CX396:EH396,DAY(DJ400)):INDEX(CX396:EH396,HLOOKUP(DL400,CX392:EH397,6,FALSE)),\"●\")>=2,\"OK\",\"OUT\"),\"対象外\")","v":"OUT"},null,null,{"$f":"DL400+1","v":"2026-05-18"},"～",{"$f":"DL400+7","v":"2026-05-24"},{"$f":"IF(COUNTIF(INDEX(CX396:EH396,DAY(DP400)):INDEX(CX396:EH396,HLOOKUP(DR400,CX392:EH397,6,FALSE)),\"\")+COUNTIF(INDEX(CX396:EH396,DAY(DP400)):INDEX(CX396:EH396,HLOOKUP(DR400,CX392:EH397,6,FALSE)),\"●\")=7,IF(COUNTIF(INDEX(CX396:EH396,DAY(DP400)):INDEX(CX396:EH396,HLOOKUP(DR400,CX392:EH397,6,FALSE)),\"●\")>=2,\"OK\",\"OUT\"),\"対象外\")","v":"OUT"},null,null,{"$f":"IF(AND(DAY(DR400+7)<23,DAY(DR400+7)>=7),\"\",DR400+1)","v":"2026-05-25"},{"$f":"IF(AND(DAY(DR400+7)<23,DAY(DR400+7)>=7),\"\",\"～\")","v":"～"},{"$f":"IF(AND(DAY(DR400+7)<23,DAY(DR400+7)>=7),\"\",DR400+7)","v":"2026-05-31"},{"$f":"IF(AND(DAY(DR400+7)<23,DAY(DR400+7)>=7),\"\",IF(COUNTIF(INDEX(CX396:EH396,DAY(DV400)):INDEX(CX396:EH396,HLOOKUP(DX400,CX392:EH397,6,FALSE)),\"\")+COUNTIF(INDEX(CX396:EH396,DAY(DV400)):INDEX(CX396:EH396,HLOOKUP(DX400,CX392:EH397,6,FALSE)),\"●\")=7,IF(COUNTIF(INDEX(CX396:EH396,DAY(DV400)):INDEX(CX396:EH396,HLOOKUP(DX400,CX392:EH397,6,FALSE)),\"●\")>=2,\"OK\",\"OUT\"),IF(COUNTIF(INDEX(CX396:EH396,DAY(DV400)):INDEX(CX396:EH396,HLOOKUP(DX400,CX392:EH397,6,FALSE)),\"\")+COUNTIF(INDEX(CX396:EH396,DAY(DV400)):INDEX(CX396:EH396,HLOOKUP(DX400,CX392:EH397,6,FALSE)),\"●\")>7,\"「／」漏れ\",\"対象外\")))","v":"OUT"},null,null,{"$f":"IF(DY400=\"\",\"\",IF(AND(DAY(DX400+7)<23,DAY(DX400+7)>=7),\"\",DX400+1))","v":""},{"$f":"IF(DY400=\"\",\"\",IF(AND(DAY(DX400+7)<23,DAY(DX400+7)>=7),\"\",\"～\"))","v":""},{"$f":"IF(DY400=\"\",\"\",IF(AND(DAY(DX400+7)<23,DAY(DX400+7)>=7),\"\",DX400+7))","v":""},{"$f":"IF(DY400=\"\",\"\",IF(AND(DAY(DX400+7)<23,DAY(DX400+7)>=7),\"\",IF(COUNTIF(INDEX(CX396:EH396,DAY(EB400)):INDEX(CX396:EH396,HLOOKUP(ED400,CX392:EH397,6,FALSE)),\"\")+COUNTIF(INDEX(CX396:EH396,DAY(EB400)):INDEX(CX396:EH396,HLOOKUP(ED400,CX392:EH397,6,FALSE)),\"●\")=7,IF(COUNTIF(INDEX(CX396:EH396,DAY(EB400)):INDEX(CX396:EH396,HLOOKUP(ED400,CX392:EH397,6,FALSE)),\"●\")>=2,\"OK\",\"OUT\"),IF(COUNTIF(INDEX(CX396:EH396,HLOOKUP(EB400,CX392:EH397,6,FALSE)):INDEX(CX396:EH396,HLOOKUP(ED400,CX392:EH397,6,FALSE)),\"\")+COUNTIF(INDEX(CX396:EH396,HLOOKUP(EB400,CX392:EH397,6,FALSE)):INDEX(CX396:EH396,HLOOKUP(ED400,CX392:EH397,6,FALSE)),\"●\")>7,\"「／」漏れ\",\"対象外\"))))","v":""},null,null,null,null,null,null,null,"完全週休二日",{"$f":"IF(EN391=\"\",\"\",IF(COUNTIF(CX400:EH400,\"OUT\")>=1,\"OUT\",\"OK\"))","v":""}]
[""]
[{"$f":"IF(AND(NOT($AT$391=\"\"),$AT$420=\"\"),\"対象期間\",\"\")","v":""}]
[{"$f":"IF(AND(NOT($AT$391=\"\"),$AT$420=\"\"),\"対象期間\",\"\")","v":""},null,"※１工事着手日：始期日以降に準備工事（現場事務所の建設・測量等）、工場製作を含む工事における工場製作工に着手した日",null,null,null,null,null,null,null,null,null,null,null,null,null,null,null,null,null,null,null,null,null,null,null,null,null,null,null,null,null,null,null,null,null,null,null,null,null,null,null,null,"工事全体の確認",null,null,null,null,null,null,null,null,"※１工事着手日：始期日以降に準備工事（現場事務所の建設・測量等）、工場製作を含む工事における工場製作工に着手した日",null,null,null,null,null,null,null,null,null,null,null,null,null,null,null,null,null,null,null,null,null,null,null,null,null,null,null,null,null,null,null,null,null,null,null,null,null,null,null,null,"工事全体の確認",null,null,null,null,null,null,"※１工事着手日：始期日以降に準備工事（現場事務所の建設・測量等）、工場製作を含む工事における工場製作工に着手した日",null,null,null,null,null,null,null,null,null,null,null,null,null,null,null,null,null,null,null,null,null,null,null,null,null,null,null,null,null,null,null,null,null,null,null,null,null,null,null,null,"工事全体の確認"]
["",null,"※２作業完了日：工事施工範囲内で全ての作業（後片付けを含む）が完了した日\n　　　　　　　　　  （工事現場事務所は工事施工範囲外に設置するため、ここでいう後片付けの対象に含まない）",null,null,null,null,null,null,null,null,null,null,null,null,null,null,null,null,null,null,null,null,null,null,null,null,null,null,null,null,null,null,null,null,null,null,null,null,null,null,null,null,"計画","全対象期間",{"$f":"IFERROR(AT375+AT391,\"\")","v":""},null,null,null,null,null,null,"※２作業完了日：工事施工範囲内で全ての作業（後片付けを含む）が完了した日\n　　　　　　　　　  （工事現場事務所は工事施工範囲外に設置するため、ここでいう後片付けの対象に含まない）",null,null,null,null,null,null,null,null,null,null,null,null,null,null,null,null,null,null,null,null,null,null,null,null,null,null,null,null,null,null,null,null,null,null,null,null,null,null,null,null,"計画","全対象期間",{"$f":"IFERROR(CR375+CR391,\"\")","v":""},null,null,null,null,"※２作業完了日：工事施工範囲内で全ての作業（後片付けを含む）が完了した日\n　　　　　　　　　  （工事現場事務所は工事施工範囲外に設置するため、ここでいう後片付けの対象に含まない）",null,null,null,null,null,null,null,null,null,null,null,null,null,null,null,null,null,null,null,null,null,null,null,null,null,null,null,null,null,null,null,null,null,null,null,null,null,null,null,null,"計画","全対象期間",{"$f":"IFERROR(EN375+EN391,\"\")","v":""}]
["",null,null,null,null,null,null,null,null,null,null,null,null,null,null,null,null,null,null,null,null,null,null,null,null,null,null,null,null,null,null,null,null,null,null,null,null,null,null,null,null,null,null,null,"全現場閉所日数",{"$f":"IFERROR(AT376+AT392,\"\")","v":""},null,null,null,null,null,null,null,null,null,null,null,null,null,null,null,null,null,null,null,null,null,null,null,null,null,null,null,null,null,null,null,null,null,null,null,null,null,null,null,null,null,null,null,null,null,null,null,null,"全現場閉所日数",{"$f":"IFERROR(CR376+CR392,\"\")","v":""},null,null,null,null,null,null,null,null,null,null,null,null,null,null,null,null,null,null,null,null,null,null,null,null,null,null,null,null,null,null,null,null,null,null,null,null,null,null,null,null,null,null,null,null,null,null,"全現場閉所日数",{"$f":"IFERROR(EN376+EN392,\"\")","v":""}]
["",null,"【算定除外期間】：夏季休暇（8月13日～8月15日）、年末年始（12月29日～翌年1月3日）は算定期間の分母・分子に含めない",null,null,null,null,null,null,null,null,null,null,null,null,null,null,null,null,null,null,null,null,null,null,null,null,null,null,null,null,null,null,null,null,null,null,null,null,null,null,null,null,null,"現場閉所率",{"$f":"IFERROR(+AT405/AT404,\"\")","v":""},{"$f":"IF(AT406>=0.285,\"4週8休以上\",\"週休2日未達成\")","v":"4週8休以上"},null,null,null,null,null,"【算定除外期間】：夏季休暇（8月13日～8月15日）、年末年始（12月29日～翌年1月3日）は算定期間の分母・分子に含めない",null,null,null,null,null,null,null,null,null,null,null,null,null,null,null,null,null,null,null,null,null,null,null,null,null,null,null,null,null,null,null,null,null,null,null,null,null,null,null,null,null,"現場閉所率",{"$f":"IFERROR(+CR405/CR404,\"\")","v":""},{"$f":"IF(CR406>=0.285,\"4週8休以上\",\"週休2日未達成\")","v":"4週8休以上"},null,null,null,"【算定除外期間】：夏季休暇（8月13日～8月15日）、年末年始（12月29日～翌年1月3日）は算定期間の分母・分子に含めない",null,null,null,null,null,null,null,null,null,null,null,null,null,null,null,null,null,null,null,null,null,null,null,null,null,null,null,null,null,null,null,null,null,null,null,null,null,null,null,null,null,"現場閉所率",{"$f":"IFERROR(+EN405/EN404,\"\")","v":""},{"$f":"IF(EN406>=0.285,\"4週8休以上\",\"週休2日未達成\")","v":"4週8休以上"}]
["",null,"※３工事期間の全ての月において、達成状況を確認し、一度でも達成できない月があれば、４週８休以上（月単位）は「未達成」となり、補正の対象とならない。\n　　月によっては、土日を全て閉所しても現場閉所率が28.5％に満たない場合があるが、その月の対象期間の土日日数以上閉所していれば達成とみなす。\n\n※４工事対象期間のうち、一度でも完全週休２日（月～日で２日以上の現場閉所）を達成できなければ、\n　　 完全週休２日は「未達成」となり、補正の対象とならない。\n　　 なお、工期始期・終期、年末年始、夏季休暇などにより、７日間に満たない期間は完全週休２日の達成判断の対象外とする。",null,null,null,null,null,null,null,null,null,null,null,null,null,null,null,null,null,null,null,null,null,null,null,null,null,null,null,null,null,null,null,null,null,null,null,null,null,null,null,null,"実施","全対象期間",{"$f":"IFERROR(AT378+AT394,\"\")","v":""},null,null,null,null,null,null,"※３工事期間の全ての月において、達成状況を確認し、一度でも達成できない月があれば、４週８休以上（月単位）は「未達成」となり、補正の対象とならない。\n　　月によっては、土日を全て閉所しても現場閉所率が28.5％に満たない場合があるが、その月の対象期間の土日日数以上閉所していれば達成とみなす。\n\n※４工事対象期間のうち、一度でも完全週休２日（月～日で２日以上の現場閉所）を達成できなければ、\n　　 完全週休２日は「未達成」となり、補正の対象とならない。\n　　 なお、工期始期・終期、年末年始、夏季休暇などにより、７日間に満たない期間は完全週休２日の達成判断の対象外とする。",null,null,null,null,null,null,null,null,null,null,null,null,null,null,null,null,null,null,null,null,null,null,null,null,null,null,null,null,null,null,null,null,null,null,null,null,null,null,null,null,"実施","全対象期間",{"$f":"IFERROR(CR378+CR394,\"\")","v":""},null,null,null,null,"※３工事期間の全ての月において、達成状況を確認し、一度でも達成できない月があれば、４週８休以上（月単位）は「未達成」となり、補正の対象とならない。\n　　月によっては、土日を全て閉所しても現場閉所率が28.5％に満たない場合があるが、その月の対象期間の土日日数以上閉所していれば達成とみなす。\n\n※４工事対象期間のうち、一度でも完全週休２日（月～日で２日以上の現場閉所）を達成できなければ、\n　　 完全週休２日は「未達成」となり、補正の対象とならない。\n　　 なお、工期始期・終期、年末年始、夏季休暇などにより、７日間に満たない期間は完全週休２日の達成判断の対象外とする。",null,null,null,null,null,null,null,null,null,null,null,null,null,null,null,null,null,null,null,null,null,null,null,null,null,null,null,null,null,null,null,null,null,null,null,null,null,null,null,null,"実施","全対象期間",{"$f":"IFERROR(EN378+EN394,\"\")","v":""}]
["",null,null,null,null,null,null,null,null,null,null,null,null,null,null,null,null,null,null,null,null,null,null,null,null,null,null,null,null,null,null,null,null,null,null,null,null,null,null,null,null,null,null,null,"全現場閉所日数",{"$f":"IFERROR(AT379+AT395,\"\")","v":""},null,null,null,null,null,null,null,null,null,null,null,null,null,null,null,null,null,null,null,null,null,null,null,null,null,null,null,null,null,null,null,null,null,null,null,null,null,null,null,null,null,null,null,null,null,null,null,null,"全現場閉所日数",{"$f":"IFERROR(CR379+CR395,\"\")","v":""},null,null,null,null,null,null,null,null,null,null,null,null,null,null,null,null,null,null,null,null,null,null,null,null,null,null,null,null,null,null,null,null,null,null,null,null,null,null,null,null,null,null,null,null,null,null,"全現場閉所日数",{"$f":"IFERROR(EN379+EN395,\"\")","v":""}]
["",null,null,null,null,null,null,null,null,null,null,null,null,null,null,null,null,null,null,null,null,null,null,null,null,null,null,null,null,null,null,null,null,null,null,null,null,null,null,null,null,null,null,null,"現場閉所率",{"$f":"IFERROR(+AT408/AT407,\"\")","v":""},{"$f":"IF(AT409>=0.285,\"4週8休以上\",\"週休2日未達成\")","v":"4週8休以上"},null,null,null,null,null,null,null,null,null,null,null,null,null,null,null,null,null,null,null,null,null,null,null,null,null,null,null,null,null,null,null,null,null,null,null,null,null,null,null,null,null,null,null,null,null,null,null,"現場閉所率",{"$f":"IFERROR(+CR408/CR407,\"\")","v":""},{"$f":"IF(CR409>=0.285,\"4週8休以上\",\"週休2日未達成\")","v":"4週8休以上"},null,null,null,null,null,null,null,null,null,null,null,null,null,null,null,null,null,null,null,null,null,null,null,null,null,null,null,null,null,null,null,null,null,null,null,null,null,null,null,null,null,null,null,null,null,"現場閉所率",{"$f":"IFERROR(+EN408/EN407,\"\")","v":""},{"$f":"IF(EN409>=0.285,\"4週8休以上\",\"週休2日未達成\")","v":"4週8休以上"}]
["",null,null,null,null,null,null,null,null,null,null,null,null,null,null,null,null,null,null,null,null,null,null,null,null,null,null,null,null,null,null,null,null,null,null,null,null,null,null,null,null,null,null,null,"閉所（月単位）",{"$f":"IFERROR(COUNTIF(AS$14:$AS400,\"4週8休以上\")/(COUNTIF(AS$14:$AS400,\"4週8休以上\")+COUNTIF(AS$14:$AS400,\"週休2日未達成\")),\"\")","v":""},{"$f":"IF(OR(AT410=100%,AT410=\"\"),\"達成\",\"未達成\")","v":"達成"},null,null,null,null,null,null,null,null,null,null,null,null,null,null,null,null,null,null,null,null,null,null,null,null,null,null,null,null,null,null,null,null,null,null,null,null,null,null,null,null,null,null,null,null,null,null,null,"閉所（月単位）",{"$f":"IFERROR(COUNTIF(CQ$14:$CQ400,\"4週8休以上\")/(COUNTIF(CQ$14:$CQ400,\"4週8休以上\")+COUNTIF(CQ$14:$CQ400,\"週休2日未達成\")),\"\")","v":0},{"$f":"IF(OR(CR410=100%,CR410=\"\"),\"達成\",\"未達成\")","v":"未達成"},null,null,null,null,null,null,null,null,null,null,null,null,null,null,null,null,null,null,null,null,null,null,null,null,null,null,null,null,null,null,null,null,null,null,null,null,null,null,null,null,null,null,null,null,null,"閉所（月単位）",{"$f":"IFERROR(COUNTIF($EM$14:EM400,\"4週8休以上\")/(COUNTIF($EM$14:EM400,\"4週8休以上\")+COUNTIF($EM$14:EM400,\"週休2日未達成\")),\"\")","v":1},{"$f":"IF(OR(EN410=100%,EN410=\"\"),\"達成\",\"未達成\")","v":"達成"}]
["",null,null,null,null,null,null,null,null,null,null,null,null,null,null,null,null,null,null,null,null,null,null,null,null,null,null,null,null,null,null,null,null,null,null,null,null,null,null,null,null,null,null,null,"完全週休二日",{"$f":"IF(COUNTIF(AS$14:$AS400,\"OUT\")>=1,\"OUT\",\"OK\")","v":"OK"},{"$f":"IF(AT411=\"OK\",\"達成\",\"未達成\")","v":"達成"},null,null,null,null,null,null,null,null,null,null,null,null,null,null,null,null,null,null,null,null,null,null,null,null,null,null,null,null,null,null,null,null,null,null,null,null,null,null,null,null,null,null,null,null,null,null,null,"完全週休二日",{"$f":"IF(COUNTIF(CQ$14:$CQ400,\"OUT\")>=1,\"OUT\",\"OK\")","v":"OUT"},{"$f":"IF(CR411=\"OK\",\"達成\",\"未達成\")","v":"未達成"},null,null,null,null,null,null,null,null,null,null,null,null,null,null,null,null,null,null,null,null,null,null,null,null,null,null,null,null,null,null,null,null,null,null,null,null,null,null,null,null,null,null,null,null,null,"完全週休二日",{"$f":"IF(COUNTIF($EM$14:EM400,\"OUT\")>=1,\"OUT\",\"OK\")","v":"OUT"},{"$f":"IF(EN411=\"OK\",\"達成\",\"未達成\")","v":"未達成"}]
["",null,"※必要に応じて各月の完全週休2日（月～日）の達成判定の行を修正してください。（曜日に合わせて修正）",null,null,null,null,null,null,null,null,null,null,null,null,null,null,null,null,null,null,null,null,null,null,null,null,null,null,null,null,null,null,null,null,null,null,null,null,null,null,null,null,null,null,null,null,null,null,null,null,null,"※必要に応じて各月の完全週休2日（月～日）の達成判定の行を修正してください。（曜日に合わせて修正）",null,null,null,null,null,null,null,null,null,null,null,null,null,null,null,null,null,null,null,null,null,null,null,null,null,null,null,null,null,null,null,null,null,null,null,null,null,null,null,null,null,null,null,null,null,null,null,"※必要に応じて各月の完全週休2日（月～日）の達成判定の行を修正してください。（曜日に合わせて修正）"]
[""]
[""]
[""]
[""]
[""]
["",null,"算定除外期間以外の祝日（ＧＷ含む）は、算定期間（分母）の対象＝現場閉所の場合は分子にカウントして現場閉所率を算定",null,null,null,null,null,null,null,null,null,null,null,null,null,null,null,null,null,null,null,null,null,null,null,null,null,null,null,null,null,null,null,null,null,null,null,null,null,null,null,null,null,null,null,null,null,null,null,null,null,"算定除外期間以外の祝日（ＧＷ含む）は、算定期間（分母）の対象＝現場閉所の場合は分子にカウントして現場閉所率を算定",null,null,null,null,null,null,null,null,null,null,null,null,null,null,null,null,null,null,null,null,null,null,null,null,null,null,null,null,null,null,null,null,null,null,null,null,null,null,null,null,null,null,null,null,null,null,null,"算定除外期間以外の祝日（ＧＷ含む）は、算定期間（分母）の対象＝現場閉所の場合は分子にカウントして現場閉所率を算定"]
[""]
[{"$f":"IF($AT$420=\"\",\"\",\"対象期間\")","v":""},null,"月",{"$f":"DATE(YEAR(D391),MONTH(D391)+1,1)","v":"2026-06-01"},null,null,null,null,null,null,null,null,null,null,null,null,null,null,null,null,null,null,null,null,null,null,null,null,null,null,null,null,null,null,{"$f":"DATE(YEAR(D420),MONTH(D420)+1,1)","v":"2026-07-01"},null,null,null,null,null,"現場閉所計","現場閉所累計",null,"計画","対象期間",{"$f":"IF(IF(MONTH(入力表!$E$6)=12,YEAR(入力表!$E$6)+1&\"01\",YEAR(入力表!$E$6)&TEXT(MONTH(入力表!$E$6)+1,\"00\"))>YEAR($D420)&TEXT(MONTH($D420),\"00\"),COUNTIF(D424:AH424,\"\")+COUNTIF(D424:AH424,\"○\"),\"\")","v":""},{"$f":"IF(COUNTIF(D421:AH421,\"／\")=0,\"\",IF(COUNTIF(D421:AH421,\"／\")=1,IF(AH424=\"／\",\"\",\"月末「／」漏れ\"),IF(COUNTIF(D421:AH421,\"／\")=2,IF(AND(AG424=\"／\",AH424=\"／\"),\"\",\"月末「／」漏れ\"),IF(AND(AF424=\"／\",AG424=\"／\",AH424=\"／\"),\"\",\"月末「／」漏れ\"))))","v":"月末「／」漏れ"},null,null,null,null,null,"月",{"$f":"DATE(YEAR(BB391),MONTH(BB391)+1,1)","v":"2026-06-01"},null,null,null,null,null,null,null,null,null,null,null,null,null,null,null,null,null,null,null,null,null,null,null,null,null,null,null,null,null,null,{"$f":"DATE(YEAR(BB420),MONTH(BB420)+1,1)","v":"2026-07-01"},null,null,null,null,null,"現場閉所計","現場閉所累計",null,"計画","対象期間",{"$f":"IF(IF(MONTH($BL$5)=12,YEAR($BL$5)+1&\"01\",YEAR($BL$5)&TEXT(MONTH($BL$5)+1,\"00\"))>YEAR(BB420)&TEXT(MONTH(BB420),\"00\"),COUNTIF(BB424:CF424,\"\")+COUNTIF(BB424:CF424,\"○\"),\"\")","v":""},{"$f":"IF(COUNTIF(BB421:CF421,\"／\")=0,\"\",IF(COUNTIF(BB421:CF421,\"／\")=1,IF(CF424=\"／\",\"\",\"月末「／」漏れ\"),IF(COUNTIF(BB421:CF421,\"／\")=2,IF(AND(CE424=\"／\",CF424=\"／\"),\"\",\"月末「／」漏れ\"),IF(AND(CD424=\"／\",CE424=\"／\",CF424=\"／\"),\"\",\"月末「／」漏れ\"))))","v":""},null,null,null,"月",{"$f":"DATE(YEAR(CX391),MONTH(CX391)+1,1)","v":"2026-06-01"},null,null,null,null,null,null,null,null,null,null,null,null,null,null,null,null,null,null,null,null,null,null,null,null,null,null,null,null,null,null,{"$f":"DATE(YEAR(CX420),MONTH(CX420)+1,1)","v":"2026-07-01"},null,null,null,null,null,"現場閉所計","現場閉所累計",null,"計画","対象期間",{"$f":"IF(IF(MONTH($BL$5)=12,YEAR($BL$5)+1&\"01\",YEAR($BL$5)&TEXT(MONTH($BL$5)+1,\"00\"))>YEAR($CX420)&TEXT(MONTH($CX420),\"00\"),COUNTIF(CX424:EB424,\"\")+COUNTIF(CX424:EB424,\"○\"),\"\")","v":""},{"$f":"IF(COUNTIF(CX421:EB421,\"／\")=0,\"\",IF(COUNTIF(CX421:EB421,\"／\")=1,IF(EB424=\"／\",\"\",\"月末「／」漏れ\"),IF(COUNTIF(CX421:EB421,\"／\")=2,IF(AND(EA424=\"／\",EB424=\"／\"),\"\",\"月末「／」漏れ\"),IF(AND(DZ424=\"／\",EA424=\"／\",EB424=\"／\"),\"\",\"月末「／」漏れ\"))))","v":""}]
[{"$f":"IF($AT$420=\"\",\"\",\"対象期間\")","v":""},null,"日",{"$f":"D420","v":"2026-06-01"},{"$f":"D421+1","v":"2026-06-02"},{"$f":"E421+1","v":"2026-06-03"},{"$f":"F421+1","v":"2026-06-04"},{"$f":"G421+1","v":"2026-06-05"},{"$f":"H421+1","v":"2026-06-06"},{"$f":"I421+1","v":"2026-06-07"},{"$f":"J421+1","v":"2026-06-08"},{"$f":"K421+1","v":"2026-06-09"},{"$f":"L421+1","v":"2026-06-10"},{"$f":"M421+1","v":"2026-06-11"},{"$f":"N421+1","v":"2026-06-12"},{"$f":"O421+1","v":"2026-06-13"},{"$f":"P421+1","v":"2026-06-14"},{"$f":"Q421+1","v":"2026-06-15"},{"$f":"R421+1","v":"2026-06-16"},{"$f":"S421+1","v":"2026-06-17"},{"$f":"T421+1","v":"2026-06-18"},{"$f":"U421+1","v":"2026-06-19"},{"$f":"V421+1","v":"2026-06-20"},{"$f":"W421+1","v":"2026-06-21"},{"$f":"X421+1","v":"2026-06-22"},{"$f":"Y421+1","v":"2026-06-23"},{"$f":"Z421+1","v":"2026-06-24"},{"$f":"AA421+1","v":"2026-06-25"},{"$f":"AB421+1","v":"2026-06-26"},{"$f":"AC421+1","v":"2026-06-27"},{"$f":"AD421+1","v":"2026-06-28"},{"$f":"IF(AE421=\"／\",\"／\",IF(YEAR($D420)&TEXT(MONTH($D420),\"00\")<YEAR(AE421+1)&TEXT(MONTH(AE421+1),\"00\"),\"／\",AE421+1))","v":"2026-06-29"},{"$f":"IF(AF421=\"／\",\"／\",IF(YEAR($D420)&TEXT(MONTH($D420),\"00\")<YEAR(AF421+1)&TEXT(MONTH(AF421+1),\"00\"),\"／\",AF421+1))","v":"2026-06-30"},{"$f":"IF(AG421=\"／\",\"／\",IF(YEAR($D420)&TEXT(MONTH($D420),\"00\")<YEAR(AG421+1)&TEXT(MONTH(AG421+1),\"00\"),\"／\",AG421+1))","v":"／"},{"$f":"AI420","v":"2026-07-01"},{"$f":"AI421+1","v":"2026-07-02"},{"$f":"AJ421+1","v":"2026-07-03"},{"$f":"AK421+1","v":"2026-07-04"},{"$f":"AL421+1","v":"2026-07-05"},{"$f":"AM421+1","v":"2026-07-06"},null,null,null,null,"閉所日数",{"$f":"IF(IF(MONTH(入力表!$E$6)=12,YEAR(入力表!$E$6)+1&\"01\",YEAR(入力表!$E$6)&TEXT(MONTH(入力表!$E$6)+1,\"00\"))>YEAR($D420)&TEXT(MONTH($D420),\"00\"),COUNTIF(D424:AH424,\"○\"),\"\")","v":""},{"$f":"IF(OR(MONTH(D420)=1,MONTH(D420)=8,MONTH(D420)=12),IF(COUNTIF(D424:AH424,\"／\")>=3,\"\",\"算定除外「／」漏れ\"),\"\")","v":""},null,null,null,null,null,"日",{"$f":"BB420","v":"2026-06-01"},{"$f":"BB421+1","v":"2026-06-02"},{"$f":"BC421+1","v":"2026-06-03"},{"$f":"BD421+1","v":"2026-06-04"},{"$f":"BE421+1","v":"2026-06-05"},{"$f":"BF421+1","v":"2026-06-06"},{"$f":"BG421+1","v":"2026-06-07"},{"$f":"BH421+1","v":"2026-06-08"},{"$f":"BI421+1","v":"2026-06-09"},{"$f":"BJ421+1","v":"2026-06-10"},{"$f":"BK421+1","v":"2026-06-11"},{"$f":"BL421+1","v":"2026-06-12"},{"$f":"BM421+1","v":"2026-06-13"},{"$f":"BN421+1","v":"2026-06-14"},{"$f":"BO421+1","v":"2026-06-15"},{"$f":"BP421+1","v":"2026-06-16"},{"$f":"BQ421+1","v":"2026-06-17"},{"$f":"BR421+1","v":"2026-06-18"},{"$f":"BS421+1","v":"2026-06-19"},{"$f":"BT421+1","v":"2026-06-20"},{"$f":"BU421+1","v":"2026-06-21"},{"$f":"BV421+1","v":"2026-06-22"},{"$f":"BW421+1","v":"2026-06-23"},{"$f":"BX421+1","v":"2026-06-24"},{"$f":"BY421+1","v":"2026-06-25"},{"$f":"BZ421+1","v":"2026-06-26"},{"$f":"CA421+1","v":"2026-06-27"},{"$f":"CB421+1","v":"2026-06-28"},{"$f":"IF(CC421=\"／\",\"／\",IF(YEAR(BB420)&TEXT(MONTH(BB420),\"00\")<YEAR(CC421+1)&TEXT(MONTH(CC421+1),\"00\"),\"／\",CC421+1))","v":"2026-06-29"},{"$f":"IF(CD421=\"／\",\"／\",IF(YEAR(BB420)&TEXT(MONTH(BB420),\"00\")<YEAR(CD421+1)&TEXT(MONTH(CD421+1),\"00\"),\"／\",CD421+1))","v":"2026-06-30"},{"$f":"IF(CE421=\"／\",\"／\",IF(YEAR(BB420)&TEXT(MONTH(BB420),\"00\")<YEAR(CE421+1)&TEXT(MONTH(CE421+1),\"00\"),\"／\",CE421+1))","v":"／"},{"$f":"CG420","v":"2026-07-01"},{"$f":"CG421+1","v":"2026-07-02"},{"$f":"CH421+1","v":"2026-07-03"},{"$f":"CI421+1","v":"2026-07-04"},{"$f":"CJ421+1","v":"2026-07-05"},{"$f":"CK421+1","v":"2026-07-06"},null,null,null,null,"閉所日数",{"$f":"IF(IF(MONTH($BL$5)=12,YEAR($BL$5)+1&\"01\",YEAR($BL$5)&TEXT(MONTH($BL$5)+1,\"00\"))>YEAR(BB420)&TEXT(MONTH(BB420),\"00\"),COUNTIF(BB424:CF424,\"○\"),\"\")","v":""},{"$f":"IF(OR(MONTH(BB420)=1,MONTH(BB420)=8,MONTH(BB420)=12),IF(COUNTIF(BB424:CF424,\"／\")>=3,\"\",\"算定除外「／」漏れ\"),\"\")","v":""},null,null,null,"日",{"$f":"CX420","v":"2026-06-01"},{"$f":"CX421+1","v":"2026-06-02"},{"$f":"CY421+1","v":"2026-06-03"},{"$f":"CZ421+1","v":"2026-06-04"},{"$f":"DA421+1","v":"2026-06-05"},{"$f":"DB421+1","v":"2026-06-06"},{"$f":"DC421+1","v":"2026-06-07"},{"$f":"DD421+1","v":"2026-06-08"},{"$f":"DE421+1","v":"2026-06-09"},{"$f":"DF421+1","v":"2026-06-10"},{"$f":"DG421+1","v":"2026-06-11"},{"$f":"DH421+1","v":"2026-06-12"},{"$f":"DI421+1","v":"2026-06-13"},{"$f":"DJ421+1","v":"2026-06-14"},{"$f":"DK421+1","v":"2026-06-15"},{"$f":"DL421+1","v":"2026-06-16"},{"$f":"DM421+1","v":"2026-06-17"},{"$f":"DN421+1","v":"2026-06-18"},{"$f":"DO421+1","v":"2026-06-19"},{"$f":"DP421+1","v":"2026-06-20"},{"$f":"DQ421+1","v":"2026-06-21"},{"$f":"DR421+1","v":"2026-06-22"},{"$f":"DS421+1","v":"2026-06-23"},{"$f":"DT421+1","v":"2026-06-24"},{"$f":"DU421+1","v":"2026-06-25"},{"$f":"DV421+1","v":"2026-06-26"},{"$f":"DW421+1","v":"2026-06-27"},{"$f":"DX421+1","v":"2026-06-28"},{"$f":"IF(DY421=\"／\",\"／\",IF(YEAR(CX420)&TEXT(MONTH(CX420),\"00\")<YEAR(DY421+1)&TEXT(MONTH(DY421+1),\"00\"),\"／\",DY421+1))","v":"2026-06-29"},{"$f":"IF(DZ421=\"／\",\"／\",IF(YEAR(CX420)&TEXT(MONTH(CX420),\"00\")<YEAR(DZ421+1)&TEXT(MONTH(DZ421+1),\"00\"),\"／\",DZ421+1))","v":"2026-06-30"},{"$f":"IF(EA421=\"／\",\"／\",IF(YEAR(CX420)&TEXT(MONTH(CX420),\"00\")<YEAR(EA421+1)&TEXT(MONTH(EA421+1),\"00\"),\"／\",EA421+1))","v":"／"},{"$f":"EC420","v":"2026-07-01"},{"$f":"EC421+1","v":"2026-07-02"},{"$f":"ED421+1","v":"2026-07-03"},{"$f":"EE421+1","v":"2026-07-04"},{"$f":"EF421+1","v":"2026-07-05"},{"$f":"EG421+1","v":"2026-07-06"},null,null,null,null,"閉所日数",{"$f":"IF(IF(MONTH($BL$5)=12,YEAR($BL$5)+1&\"01\",YEAR($BL$5)&TEXT(MONTH($BL$5)+1,\"00\"))>YEAR($CX420)&TEXT(MONTH($CX420),\"00\"),COUNTIF(CX424:EB424,\"○\"),\"\")","v":""},{"$f":"IF(OR(MONTH(CX420)=1,MONTH(CX420)=8,MONTH(CX420)=12),IF(COUNTIF(CX424:EB424,\"／\")>=3,\"\",\"算定除外「／」漏れ\"),\"\")","v":""}]
["",null,"曜日",{"$f":"TEXT(WEEKDAY(+D421),\"aaa\")","v":"月"},{"$f":"TEXT(WEEKDAY(+E421),\"aaa\")","v":"火"},"水","木","金",{"$f":"TEXT(WEEKDAY(+I421),\"aaa\")","v":"土"},{"$f":"TEXT(WEEKDAY(+J421),\"aaa\")","v":"日"},"月","火","水","木","金","土","日","月","火","水","木","金","土","日","月",{"$f":"TEXT(WEEKDAY(+Z421),\"aaa\")","v":"火"},{"$f":"TEXT(WEEKDAY(+AA421),\"aaa\")","v":"水"},"木","金","土","日",{"$f":"IF(AF421=\"／\",\"／\",TEXT(WEEKDAY(+AF421),\"aaa\"))","v":"月"},{"$f":"IF(AG421=\"／\",\"／\",TEXT(WEEKDAY(+AG421),\"aaa\"))","v":"火"},"／",{"$f":"TEXT(WEEKDAY(+AI421),\"aaa\")","v":"水"},{"$f":"TEXT(WEEKDAY(+AJ421),\"aaa\")","v":"木"},"金","土","日","月",null,null,null,null,"現場閉所率",{"$f":"IFERROR(+AT421/AT420,\"\")","v":""},{"$f":"IF(AT422=\"\",\"\",IF(COUNTIF(D424:AH424,\"○\")>=COUNTIF(D427:AH427,\"◎\"),\"4週8休以上\",IF(AT422>=0.285,\"4週8休以上\",\"週休2日未達成\")))","v":""},null,null,null,null,null,"曜日",{"$f":"TEXT(WEEKDAY(+BB421),\"aaa\")","v":"月"},{"$f":"TEXT(WEEKDAY(+BC421),\"aaa\")","v":"火"},"水","木","金",{"$f":"TEXT(WEEKDAY(+BG421),\"aaa\")","v":"土"},{"$f":"TEXT(WEEKDAY(+BH421),\"aaa\")","v":"日"},"月","火","水","木","金","土","日","月","火","水","木","金","土","日","月",{"$f":"TEXT(WEEKDAY(+BX421),\"aaa\")","v":"火"},{"$f":"TEXT(WEEKDAY(+BY421),\"aaa\")","v":"水"},"木","金","土","日",{"$f":"IF(CD421=\"／\",\"／\",TEXT(WEEKDAY(+CD421),\"aaa\"))","v":"月"},{"$f":"IF(CE421=\"／\",\"／\",TEXT(WEEKDAY(+CE421),\"aaa\"))","v":"火"},"／",{"$f":"TEXT(WEEKDAY(+CG421),\"aaa\")","v":"水"},{"$f":"TEXT(WEEKDAY(+CH421),\"aaa\")","v":"木"},"金","土","日","月",null,null,null,null,"現場閉所率",{"$f":"IFERROR(+CR421/CR420,\"\")","v":""},{"$f":"IF(CR422=\"\",\"\",IF(COUNTIF(BB424:CF424,\"○\")>=COUNTIF(BB427:CF427,\"◎\"),\"4週8休以上\",IF(CR422>=0.285,\"4週8休以上\",\"週休2日未達成\")))","v":""},null,null,null,"曜日",{"$f":"TEXT(WEEKDAY(+CX421),\"aaa\")","v":"月"},{"$f":"TEXT(WEEKDAY(+CY421),\"aaa\")","v":"火"},"水","木","金",{"$f":"TEXT(WEEKDAY(+DC421),\"aaa\")","v":"土"},{"$f":"TEXT(WEEKDAY(+DD421),\"aaa\")","v":"日"},"月","火","水","木","金","土","日","月","火","水","木","金","土","日","月",{"$f":"TEXT(WEEKDAY(+DT421),\"aaa\")","v":"火"},{"$f":"TEXT(WEEKDAY(+DU421),\"aaa\")","v":"水"},"木","金","土","日",{"$f":"IF(DZ421=\"／\",\"／\",TEXT(WEEKDAY(+DZ421),\"aaa\"))","v":"月"},{"$f":"IF(EA421=\"／\",\"／\",TEXT(WEEKDAY(+EA421),\"aaa\"))","v":"火"},"／",{"$f":"TEXT(WEEKDAY(+EC421),\"aaa\")","v":"水"},{"$f":"TEXT(WEEKDAY(+ED421),\"aaa\")","v":"木"},"金","土","日","月",null,null,null,null,"現場閉所率",{"$f":"IFERROR(+EN421/EN420,\"\")","v":""},{"$f":"IF(EN422=\"\",\"\",IF(COUNTIF(CX424:EB424,\"○\")>=COUNTIF(CX427:EB427,\"◎\"),\"4週8休以上\",IF(EN422>=0.285,\"4週8休以上\",\"週休2日未達成\")))","v":""}]
["",null,"行事",null,null,null,null,null,null,null,null,null,null,null,null,null,null,null,null,null,null,null,null,null,null,null,null,null,null,null,null,null,null,null,{"$f":"IF(D452=\"\",\"\",D452)","v":""},{"$f":"IF(E452=\"\",\"\",E452)","v":""},{"$f":"IF(F452=\"\",\"\",F452)","v":""},{"$f":"IF(G452=\"\",\"\",G452)","v":""},{"$f":"IF(H452=\"\",\"\",H452)","v":""},{"$f":"IF(I452=\"\",\"\",I452)","v":""},null,null,null,"実施","対象期間",{"$f":"IF(IF(MONTH(入力表!$E$6)=12,YEAR(入力表!$E$6)+1&\"01\",YEAR(入力表!$E$6)&TEXT(MONTH(入力表!$E$6)+1,\"00\"))>YEAR($D420)&TEXT(MONTH($D420),\"00\"),COUNTIF(D425:AH425,\"\")+COUNTIF(D425:AH425,\"●\"),\"\")","v":""},{"$f":"IF(COUNTIF(D421:AH421,\"／\")=0,\"\",IF(COUNTIF(D421:AH421,\"／\")=1,IF(AH425=\"／\",\"\",\"月末「／」漏れ\"),IF(COUNTIF(D421:AH421,\"／\")=2,IF(AND(AG425=\"／\",AH425=\"／\"),\"\",\"月末「／」漏れ\"),IF(AND(AF425=\"／\",AG425=\"／\",AH425=\"／\"),\"\",\"月末「／」漏れ\"))))","v":"月末「／」漏れ"},null,null,null,null,null,"行事",null,null,null,null,null,null,null,null,null,null,null,null,null,null,null,null,null,null,null,null,null,null,null,null,null,null,null,null,null,null,null,{"$f":"IF(BB452=\"\",\"\",BB452)","v":""},{"$f":"IF(BC452=\"\",\"\",BC452)","v":""},{"$f":"IF(BD452=\"\",\"\",BD452)","v":""},{"$f":"IF(BE452=\"\",\"\",BE452)","v":""},{"$f":"IF(BF452=\"\",\"\",BF452)","v":""},{"$f":"IF(BG452=\"\",\"\",BG452)","v":""},null,null,null,"実施","対象期間",{"$f":"IF(IF(MONTH($BL$5)=12,YEAR($BL$5)+1&\"01\",YEAR($BL$5)&TEXT(MONTH($BL$5)+1,\"00\"))>YEAR(BB420)&TEXT(MONTH(BB420),\"00\"),COUNTIF(BB425:CF425,\"\")+COUNTIF(BB425:CF425,\"●\"),\"\")","v":""},{"$f":"IF(COUNTIF(BB421:CF421,\"／\")=0,\"\",IF(COUNTIF(BB421:CF421,\"／\")=1,IF(CF425=\"／\",\"\",\"月末「／」漏れ\"),IF(COUNTIF(BB421:CF421,\"／\")=2,IF(AND(CE425=\"／\",CF425=\"／\"),\"\",\"月末「／」漏れ\"),IF(AND(CD425=\"／\",CE425=\"／\",CF425=\"／\"),\"\",\"月末「／」漏れ\"))))","v":""},null,null,null,"行事",null,null,null,null,null,null,null,null,null,null,null,null,null,null,null,null,null,null,null,null,null,null,null,null,null,null,null,null,null,null,null,{"$f":"IF(CX452=\"\",\"\",CX452)","v":""},{"$f":"IF(CY452=\"\",\"\",CY452)","v":""},{"$f":"IF(CZ452=\"\",\"\",CZ452)","v":""},{"$f":"IF(DA452=\"\",\"\",DA452)","v":""},{"$f":"IF(DB452=\"\",\"\",DB452)","v":""},{"$f":"IF(DC452=\"\",\"\",DC452)","v":""},null,null,null,"実施","対象期間",{"$f":"IF(IF(MONTH($BL$5)=12,YEAR($BL$5)+1&\"01\",YEAR($BL$5)&TEXT(MONTH($BL$5)+1,\"00\"))>YEAR($CX420)&TEXT(MONTH($CX420),\"00\"),COUNTIF(CX425:EB425,\"\")+COUNTIF(CX425:EB425,\"●\"),\"\")","v":""},{"$f":"IF(COUNTIF(CX421:EB421,\"／\")=0,\"\",IF(COUNTIF(CX421:EB421,\"／\")=1,IF(EB425=\"／\",\"\",\"月末「／」漏れ\"),IF(COUNTIF(CX421:EB421,\"／\")=2,IF(AND(EA425=\"／\",EB425=\"／\"),\"\",\"月末「／」漏れ\"),IF(AND(DZ425=\"／\",EA425=\"／\",EB425=\"／\"),\"\",\"月末「／」漏れ\"))))","v":""}]
["",null,"計画",null,null,null,null,null,null,null,null,null,null,null,null,null,null,null,null,null,null,null,null,null,null,null,null,null,null,null,null,null,null,null,{"$f":"IF(D453=\"\",\"\",D453)","v":""},{"$f":"IF(E453=\"\",\"\",E453)","v":""},{"$f":"IF(F453=\"\",\"\",F453)","v":""},{"$f":"IF(G453=\"\",\"\",G453)","v":""},{"$f":"IF(H453=\"\",\"\",H453)","v":""},{"$f":"IF(I453=\"\",\"\",I453)","v":""},{"$f":"COUNTIF(D424:AG424,\"○\")","v":0},{"$f":"+AO424+AP395","v":0},null,null,"閉所日数",{"$f":"IF(IF(MONTH(入力表!$E$6)=12,YEAR(入力表!$E$6)+1&\"01\",YEAR(入力表!$E$6)&TEXT(MONTH(入力表!$E$6)+1,\"00\"))>YEAR($D420)&TEXT(MONTH($D420),\"00\"),COUNTIF(D425:AH425,\"●\"),\"\")","v":""},{"$f":"IF(OR(MONTH(D420)=1,MONTH(D420)=8,MONTH(D420)=12),IF(COUNTIF(D425:AH425,\"／\")>=3,\"\",\"算定除外「／」漏れ\"),\"\")","v":""},null,null,null,null,null,"計画",null,null,null,null,null,null,null,null,null,null,null,null,null,null,null,null,null,null,null,null,null,null,null,null,null,null,null,null,null,null,"／",{"$f":"IF(BB453=\"\",\"\",BB453)","v":""},"","","","","",{"$f":"COUNTIF(BB424:CE424,\"○\")","v":0},{"$f":"+CM424+CN395","v":0},null,null,"閉所日数",{"$f":"IF(IF(MONTH($BL$5)=12,YEAR($BL$5)+1&\"01\",YEAR($BL$5)&TEXT(MONTH($BL$5)+1,\"00\"))>YEAR(BB420)&TEXT(MONTH(BB420),\"00\"),COUNTIF(BB425:CF425,\"●\"),\"\")","v":""},{"$f":"IF(OR(MONTH(BB420)=1,MONTH(BB420)=8,MONTH(BB420)=12),IF(COUNTIF(BB425:CF425,\"／\")>=3,\"\",\"算定除外「／」漏れ\"),\"\")","v":""},null,null,null,"計画",null,null,null,null,null,null,null,null,null,null,null,null,null,null,null,null,null,null,null,null,null,null,null,null,null,null,null,null,null,null,"／",{"$f":"IF(CX453=\"\",\"\",CX453)","v":""},"","","","","",{"$f":"COUNTIF(CX424:EA424,\"○\")","v":0},{"$f":"+EI424+EJ395","v":0},null,null,"閉所日数",{"$f":"IF(IF(MONTH($BL$5)=12,YEAR($BL$5)+1&\"01\",YEAR($BL$5)&TEXT(MONTH($BL$5)+1,\"00\"))>YEAR($CX420)&TEXT(MONTH($CX420),\"00\"),COUNTIF(CX425:EB425,\"●\"),\"\")","v":""},{"$f":"IF(OR(MONTH(CX420)=1,MONTH(CX420)=8,MONTH(CX420)=12),IF(COUNTIF(CX425:EB425,\"／\")>=3,\"\",\"算定除外「／」漏れ\"),\"\")","v":""}]
["",null,"実施",null,null,null,null,null,null,null,null,null,null,null,null,null,null,null,null,null,null,null,null,null,null,null,null,null,null,null,null,null,null,null,{"$f":"IF(D454=\"\",\"\",D454)","v":""},{"$f":"IF(E454=\"\",\"\",E454)","v":""},{"$f":"IF(F454=\"\",\"\",F454)","v":""},{"$f":"IF(G454=\"\",\"\",G454)","v":""},{"$f":"IF(H454=\"\",\"\",H454)","v":""},{"$f":"IF(I454=\"\",\"\",I454)","v":""},{"$f":"COUNTIF(D425:AG425,\"●\")","v":0},{"$f":"+AO425+AP396","v":0},null,null,"現場閉所率",{"$f":"IFERROR(+AT424/AT423,\"\")","v":""},{"$f":"IF(AT425=\"\",\"\",IF(COUNTIF(D425:AH425,\"●\")>=COUNTIF(D428:AH428,\"◎\"),\"4週8休以上\",IF(AT425>=0.285,\"4週8休以上\",\"週休2日未達成\")))","v":""},null,null,null,null,null,"実施",null,null,null,null,null,null,null,null,null,null,null,null,null,null,null,null,null,null,null,null,null,null,null,null,null,null,null,null,null,null,"／",{"$f":"IF(BB454=\"\",\"\",BB454)","v":""},{"$f":"IF(BC454=\"\",\"\",BC454)","v":""},{"$f":"IF(BD454=\"\",\"\",BD454)","v":""},{"$f":"IF(BE454=\"\",\"\",BE454)","v":""},{"$f":"IF(BF454=\"\",\"\",BF454)","v":""},{"$f":"IF(BG454=\"\",\"\",BG454)","v":""},{"$f":"COUNTIF(BB425:CE425,\"●\")","v":0},{"$f":"+CM425+CN396","v":0},null,null,"現場閉所率",{"$f":"IFERROR(+CR424/CR423,\"\")","v":""},{"$f":"IF(CR425=\"\",\"\",IF(COUNTIF(BB425:CF425,\"●\")>=COUNTIF(BB428:CF428,\"◎\"),\"4週8休以上\",IF(CR425>=0.285,\"4週8休以上\",\"週休2日未達成\")))","v":""},null,null,null,"実施",null,null,null,null,null,null,null,null,null,null,null,null,null,null,null,null,null,null,null,null,null,null,null,null,null,null,null,null,null,null,"／",{"$f":"IF(CX454=\"\",\"\",CX454)","v":""},{"$f":"IF(CY454=\"\",\"\",CY454)","v":""},{"$f":"IF(CZ454=\"\",\"\",CZ454)","v":""},{"$f":"IF(DA454=\"\",\"\",DA454)","v":""},{"$f":"IF(DB454=\"\",\"\",DB454)","v":""},{"$f":"IF(DC454=\"\",\"\",DC454)","v":""},{"$f":"COUNTIF(CX425:EA425,\"●\")","v":0},{"$f":"+EI425+EJ396","v":0},null,null,"現場閉所率",{"$f":"IFERROR(+EN424/EN423,\"\")","v":""},{"$f":"IF(EN425=\"\",\"\",IF(COUNTIF(CX425:EB425,\"●\")>=COUNTIF(CX428:EB428,\"◎\"),\"4週8休以上\",IF(EN425>=0.285,\"4週8休以上\",\"週休2日未達成\")))","v":""}]
[null,null,null,1,2,3,4,5,6,7,8,9,10,11,12,13,14,15,16,17,18,19,20,21,22,23,24,25,26,27,28,29,30,31,32,33,34,35,36,37,null,null,null,null,{"$f":"AU425","v":""},null,null,null,null,null,null,null,null,1,2,3,4,5,6,7,8,9,10,11,12,13,14,15,16,17,18,19,20,21,22,23,24,25,26,27,28,29,30,31,32,33,34,35,36,37,null,null,null,null,{"$f":"CS425","v":""},null,null,null,null,null,null,1,2,3,4,5,6,7,8,9,10,11,12,13,14,15,16,17,18,19,20,21,22,23,24,25,26,27,28,29,30,31,32,33,34,35,36,37,null,null,null,null,{"$f":"EO425","v":""}]
[null,null,"計画",{"$f":"IF(D424=\"／\",\"／\",IF(OR(D422=\"土\",D422=\"日\"),\"◎\",\"\"))","v":""},{"$f":"IF(E424=\"／\",\"／\",IF(OR(E422=\"土\",E422=\"日\"),\"◎\",\"\"))","v":""},"","","","◎","◎","","","","","","◎","◎","","","","","","◎","◎","","","","","",{"$f":"IF(AD424=\"／\",\"／\",IF(OR(AD422=\"土\",AD422=\"日\"),\"◎\",\"\"))","v":"◎"},{"$f":"IF(AE424=\"／\",\"／\",IF(OR(AE422=\"土\",AE422=\"日\"),\"◎\",\"\"))","v":"◎"},"","","","","","","◎","◎","",null,null,null,null,{"$f":"AT429","v":""},null,null,null,null,null,null,null,"計画",{"$f":"IF(BB424=\"／\",\"／\",IF(OR(BB422=\"土\",BB422=\"日\"),\"◎\",\"\"))","v":""},"","","","","◎","◎","","","","","",{"$f":"IF(BN424=\"／\",\"／\",IF(OR(BN422=\"土\",BN422=\"日\"),\"◎\",\"\"))","v":"◎"},{"$f":"IF(BO424=\"／\",\"／\",IF(OR(BO422=\"土\",BO422=\"日\"),\"◎\",\"\"))","v":"◎"},"","","","","","◎","◎","","","","","",{"$f":"IF(CB424=\"／\",\"／\",IF(OR(CB422=\"土\",CB422=\"日\"),\"◎\",\"\"))","v":"◎"},{"$f":"IF(CC424=\"／\",\"／\",IF(OR(CC422=\"土\",CC422=\"日\"),\"◎\",\"\"))","v":"◎"},"","","／","","","","◎","◎","",null,null,null,null,{"$f":"CR429","v":""},null,null,null,null,null,"計画",{"$f":"IF(CX424=\"／\",\"／\",IF(OR(CX422=\"土\",CX422=\"日\"),\"◎\",\"\"))","v":""},"","","","","◎","◎","","","","","",{"$f":"IF(DJ424=\"／\",\"／\",IF(OR(DJ422=\"土\",DJ422=\"日\"),\"◎\",\"\"))","v":"◎"},{"$f":"IF(DK424=\"／\",\"／\",IF(OR(DK422=\"土\",DK422=\"日\"),\"◎\",\"\"))","v":"◎"},"","","","","","◎","◎","","","","","",{"$f":"IF(DX424=\"／\",\"／\",IF(OR(DX422=\"土\",DX422=\"日\"),\"◎\",\"\"))","v":"◎"},{"$f":"IF(DY424=\"／\",\"／\",IF(OR(DY422=\"土\",DY422=\"日\"),\"◎\",\"\"))","v":"◎"},"","","／","","","","◎","◎","",null,null,null,null,{"$f":"EN429","v":""}]
[null,null,"実施",{"$f":"IF(D425=\"／\",\"／\",IF(OR(D422=\"土\",D422=\"日\"),\"◎\",\"\"))","v":""},{"$f":"IF(E425=\"／\",\"／\",IF(OR(E422=\"土\",E422=\"日\"),\"◎\",\"\"))","v":""},"","","","◎","◎","","","","","","◎","◎","","","","","","◎","◎","","","","","","◎","◎","","","","","","","◎","◎","",null,null,null,null,null,null,null,null,null,null,null,null,"実施",{"$f":"IF(BB425=\"／\",\"／\",IF(OR(BB422=\"土\",BB422=\"日\"),\"◎\",\"\"))","v":""},{"$f":"IF(BC425=\"／\",\"／\",IF(OR(BC422=\"土\",BC422=\"日\"),\"◎\",\"\"))","v":""},"","","","◎","◎","","","","","","◎","◎","","","","","","◎","◎","","","","","","◎","◎","","","／","","","","◎","◎","",null,null,null,null,null,null,null,null,null,null,"実施",{"$f":"IF(CX425=\"／\",\"／\",IF(OR(CX422=\"土\",CX422=\"日\"),\"◎\",\"\"))","v":""},{"$f":"IF(CY425=\"／\",\"／\",IF(OR(CY422=\"土\",CY422=\"日\"),\"◎\",\"\"))","v":""},"","","","◎","◎","","","","","","◎","◎","","","","","","◎","◎","","","","","","◎","◎","","","／","","","","◎","◎",""]
["",null,"完全",{"$f":"IF(WEEKDAY(DATE(YEAR(D420),MONTH(D420),1),2)=1,DATE(YEAR(D420),MONTH(D420),1),EOMONTH(D420,-1)-MOD(WEEKDAY(EOMONTH(D420,-1),2)+6,7))","v":"2026-06-01"},"～",{"$f":"DATE(YEAR(D420),MONTH(D420),1)+MOD(7-WEEKDAY(DATE(YEAR(D420),MONTH(D420),1),2),7)","v":"2026-06-07"},{"$f":"IF(DAY(D429)=1,IF(COUNTIF(D425:J425,\"／\")>=1,\"対象外\",IF(COUNTIF(INDEX(D425:AN425,DAY(D429)):INDEX(D425:AN425,HLOOKUP(F429,D421:AN426,6,FALSE)),\"\")+COUNTIF(INDEX(D425:AN425,DAY(D429)):INDEX(D425:AN425,HLOOKUP(F429,D421:AN426,6,FALSE)),\"●\")=7,IF(COUNTIF(INDEX(D425:AN425,DAY(D429)):INDEX(D425:AN425,HLOOKUP(F429,D421:AN426,6,FALSE)),\"●\")>=2,\"OK\",\"OUT\"),IF(COUNTIF(INDEX(D425:AN425,DAY(D429)):INDEX(D425:AN425,HLOOKUP(F429,D421:AN426,6,FALSE)),\"●\")>=COUNTIF(INDEX(D428:AN428,DAY(D429)):INDEX(D428:AN428,HLOOKUP(F429,D421:AN426,6,FALSE)),\"○\"),\"OK\",\"OUT\"))),IF(AND(AK400=\"\",AE400=\"\"),Y400,IF(AK400=\"\",AE400,AK400)))","v":"OUT"},null,null,{"$f":"F429+1","v":"2026-06-08"},"～",{"$f":"F429+7","v":"2026-06-14"},{"$f":"IF(COUNTIF(INDEX(D425:AN425,DAY(J429)):INDEX(D425:AN425,HLOOKUP(L429,D421:AN426,6,FALSE)),\"\")+COUNTIF(INDEX(D425:AN425,DAY(J429)):INDEX(D425:AN425,HLOOKUP(L429,D421:AN426,6,FALSE)),\"●\")=7,IF(COUNTIF(INDEX(D425:AN425,DAY(J429)):INDEX(D425:AN425,HLOOKUP(L429,D421:AN426,6,FALSE)),\"●\")>=2,\"OK\",\"OUT\"),\"対象外\")","v":"OUT"},null,null,{"$f":"L429+1","v":"2026-06-15"},"～",{"$f":"L429+7","v":"2026-06-21"},{"$f":"IF(COUNTIF(INDEX(D425:AN425,DAY(P429)):INDEX(D425:AN425,HLOOKUP(R429,D421:AN426,6,FALSE)),\"\")+COUNTIF(INDEX(D425:AN425,DAY(P429)):INDEX(D425:AN425,HLOOKUP(R429,D421:AN426,6,FALSE)),\"●\")=7,IF(COUNTIF(INDEX(D425:AN425,DAY(P429)):INDEX(D425:AN425,HLOOKUP(R429,D421:AN426,6,FALSE)),\"●\")>=2,\"OK\",\"OUT\"),\"対象外\")","v":"OUT"},null,null,{"$f":"R429+1","v":"2026-06-22"},"～",{"$f":"R429+7","v":"2026-06-28"},{"$f":"IF(COUNTIF(INDEX(D425:AN425,DAY(V429)):INDEX(D425:AN425,HLOOKUP(X429,D421:AN426,6,FALSE)),\"\")+COUNTIF(INDEX(D425:AN425,DAY(V429)):INDEX(D425:AN425,HLOOKUP(X429,D421:AN426,6,FALSE)),\"●\")=7,IF(COUNTIF(INDEX(D425:AN425,DAY(V429)):INDEX(D425:AN425,HLOOKUP(X429,D421:AN426,6,FALSE)),\"●\")>=2,\"OK\",\"OUT\"),\"対象外\")","v":"OUT"},null,null,{"$f":"IF(AND(DAY(X429+7)<23,DAY(X429+7)>=7),\"\",X429+1)","v":"2026-06-29"},{"$f":"IF(AND(DAY(X429+7)<23,DAY(X429+7)>=7),\"\",\"～\")","v":"～"},{"$f":"IF(AND(DAY(X429+7)<23,DAY(X429+7)>=7),\"\",X429+7)","v":"2026-07-05"},{"$f":"IF(AND(DAY(X429+7)<23,DAY(X429+7)>=7),\"\",IF(COUNTIF(INDEX(D425:AN425,DAY(AB429)):INDEX(D425:AN425,HLOOKUP(AD429,D421:AN426,6,FALSE)),\"\")+COUNTIF(INDEX(D425:AN425,DAY(AB429)):INDEX(D425:AN425,HLOOKUP(AD429,D421:AN426,6,FALSE)),\"●\")=7,IF(COUNTIF(INDEX(D425:AN425,DAY(AB429)):INDEX(D425:AN425,HLOOKUP(AD429,D421:AN426,6,FALSE)),\"●\")>=2,\"OK\",\"OUT\"),IF(COUNTIF(INDEX(D425:AN425,DAY(AB429)):INDEX(D425:AN425,HLOOKUP(AD429,D421:AN426,6,FALSE)),\"\")+COUNTIF(INDEX(D425:AN425,DAY(AB429)):INDEX(D425:AN425,HLOOKUP(AD429,D421:AN426,6,FALSE)),\"●\")>7,\"「／」漏れ\",\"対象外\")))","v":"「／」漏れ"},null,null,{"$f":"IF(AE429=\"\",\"\",IF(AND(DAY(AD429+7)<23,DAY(AD429+7)>=7),\"\",AD429+1))","v":""},{"$f":"IF(AE429=\"\",\"\",IF(AND(DAY(AD429+7)<23,DAY(AD429+7)>=7),\"\",\"～\"))","v":""},{"$f":"IF(AE429=\"\",\"\",IF(AND(DAY(AD429+7)<23,DAY(AD429+7)>=7),\"\",AD429+7))","v":""},{"$f":"IF(AE429=\"\",\"\",IF(AND(DAY(AD429+7)<23,DAY(AD429+7)>=7),\"\",IF(COUNTIF(INDEX(D425:AN425,DAY(AH429)):INDEX(D425:AN425,HLOOKUP(AJ429,D421:AN426,6,FALSE)),\"\")+COUNTIF(INDEX(D425:AN425,DAY(AH429)):INDEX(D425:AN425,HLOOKUP(AJ429,D421:AN426,6,FALSE)),\"●\")=7,IF(COUNTIF(INDEX(D425:AN425,DAY(AH429)):INDEX(D425:AN425,HLOOKUP(AJ429,D421:AN426,6,FALSE)),\"●\")>=2,\"OK\",\"OUT\"),IF(COUNTIF(INDEX(D425:AN425,HLOOKUP(AH429,D421:AN426,6,FALSE)):INDEX(D425:AN425,HLOOKUP(AJ429,D421:AN426,6,FALSE)),\"\")+COUNTIF(INDEX(D425:AN425,HLOOKUP(AH429,D421:AN426,6,FALSE)):INDEX(D425:AN425,HLOOKUP(AJ429,D421:AN426,6,FALSE)),\"●\")>7,\"「／」漏れ\",\"対象外\"))))","v":""},null,null,null,null,null,null,null,"完全週休二日",{"$f":"IF(AT420=\"\",\"\",IF(COUNTIF(D429:AN429,\"OUT\")>=1,\"OUT\",\"OK\"))","v":""},null,null,null,null,null,null,"完全",{"$f":"IF(WEEKDAY(DATE(YEAR(BB420),MONTH(BB420),1),2)=1,DATE(YEAR(BB420),MONTH(BB420),1),EOMONTH(BB420,-1)-MOD(WEEKDAY(EOMONTH(BB420,-1),2)+6,7))","v":"2026-06-01"},"～",{"$f":"DATE(YEAR(BB420),MONTH(BB420),1)+MOD(7-WEEKDAY(DATE(YEAR(BB420),MONTH(BB420),1),2),7)","v":"2026-06-07"},{"$f":"IF(DAY(BB429)=1,IF(COUNTIF(BB425:BH425,\"／\")>=1,\"対象外\",IF(COUNTIF(INDEX(BB425:CL425,DAY(BB429)):INDEX(BB425:CL425,HLOOKUP(BD429,BB421:CL426,6,FALSE)),\"\")+COUNTIF(INDEX(BB425:CL425,DAY(BB429)):INDEX(BB425:CL425,HLOOKUP(BD429,BB421:CL426,6,FALSE)),\"●\")=7,IF(COUNTIF(INDEX(BB425:CL425,DAY(BB429)):INDEX(BB425:CL425,HLOOKUP(BD429,BB421:CL426,6,FALSE)),\"●\")>=2,\"OK\",\"OUT\"),IF(COUNTIF(INDEX(BB425:CL425,DAY(BB429)):INDEX(BB425:CL425,HLOOKUP(BD429,BB421:CL426,6,FALSE)),\"●\")>=COUNTIF(INDEX(BB428:CL428,DAY(BB429)):INDEX(BB428:CL428,HLOOKUP(BD429,BB421:CL426,6,FALSE)),\"○\"),\"OK\",\"OUT\"))),IF(AND(CI400=\"\",CC400=\"\"),BW400,IF(CI400=\"\",CC400,CI400)))","v":"OUT"},null,null,{"$f":"BD429+1","v":"2026-06-08"},"～",{"$f":"BD429+7","v":"2026-06-14"},{"$f":"IF(COUNTIF(INDEX(BB425:CL425,DAY(BH429)):INDEX(BB425:CL425,HLOOKUP(BJ429,BB421:CL426,6,FALSE)),\"\")+COUNTIF(INDEX(BB425:CL425,DAY(BH429)):INDEX(BB425:CL425,HLOOKUP(BJ429,BB421:CL426,6,FALSE)),\"●\")=7,IF(COUNTIF(INDEX(BB425:CL425,DAY(BH429)):INDEX(BB425:CL425,HLOOKUP(BJ429,BB421:CL426,6,FALSE)),\"●\")>=2,\"OK\",\"OUT\"),\"対象外\")","v":"OUT"},null,null,{"$f":"BJ429+1","v":"2026-06-15"},"～",{"$f":"BJ429+7","v":"2026-06-21"},{"$f":"IF(COUNTIF(INDEX(BB425:CL425,DAY(BN429)):INDEX(BB425:CL425,HLOOKUP(BP429,BB421:CL426,6,FALSE)),\"\")+COUNTIF(INDEX(BB425:CL425,DAY(BN429)):INDEX(BB425:CL425,HLOOKUP(BP429,BB421:CL426,6,FALSE)),\"●\")=7,IF(COUNTIF(INDEX(BB425:CL425,DAY(BN429)):INDEX(BB425:CL425,HLOOKUP(BP429,BB421:CL426,6,FALSE)),\"●\")>=2,\"OK\",\"OUT\"),\"対象外\")","v":"OUT"},null,null,{"$f":"BP429+1","v":"2026-06-22"},"～",{"$f":"BP429+7","v":"2026-06-28"},{"$f":"IF(COUNTIF(INDEX(BB425:CL425,DAY(BT429)):INDEX(BB425:CL425,HLOOKUP(BV429,BB421:CL426,6,FALSE)),\"\")+COUNTIF(INDEX(BB425:CL425,DAY(BT429)):INDEX(BB425:CL425,HLOOKUP(BV429,BB421:CL426,6,FALSE)),\"●\")=7,IF(COUNTIF(INDEX(BB425:CL425,DAY(BT429)):INDEX(BB425:CL425,HLOOKUP(BV429,BB421:CL426,6,FALSE)),\"●\")>=2,\"OK\",\"OUT\"),\"対象外\")","v":"OUT"},null,null,{"$f":"IF(AND(DAY(BV429+7)<23,DAY(BV429+7)>=7),\"\",BV429+1)","v":"2026-06-29"},{"$f":"IF(AND(DAY(BV429+7)<23,DAY(BV429+7)>=7),\"\",\"～\")","v":"～"},{"$f":"IF(AND(DAY(BV429+7)<23,DAY(BV429+7)>=7),\"\",BV429+7)","v":"2026-07-05"},{"$f":"IF(AND(DAY(BV429+7)<23,DAY(BV429+7)>=7),\"\",IF(COUNTIF(INDEX(BB425:CL425,DAY(BZ429)):INDEX(BB425:CL425,HLOOKUP(CB429,BB421:CL426,6,FALSE)),\"\")+COUNTIF(INDEX(BB425:CL425,DAY(BZ429)):INDEX(BB425:CL425,HLOOKUP(CB429,BB421:CL426,6,FALSE)),\"●\")=7,IF(COUNTIF(INDEX(BB425:CL425,DAY(BZ429)):INDEX(BB425:CL425,HLOOKUP(CB429,BB421:CL426,6,FALSE)),\"●\")>=2,\"OK\",\"OUT\"),IF(COUNTIF(INDEX(BB425:CL425,DAY(BZ429)):INDEX(BB425:CL425,HLOOKUP(CB429,BB421:CL426,6,FALSE)),\"\")+COUNTIF(INDEX(BB425:CL425,DAY(BZ429)):INDEX(BB425:CL425,HLOOKUP(CB429,BB421:CL426,6,FALSE)),\"●\")>7,\"「／」漏れ\",\"対象外\")))","v":"OUT"},null,null,{"$f":"IF(CC429=\"\",\"\",IF(AND(DAY(CB429+7)<23,DAY(CB429+7)>=7),\"\",CB429+1))","v":""},{"$f":"IF(CC429=\"\",\"\",IF(AND(DAY(CB429+7)<23,DAY(CB429+7)>=7),\"\",\"～\"))","v":""},{"$f":"IF(CC429=\"\",\"\",IF(AND(DAY(CB429+7)<23,DAY(CB429+7)>=7),\"\",CB429+7))","v":""},{"$f":"IF(CC429=\"\",\"\",IF(AND(DAY(CB429+7)<23,DAY(CB429+7)>=7),\"\",IF(COUNTIF(INDEX(BB425:CL425,DAY(CF429)):INDEX(BB425:CL425,HLOOKUP(CH429,BB421:CL426,6,FALSE)),\"\")+COUNTIF(INDEX(BB425:CL425,DAY(CF429)):INDEX(BB425:CL425,HLOOKUP(CH429,BB421:CL426,6,FALSE)),\"●\")=7,IF(COUNTIF(INDEX(BB425:CL425,DAY(CF429)):INDEX(BB425:CL425,HLOOKUP(CH429,BB421:CL426,6,FALSE)),\"●\")>=2,\"OK\",\"OUT\"),IF(COUNTIF(INDEX(BB425:CL425,HLOOKUP(CF429,BB421:CL426,6,FALSE)):INDEX(BB425:CL425,HLOOKUP(CH429,BB421:CL426,6,FALSE)),\"\")+COUNTIF(INDEX(BB425:CL425,HLOOKUP(CF429,BB421:CL426,6,FALSE)):INDEX(BB425:CL425,HLOOKUP(CH429,BB421:CL426,6,FALSE)),\"●\")>7,\"「／」漏れ\",\"対象外\"))))","v":""},null,null,null,null,null,null,null,"完全週休二日",{"$f":"IF(CR420=\"\",\"\",IF(COUNTIF(BB429:CL429,\"OUT\")>=1,\"OUT\",\"OK\"))","v":""},null,null,null,null,"完全",{"$f":"IF(WEEKDAY(DATE(YEAR(CX420),MONTH(CX420),1),2)=1,DATE(YEAR(CX420),MONTH(CX420),1),EOMONTH(CX420,-1)-MOD(WEEKDAY(EOMONTH(CX420,-1),2)+6,7))","v":"2026-06-01"},"～",{"$f":"DATE(YEAR(CX420),MONTH(CX420),1)+MOD(7-WEEKDAY(DATE(YEAR(CX420),MONTH(CX420),1),2),7)","v":"2026-06-07"},{"$f":"IF(DAY(CX429)=1,IF(COUNTIF(CX425:DD425,\"／\")>=1,\"対象外\",IF(COUNTIF(INDEX(CX425:EH425,DAY(CX429)):INDEX(CX425:EH425,HLOOKUP(CZ429,CX421:EH426,6,FALSE)),\"\")+COUNTIF(INDEX(CX425:EH425,DAY(CX429)):INDEX(CX425:EH425,HLOOKUP(CZ429,CX421:EH426,6,FALSE)),\"●\")=7,IF(COUNTIF(INDEX(CX425:EH425,DAY(CX429)):INDEX(CX425:EH425,HLOOKUP(CZ429,CX421:EH426,6,FALSE)),\"●\")>=2,\"OK\",\"OUT\"),IF(COUNTIF(INDEX(CX425:EH425,DAY(CX429)):INDEX(CX425:EH425,HLOOKUP(CZ429,CX421:EH426,6,FALSE)),\"●\")>=COUNTIF(INDEX(CX428:EH428,DAY(CX429)):INDEX(CX428:EH428,HLOOKUP(CZ429,CX421:EH426,6,FALSE)),\"○\"),\"OK\",\"OUT\"))),IF(AND(EE400=\"\",DY400=\"\"),DS400,IF(EE400=\"\",DY400,EE400)))","v":"OUT"},null,null,{"$f":"CZ429+1","v":"2026-06-08"},"～",{"$f":"CZ429+7","v":"2026-06-14"},{"$f":"IF(COUNTIF(INDEX(CX425:EH425,DAY(DD429)):INDEX(CX425:EH425,HLOOKUP(DF429,CX421:EH426,6,FALSE)),\"\")+COUNTIF(INDEX(CX425:EH425,DAY(DD429)):INDEX(CX425:EH425,HLOOKUP(DF429,CX421:EH426,6,FALSE)),\"●\")=7,IF(COUNTIF(INDEX(CX425:EH425,DAY(DD429)):INDEX(CX425:EH425,HLOOKUP(DF429,CX421:EH426,6,FALSE)),\"●\")>=2,\"OK\",\"OUT\"),\"対象外\")","v":"OUT"},null,null,{"$f":"DF429+1","v":"2026-06-15"},"～",{"$f":"DF429+7","v":"2026-06-21"},{"$f":"IF(COUNTIF(INDEX(CX425:EH425,DAY(DJ429)):INDEX(CX425:EH425,HLOOKUP(DL429,CX421:EH426,6,FALSE)),\"\")+COUNTIF(INDEX(CX425:EH425,DAY(DJ429)):INDEX(CX425:EH425,HLOOKUP(DL429,CX421:EH426,6,FALSE)),\"●\")=7,IF(COUNTIF(INDEX(CX425:EH425,DAY(DJ429)):INDEX(CX425:EH425,HLOOKUP(DL429,CX421:EH426,6,FALSE)),\"●\")>=2,\"OK\",\"OUT\"),\"対象外\")","v":"OUT"},null,null,{"$f":"DL429+1","v":"2026-06-22"},"～",{"$f":"DL429+7","v":"2026-06-28"},{"$f":"IF(COUNTIF(INDEX(CX425:EH425,DAY(DP429)):INDEX(CX425:EH425,HLOOKUP(DR429,CX421:EH426,6,FALSE)),\"\")+COUNTIF(INDEX(CX425:EH425,DAY(DP429)):INDEX(CX425:EH425,HLOOKUP(DR429,CX421:EH426,6,FALSE)),\"●\")=7,IF(COUNTIF(INDEX(CX425:EH425,DAY(DP429)):INDEX(CX425:EH425,HLOOKUP(DR429,CX421:EH426,6,FALSE)),\"●\")>=2,\"OK\",\"OUT\"),\"対象外\")","v":"OUT"},null,null,{"$f":"IF(AND(DAY(DR429+7)<23,DAY(DR429+7)>=7),\"\",DR429+1)","v":"2026-06-29"},{"$f":"IF(AND(DAY(DR429+7)<23,DAY(DR429+7)>=7),\"\",\"～\")","v":"～"},{"$f":"IF(AND(DAY(DR429+7)<23,DAY(DR429+7)>=7),\"\",DR429+7)","v":"2026-07-05"},{"$f":"IF(AND(DAY(DR429+7)<23,DAY(DR429+7)>=7),\"\",IF(COUNTIF(INDEX(CX425:EH425,DAY(DV429)):INDEX(CX425:EH425,HLOOKUP(DX429,CX421:EH426,6,FALSE)),\"\")+COUNTIF(INDEX(CX425:EH425,DAY(DV429)):INDEX(CX425:EH425,HLOOKUP(DX429,CX421:EH426,6,FALSE)),\"●\")=7,IF(COUNTIF(INDEX(CX425:EH425,DAY(DV429)):INDEX(CX425:EH425,HLOOKUP(DX429,CX421:EH426,6,FALSE)),\"●\")>=2,\"OK\",\"OUT\"),IF(COUNTIF(INDEX(CX425:EH425,DAY(DV429)):INDEX(CX425:EH425,HLOOKUP(DX429,CX421:EH426,6,FALSE)),\"\")+COUNTIF(INDEX(CX425:EH425,DAY(DV429)):INDEX(CX425:EH425,HLOOKUP(DX429,CX421:EH426,6,FALSE)),\"●\")>7,\"「／」漏れ\",\"対象外\")))","v":"OUT"},null,null,{"$f":"IF(DY429=\"\",\"\",IF(AND(DAY(DX429+7)<23,DAY(DX429+7)>=7),\"\",DX429+1))","v":""},{"$f":"IF(DY429=\"\",\"\",IF(AND(DAY(DX429+7)<23,DAY(DX429+7)>=7),\"\",\"～\"))","v":""},{"$f":"IF(DY429=\"\",\"\",IF(AND(DAY(DX429+7)<23,DAY(DX429+7)>=7),\"\",DX429+7))","v":""},{"$f":"IF(DY429=\"\",\"\",IF(AND(DAY(DX429+7)<23,DAY(DX429+7)>=7),\"\",IF(COUNTIF(INDEX(CX425:EH425,DAY(EB429)):INDEX(CX425:EH425,HLOOKUP(ED429,CX421:EH426,6,FALSE)),\"\")+COUNTIF(INDEX(CX425:EH425,DAY(EB429)):INDEX(CX425:EH425,HLOOKUP(ED429,CX421:EH426,6,FALSE)),\"●\")=7,IF(COUNTIF(INDEX(CX425:EH425,DAY(EB429)):INDEX(CX425:EH425,HLOOKUP(ED429,CX421:EH426,6,FALSE)),\"●\")>=2,\"OK\",\"OUT\"),IF(COUNTIF(INDEX(CX425:EH425,HLOOKUP(EB429,CX421:EH426,6,FALSE)):INDEX(CX425:EH425,HLOOKUP(ED429,CX421:EH426,6,FALSE)),\"\")+COUNTIF(INDEX(CX425:EH425,HLOOKUP(EB429,CX421:EH426,6,FALSE)):INDEX(CX425:EH425,HLOOKUP(ED429,CX421:EH426,6,FALSE)),\"●\")>7,\"「／」漏れ\",\"対象外\"))))","v":""},null,null,null,null,null,null,null,"完全週休二日",{"$f":"IF(EN420=\"\",\"\",IF(COUNTIF(CX429:EH429,\"OUT\")>=1,\"OUT\",\"OK\"))","v":""}]
[""]
[{"$f":"IF(AND(NOT($AT$420=\"\"),$AT$449=\"\"),\"対象期間\",\"\")","v":""}]
[{"$f":"IF(AND(NOT($AT$420=\"\"),$AT$449=\"\"),\"対象期間\",\"\")","v":""},null,"※１工事着手日：始期日以降に準備工事（現場事務所の建設・測量等）、工場製作を含む工事における工場製作工に着手した日",null,null,null,null,null,null,null,null,null,null,null,null,null,null,null,null,null,null,null,null,null,null,null,null,null,null,null,null,null,null,null,null,null,null,null,null,null,null,null,null,"工事全体の確認",null,null,null,null,null,null,null,null,"※１工事着手日：始期日以降に準備工事（現場事務所の建設・測量等）、工場製作を含む工事における工場製作工に着手した日",null,null,null,null,null,null,null,null,null,null,null,null,null,null,null,null,null,null,null,null,null,null,null,null,null,null,null,null,null,null,null,null,null,null,null,null,null,null,null,null,"工事全体の確認",null,null,null,null,null,null,"※１工事着手日：始期日以降に準備工事（現場事務所の建設・測量等）、工場製作を含む工事における工場製作工に着手した日",null,null,null,null,null,null,null,null,null,null,null,null,null,null,null,null,null,null,null,null,null,null,null,null,null,null,null,null,null,null,null,null,null,null,null,null,null,null,null,null,"工事全体の確認"]
["",null,"※２作業完了日：工事施工範囲内で全ての作業（後片付けを含む）が完了した日\n　　　　　　　　　  （工事現場事務所は工事施工範囲外に設置するため、ここでいう後片付けの対象に含まない）",null,null,null,null,null,null,null,null,null,null,null,null,null,null,null,null,null,null,null,null,null,null,null,null,null,null,null,null,null,null,null,null,null,null,null,null,null,null,null,null,"計画","全対象期間",{"$f":"IFERROR(AT404+AT420,\"\")","v":""},null,null,null,null,null,null,"※２作業完了日：工事施工範囲内で全ての作業（後片付けを含む）が完了した日\n　　　　　　　　　  （工事現場事務所は工事施工範囲外に設置するため、ここでいう後片付けの対象に含まない）",null,null,null,null,null,null,null,null,null,null,null,null,null,null,null,null,null,null,null,null,null,null,null,null,null,null,null,null,null,null,null,null,null,null,null,null,null,null,null,null,"計画","全対象期間",{"$f":"IFERROR(CR404+CR420,\"\")","v":""},null,null,null,null,"※２作業完了日：工事施工範囲内で全ての作業（後片付けを含む）が完了した日\n　　　　　　　　　  （工事現場事務所は工事施工範囲外に設置するため、ここでいう後片付けの対象に含まない）",null,null,null,null,null,null,null,null,null,null,null,null,null,null,null,null,null,null,null,null,null,null,null,null,null,null,null,null,null,null,null,null,null,null,null,null,null,null,null,null,"計画","全対象期間",{"$f":"IFERROR(EN404+EN420,\"\")","v":""}]
["",null,null,null,null,null,null,null,null,null,null,null,null,null,null,null,null,null,null,null,null,null,null,null,null,null,null,null,null,null,null,null,null,null,null,null,null,null,null,null,null,null,null,null,"全現場閉所日数",{"$f":"IFERROR(AT405+AT421,\"\")","v":""},null,null,null,null,null,null,null,null,null,null,null,null,null,null,null,null,null,null,null,null,null,null,null,null,null,null,null,null,null,null,null,null,null,null,null,null,null,null,null,null,null,null,null,null,null,null,null,null,"全現場閉所日数",{"$f":"IFERROR(CR405+CR421,\"\")","v":""},null,null,null,null,null,null,null,null,null,null,null,null,null,null,null,null,null,null,null,null,null,null,null,null,null,null,null,null,null,null,null,null,null,null,null,null,null,null,null,null,null,null,null,null,null,null,"全現場閉所日数",{"$f":"IFERROR(EN405+EN421,\"\")","v":""}]
["",null,"【算定除外期間】：夏季休暇（8月13日～8月15日）、年末年始（12月29日～翌年1月3日）は算定期間の分母・分子に含めない",null,null,null,null,null,null,null,null,null,null,null,null,null,null,null,null,null,null,null,null,null,null,null,null,null,null,null,null,null,null,null,null,null,null,null,null,null,null,null,null,null,"現場閉所率",{"$f":"IFERROR(+AT434/AT433,\"\")","v":""},{"$f":"IF(AT435>=0.285,\"4週8休以上\",\"週休2日未達成\")","v":"4週8休以上"},null,null,null,null,null,"【算定除外期間】：夏季休暇（8月13日～8月15日）、年末年始（12月29日～翌年1月3日）は算定期間の分母・分子に含めない",null,null,null,null,null,null,null,null,null,null,null,null,null,null,null,null,null,null,null,null,null,null,null,null,null,null,null,null,null,null,null,null,null,null,null,null,null,null,null,null,null,"現場閉所率",{"$f":"IFERROR(+CR434/CR433,\"\")","v":""},{"$f":"IF(CR435>=0.285,\"4週8休以上\",\"週休2日未達成\")","v":"4週8休以上"},null,null,null,"【算定除外期間】：夏季休暇（8月13日～8月15日）、年末年始（12月29日～翌年1月3日）は算定期間の分母・分子に含めない",null,null,null,null,null,null,null,null,null,null,null,null,null,null,null,null,null,null,null,null,null,null,null,null,null,null,null,null,null,null,null,null,null,null,null,null,null,null,null,null,null,"現場閉所率",{"$f":"IFERROR(+EN434/EN433,\"\")","v":""},{"$f":"IF(EN435>=0.285,\"4週8休以上\",\"週休2日未達成\")","v":"4週8休以上"}]
["",null,"※３工事期間の全ての月において、達成状況を確認し、一度でも達成できない月があれば、４週８休以上（月単位）は「未達成」となり、補正の対象とならない。\n　　月によっては、土日を全て閉所しても現場閉所率が28.5％に満たない場合があるが、その月の対象期間の土日日数以上閉所していれば達成とみなす。\n\n※４工事対象期間のうち、一度でも完全週休２日（月～日で２日以上の現場閉所）を達成できなければ、\n　　 完全週休２日は「未達成」となり、補正の対象とならない。\n　　 なお、工期始期・終期、年末年始、夏季休暇などにより、７日間に満たない期間は完全週休２日の達成判断の対象外とする。",null,null,null,null,null,null,null,null,null,null,null,null,null,null,null,null,null,null,null,null,null,null,null,null,null,null,null,null,null,null,null,null,null,null,null,null,null,null,null,null,"実施","全対象期間",{"$f":"IFERROR(AT407+AT423,\"\")","v":""},null,null,null,null,null,null,"※３工事期間の全ての月において、達成状況を確認し、一度でも達成できない月があれば、４週８休以上（月単位）は「未達成」となり、補正の対象とならない。\n　　月によっては、土日を全て閉所しても現場閉所率が28.5％に満たない場合があるが、その月の対象期間の土日日数以上閉所していれば達成とみなす。\n\n※４工事対象期間のうち、一度でも完全週休２日（月～日で２日以上の現場閉所）を達成できなければ、\n　　 完全週休２日は「未達成」となり、補正の対象とならない。\n　　 なお、工期始期・終期、年末年始、夏季休暇などにより、７日間に満たない期間は完全週休２日の達成判断の対象外とする。",null,null,null,null,null,null,null,null,null,null,null,null,null,null,null,null,null,null,null,null,null,null,null,null,null,null,null,null,null,null,null,null,null,null,null,null,null,null,null,null,"実施","全対象期間",{"$f":"IFERROR(CR407+CR423,\"\")","v":""},null,null,null,null,"※３工事期間の全ての月において、達成状況を確認し、一度でも達成できない月があれば、４週８休以上（月単位）は「未達成」となり、補正の対象とならない。\n　　月によっては、土日を全て閉所しても現場閉所率が28.5％に満たない場合があるが、その月の対象期間の土日日数以上閉所していれば達成とみなす。\n\n※４工事対象期間のうち、一度でも完全週休２日（月～日で２日以上の現場閉所）を達成できなければ、\n　　 完全週休２日は「未達成」となり、補正の対象とならない。\n　　 なお、工期始期・終期、年末年始、夏季休暇などにより、７日間に満たない期間は完全週休２日の達成判断の対象外とする。",null,null,null,null,null,null,null,null,null,null,null,null,null,null,null,null,null,null,null,null,null,null,null,null,null,null,null,null,null,null,null,null,null,null,null,null,null,null,null,null,"実施","全対象期間",{"$f":"IFERROR(EN407+EN423,\"\")","v":""}]
["",null,null,null,null,null,null,null,null,null,null,null,null,null,null,null,null,null,null,null,null,null,null,null,null,null,null,null,null,null,null,null,null,null,null,null,null,null,null,null,null,null,null,null,"全現場閉所日数",{"$f":"IFERROR(AT408+AT424,\"\")","v":""},null,null,null,null,null,null,null,null,null,null,null,null,null,null,null,null,null,null,null,null,null,null,null,null,null,null,null,null,null,null,null,null,null,null,null,null,null,null,null,null,null,null,null,null,null,null,null,null,"全現場閉所日数",{"$f":"IFERROR(CR408+CR424,\"\")","v":""},null,null,null,null,null,null,null,null,null,null,null,null,null,null,null,null,null,null,null,null,null,null,null,null,null,null,null,null,null,null,null,null,null,null,null,null,null,null,null,null,null,null,null,null,null,null,"全現場閉所日数",{"$f":"IFERROR(EN408+EN424,\"\")","v":""}]
["",null,null,null,null,null,null,null,null,null,null,null,null,null,null,null,null,null,null,null,null,null,null,null,null,null,null,null,null,null,null,null,null,null,null,null,null,null,null,null,null,null,null,null,"現場閉所率",{"$f":"IFERROR(+AT437/AT436,\"\")","v":""},{"$f":"IF(AT438>=0.285,\"4週8休以上\",\"週休2日未達成\")","v":"4週8休以上"},null,null,null,null,null,null,null,null,null,null,null,null,null,null,null,null,null,null,null,null,null,null,null,null,null,null,null,null,null,null,null,null,null,null,null,null,null,null,null,null,null,null,null,null,null,null,null,"現場閉所率",{"$f":"IFERROR(+CR437/CR436,\"\")","v":""},{"$f":"IF(CR438>=0.285,\"4週8休以上\",\"週休2日未達成\")","v":"4週8休以上"},null,null,null,null,null,null,null,null,null,null,null,null,null,null,null,null,null,null,null,null,null,null,null,null,null,null,null,null,null,null,null,null,null,null,null,null,null,null,null,null,null,null,null,null,null,"現場閉所率",{"$f":"IFERROR(+EN437/EN436,\"\")","v":""},{"$f":"IF(EN438>=0.285,\"4週8休以上\",\"週休2日未達成\")","v":"4週8休以上"}]
["",null,null,null,null,null,null,null,null,null,null,null,null,null,null,null,null,null,null,null,null,null,null,null,null,null,null,null,null,null,null,null,null,null,null,null,null,null,null,null,null,null,null,null,"閉所（月単位）",{"$f":"IFERROR(COUNTIF(AS$14:$AS429,\"4週8休以上\")/(COUNTIF(AS$14:$AS429,\"4週8休以上\")+COUNTIF(AS$14:$AS429,\"週休2日未達成\")),\"\")","v":""},{"$f":"IF(OR(AT439=100%,AT439=\"\"),\"達成\",\"未達成\")","v":"達成"},null,null,null,null,null,null,null,null,null,null,null,null,null,null,null,null,null,null,null,null,null,null,null,null,null,null,null,null,null,null,null,null,null,null,null,null,null,null,null,null,null,null,null,null,null,null,null,"閉所（月単位）",{"$f":"IFERROR(COUNTIF(CQ$14:$CQ429,\"4週8休以上\")/(COUNTIF(CQ$14:$CQ429,\"4週8休以上\")+COUNTIF(CQ$14:$CQ429,\"週休2日未達成\")),\"\")","v":0},{"$f":"IF(OR(CR439=100%,CR439=\"\"),\"達成\",\"未達成\")","v":"未達成"},null,null,null,null,null,null,null,null,null,null,null,null,null,null,null,null,null,null,null,null,null,null,null,null,null,null,null,null,null,null,null,null,null,null,null,null,null,null,null,null,null,null,null,null,null,"閉所（月単位）",{"$f":"IFERROR(COUNTIF($EM$14:EM429,\"4週8休以上\")/(COUNTIF($EM$14:EM429,\"4週8休以上\")+COUNTIF($EM$14:EM429,\"週休2日未達成\")),\"\")","v":1},{"$f":"IF(OR(EN439=100%,EN439=\"\"),\"達成\",\"未達成\")","v":"達成"}]
["",null,null,null,null,null,null,null,null,null,null,null,null,null,null,null,null,null,null,null,null,null,null,null,null,null,null,null,null,null,null,null,null,null,null,null,null,null,null,null,null,null,null,null,"完全週休二日",{"$f":"IF(COUNTIF(AS$14:$AS429,\"OUT\")>=1,\"OUT\",\"OK\")","v":"OK"},{"$f":"IF(AT440=\"OK\",\"達成\",\"未達成\")","v":"達成"},null,null,null,null,null,null,null,null,null,null,null,null,null,null,null,null,null,null,null,null,null,null,null,null,null,null,null,null,null,null,null,null,null,null,null,null,null,null,null,null,null,null,null,null,null,null,null,"完全週休二日",{"$f":"IF(COUNTIF(CQ$14:$CQ429,\"OUT\")>=1,\"OUT\",\"OK\")","v":"OUT"},{"$f":"IF(CR440=\"OK\",\"達成\",\"未達成\")","v":"未達成"},null,null,null,null,null,null,null,null,null,null,null,null,null,null,null,null,null,null,null,null,null,null,null,null,null,null,null,null,null,null,null,null,null,null,null,null,null,null,null,null,null,null,null,null,null,"完全週休二日",{"$f":"IF(COUNTIF($EM$14:EM429,\"OUT\")>=1,\"OUT\",\"OK\")","v":"OUT"},{"$f":"IF(EN440=\"OK\",\"達成\",\"未達成\")","v":"未達成"}]
["",null,"※必要に応じて各月の完全週休2日（月～日）の達成判定の行を修正してください。（曜日に合わせて修正）",null,null,null,null,null,null,null,null,null,null,null,null,null,null,null,null,null,null,null,null,null,null,null,null,null,null,null,null,null,null,null,null,null,null,null,null,null,null,null,null,null,null,null,null,null,null,null,null,null,"※必要に応じて各月の完全週休2日（月～日）の達成判定の行を修正してください。（曜日に合わせて修正）",null,null,null,null,null,null,null,null,null,null,null,null,null,null,null,null,null,null,null,null,null,null,null,null,null,null,null,null,null,null,null,null,null,null,null,null,null,null,null,null,null,null,null,null,null,null,null,"※必要に応じて各月の完全週休2日（月～日）の達成判定の行を修正してください。（曜日に合わせて修正）"]
[""]
[""]
[""]
[""]
[""]
["",null,"算定除外期間以外の祝日（ＧＷ含む）は、算定期間（分母）の対象＝現場閉所の場合は分子にカウントして現場閉所率を算定",null,null,null,null,null,null,null,null,null,null,null,null,null,null,null,null,null,null,null,null,null,null,null,null,null,null,null,null,null,null,null,null,null,null,null,null,null,null,null,null,null,null,null,null,null,null,null,null,null,"算定除外期間以外の祝日（ＧＷ含む）は、算定期間（分母）の対象＝現場閉所の場合は分子にカウントして現場閉所率を算定",null,null,null,null,null,null,null,null,null,null,null,null,null,null,null,null,null,null,null,null,null,null,null,null,null,null,null,null,null,null,null,null,null,null,null,null,null,null,null,null,null,null,null,null,null,null,null,"算定除外期間以外の祝日（ＧＷ含む）は、算定期間（分母）の対象＝現場閉所の場合は分子にカウントして現場閉所率を算定"]
[""]
[{"$f":"IF($AT$449=\"\",\"\",\"対象期間\")","v":""},null,"月",{"$f":"DATE(YEAR(D420),MONTH(D420)+1,1)","v":"2026-07-01"},null,null,null,null,null,null,null,null,null,null,null,null,null,null,null,null,null,null,null,null,null,null,null,null,null,null,null,null,null,null,{"$f":"DATE(YEAR(D449),MONTH(D449)+1,1)","v":"2026-08-01"},null,null,null,null,null,"現場閉所計","現場閉所累計",null,"計画","対象期間",{"$f":"IF(IF(MONTH(入力表!$E$6)=12,YEAR(入力表!$E$6)+1&\"01\",YEAR(入力表!$E$6)&TEXT(MONTH(入力表!$E$6)+1,\"00\"))>YEAR($D449)&TEXT(MONTH($D449),\"00\"),COUNTIF(D453:AH453,\"\")+COUNTIF(D453:AH453,\"○\"),\"\")","v":""},{"$f":"IF(COUNTIF(D450:AH450,\"／\")=0,\"\",IF(COUNTIF(D450:AH450,\"／\")=1,IF(AH453=\"／\",\"\",\"月末「／」漏れ\"),IF(COUNTIF(D450:AH450,\"／\")=2,IF(AND(AG453=\"／\",AH453=\"／\"),\"\",\"月末「／」漏れ\"),IF(AND(AF453=\"／\",AG453=\"／\",AH453=\"／\"),\"\",\"月末「／」漏れ\"))))","v":""},null,null,null,null,null,"月",{"$f":"DATE(YEAR(BB420),MONTH(BB420)+1,1)","v":"2026-07-01"},null,null,null,null,null,null,null,null,null,null,null,null,null,null,null,null,null,null,null,null,null,null,null,null,null,null,null,null,null,null,{"$f":"DATE(YEAR(BB449),MONTH(BB449)+1,1)","v":"2026-08-01"},null,null,null,null,null,"現場閉所計","現場閉所累計",null,"計画","対象期間",{"$f":"IF(IF(MONTH($BL$5)=12,YEAR($BL$5)+1&\"01\",YEAR($BL$5)&TEXT(MONTH($BL$5)+1,\"00\"))>YEAR(BB449)&TEXT(MONTH(BB449),\"00\"),COUNTIF(BB453:CF453,\"\")+COUNTIF(BB453:CF453,\"○\"),\"\")","v":""},{"$f":"IF(COUNTIF(BB450:CF450,\"／\")=0,\"\",IF(COUNTIF(BB450:CF450,\"／\")=1,IF(CF453=\"／\",\"\",\"月末「／」漏れ\"),IF(COUNTIF(BB450:CF450,\"／\")=2,IF(AND(CE453=\"／\",CF453=\"／\"),\"\",\"月末「／」漏れ\"),IF(AND(CD453=\"／\",CE453=\"／\",CF453=\"／\"),\"\",\"月末「／」漏れ\"))))","v":""},null,null,null,"月",{"$f":"DATE(YEAR(CX420),MONTH(CX420)+1,1)","v":"2026-07-01"},null,null,null,null,null,null,null,null,null,null,null,null,null,null,null,null,null,null,null,null,null,null,null,null,null,null,null,null,null,null,{"$f":"DATE(YEAR(CX449),MONTH(CX449)+1,1)","v":"2026-08-01"},null,null,null,null,null,"現場閉所計","現場閉所累計",null,"計画","対象期間",{"$f":"IF(IF(MONTH($BL$5)=12,YEAR($BL$5)+1&\"01\",YEAR($BL$5)&TEXT(MONTH($BL$5)+1,\"00\"))>YEAR($CX449)&TEXT(MONTH($CX449),\"00\"),COUNTIF(CX453:EB453,\"\")+COUNTIF(CX453:EB453,\"○\"),\"\")","v":""},{"$f":"IF(COUNTIF(CX450:EB450,\"／\")=0,\"\",IF(COUNTIF(CX450:EB450,\"／\")=1,IF(EB453=\"／\",\"\",\"月末「／」漏れ\"),IF(COUNTIF(CX450:EB450,\"／\")=2,IF(AND(EA453=\"／\",EB453=\"／\"),\"\",\"月末「／」漏れ\"),IF(AND(DZ453=\"／\",EA453=\"／\",EB453=\"／\"),\"\",\"月末「／」漏れ\"))))","v":""}]
[{"$f":"IF($AT$449=\"\",\"\",\"対象期間\")","v":""},null,"日",{"$f":"D449","v":"2026-07-01"},{"$f":"D450+1","v":"2026-07-02"},{"$f":"E450+1","v":"2026-07-03"},{"$f":"F450+1","v":"2026-07-04"},{"$f":"G450+1","v":"2026-07-05"},{"$f":"H450+1","v":"2026-07-06"},{"$f":"I450+1","v":"2026-07-07"},{"$f":"J450+1","v":"2026-07-08"},{"$f":"K450+1","v":"2026-07-09"},{"$f":"L450+1","v":"2026-07-10"},{"$f":"M450+1","v":"2026-07-11"},{"$f":"N450+1","v":"2026-07-12"},{"$f":"O450+1","v":"2026-07-13"},{"$f":"P450+1","v":"2026-07-14"},{"$f":"Q450+1","v":"2026-07-15"},{"$f":"R450+1","v":"2026-07-16"},{"$f":"S450+1","v":"2026-07-17"},{"$f":"T450+1","v":"2026-07-18"},{"$f":"U450+1","v":"2026-07-19"},{"$f":"V450+1","v":"2026-07-20"},{"$f":"W450+1","v":"2026-07-21"},{"$f":"X450+1","v":"2026-07-22"},{"$f":"Y450+1","v":"2026-07-23"},{"$f":"Z450+1","v":"2026-07-24"},{"$f":"AA450+1","v":"2026-07-25"},{"$f":"AB450+1","v":"2026-07-26"},{"$f":"AC450+1","v":"2026-07-27"},{"$f":"AD450+1","v":"2026-07-28"},{"$f":"IF(AE450=\"／\",\"／\",IF(YEAR($D449)&TEXT(MONTH($D449),\"00\")<YEAR(AE450+1)&TEXT(MONTH(AE450+1),\"00\"),\"／\",AE450+1))","v":"2026-07-29"},{"$f":"IF(AF450=\"／\",\"／\",IF(YEAR($D449)&TEXT(MONTH($D449),\"00\")<YEAR(AF450+1)&TEXT(MONTH(AF450+1),\"00\"),\"／\",AF450+1))","v":"2026-07-30"},{"$f":"IF(AG450=\"／\",\"／\",IF(YEAR($D449)&TEXT(MONTH($D449),\"00\")<YEAR(AG450+1)&TEXT(MONTH(AG450+1),\"00\"),\"／\",AG450+1))","v":"2026-07-31"},{"$f":"AI449","v":"2026-08-01"},{"$f":"AI450+1","v":"2026-08-02"},{"$f":"AJ450+1","v":"2026-08-03"},{"$f":"AK450+1","v":"2026-08-04"},{"$f":"AL450+1","v":"2026-08-05"},{"$f":"AM450+1","v":"2026-08-06"},null,null,null,null,"閉所日数",{"$f":"IF(IF(MONTH(入力表!$E$6)=12,YEAR(入力表!$E$6)+1&\"01\",YEAR(入力表!$E$6)&TEXT(MONTH(入力表!$E$6)+1,\"00\"))>YEAR($D449)&TEXT(MONTH($D449),\"00\"),COUNTIF(D453:AH453,\"○\"),\"\")","v":""},{"$f":"IF(OR(MONTH(D449)=1,MONTH(D449)=8,MONTH(D449)=12),IF(COUNTIF(D453:AH453,\"／\")>=3,\"\",\"算定除外「／」漏れ\"),\"\")","v":""},null,null,null,null,null,"日",{"$f":"BB449","v":"2026-07-01"},{"$f":"BB450+1","v":"2026-07-02"},{"$f":"BC450+1","v":"2026-07-03"},{"$f":"BD450+1","v":"2026-07-04"},{"$f":"BE450+1","v":"2026-07-05"},{"$f":"BF450+1","v":"2026-07-06"},{"$f":"BG450+1","v":"2026-07-07"},{"$f":"BH450+1","v":"2026-07-08"},{"$f":"BI450+1","v":"2026-07-09"},{"$f":"BJ450+1","v":"2026-07-10"},{"$f":"BK450+1","v":"2026-07-11"},{"$f":"BL450+1","v":"2026-07-12"},{"$f":"BM450+1","v":"2026-07-13"},{"$f":"BN450+1","v":"2026-07-14"},{"$f":"BO450+1","v":"2026-07-15"},{"$f":"BP450+1","v":"2026-07-16"},{"$f":"BQ450+1","v":"2026-07-17"},{"$f":"BR450+1","v":"2026-07-18"},{"$f":"BS450+1","v":"2026-07-19"},{"$f":"BT450+1","v":"2026-07-20"},{"$f":"BU450+1","v":"2026-07-21"},{"$f":"BV450+1","v":"2026-07-22"},{"$f":"BW450+1","v":"2026-07-23"},{"$f":"BX450+1","v":"2026-07-24"},{"$f":"BY450+1","v":"2026-07-25"},{"$f":"BZ450+1","v":"2026-07-26"},{"$f":"CA450+1","v":"2026-07-27"},{"$f":"CB450+1","v":"2026-07-28"},{"$f":"IF(CC450=\"／\",\"／\",IF(YEAR(BB449)&TEXT(MONTH(BB449),\"00\")<YEAR(CC450+1)&TEXT(MONTH(CC450+1),\"00\"),\"／\",CC450+1))","v":"2026-07-29"},{"$f":"IF(CD450=\"／\",\"／\",IF(YEAR(BB449)&TEXT(MONTH(BB449),\"00\")<YEAR(CD450+1)&TEXT(MONTH(CD450+1),\"00\"),\"／\",CD450+1))","v":"2026-07-30"},{"$f":"IF(CE450=\"／\",\"／\",IF(YEAR(BB449)&TEXT(MONTH(BB449),\"00\")<YEAR(CE450+1)&TEXT(MONTH(CE450+1),\"00\"),\"／\",CE450+1))","v":"2026-07-31"},{"$f":"CG449","v":"2026-08-01"},{"$f":"CG450+1","v":"2026-08-02"},{"$f":"CH450+1","v":"2026-08-03"},{"$f":"CI450+1","v":"2026-08-04"},{"$f":"CJ450+1","v":"2026-08-05"},{"$f":"CK450+1","v":"2026-08-06"},null,null,null,null,"閉所日数",{"$f":"IF(IF(MONTH($BL$5)=12,YEAR($BL$5)+1&\"01\",YEAR($BL$5)&TEXT(MONTH($BL$5)+1,\"00\"))>YEAR(BB449)&TEXT(MONTH(BB449),\"00\"),COUNTIF(BB453:CF453,\"○\"),\"\")","v":""},{"$f":"IF(OR(MONTH(BB449)=1,MONTH(BB449)=8,MONTH(BB449)=12),IF(COUNTIF(BB453:CF453,\"／\")>=3,\"\",\"算定除外「／」漏れ\"),\"\")","v":""},null,null,null,"日",{"$f":"CX449","v":"2026-07-01"},{"$f":"CX450+1","v":"2026-07-02"},{"$f":"CY450+1","v":"2026-07-03"},{"$f":"CZ450+1","v":"2026-07-04"},{"$f":"DA450+1","v":"2026-07-05"},{"$f":"DB450+1","v":"2026-07-06"},{"$f":"DC450+1","v":"2026-07-07"},{"$f":"DD450+1","v":"2026-07-08"},{"$f":"DE450+1","v":"2026-07-09"},{"$f":"DF450+1","v":"2026-07-10"},{"$f":"DG450+1","v":"2026-07-11"},{"$f":"DH450+1","v":"2026-07-12"},{"$f":"DI450+1","v":"2026-07-13"},{"$f":"DJ450+1","v":"2026-07-14"},{"$f":"DK450+1","v":"2026-07-15"},{"$f":"DL450+1","v":"2026-07-16"},{"$f":"DM450+1","v":"2026-07-17"},{"$f":"DN450+1","v":"2026-07-18"},{"$f":"DO450+1","v":"2026-07-19"},{"$f":"DP450+1","v":"2026-07-20"},{"$f":"DQ450+1","v":"2026-07-21"},{"$f":"DR450+1","v":"2026-07-22"},{"$f":"DS450+1","v":"2026-07-23"},{"$f":"DT450+1","v":"2026-07-24"},{"$f":"DU450+1","v":"2026-07-25"},{"$f":"DV450+1","v":"2026-07-26"},{"$f":"DW450+1","v":"2026-07-27"},{"$f":"DX450+1","v":"2026-07-28"},{"$f":"IF(DY450=\"／\",\"／\",IF(YEAR(CX449)&TEXT(MONTH(CX449),\"00\")<YEAR(DY450+1)&TEXT(MONTH(DY450+1),\"00\"),\"／\",DY450+1))","v":"2026-07-29"},{"$f":"IF(DZ450=\"／\",\"／\",IF(YEAR(CX449)&TEXT(MONTH(CX449),\"00\")<YEAR(DZ450+1)&TEXT(MONTH(DZ450+1),\"00\"),\"／\",DZ450+1))","v":"2026-07-30"},{"$f":"IF(EA450=\"／\",\"／\",IF(YEAR(CX449)&TEXT(MONTH(CX449),\"00\")<YEAR(EA450+1)&TEXT(MONTH(EA450+1),\"00\"),\"／\",EA450+1))","v":"2026-07-31"},{"$f":"EC449","v":"2026-08-01"},{"$f":"EC450+1","v":"2026-08-02"},{"$f":"ED450+1","v":"2026-08-03"},{"$f":"EE450+1","v":"2026-08-04"},{"$f":"EF450+1","v":"2026-08-05"},{"$f":"EG450+1","v":"2026-08-06"},null,null,null,null,"閉所日数",{"$f":"IF(IF(MONTH($BL$5)=12,YEAR($BL$5)+1&\"01\",YEAR($BL$5)&TEXT(MONTH($BL$5)+1,\"00\"))>YEAR($CX449)&TEXT(MONTH($CX449),\"00\"),COUNTIF(CX453:EB453,\"○\"),\"\")","v":""},{"$f":"IF(OR(MONTH(CX449)=1,MONTH(CX449)=8,MONTH(CX449)=12),IF(COUNTIF(CX453:EB453,\"／\")>=3,\"\",\"算定除外「／」漏れ\"),\"\")","v":""}]
["",null,"曜日",{"$f":"TEXT(WEEKDAY(+D450),\"aaa\")","v":"水"},{"$f":"TEXT(WEEKDAY(+E450),\"aaa\")","v":"木"},"金","土","日",{"$f":"TEXT(WEEKDAY(+I450),\"aaa\")","v":"月"},{"$f":"TEXT(WEEKDAY(+J450),\"aaa\")","v":"火"},"水","木","金","土","日","月","火","水","木","金","土","日","月","火","水",{"$f":"TEXT(WEEKDAY(+Z450),\"aaa\")","v":"木"},{"$f":"TEXT(WEEKDAY(+AA450),\"aaa\")","v":"金"},"土","日","月","火",{"$f":"IF(AF450=\"／\",\"／\",TEXT(WEEKDAY(+AF450),\"aaa\"))","v":"水"},{"$f":"IF(AG450=\"／\",\"／\",TEXT(WEEKDAY(+AG450),\"aaa\"))","v":"木"},"金",{"$f":"TEXT(WEEKDAY(+AI450),\"aaa\")","v":"土"},{"$f":"TEXT(WEEKDAY(+AJ450),\"aaa\")","v":"日"},"月","火","水","木",null,null,null,null,"現場閉所率",{"$f":"IFERROR(+AT450/AT449,\"\")","v":""},{"$f":"IF(AT451=\"\",\"\",IF(COUNTIF(D453:AH453,\"○\")>=COUNTIF(D456:AH456,\"◎\"),\"4週8休以上\",IF(AT451>=0.285,\"4週8休以上\",\"週休2日未達成\")))","v":""},null,null,null,null,null,"曜日",{"$f":"TEXT(WEEKDAY(+BB450),\"aaa\")","v":"水"},{"$f":"TEXT(WEEKDAY(+BC450),\"aaa\")","v":"木"},"金","土","日",{"$f":"TEXT(WEEKDAY(+BG450),\"aaa\")","v":"月"},{"$f":"TEXT(WEEKDAY(+BH450),\"aaa\")","v":"火"},"水","木","金","土","日","月","火","水","木","金","土","日","月","火","水",{"$f":"TEXT(WEEKDAY(+BX450),\"aaa\")","v":"木"},{"$f":"TEXT(WEEKDAY(+BY450),\"aaa\")","v":"金"},"土","日","月","火",{"$f":"IF(CD450=\"／\",\"／\",TEXT(WEEKDAY(+CD450),\"aaa\"))","v":"水"},{"$f":"IF(CE450=\"／\",\"／\",TEXT(WEEKDAY(+CE450),\"aaa\"))","v":"木"},"金",{"$f":"TEXT(WEEKDAY(+CG450),\"aaa\")","v":"土"},{"$f":"TEXT(WEEKDAY(+CH450),\"aaa\")","v":"日"},"月","火","水","木",null,null,null,null,"現場閉所率",{"$f":"IFERROR(+CR450/CR449,\"\")","v":""},{"$f":"IF(CR451=\"\",\"\",IF(COUNTIF(BB453:CF453,\"○\")>=COUNTIF(BB456:CF456,\"◎\"),\"4週8休以上\",IF(CR451>=0.285,\"4週8休以上\",\"週休2日未達成\")))","v":""},null,null,null,"曜日",{"$f":"TEXT(WEEKDAY(+CX450),\"aaa\")","v":"水"},{"$f":"TEXT(WEEKDAY(+CY450),\"aaa\")","v":"木"},"金","土","日",{"$f":"TEXT(WEEKDAY(+DC450),\"aaa\")","v":"月"},{"$f":"TEXT(WEEKDAY(+DD450),\"aaa\")","v":"火"},"水","木","金","土","日","月","火","水","木","金","土","日","月","火","水",{"$f":"TEXT(WEEKDAY(+DT450),\"aaa\")","v":"木"},{"$f":"TEXT(WEEKDAY(+DU450),\"aaa\")","v":"金"},"土","日","月","火",{"$f":"IF(DZ450=\"／\",\"／\",TEXT(WEEKDAY(+DZ450),\"aaa\"))","v":"水"},{"$f":"IF(EA450=\"／\",\"／\",TEXT(WEEKDAY(+EA450),\"aaa\"))","v":"木"},"金",{"$f":"TEXT(WEEKDAY(+EC450),\"aaa\")","v":"土"},{"$f":"TEXT(WEEKDAY(+ED450),\"aaa\")","v":"日"},"月","火","水","木",null,null,null,null,"現場閉所率",{"$f":"IFERROR(+EN450/EN449,\"\")","v":""},{"$f":"IF(EN451=\"\",\"\",IF(COUNTIF(CX453:EB453,\"○\")>=COUNTIF(CX456:EB456,\"◎\"),\"4週8休以上\",IF(EN451>=0.285,\"4週8休以上\",\"週休2日未達成\")))","v":""}]
["",null,"行事",null,null,null,null,null,null,null,null,null,null,null,null,null,null,null,null,null,null,null,null,null,null,null,null,null,null,null,null,null,null,null,{"$f":"IF(D481=\"\",\"\",D481)","v":""},{"$f":"IF(E481=\"\",\"\",E481)","v":""},{"$f":"IF(F481=\"\",\"\",F481)","v":""},{"$f":"IF(G481=\"\",\"\",G481)","v":""},{"$f":"IF(H481=\"\",\"\",H481)","v":""},{"$f":"IF(I481=\"\",\"\",I481)","v":""},null,null,null,"実施","対象期間",{"$f":"IF(IF(MONTH(入力表!$E$6)=12,YEAR(入力表!$E$6)+1&\"01\",YEAR(入力表!$E$6)&TEXT(MONTH(入力表!$E$6)+1,\"00\"))>YEAR($D449)&TEXT(MONTH($D449),\"00\"),COUNTIF(D454:AH454,\"\")+COUNTIF(D454:AH454,\"●\"),\"\")","v":""},{"$f":"IF(COUNTIF(D450:AH450,\"／\")=0,\"\",IF(COUNTIF(D450:AH450,\"／\")=1,IF(AH454=\"／\",\"\",\"月末「／」漏れ\"),IF(COUNTIF(D450:AH450,\"／\")=2,IF(AND(AG454=\"／\",AH454=\"／\"),\"\",\"月末「／」漏れ\"),IF(AND(AF454=\"／\",AG454=\"／\",AH454=\"／\"),\"\",\"月末「／」漏れ\"))))","v":""},null,null,null,null,null,"行事",null,null,null,null,null,null,null,null,null,null,null,null,null,null,null,null,null,null,null,null,null,null,null,null,null,null,null,null,null,null,null,{"$f":"IF(BB481=\"\",\"\",BB481)","v":""},{"$f":"IF(BC481=\"\",\"\",BC481)","v":""},{"$f":"IF(BD481=\"\",\"\",BD481)","v":""},{"$f":"IF(BE481=\"\",\"\",BE481)","v":""},{"$f":"IF(BF481=\"\",\"\",BF481)","v":""},{"$f":"IF(BG481=\"\",\"\",BG481)","v":""},null,null,null,"実施","対象期間",{"$f":"IF(IF(MONTH($BL$5)=12,YEAR($BL$5)+1&\"01\",YEAR($BL$5)&TEXT(MONTH($BL$5)+1,\"00\"))>YEAR(BB449)&TEXT(MONTH(BB449),\"00\"),COUNTIF(BB454:CF454,\"\")+COUNTIF(BB454:CF454,\"●\"),\"\")","v":""},{"$f":"IF(COUNTIF(BB450:CF450,\"／\")=0,\"\",IF(COUNTIF(BB450:CF450,\"／\")=1,IF(CF454=\"／\",\"\",\"月末「／」漏れ\"),IF(COUNTIF(BB450:CF450,\"／\")=2,IF(AND(CE454=\"／\",CF454=\"／\"),\"\",\"月末「／」漏れ\"),IF(AND(CD454=\"／\",CE454=\"／\",CF454=\"／\"),\"\",\"月末「／」漏れ\"))))","v":""},null,null,null,"行事",null,null,null,null,null,null,null,null,null,null,null,null,null,null,null,null,null,null,null,null,null,null,null,null,null,null,null,null,null,null,null,{"$f":"IF(CX481=\"\",\"\",CX481)","v":""},{"$f":"IF(CY481=\"\",\"\",CY481)","v":""},{"$f":"IF(CZ481=\"\",\"\",CZ481)","v":""},{"$f":"IF(DA481=\"\",\"\",DA481)","v":""},{"$f":"IF(DB481=\"\",\"\",DB481)","v":""},{"$f":"IF(DC481=\"\",\"\",DC481)","v":""},null,null,null,"実施","対象期間",{"$f":"IF(IF(MONTH($BL$5)=12,YEAR($BL$5)+1&\"01\",YEAR($BL$5)&TEXT(MONTH($BL$5)+1,\"00\"))>YEAR($CX449)&TEXT(MONTH($CX449),\"00\"),COUNTIF(CX454:EB454,\"\")+COUNTIF(CX454:EB454,\"●\"),\"\")","v":""},{"$f":"IF(COUNTIF(CX450:EB450,\"／\")=0,\"\",IF(COUNTIF(CX450:EB450,\"／\")=1,IF(EB454=\"／\",\"\",\"月末「／」漏れ\"),IF(COUNTIF(CX450:EB450,\"／\")=2,IF(AND(EA454=\"／\",EB454=\"／\"),\"\",\"月末「／」漏れ\"),IF(AND(DZ454=\"／\",EA454=\"／\",EB454=\"／\"),\"\",\"月末「／」漏れ\"))))","v":""}]
["",null,"計画",null,null,null,null,null,null,null,null,null,null,null,null,null,null,null,null,null,null,null,null,null,null,null,null,null,null,null,null,null,null,null,{"$f":"IF(D482=\"\",\"\",D482)","v":""},{"$f":"IF(E482=\"\",\"\",E482)","v":""},{"$f":"IF(F482=\"\",\"\",F482)","v":""},{"$f":"IF(G482=\"\",\"\",G482)","v":""},{"$f":"IF(H482=\"\",\"\",H482)","v":""},{"$f":"IF(I482=\"\",\"\",I482)","v":""},{"$f":"COUNTIF(D453:AH453,\"○\")","v":0},{"$f":"+AO453+AP424","v":0},null,null,"閉所日数",{"$f":"IF(IF(MONTH(入力表!$E$6)=12,YEAR(入力表!$E$6)+1&\"01\",YEAR(入力表!$E$6)&TEXT(MONTH(入力表!$E$6)+1,\"00\"))>YEAR($D449)&TEXT(MONTH($D449),\"00\"),COUNTIF(D454:AH454,\"●\"),\"\")","v":""},{"$f":"IF(OR(MONTH(D449)=1,MONTH(D449)=8,MONTH(D449)=12),IF(COUNTIF(D454:AH454,\"／\")>=3,\"\",\"算定除外「／」漏れ\"),\"\")","v":""},null,null,null,null,null,"計画",null,null,null,null,null,null,null,null,null,null,null,null,null,null,null,null,null,null,null,null,null,null,null,null,null,null,null,null,null,null,null,{"$f":"IF(BB482=\"\",\"\",BB482)","v":""},"","","","","",{"$f":"COUNTIF(BB453:CF453,\"○\")","v":0},{"$f":"+CM453+CN424","v":0},null,null,"閉所日数",{"$f":"IF(IF(MONTH($BL$5)=12,YEAR($BL$5)+1&\"01\",YEAR($BL$5)&TEXT(MONTH($BL$5)+1,\"00\"))>YEAR(BB449)&TEXT(MONTH(BB449),\"00\"),COUNTIF(BB454:CF454,\"●\"),\"\")","v":""},{"$f":"IF(OR(MONTH(BB449)=1,MONTH(BB449)=8,MONTH(BB449)=12),IF(COUNTIF(BB454:CF454,\"／\")>=3,\"\",\"算定除外「／」漏れ\"),\"\")","v":""},null,null,null,"計画",null,null,null,null,null,null,null,null,null,null,null,null,null,null,null,null,null,null,null,null,null,null,null,null,null,null,null,null,null,null,null,{"$f":"IF(CX482=\"\",\"\",CX482)","v":""},"","","","","",{"$f":"COUNTIF(CX453:EB453,\"○\")","v":0},{"$f":"+EI453+EJ424","v":0},null,null,"閉所日数",{"$f":"IF(IF(MONTH($BL$5)=12,YEAR($BL$5)+1&\"01\",YEAR($BL$5)&TEXT(MONTH($BL$5)+1,\"00\"))>YEAR($CX449)&TEXT(MONTH($CX449),\"00\"),COUNTIF(CX454:EB454,\"●\"),\"\")","v":""},{"$f":"IF(OR(MONTH(CX449)=1,MONTH(CX449)=8,MONTH(CX449)=12),IF(COUNTIF(CX454:EB454,\"／\")>=3,\"\",\"算定除外「／」漏れ\"),\"\")","v":""}]
["",null,"実施",null,null,null,null,null,null,null,null,null,null,null,null,null,null,null,null,null,null,null,null,null,null,null,null,null,null,null,null,null,null,null,{"$f":"IF(D483=\"\",\"\",D483)","v":""},{"$f":"IF(E483=\"\",\"\",E483)","v":""},{"$f":"IF(F483=\"\",\"\",F483)","v":""},{"$f":"IF(G483=\"\",\"\",G483)","v":""},{"$f":"IF(H483=\"\",\"\",H483)","v":""},{"$f":"IF(I483=\"\",\"\",I483)","v":""},{"$f":"COUNTIF(D454:AH454,\"●\")","v":0},{"$f":"+AO454+AP425","v":0},null,null,"現場閉所率",{"$f":"IFERROR(+AT453/AT452,\"\")","v":""},{"$f":"IF(AT454=\"\",\"\",IF(COUNTIF(D454:AH454,\"●\")>=COUNTIF(D457:AH457,\"◎\"),\"4週8休以上\",IF(AT454>=0.285,\"4週8休以上\",\"週休2日未達成\")))","v":""},null,null,null,null,null,"実施",null,null,null,null,null,null,null,null,null,null,null,null,null,null,null,null,null,null,null,null,null,null,null,null,null,null,null,null,null,null,null,{"$f":"IF(BB483=\"\",\"\",BB483)","v":""},{"$f":"IF(BC483=\"\",\"\",BC483)","v":""},{"$f":"IF(BD483=\"\",\"\",BD483)","v":""},{"$f":"IF(BE483=\"\",\"\",BE483)","v":""},{"$f":"IF(BF483=\"\",\"\",BF483)","v":""},{"$f":"IF(BG483=\"\",\"\",BG483)","v":""},{"$f":"COUNTIF(BB454:CF454,\"●\")","v":0},{"$f":"+CM454+CN425","v":0},null,null,"現場閉所率",{"$f":"IFERROR(+CR453/CR452,\"\")","v":""},{"$f":"IF(CR454=\"\",\"\",IF(COUNTIF(BB454:CF454,\"●\")>=COUNTIF(BB457:CF457,\"◎\"),\"4週8休以上\",IF(CR454>=0.285,\"4週8休以上\",\"週休2日未達成\")))","v":""},null,null,null,"実施",null,null,null,null,null,null,null,null,null,null,null,null,null,null,null,null,null,null,null,null,null,null,null,null,null,null,null,null,null,null,null,{"$f":"IF(CX483=\"\",\"\",CX483)","v":""},{"$f":"IF(CY483=\"\",\"\",CY483)","v":""},{"$f":"IF(CZ483=\"\",\"\",CZ483)","v":""},{"$f":"IF(DA483=\"\",\"\",DA483)","v":""},{"$f":"IF(DB483=\"\",\"\",DB483)","v":""},{"$f":"IF(DC483=\"\",\"\",DC483)","v":""},{"$f":"COUNTIF(CX454:EB454,\"●\")","v":0},{"$f":"+EI454+EJ425","v":0},null,null,"現場閉所率",{"$f":"IFERROR(+EN453/EN452,\"\")","v":""},{"$f":"IF(EN454=\"\",\"\",IF(COUNTIF(CX454:EB454,\"●\")>=COUNTIF(CX457:EB457,\"◎\"),\"4週8休以上\",IF(EN454>=0.285,\"4週8休以上\",\"週休2日未達成\")))","v":""}]
[null,null,null,1,2,3,4,5,6,7,8,9,10,11,12,13,14,15,16,17,18,19,20,21,22,23,24,25,26,27,28,29,30,31,32,33,34,35,36,37,null,null,null,null,{"$f":"AU454","v":""},null,null,null,null,null,null,null,null,1,2,3,4,5,6,7,8,9,10,11,12,13,14,15,16,17,18,19,20,21,22,23,24,25,26,27,28,29,30,31,32,33,34,35,36,37,null,null,null,null,{"$f":"CS454","v":""},null,null,null,null,null,null,1,2,3,4,5,6,7,8,9,10,11,12,13,14,15,16,17,18,19,20,21,22,23,24,25,26,27,28,29,30,31,32,33,34,35,36,37,null,null,null,null,{"$f":"EO454","v":""}]
[null,null,"計画",{"$f":"IF(D453=\"／\",\"／\",IF(OR(D451=\"土\",D451=\"日\"),\"◎\",\"\"))","v":""},{"$f":"IF(E453=\"／\",\"／\",IF(OR(E451=\"土\",E451=\"日\"),\"◎\",\"\"))","v":""},"","◎","◎","","","","","","◎","◎","","","","","","◎","◎","","","","","","◎","◎",{"$f":"IF(AD453=\"／\",\"／\",IF(OR(AD451=\"土\",AD451=\"日\"),\"◎\",\"\"))","v":""},{"$f":"IF(AE453=\"／\",\"／\",IF(OR(AE451=\"土\",AE451=\"日\"),\"◎\",\"\"))","v":""},"","","","◎","◎","","","","",null,null,null,null,{"$f":"AT458","v":""},null,null,null,null,null,null,null,"計画",{"$f":"IF(BB453=\"／\",\"／\",IF(OR(BB451=\"土\",BB451=\"日\"),\"◎\",\"\"))","v":""},"","","◎","◎","","","","","","◎","◎",{"$f":"IF(BN453=\"／\",\"／\",IF(OR(BN451=\"土\",BN451=\"日\"),\"◎\",\"\"))","v":""},{"$f":"IF(BO453=\"／\",\"／\",IF(OR(BO451=\"土\",BO451=\"日\"),\"◎\",\"\"))","v":""},"","","","◎","◎","","","","","","◎","◎",{"$f":"IF(CB453=\"／\",\"／\",IF(OR(CB451=\"土\",CB451=\"日\"),\"◎\",\"\"))","v":""},{"$f":"IF(CC453=\"／\",\"／\",IF(OR(CC451=\"土\",CC451=\"日\"),\"◎\",\"\"))","v":""},"","","","◎","◎","","","","",null,null,null,null,{"$f":"CR458","v":""},null,null,null,null,null,"計画",{"$f":"IF(CX453=\"／\",\"／\",IF(OR(CX451=\"土\",CX451=\"日\"),\"◎\",\"\"))","v":""},"","","◎","◎","","","","","","◎","◎",{"$f":"IF(DJ453=\"／\",\"／\",IF(OR(DJ451=\"土\",DJ451=\"日\"),\"◎\",\"\"))","v":""},{"$f":"IF(DK453=\"／\",\"／\",IF(OR(DK451=\"土\",DK451=\"日\"),\"◎\",\"\"))","v":""},"","","","◎","◎","","","","","","◎","◎",{"$f":"IF(DX453=\"／\",\"／\",IF(OR(DX451=\"土\",DX451=\"日\"),\"◎\",\"\"))","v":""},{"$f":"IF(DY453=\"／\",\"／\",IF(OR(DY451=\"土\",DY451=\"日\"),\"◎\",\"\"))","v":""},"","","","◎","◎","","","","",null,null,null,null,{"$f":"EN458","v":""}]
[null,null,"実施",{"$f":"IF(D454=\"／\",\"／\",IF(OR(D451=\"土\",D451=\"日\"),\"◎\",\"\"))","v":""},{"$f":"IF(E454=\"／\",\"／\",IF(OR(E451=\"土\",E451=\"日\"),\"◎\",\"\"))","v":""},"","◎","◎","","","","","","◎","◎","","","","","","◎","◎","","","","","","◎","◎","","","","","","◎","◎","","","","",null,null,null,null,null,null,null,null,null,null,null,null,"実施",{"$f":"IF(BB454=\"／\",\"／\",IF(OR(BB451=\"土\",BB451=\"日\"),\"◎\",\"\"))","v":""},{"$f":"IF(BC454=\"／\",\"／\",IF(OR(BC451=\"土\",BC451=\"日\"),\"◎\",\"\"))","v":""},"","◎","◎","","","","","","◎","◎","","","","","","◎","◎","","","","","","◎","◎","","","","","","◎","◎","","","","",null,null,null,null,null,null,null,null,null,null,"実施",{"$f":"IF(CX454=\"／\",\"／\",IF(OR(CX451=\"土\",CX451=\"日\"),\"◎\",\"\"))","v":""},{"$f":"IF(CY454=\"／\",\"／\",IF(OR(CY451=\"土\",CY451=\"日\"),\"◎\",\"\"))","v":""},"","◎","◎","","","","","","◎","◎","","","","","","◎","◎","","","","","","◎","◎","","","","","","◎","◎","","","",""]
["",null,"完全",{"$f":"IF(WEEKDAY(DATE(YEAR(D449),MONTH(D449),1),2)=1,DATE(YEAR(D449),MONTH(D449),1),EOMONTH(D449,-1)-MOD(WEEKDAY(EOMONTH(D449,-1),2)+6,7))","v":"2026-06-29"},"～",{"$f":"DATE(YEAR(D449),MONTH(D449),1)+MOD(7-WEEKDAY(DATE(YEAR(D449),MONTH(D449),1),2),7)","v":"2026-07-05"},{"$f":"IF(DAY(D458)=1,IF(COUNTIF(D454:J454,\"／\")>=1,\"対象外\",IF(COUNTIF(INDEX(D454:AN454,DAY(D458)):INDEX(D454:AN454,HLOOKUP(F458,D450:AN455,6,FALSE)),\"\")+COUNTIF(INDEX(D454:AN454,DAY(D458)):INDEX(D454:AN454,HLOOKUP(F458,D450:AN455,6,FALSE)),\"●\")=7,IF(COUNTIF(INDEX(D454:AN454,DAY(D458)):INDEX(D454:AN454,HLOOKUP(F458,D450:AN455,6,FALSE)),\"●\")>=2,\"OK\",\"OUT\"),IF(COUNTIF(INDEX(D454:AN454,DAY(D458)):INDEX(D454:AN454,HLOOKUP(F458,D450:AN455,6,FALSE)),\"●\")>=COUNTIF(INDEX(D457:AN457,DAY(D458)):INDEX(D457:AN457,HLOOKUP(F458,D450:AN455,6,FALSE)),\"○\"),\"OK\",\"OUT\"))),IF(AND(AK429=\"\",AE429=\"\"),Y429,IF(AK429=\"\",AE429,AK429)))","v":"「／」漏れ"},null,null,{"$f":"F458+1","v":"2026-07-06"},"～",{"$f":"F458+7","v":"2026-07-12"},{"$f":"IF(COUNTIF(INDEX(D454:AN454,DAY(J458)):INDEX(D454:AN454,HLOOKUP(L458,D450:AN455,6,FALSE)),\"\")+COUNTIF(INDEX(D454:AN454,DAY(J458)):INDEX(D454:AN454,HLOOKUP(L458,D450:AN455,6,FALSE)),\"●\")=7,IF(COUNTIF(INDEX(D454:AN454,DAY(J458)):INDEX(D454:AN454,HLOOKUP(L458,D450:AN455,6,FALSE)),\"●\")>=2,\"OK\",\"OUT\"),\"対象外\")","v":"OUT"},null,null,{"$f":"L458+1","v":"2026-07-13"},"～",{"$f":"L458+7","v":"2026-07-19"},{"$f":"IF(COUNTIF(INDEX(D454:AN454,DAY(P458)):INDEX(D454:AN454,HLOOKUP(R458,D450:AN455,6,FALSE)),\"\")+COUNTIF(INDEX(D454:AN454,DAY(P458)):INDEX(D454:AN454,HLOOKUP(R458,D450:AN455,6,FALSE)),\"●\")=7,IF(COUNTIF(INDEX(D454:AN454,DAY(P458)):INDEX(D454:AN454,HLOOKUP(R458,D450:AN455,6,FALSE)),\"●\")>=2,\"OK\",\"OUT\"),\"対象外\")","v":"OUT"},null,null,{"$f":"R458+1","v":"2026-07-20"},"～",{"$f":"R458+7","v":"2026-07-26"},{"$f":"IF(COUNTIF(INDEX(D454:AN454,DAY(V458)):INDEX(D454:AN454,HLOOKUP(X458,D450:AN455,6,FALSE)),\"\")+COUNTIF(INDEX(D454:AN454,DAY(V458)):INDEX(D454:AN454,HLOOKUP(X458,D450:AN455,6,FALSE)),\"●\")=7,IF(COUNTIF(INDEX(D454:AN454,DAY(V458)):INDEX(D454:AN454,HLOOKUP(X458,D450:AN455,6,FALSE)),\"●\")>=2,\"OK\",\"OUT\"),\"対象外\")","v":"OUT"},null,null,{"$f":"IF(AND(DAY(X458+7)<23,DAY(X458+7)>=7),\"\",X458+1)","v":"2026-07-27"},{"$f":"IF(AND(DAY(X458+7)<23,DAY(X458+7)>=7),\"\",\"～\")","v":"～"},{"$f":"IF(AND(DAY(X458+7)<23,DAY(X458+7)>=7),\"\",X458+7)","v":"2026-08-02"},{"$f":"IF(AND(DAY(X458+7)<23,DAY(X458+7)>=7),\"\",IF(COUNTIF(INDEX(D454:AN454,DAY(AB458)):INDEX(D454:AN454,HLOOKUP(AD458,D450:AN455,6,FALSE)),\"\")+COUNTIF(INDEX(D454:AN454,DAY(AB458)):INDEX(D454:AN454,HLOOKUP(AD458,D450:AN455,6,FALSE)),\"●\")=7,IF(COUNTIF(INDEX(D454:AN454,DAY(AB458)):INDEX(D454:AN454,HLOOKUP(AD458,D450:AN455,6,FALSE)),\"●\")>=2,\"OK\",\"OUT\"),IF(COUNTIF(INDEX(D454:AN454,DAY(AB458)):INDEX(D454:AN454,HLOOKUP(AD458,D450:AN455,6,FALSE)),\"\")+COUNTIF(INDEX(D454:AN454,DAY(AB458)):INDEX(D454:AN454,HLOOKUP(AD458,D450:AN455,6,FALSE)),\"●\")>7,\"「／」漏れ\",\"対象外\")))","v":"OUT"},null,null,{"$f":"IF(AE458=\"\",\"\",IF(AND(DAY(AD458+7)<23,DAY(AD458+7)>=7),\"\",AD458+1))","v":""},{"$f":"IF(AE458=\"\",\"\",IF(AND(DAY(AD458+7)<23,DAY(AD458+7)>=7),\"\",\"～\"))","v":""},{"$f":"IF(AE458=\"\",\"\",IF(AND(DAY(AD458+7)<23,DAY(AD458+7)>=7),\"\",AD458+7))","v":""},{"$f":"IF(AE458=\"\",\"\",IF(AND(DAY(AD458+7)<23,DAY(AD458+7)>=7),\"\",IF(COUNTIF(INDEX(D454:AN454,DAY(AH458)):INDEX(D454:AN454,HLOOKUP(AJ458,D450:AN455,6,FALSE)),\"\")+COUNTIF(INDEX(D454:AN454,DAY(AH458)):INDEX(D454:AN454,HLOOKUP(AJ458,D450:AN455,6,FALSE)),\"●\")=7,IF(COUNTIF(INDEX(D454:AN454,DAY(AH458)):INDEX(D454:AN454,HLOOKUP(AJ458,D450:AN455,6,FALSE)),\"●\")>=2,\"OK\",\"OUT\"),IF(COUNTIF(INDEX(D454:AN454,HLOOKUP(AH458,D450:AN455,6,FALSE)):INDEX(D454:AN454,HLOOKUP(AJ458,D450:AN455,6,FALSE)),\"\")+COUNTIF(INDEX(D454:AN454,HLOOKUP(AH458,D450:AN455,6,FALSE)):INDEX(D454:AN454,HLOOKUP(AJ458,D450:AN455,6,FALSE)),\"●\")>7,\"「／」漏れ\",\"対象外\"))))","v":""},null,null,null,null,null,null,null,"完全週休二日",{"$f":"IF(AT449=\"\",\"\",IF(COUNTIF(D458:AN458,\"OUT\")>=1,\"OUT\",\"OK\"))","v":""},null,null,null,null,null,null,"完全",{"$f":"IF(WEEKDAY(DATE(YEAR(BB449),MONTH(BB449),1),2)=1,DATE(YEAR(BB449),MONTH(BB449),1),EOMONTH(BB449,-1)-MOD(WEEKDAY(EOMONTH(BB449,-1),2)+6,7))","v":"2026-06-29"},"～",{"$f":"DATE(YEAR(BB449),MONTH(BB449),1)+MOD(7-WEEKDAY(DATE(YEAR(BB449),MONTH(BB449),1),2),7)","v":"2026-07-05"},{"$f":"IF(DAY(BB458)=1,IF(COUNTIF(BB454:BH454,\"／\")>=1,\"対象外\",IF(COUNTIF(INDEX(BB454:CL454,DAY(BB458)):INDEX(BB454:CL454,HLOOKUP(BD458,BB450:CL455,6,FALSE)),\"\")+COUNTIF(INDEX(BB454:CL454,DAY(BB458)):INDEX(BB454:CL454,HLOOKUP(BD458,BB450:CL455,6,FALSE)),\"●\")=7,IF(COUNTIF(INDEX(BB454:CL454,DAY(BB458)):INDEX(BB454:CL454,HLOOKUP(BD458,BB450:CL455,6,FALSE)),\"●\")>=2,\"OK\",\"OUT\"),IF(COUNTIF(INDEX(BB454:CL454,DAY(BB458)):INDEX(BB454:CL454,HLOOKUP(BD458,BB450:CL455,6,FALSE)),\"●\")>=COUNTIF(INDEX(BB457:CL457,DAY(BB458)):INDEX(BB457:CL457,HLOOKUP(BD458,BB450:CL455,6,FALSE)),\"○\"),\"OK\",\"OUT\"))),IF(AND(CI429=\"\",CC429=\"\"),BW429,IF(CI429=\"\",CC429,CI429)))","v":"OUT"},null,null,{"$f":"BD458+1","v":"2026-07-06"},"～",{"$f":"BD458+7","v":"2026-07-12"},{"$f":"IF(COUNTIF(INDEX(BB454:CL454,DAY(BH458)):INDEX(BB454:CL454,HLOOKUP(BJ458,BB450:CL455,6,FALSE)),\"\")+COUNTIF(INDEX(BB454:CL454,DAY(BH458)):INDEX(BB454:CL454,HLOOKUP(BJ458,BB450:CL455,6,FALSE)),\"●\")=7,IF(COUNTIF(INDEX(BB454:CL454,DAY(BH458)):INDEX(BB454:CL454,HLOOKUP(BJ458,BB450:CL455,6,FALSE)),\"●\")>=2,\"OK\",\"OUT\"),\"対象外\")","v":"OUT"},null,null,{"$f":"BJ458+1","v":"2026-07-13"},"～",{"$f":"BJ458+7","v":"2026-07-19"},{"$f":"IF(COUNTIF(INDEX(BB454:CL454,DAY(BN458)):INDEX(BB454:CL454,HLOOKUP(BP458,BB450:CL455,6,FALSE)),\"\")+COUNTIF(INDEX(BB454:CL454,DAY(BN458)):INDEX(BB454:CL454,HLOOKUP(BP458,BB450:CL455,6,FALSE)),\"●\")=7,IF(COUNTIF(INDEX(BB454:CL454,DAY(BN458)):INDEX(BB454:CL454,HLOOKUP(BP458,BB450:CL455,6,FALSE)),\"●\")>=2,\"OK\",\"OUT\"),\"対象外\")","v":"OUT"},null,null,{"$f":"BP458+1","v":"2026-07-20"},"～",{"$f":"BP458+7","v":"2026-07-26"},{"$f":"IF(COUNTIF(INDEX(BB454:CL454,DAY(BT458)):INDEX(BB454:CL454,HLOOKUP(BV458,BB450:CL455,6,FALSE)),\"\")+COUNTIF(INDEX(BB454:CL454,DAY(BT458)):INDEX(BB454:CL454,HLOOKUP(BV458,BB450:CL455,6,FALSE)),\"●\")=7,IF(COUNTIF(INDEX(BB454:CL454,DAY(BT458)):INDEX(BB454:CL454,HLOOKUP(BV458,BB450:CL455,6,FALSE)),\"●\")>=2,\"OK\",\"OUT\"),\"対象外\")","v":"OUT"},null,null,{"$f":"IF(AND(DAY(BV458+7)<23,DAY(BV458+7)>=7),\"\",BV458+1)","v":"2026-07-27"},{"$f":"IF(AND(DAY(BV458+7)<23,DAY(BV458+7)>=7),\"\",\"～\")","v":"～"},{"$f":"IF(AND(DAY(BV458+7)<23,DAY(BV458+7)>=7),\"\",BV458+7)","v":"2026-08-02"},{"$f":"IF(AND(DAY(BV458+7)<23,DAY(BV458+7)>=7),\"\",IF(COUNTIF(INDEX(BB454:CL454,DAY(BZ458)):INDEX(BB454:CL454,HLOOKUP(CB458,BB450:CL455,6,FALSE)),\"\")+COUNTIF(INDEX(BB454:CL454,DAY(BZ458)):INDEX(BB454:CL454,HLOOKUP(CB458,BB450:CL455,6,FALSE)),\"●\")=7,IF(COUNTIF(INDEX(BB454:CL454,DAY(BZ458)):INDEX(BB454:CL454,HLOOKUP(CB458,BB450:CL455,6,FALSE)),\"●\")>=2,\"OK\",\"OUT\"),IF(COUNTIF(INDEX(BB454:CL454,DAY(BZ458)):INDEX(BB454:CL454,HLOOKUP(CB458,BB450:CL455,6,FALSE)),\"\")+COUNTIF(INDEX(BB454:CL454,DAY(BZ458)):INDEX(BB454:CL454,HLOOKUP(CB458,BB450:CL455,6,FALSE)),\"●\")>7,\"「／」漏れ\",\"対象外\")))","v":"OUT"},null,null,{"$f":"IF(CC458=\"\",\"\",IF(AND(DAY(CB458+7)<23,DAY(CB458+7)>=7),\"\",CB458+1))","v":""},{"$f":"IF(CC458=\"\",\"\",IF(AND(DAY(CB458+7)<23,DAY(CB458+7)>=7),\"\",\"～\"))","v":""},{"$f":"IF(CC458=\"\",\"\",IF(AND(DAY(CB458+7)<23,DAY(CB458+7)>=7),\"\",CB458+7))","v":""},{"$f":"IF(CC458=\"\",\"\",IF(AND(DAY(CB458+7)<23,DAY(CB458+7)>=7),\"\",IF(COUNTIF(INDEX(BB454:CL454,DAY(CF458)):INDEX(BB454:CL454,HLOOKUP(CH458,BB450:CL455,6,FALSE)),\"\")+COUNTIF(INDEX(BB454:CL454,DAY(CF458)):INDEX(BB454:CL454,HLOOKUP(CH458,BB450:CL455,6,FALSE)),\"●\")=7,IF(COUNTIF(INDEX(BB454:CL454,DAY(CF458)):INDEX(BB454:CL454,HLOOKUP(CH458,BB450:CL455,6,FALSE)),\"●\")>=2,\"OK\",\"OUT\"),IF(COUNTIF(INDEX(BB454:CL454,HLOOKUP(CF458,BB450:CL455,6,FALSE)):INDEX(BB454:CL454,HLOOKUP(CH458,BB450:CL455,6,FALSE)),\"\")+COUNTIF(INDEX(BB454:CL454,HLOOKUP(CF458,BB450:CL455,6,FALSE)):INDEX(BB454:CL454,HLOOKUP(CH458,BB450:CL455,6,FALSE)),\"●\")>7,\"「／」漏れ\",\"対象外\"))))","v":""},null,null,null,null,null,null,null,"完全週休二日",{"$f":"IF(CR449=\"\",\"\",IF(COUNTIF(BB458:CL458,\"OUT\")>=1,\"OUT\",\"OK\"))","v":""},null,null,null,null,"完全",{"$f":"IF(WEEKDAY(DATE(YEAR(CX449),MONTH(CX449),1),2)=1,DATE(YEAR(CX449),MONTH(CX449),1),EOMONTH(CX449,-1)-MOD(WEEKDAY(EOMONTH(CX449,-1),2)+6,7))","v":"2026-06-29"},"～",{"$f":"DATE(YEAR(CX449),MONTH(CX449),1)+MOD(7-WEEKDAY(DATE(YEAR(CX449),MONTH(CX449),1),2),7)","v":"2026-07-05"},{"$f":"IF(DAY(CX458)=1,IF(COUNTIF(CX454:DD454,\"／\")>=1,\"対象外\",IF(COUNTIF(INDEX(CX454:EH454,DAY(CX458)):INDEX(CX454:EH454,HLOOKUP(CZ458,CX450:EH455,6,FALSE)),\"\")+COUNTIF(INDEX(CX454:EH454,DAY(CX458)):INDEX(CX454:EH454,HLOOKUP(CZ458,CX450:EH455,6,FALSE)),\"●\")=7,IF(COUNTIF(INDEX(CX454:EH454,DAY(CX458)):INDEX(CX454:EH454,HLOOKUP(CZ458,CX450:EH455,6,FALSE)),\"●\")>=2,\"OK\",\"OUT\"),IF(COUNTIF(INDEX(CX454:EH454,DAY(CX458)):INDEX(CX454:EH454,HLOOKUP(CZ458,CX450:EH455,6,FALSE)),\"●\")>=COUNTIF(INDEX(CX457:EH457,DAY(CX458)):INDEX(CX457:EH457,HLOOKUP(CZ458,CX450:EH455,6,FALSE)),\"○\"),\"OK\",\"OUT\"))),IF(AND(EE429=\"\",DY429=\"\"),DS429,IF(EE429=\"\",DY429,EE429)))","v":"OUT"},null,null,{"$f":"CZ458+1","v":"2026-07-06"},"～",{"$f":"CZ458+7","v":"2026-07-12"},{"$f":"IF(COUNTIF(INDEX(CX454:EH454,DAY(DD458)):INDEX(CX454:EH454,HLOOKUP(DF458,CX450:EH455,6,FALSE)),\"\")+COUNTIF(INDEX(CX454:EH454,DAY(DD458)):INDEX(CX454:EH454,HLOOKUP(DF458,CX450:EH455,6,FALSE)),\"●\")=7,IF(COUNTIF(INDEX(CX454:EH454,DAY(DD458)):INDEX(CX454:EH454,HLOOKUP(DF458,CX450:EH455,6,FALSE)),\"●\")>=2,\"OK\",\"OUT\"),\"対象外\")","v":"OUT"},null,null,{"$f":"DF458+1","v":"2026-07-13"},"～",{"$f":"DF458+7","v":"2026-07-19"},{"$f":"IF(COUNTIF(INDEX(CX454:EH454,DAY(DJ458)):INDEX(CX454:EH454,HLOOKUP(DL458,CX450:EH455,6,FALSE)),\"\")+COUNTIF(INDEX(CX454:EH454,DAY(DJ458)):INDEX(CX454:EH454,HLOOKUP(DL458,CX450:EH455,6,FALSE)),\"●\")=7,IF(COUNTIF(INDEX(CX454:EH454,DAY(DJ458)):INDEX(CX454:EH454,HLOOKUP(DL458,CX450:EH455,6,FALSE)),\"●\")>=2,\"OK\",\"OUT\"),\"対象外\")","v":"OUT"},null,null,{"$f":"DL458+1","v":"2026-07-20"},"～",{"$f":"DL458+7","v":"2026-07-26"},{"$f":"IF(COUNTIF(INDEX(CX454:EH454,DAY(DP458)):INDEX(CX454:EH454,HLOOKUP(DR458,CX450:EH455,6,FALSE)),\"\")+COUNTIF(INDEX(CX454:EH454,DAY(DP458)):INDEX(CX454:EH454,HLOOKUP(DR458,CX450:EH455,6,FALSE)),\"●\")=7,IF(COUNTIF(INDEX(CX454:EH454,DAY(DP458)):INDEX(CX454:EH454,HLOOKUP(DR458,CX450:EH455,6,FALSE)),\"●\")>=2,\"OK\",\"OUT\"),\"対象外\")","v":"OUT"},null,null,{"$f":"IF(AND(DAY(DR458+7)<23,DAY(DR458+7)>=7),\"\",DR458+1)","v":"2026-07-27"},{"$f":"IF(AND(DAY(DR458+7)<23,DAY(DR458+7)>=7),\"\",\"～\")","v":"～"},{"$f":"IF(AND(DAY(DR458+7)<23,DAY(DR458+7)>=7),\"\",DR458+7)","v":"2026-08-02"},{"$f":"IF(AND(DAY(DR458+7)<23,DAY(DR458+7)>=7),\"\",IF(COUNTIF(INDEX(CX454:EH454,DAY(DV458)):INDEX(CX454:EH454,HLOOKUP(DX458,CX450:EH455,6,FALSE)),\"\")+COUNTIF(INDEX(CX454:EH454,DAY(DV458)):INDEX(CX454:EH454,HLOOKUP(DX458,CX450:EH455,6,FALSE)),\"●\")=7,IF(COUNTIF(INDEX(CX454:EH454,DAY(DV458)):INDEX(CX454:EH454,HLOOKUP(DX458,CX450:EH455,6,FALSE)),\"●\")>=2,\"OK\",\"OUT\"),IF(COUNTIF(INDEX(CX454:EH454,DAY(DV458)):INDEX(CX454:EH454,HLOOKUP(DX458,CX450:EH455,6,FALSE)),\"\")+COUNTIF(INDEX(CX454:EH454,DAY(DV458)):INDEX(CX454:EH454,HLOOKUP(DX458,CX450:EH455,6,FALSE)),\"●\")>7,\"「／」漏れ\",\"対象外\")))","v":"OUT"},null,null,{"$f":"IF(DY458=\"\",\"\",IF(AND(DAY(DX458+7)<23,DAY(DX458+7)>=7),\"\",DX458+1))","v":""},{"$f":"IF(DY458=\"\",\"\",IF(AND(DAY(DX458+7)<23,DAY(DX458+7)>=7),\"\",\"～\"))","v":""},{"$f":"IF(DY458=\"\",\"\",IF(AND(DAY(DX458+7)<23,DAY(DX458+7)>=7),\"\",DX458+7))","v":""},{"$f":"IF(DY458=\"\",\"\",IF(AND(DAY(DX458+7)<23,DAY(DX458+7)>=7),\"\",IF(COUNTIF(INDEX(CX454:EH454,DAY(EB458)):INDEX(CX454:EH454,HLOOKUP(ED458,CX450:EH455,6,FALSE)),\"\")+COUNTIF(INDEX(CX454:EH454,DAY(EB458)):INDEX(CX454:EH454,HLOOKUP(ED458,CX450:EH455,6,FALSE)),\"●\")=7,IF(COUNTIF(INDEX(CX454:EH454,DAY(EB458)):INDEX(CX454:EH454,HLOOKUP(ED458,CX450:EH455,6,FALSE)),\"●\")>=2,\"OK\",\"OUT\"),IF(COUNTIF(INDEX(CX454:EH454,HLOOKUP(EB458,CX450:EH455,6,FALSE)):INDEX(CX454:EH454,HLOOKUP(ED458,CX450:EH455,6,FALSE)),\"\")+COUNTIF(INDEX(CX454:EH454,HLOOKUP(EB458,CX450:EH455,6,FALSE)):INDEX(CX454:EH454,HLOOKUP(ED458,CX450:EH455,6,FALSE)),\"●\")>7,\"「／」漏れ\",\"対象外\"))))","v":""},null,null,null,null,null,null,null,"完全週休二日",{"$f":"IF(EN449=\"\",\"\",IF(COUNTIF(CX458:EH458,\"OUT\")>=1,\"OUT\",\"OK\"))","v":""}]
[""]
[{"$f":"IF(AND(NOT($AT$449=\"\"),$AT$478=\"\"),\"対象期間\",\"\")","v":""}]
[{"$f":"IF(AND(NOT($AT$449=\"\"),$AT$478=\"\"),\"対象期間\",\"\")","v":""},null,"※１工事着手日：始期日以降に準備工事（現場事務所の建設・測量等）、工場製作を含む工事における工場製作工に着手した日",null,null,null,null,null,null,null,null,null,null,null,null,null,null,null,null,null,null,null,null,null,null,null,null,null,null,null,null,null,null,null,null,null,null,null,null,null,null,null,null,"工事全体の確認",null,null,null,null,null,null,null,null,"※１工事着手日：始期日以降に準備工事（現場事務所の建設・測量等）、工場製作を含む工事における工場製作工に着手した日",null,null,null,null,null,null,null,null,null,null,null,null,null,null,null,null,null,null,null,null,null,null,null,null,null,null,null,null,null,null,null,null,null,null,null,null,null,null,null,null,"工事全体の確認",null,null,null,null,null,null,"※１工事着手日：始期日以降に準備工事（現場事務所の建設・測量等）、工場製作を含む工事における工場製作工に着手した日",null,null,null,null,null,null,null,null,null,null,null,null,null,null,null,null,null,null,null,null,null,null,null,null,null,null,null,null,null,null,null,null,null,null,null,null,null,null,null,null,"工事全体の確認"]
["",null,"※２作業完了日：工事施工範囲内で全ての作業（後片付けを含む）が完了した日\n　　　　　　　　　  （工事現場事務所は工事施工範囲外に設置するため、ここでいう後片付けの対象に含まない）",null,null,null,null,null,null,null,null,null,null,null,null,null,null,null,null,null,null,null,null,null,null,null,null,null,null,null,null,null,null,null,null,null,null,null,null,null,null,null,null,"計画","全対象期間",{"$f":"IFERROR(AT433+AT449,\"\")","v":""},null,null,null,null,null,null,"※２作業完了日：工事施工範囲内で全ての作業（後片付けを含む）が完了した日\n　　　　　　　　　  （工事現場事務所は工事施工範囲外に設置するため、ここでいう後片付けの対象に含まない）",null,null,null,null,null,null,null,null,null,null,null,null,null,null,null,null,null,null,null,null,null,null,null,null,null,null,null,null,null,null,null,null,null,null,null,null,null,null,null,null,"計画","全対象期間",{"$f":"IFERROR(CR433+CR449,\"\")","v":""},null,null,null,null,"※２作業完了日：工事施工範囲内で全ての作業（後片付けを含む）が完了した日\n　　　　　　　　　  （工事現場事務所は工事施工範囲外に設置するため、ここでいう後片付けの対象に含まない）",null,null,null,null,null,null,null,null,null,null,null,null,null,null,null,null,null,null,null,null,null,null,null,null,null,null,null,null,null,null,null,null,null,null,null,null,null,null,null,null,"計画","全対象期間",{"$f":"IFERROR(EN433+EN449,\"\")","v":""}]
["",null,null,null,null,null,null,null,null,null,null,null,null,null,null,null,null,null,null,null,null,null,null,null,null,null,null,null,null,null,null,null,null,null,null,null,null,null,null,null,null,null,null,null,"全現場閉所日数",{"$f":"IFERROR(AT434+AT450,\"\")","v":""},null,null,null,null,null,null,null,null,null,null,null,null,null,null,null,null,null,null,null,null,null,null,null,null,null,null,null,null,null,null,null,null,null,null,null,null,null,null,null,null,null,null,null,null,null,null,null,null,"全現場閉所日数",{"$f":"IFERROR(CR434+CR450,\"\")","v":""},null,null,null,null,null,null,null,null,null,null,null,null,null,null,null,null,null,null,null,null,null,null,null,null,null,null,null,null,null,null,null,null,null,null,null,null,null,null,null,null,null,null,null,null,null,null,"全現場閉所日数",{"$f":"IFERROR(EN434+EN450,\"\")","v":""}]
["",null,"【算定除外期間】：夏季休暇（8月13日～8月15日）、年末年始（12月29日～翌年1月3日）は算定期間の分母・分子に含めない",null,null,null,null,null,null,null,null,null,null,null,null,null,null,null,null,null,null,null,null,null,null,null,null,null,null,null,null,null,null,null,null,null,null,null,null,null,null,null,null,null,"現場閉所率",{"$f":"IFERROR(+AT463/AT462,\"\")","v":""},{"$f":"IF(AT464>=0.285,\"4週8休以上\",\"週休2日未達成\")","v":"4週8休以上"},null,null,null,null,null,"【算定除外期間】：夏季休暇（8月13日～8月15日）、年末年始（12月29日～翌年1月3日）は算定期間の分母・分子に含めない",null,null,null,null,null,null,null,null,null,null,null,null,null,null,null,null,null,null,null,null,null,null,null,null,null,null,null,null,null,null,null,null,null,null,null,null,null,null,null,null,null,"現場閉所率",{"$f":"IFERROR(+CR463/CR462,\"\")","v":""},{"$f":"IF(CR464>=0.285,\"4週8休以上\",\"週休2日未達成\")","v":"4週8休以上"},null,null,null,"【算定除外期間】：夏季休暇（8月13日～8月15日）、年末年始（12月29日～翌年1月3日）は算定期間の分母・分子に含めない",null,null,null,null,null,null,null,null,null,null,null,null,null,null,null,null,null,null,null,null,null,null,null,null,null,null,null,null,null,null,null,null,null,null,null,null,null,null,null,null,null,"現場閉所率",{"$f":"IFERROR(+EN463/EN462,\"\")","v":""},{"$f":"IF(EN464>=0.285,\"4週8休以上\",\"週休2日未達成\")","v":"4週8休以上"}]
["",null,"※３工事期間の全ての月において、達成状況を確認し、一度でも達成できない月があれば、４週８休以上（月単位）は「未達成」となり、補正の対象とならない。\n　　月によっては、土日を全て閉所しても現場閉所率が28.5％に満たない場合があるが、その月の対象期間の土日日数以上閉所していれば達成とみなす。\n\n※４工事対象期間のうち、一度でも完全週休２日（月～日で２日以上の現場閉所）を達成できなければ、\n　　 完全週休２日は「未達成」となり、補正の対象とならない。\n　　 なお、工期始期・終期、年末年始、夏季休暇などにより、７日間に満たない期間は完全週休２日の達成判断の対象外とする。",null,null,null,null,null,null,null,null,null,null,null,null,null,null,null,null,null,null,null,null,null,null,null,null,null,null,null,null,null,null,null,null,null,null,null,null,null,null,null,null,"実施","全対象期間",{"$f":"IFERROR(AT436+AT452,\"\")","v":""},null,null,null,null,null,null,"※３工事期間の全ての月において、達成状況を確認し、一度でも達成できない月があれば、４週８休以上（月単位）は「未達成」となり、補正の対象とならない。\n　　月によっては、土日を全て閉所しても現場閉所率が28.5％に満たない場合があるが、その月の対象期間の土日日数以上閉所していれば達成とみなす。\n\n※４工事対象期間のうち、一度でも完全週休２日（月～日で２日以上の現場閉所）を達成できなければ、\n　　 完全週休２日は「未達成」となり、補正の対象とならない。\n　　 なお、工期始期・終期、年末年始、夏季休暇などにより、７日間に満たない期間は完全週休２日の達成判断の対象外とする。",null,null,null,null,null,null,null,null,null,null,null,null,null,null,null,null,null,null,null,null,null,null,null,null,null,null,null,null,null,null,null,null,null,null,null,null,null,null,null,null,"実施","全対象期間",{"$f":"IFERROR(CR436+CR452,\"\")","v":""},null,null,null,null,"※３工事期間の全ての月において、達成状況を確認し、一度でも達成できない月があれば、４週８休以上（月単位）は「未達成」となり、補正の対象とならない。\n　　月によっては、土日を全て閉所しても現場閉所率が28.5％に満たない場合があるが、その月の対象期間の土日日数以上閉所していれば達成とみなす。\n\n※４工事対象期間のうち、一度でも完全週休２日（月～日で２日以上の現場閉所）を達成できなければ、\n　　 完全週休２日は「未達成」となり、補正の対象とならない。\n　　 なお、工期始期・終期、年末年始、夏季休暇などにより、７日間に満たない期間は完全週休２日の達成判断の対象外とする。",null,null,null,null,null,null,null,null,null,null,null,null,null,null,null,null,null,null,null,null,null,null,null,null,null,null,null,null,null,null,null,null,null,null,null,null,null,null,null,null,"実施","全対象期間",{"$f":"IFERROR(EN436+EN452,\"\")","v":""}]
["",null,null,null,null,null,null,null,null,null,null,null,null,null,null,null,null,null,null,null,null,null,null,null,null,null,null,null,null,null,null,null,null,null,null,null,null,null,null,null,null,null,null,null,"全現場閉所日数",{"$f":"IFERROR(AT437+AT453,\"\")","v":""},null,null,null,null,null,null,null,null,null,null,null,null,null,null,null,null,null,null,null,null,null,null,null,null,null,null,null,null,null,null,null,null,null,null,null,null,null,null,null,null,null,null,null,null,null,null,null,null,"全現場閉所日数",{"$f":"IFERROR(CR437+CR453,\"\")","v":""},null,null,null,null,null,null,null,null,null,null,null,null,null,null,null,null,null,null,null,null,null,null,null,null,null,null,null,null,null,null,null,null,null,null,null,null,null,null,null,null,null,null,null,null,null,null,"全現場閉所日数",{"$f":"IFERROR(EN437+EN453,\"\")","v":""}]
["",null,null,null,null,null,null,null,null,null,null,null,null,null,null,null,null,null,null,null,null,null,null,null,null,null,null,null,null,null,null,null,null,null,null,null,null,null,null,null,null,null,null,null,"現場閉所率",{"$f":"IFERROR(+AT466/AT465,\"\")","v":""},{"$f":"IF(AT467>=0.285,\"4週8休以上\",\"週休2日未達成\")","v":"4週8休以上"},null,null,null,null,null,null,null,null,null,null,null,null,null,null,null,null,null,null,null,null,null,null,null,null,null,null,null,null,null,null,null,null,null,null,null,null,null,null,null,null,null,null,null,null,null,null,null,"現場閉所率",{"$f":"IFERROR(+CR466/CR465,\"\")","v":""},{"$f":"IF(CR467>=0.285,\"4週8休以上\",\"週休2日未達成\")","v":"4週8休以上"},null,null,null,null,null,null,null,null,null,null,null,null,null,null,null,null,null,null,null,null,null,null,null,null,null,null,null,null,null,null,null,null,null,null,null,null,null,null,null,null,null,null,null,null,null,"現場閉所率",{"$f":"IFERROR(+EN466/EN465,\"\")","v":""},{"$f":"IF(EN467>=0.285,\"4週8休以上\",\"週休2日未達成\")","v":"4週8休以上"}]
["",null,null,null,null,null,null,null,null,null,null,null,null,null,null,null,null,null,null,null,null,null,null,null,null,null,null,null,null,null,null,null,null,null,null,null,null,null,null,null,null,null,null,null,"閉所（月単位）",{"$f":"IFERROR(COUNTIF(AS$14:$AS458,\"4週8休以上\")/(COUNTIF(AS$14:$AS458,\"4週8休以上\")+COUNTIF(AS$14:$AS458,\"週休2日未達成\")),\"\")","v":""},{"$f":"IF(OR(AT468=100%,AT468=\"\"),\"達成\",\"未達成\")","v":"達成"},null,null,null,null,null,null,null,null,null,null,null,null,null,null,null,null,null,null,null,null,null,null,null,null,null,null,null,null,null,null,null,null,null,null,null,null,null,null,null,null,null,null,null,null,null,null,null,"閉所（月単位）",{"$f":"IFERROR(COUNTIF(CQ$14:$CQ458,\"4週8休以上\")/(COUNTIF(CQ$14:$CQ458,\"4週8休以上\")+COUNTIF(CQ$14:$CQ458,\"週休2日未達成\")),\"\")","v":0},{"$f":"IF(OR(CR468=100%,CR468=\"\"),\"達成\",\"未達成\")","v":"未達成"},null,null,null,null,null,null,null,null,null,null,null,null,null,null,null,null,null,null,null,null,null,null,null,null,null,null,null,null,null,null,null,null,null,null,null,null,null,null,null,null,null,null,null,null,null,"閉所（月単位）",{"$f":"IFERROR(COUNTIF($EM$14:EM458,\"4週8休以上\")/(COUNTIF($EM$14:EM458,\"4週8休以上\")+COUNTIF($EM$14:EM458,\"週休2日未達成\")),\"\")","v":1},{"$f":"IF(OR(EN468=100%,EN468=\"\"),\"達成\",\"未達成\")","v":"達成"}]
["",null,null,null,null,null,null,null,null,null,null,null,null,null,null,null,null,null,null,null,null,null,null,null,null,null,null,null,null,null,null,null,null,null,null,null,null,null,null,null,null,null,null,null,"完全週休二日",{"$f":"IF(COUNTIF(AS$14:$AS458,\"OUT\")>=1,\"OUT\",\"OK\")","v":"OK"},{"$f":"IF(AT469=\"OK\",\"達成\",\"未達成\")","v":"達成"},null,null,null,null,null,null,null,null,null,null,null,null,null,null,null,null,null,null,null,null,null,null,null,null,null,null,null,null,null,null,null,null,null,null,null,null,null,null,null,null,null,null,null,null,null,null,null,"完全週休二日",{"$f":"IF(COUNTIF(CQ$14:$CQ458,\"OUT\")>=1,\"OUT\",\"OK\")","v":"OUT"},{"$f":"IF(CR469=\"OK\",\"達成\",\"未達成\")","v":"未達成"},null,null,null,null,null,null,null,null,null,null,null,null,null,null,null,null,null,null,null,null,null,null,null,null,null,null,null,null,null,null,null,null,null,null,null,null,null,null,null,null,null,null,null,null,null,"完全週休二日",{"$f":"IF(COUNTIF($EM$14:EM458,\"OUT\")>=1,\"OUT\",\"OK\")","v":"OUT"},{"$f":"IF(EN469=\"OK\",\"達成\",\"未達成\")","v":"未達成"}]
["",null,"※必要に応じて各月の完全週休2日（月～日）の達成判定の行を修正してください。（曜日に合わせて修正）",null,null,null,null,null,null,null,null,null,null,null,null,null,null,null,null,null,null,null,null,null,null,null,null,null,null,null,null,null,null,null,null,null,null,null,null,null,null,null,null,null,null,null,null,null,null,null,null,null,"※必要に応じて各月の完全週休2日（月～日）の達成判定の行を修正してください。（曜日に合わせて修正）",null,null,null,null,null,null,null,null,null,null,null,null,null,null,null,null,null,null,null,null,null,null,null,null,null,null,null,null,null,null,null,null,null,null,null,null,null,null,null,null,null,null,null,null,null,null,null,"※必要に応じて各月の完全週休2日（月～日）の達成判定の行を修正してください。（曜日に合わせて修正）"]
[""]
[""]
[""]
[""]
[""]
["",null,"算定除外期間以外の祝日（ＧＷ含む）は、算定期間（分母）の対象＝現場閉所の場合は分子にカウントして現場閉所率を算定",null,null,null,null,null,null,null,null,null,null,null,null,null,null,null,null,null,null,null,null,null,null,null,null,null,null,null,null,null,null,null,null,null,null,null,null,null,null,null,null,null,null,null,null,null,null,null,null,null,"算定除外期間以外の祝日（ＧＷ含む）は、算定期間（分母）の対象＝現場閉所の場合は分子にカウントして現場閉所率を算定",null,null,null,null,null,null,null,null,null,null,null,null,null,null,null,null,null,null,null,null,null,null,null,null,null,null,null,null,null,null,null,null,null,null,null,null,null,null,null,null,null,null,null,null,null,null,null,"算定除外期間以外の祝日（ＧＷ含む）は、算定期間（分母）の対象＝現場閉所の場合は分子にカウントして現場閉所率を算定"]
[""]
[{"$f":"IF($AT$478=\"\",\"\",\"対象期間\")","v":""},null,"月",{"$f":"DATE(YEAR(D449),MONTH(D449)+1,1)","v":"2026-08-01"},null,null,null,null,null,null,null,null,null,null,null,null,null,null,null,null,null,null,null,null,null,null,null,null,null,null,null,null,null,null,{"$f":"DATE(YEAR(D478),MONTH(D478)+1,1)","v":"2026-09-01"},null,null,null,null,null,"現場閉所計","現場閉所累計",null,"計画","対象期間",{"$f":"IF(IF(MONTH(入力表!$E$6)=12,YEAR(入力表!$E$6)+1&\"01\",YEAR(入力表!$E$6)&TEXT(MONTH(入力表!$E$6)+1,\"00\"))>YEAR($D478)&TEXT(MONTH($D478),\"00\"),COUNTIF(D482:AH482,\"\")+COUNTIF(D482:AH482,\"○\"),\"\")","v":""},{"$f":"IF(COUNTIF(D479:AH479,\"／\")=0,\"\",IF(COUNTIF(D479:AH479,\"／\")=1,IF(AH482=\"／\",\"\",\"月末「／」漏れ\"),IF(COUNTIF(D479:AH479,\"／\")=2,IF(AND(AG482=\"／\",AH482=\"／\"),\"\",\"月末「／」漏れ\"),IF(AND(AF482=\"／\",AG482=\"／\",AH482=\"／\"),\"\",\"月末「／」漏れ\"))))","v":""},null,null,null,null,null,"月",{"$f":"DATE(YEAR(BB449),MONTH(BB449)+1,1)","v":"2026-08-01"},null,null,null,null,null,null,null,null,null,null,null,null,null,null,null,null,null,null,null,null,null,null,null,null,null,null,null,null,null,null,{"$f":"DATE(YEAR(BB478),MONTH(BB478)+1,1)","v":"2026-09-01"},null,null,null,null,null,"現場閉所計","現場閉所累計",null,"計画","対象期間",{"$f":"IF(IF(MONTH($BL$5)=12,YEAR($BL$5)+1&\"01\",YEAR($BL$5)&TEXT(MONTH($BL$5)+1,\"00\"))>YEAR(BB478)&TEXT(MONTH(BB478),\"00\"),COUNTIF(BB482:CF482,\"\")+COUNTIF(BB482:CF482,\"○\"),\"\")","v":""},{"$f":"IF(COUNTIF(BB479:CF479,\"／\")=0,\"\",IF(COUNTIF(BB479:CF479,\"／\")=1,IF(CF482=\"／\",\"\",\"月末「／」漏れ\"),IF(COUNTIF(BB479:CF479,\"／\")=2,IF(AND(CE482=\"／\",CF482=\"／\"),\"\",\"月末「／」漏れ\"),IF(AND(CD482=\"／\",CE482=\"／\",CF482=\"／\"),\"\",\"月末「／」漏れ\"))))","v":""},null,null,null,"月",{"$f":"DATE(YEAR(CX449),MONTH(CX449)+1,1)","v":"2026-08-01"},null,null,null,null,null,null,null,null,null,null,null,null,null,null,null,null,null,null,null,null,null,null,null,null,null,null,null,null,null,null,{"$f":"DATE(YEAR(CX478),MONTH(CX478)+1,1)","v":"2026-09-01"},null,null,null,null,null,"現場閉所計","現場閉所累計",null,"計画","対象期間",{"$f":"IF(IF(MONTH($BL$5)=12,YEAR($BL$5)+1&\"01\",YEAR($BL$5)&TEXT(MONTH($BL$5)+1,\"00\"))>YEAR($CX478)&TEXT(MONTH($CX478),\"00\"),COUNTIF(CX482:EB482,\"\")+COUNTIF(CX482:EB482,\"○\"),\"\")","v":""},{"$f":"IF(COUNTIF(CX479:EB479,\"／\")=0,\"\",IF(COUNTIF(CX479:EB479,\"／\")=1,IF(EB482=\"／\",\"\",\"月末「／」漏れ\"),IF(COUNTIF(CX479:EB479,\"／\")=2,IF(AND(EA482=\"／\",EB482=\"／\"),\"\",\"月末「／」漏れ\"),IF(AND(DZ482=\"／\",EA482=\"／\",EB482=\"／\"),\"\",\"月末「／」漏れ\"))))","v":""}]
[{"$f":"IF($AT$478=\"\",\"\",\"対象期間\")","v":""},null,"日",{"$f":"D478","v":"2026-08-01"},{"$f":"D479+1","v":"2026-08-02"},{"$f":"E479+1","v":"2026-08-03"},{"$f":"F479+1","v":"2026-08-04"},{"$f":"G479+1","v":"2026-08-05"},{"$f":"H479+1","v":"2026-08-06"},{"$f":"I479+1","v":"2026-08-07"},{"$f":"J479+1","v":"2026-08-08"},{"$f":"K479+1","v":"2026-08-09"},{"$f":"L479+1","v":"2026-08-10"},{"$f":"M479+1","v":"2026-08-11"},{"$f":"N479+1","v":"2026-08-12"},{"$f":"O479+1","v":"2026-08-13"},{"$f":"P479+1","v":"2026-08-14"},{"$f":"Q479+1","v":"2026-08-15"},{"$f":"R479+1","v":"2026-08-16"},{"$f":"S479+1","v":"2026-08-17"},{"$f":"T479+1","v":"2026-08-18"},{"$f":"U479+1","v":"2026-08-19"},{"$f":"V479+1","v":"2026-08-20"},{"$f":"W479+1","v":"2026-08-21"},{"$f":"X479+1","v":"2026-08-22"},{"$f":"Y479+1","v":"2026-08-23"},{"$f":"Z479+1","v":"2026-08-24"},{"$f":"AA479+1","v":"2026-08-25"},{"$f":"AB479+1","v":"2026-08-26"},{"$f":"AC479+1","v":"2026-08-27"},{"$f":"AD479+1","v":"2026-08-28"},{"$f":"IF(AE479=\"／\",\"／\",IF(YEAR($D478)&TEXT(MONTH($D478),\"00\")<YEAR(AE479+1)&TEXT(MONTH(AE479+1),\"00\"),\"／\",AE479+1))","v":"2026-08-29"},{"$f":"IF(AF479=\"／\",\"／\",IF(YEAR($D478)&TEXT(MONTH($D478),\"00\")<YEAR(AF479+1)&TEXT(MONTH(AF479+1),\"00\"),\"／\",AF479+1))","v":"2026-08-30"},{"$f":"IF(AG479=\"／\",\"／\",IF(YEAR($D478)&TEXT(MONTH($D478),\"00\")<YEAR(AG479+1)&TEXT(MONTH(AG479+1),\"00\"),\"／\",AG479+1))","v":"2026-08-31"},{"$f":"AI478","v":"2026-09-01"},{"$f":"AI479+1","v":"2026-09-02"},{"$f":"AJ479+1","v":"2026-09-03"},{"$f":"AK479+1","v":"2026-09-04"},{"$f":"AL479+1","v":"2026-09-05"},{"$f":"AM479+1","v":"2026-09-06"},null,null,null,null,"閉所日数",{"$f":"IF(IF(MONTH(入力表!$E$6)=12,YEAR(入力表!$E$6)+1&\"01\",YEAR(入力表!$E$6)&TEXT(MONTH(入力表!$E$6)+1,\"00\"))>YEAR($D478)&TEXT(MONTH($D478),\"00\"),COUNTIF(D482:AH482,\"○\"),\"\")","v":""},{"$f":"IF(OR(MONTH(D478)=1,MONTH(D478)=8,MONTH(D478)=12),IF(COUNTIF(D482:AH482,\"／\")>=3,\"\",\"算定除外「／」漏れ\"),\"\")","v":"算定除外「／」漏れ"},null,null,null,null,null,"日",{"$f":"BB478","v":"2026-08-01"},{"$f":"BB479+1","v":"2026-08-02"},{"$f":"BC479+1","v":"2026-08-03"},{"$f":"BD479+1","v":"2026-08-04"},{"$f":"BE479+1","v":"2026-08-05"},{"$f":"BF479+1","v":"2026-08-06"},{"$f":"BG479+1","v":"2026-08-07"},{"$f":"BH479+1","v":"2026-08-08"},{"$f":"BI479+1","v":"2026-08-09"},{"$f":"BJ479+1","v":"2026-08-10"},{"$f":"BK479+1","v":"2026-08-11"},{"$f":"BL479+1","v":"2026-08-12"},{"$f":"BM479+1","v":"2026-08-13"},{"$f":"BN479+1","v":"2026-08-14"},{"$f":"BO479+1","v":"2026-08-15"},{"$f":"BP479+1","v":"2026-08-16"},{"$f":"BQ479+1","v":"2026-08-17"},{"$f":"BR479+1","v":"2026-08-18"},{"$f":"BS479+1","v":"2026-08-19"},{"$f":"BT479+1","v":"2026-08-20"},{"$f":"BU479+1","v":"2026-08-21"},{"$f":"BV479+1","v":"2026-08-22"},{"$f":"BW479+1","v":"2026-08-23"},{"$f":"BX479+1","v":"2026-08-24"},{"$f":"BY479+1","v":"2026-08-25"},{"$f":"BZ479+1","v":"2026-08-26"},{"$f":"CA479+1","v":"2026-08-27"},{"$f":"CB479+1","v":"2026-08-28"},{"$f":"IF(CC479=\"／\",\"／\",IF(YEAR(BB478)&TEXT(MONTH(BB478),\"00\")<YEAR(CC479+1)&TEXT(MONTH(CC479+1),\"00\"),\"／\",CC479+1))","v":"2026-08-29"},{"$f":"IF(CD479=\"／\",\"／\",IF(YEAR(BB478)&TEXT(MONTH(BB478),\"00\")<YEAR(CD479+1)&TEXT(MONTH(CD479+1),\"00\"),\"／\",CD479+1))","v":"2026-08-30"},{"$f":"IF(CE479=\"／\",\"／\",IF(YEAR(BB478)&TEXT(MONTH(BB478),\"00\")<YEAR(CE479+1)&TEXT(MONTH(CE479+1),\"00\"),\"／\",CE479+1))","v":"2026-08-31"},{"$f":"CG478","v":"2026-09-01"},{"$f":"CG479+1","v":"2026-09-02"},{"$f":"CH479+1","v":"2026-09-03"},{"$f":"CI479+1","v":"2026-09-04"},{"$f":"CJ479+1","v":"2026-09-05"},{"$f":"CK479+1","v":"2026-09-06"},null,null,null,null,"閉所日数",{"$f":"IF(IF(MONTH($BL$5)=12,YEAR($BL$5)+1&\"01\",YEAR($BL$5)&TEXT(MONTH($BL$5)+1,\"00\"))>YEAR(BB478)&TEXT(MONTH(BB478),\"00\"),COUNTIF(BB482:CF482,\"○\"),\"\")","v":""},{"$f":"IF(OR(MONTH(BB478)=1,MONTH(BB478)=8,MONTH(BB478)=12),IF(COUNTIF(BB482:CF482,\"／\")>=3,\"\",\"算定除外「／」漏れ\"),\"\")","v":"算定除外「／」漏れ"},null,null,null,"日",{"$f":"CX478","v":"2026-08-01"},{"$f":"CX479+1","v":"2026-08-02"},{"$f":"CY479+1","v":"2026-08-03"},{"$f":"CZ479+1","v":"2026-08-04"},{"$f":"DA479+1","v":"2026-08-05"},{"$f":"DB479+1","v":"2026-08-06"},{"$f":"DC479+1","v":"2026-08-07"},{"$f":"DD479+1","v":"2026-08-08"},{"$f":"DE479+1","v":"2026-08-09"},{"$f":"DF479+1","v":"2026-08-10"},{"$f":"DG479+1","v":"2026-08-11"},{"$f":"DH479+1","v":"2026-08-12"},{"$f":"DI479+1","v":"2026-08-13"},{"$f":"DJ479+1","v":"2026-08-14"},{"$f":"DK479+1","v":"2026-08-15"},{"$f":"DL479+1","v":"2026-08-16"},{"$f":"DM479+1","v":"2026-08-17"},{"$f":"DN479+1","v":"2026-08-18"},{"$f":"DO479+1","v":"2026-08-19"},{"$f":"DP479+1","v":"2026-08-20"},{"$f":"DQ479+1","v":"2026-08-21"},{"$f":"DR479+1","v":"2026-08-22"},{"$f":"DS479+1","v":"2026-08-23"},{"$f":"DT479+1","v":"2026-08-24"},{"$f":"DU479+1","v":"2026-08-25"},{"$f":"DV479+1","v":"2026-08-26"},{"$f":"DW479+1","v":"2026-08-27"},{"$f":"DX479+1","v":"2026-08-28"},{"$f":"IF(DY479=\"／\",\"／\",IF(YEAR(CX478)&TEXT(MONTH(CX478),\"00\")<YEAR(DY479+1)&TEXT(MONTH(DY479+1),\"00\"),\"／\",DY479+1))","v":"2026-08-29"},{"$f":"IF(DZ479=\"／\",\"／\",IF(YEAR(CX478)&TEXT(MONTH(CX478),\"00\")<YEAR(DZ479+1)&TEXT(MONTH(DZ479+1),\"00\"),\"／\",DZ479+1))","v":"2026-08-30"},{"$f":"IF(EA479=\"／\",\"／\",IF(YEAR(CX478)&TEXT(MONTH(CX478),\"00\")<YEAR(EA479+1)&TEXT(MONTH(EA479+1),\"00\"),\"／\",EA479+1))","v":"2026-08-31"},{"$f":"EC478","v":"2026-09-01"},{"$f":"EC479+1","v":"2026-09-02"},{"$f":"ED479+1","v":"2026-09-03"},{"$f":"EE479+1","v":"2026-09-04"},{"$f":"EF479+1","v":"2026-09-05"},{"$f":"EG479+1","v":"2026-09-06"},null,null,null,null,"閉所日数",{"$f":"IF(IF(MONTH($BL$5)=12,YEAR($BL$5)+1&\"01\",YEAR($BL$5)&TEXT(MONTH($BL$5)+1,\"00\"))>YEAR($CX478)&TEXT(MONTH($CX478),\"00\"),COUNTIF(CX482:EB482,\"○\"),\"\")","v":""},{"$f":"IF(OR(MONTH(CX478)=1,MONTH(CX478)=8,MONTH(CX478)=12),IF(COUNTIF(CX482:EB482,\"／\")>=3,\"\",\"算定除外「／」漏れ\"),\"\")","v":"算定除外「／」漏れ"}]
["",null,"曜日",{"$f":"TEXT(WEEKDAY(+D479),\"aaa\")","v":"土"},{"$f":"TEXT(WEEKDAY(+E479),\"aaa\")","v":"日"},"月","火","水",{"$f":"TEXT(WEEKDAY(+I479),\"aaa\")","v":"木"},{"$f":"TEXT(WEEKDAY(+J479),\"aaa\")","v":"金"},"土","日","月","火","水","木","金","土","日","月","火","水","木","金","土",{"$f":"TEXT(WEEKDAY(+Z479),\"aaa\")","v":"日"},{"$f":"TEXT(WEEKDAY(+AA479),\"aaa\")","v":"月"},"火","水","木","金",{"$f":"IF(AF479=\"／\",\"／\",TEXT(WEEKDAY(+AF479),\"aaa\"))","v":"土"},{"$f":"IF(AG479=\"／\",\"／\",TEXT(WEEKDAY(+AG479),\"aaa\"))","v":"日"},"月",{"$f":"TEXT(WEEKDAY(+AI479),\"aaa\")","v":"火"},{"$f":"TEXT(WEEKDAY(+AJ479),\"aaa\")","v":"水"},"木","金","土","日",null,null,null,null,"現場閉所率",{"$f":"IFERROR(+AT479/AT478,\"\")","v":""},{"$f":"IF(AT480=\"\",\"\",IF(COUNTIF(D482:AH482,\"○\")>=COUNTIF(D485:AH485,\"◎\"),\"4週8休以上\",IF(AT480>=0.285,\"4週8休以上\",\"週休2日未達成\")))","v":""},null,null,null,null,null,"曜日",{"$f":"TEXT(WEEKDAY(+BB479),\"aaa\")","v":"土"},{"$f":"TEXT(WEEKDAY(+BC479),\"aaa\")","v":"日"},"月","火","水",{"$f":"TEXT(WEEKDAY(+BG479),\"aaa\")","v":"木"},{"$f":"TEXT(WEEKDAY(+BH479),\"aaa\")","v":"金"},"土","日","月","火","水","木","金","土","日","月","火","水","木","金","土",{"$f":"TEXT(WEEKDAY(+BX479),\"aaa\")","v":"日"},{"$f":"TEXT(WEEKDAY(+BY479),\"aaa\")","v":"月"},"火","水","木","金",{"$f":"IF(CD479=\"／\",\"／\",TEXT(WEEKDAY(+CD479),\"aaa\"))","v":"土"},{"$f":"IF(CE479=\"／\",\"／\",TEXT(WEEKDAY(+CE479),\"aaa\"))","v":"日"},"月",{"$f":"TEXT(WEEKDAY(+CG479),\"aaa\")","v":"火"},{"$f":"TEXT(WEEKDAY(+CH479),\"aaa\")","v":"水"},"木","金","土","日",null,null,null,null,"現場閉所率",{"$f":"IFERROR(+CR479/CR478,\"\")","v":""},{"$f":"IF(CR480=\"\",\"\",IF(COUNTIF(BB482:CF482,\"○\")>=COUNTIF(BB485:CF485,\"◎\"),\"4週8休以上\",IF(CR480>=0.285,\"4週8休以上\",\"週休2日未達成\")))","v":""},null,null,null,"曜日",{"$f":"TEXT(WEEKDAY(+CX479),\"aaa\")","v":"土"},{"$f":"TEXT(WEEKDAY(+CY479),\"aaa\")","v":"日"},"月","火","水",{"$f":"TEXT(WEEKDAY(+DC479),\"aaa\")","v":"木"},{"$f":"TEXT(WEEKDAY(+DD479),\"aaa\")","v":"金"},"土","日","月","火","水","木","金","土","日","月","火","水","木","金","土",{"$f":"TEXT(WEEKDAY(+DT479),\"aaa\")","v":"日"},{"$f":"TEXT(WEEKDAY(+DU479),\"aaa\")","v":"月"},"火","水","木","金",{"$f":"IF(DZ479=\"／\",\"／\",TEXT(WEEKDAY(+DZ479),\"aaa\"))","v":"土"},{"$f":"IF(EA479=\"／\",\"／\",TEXT(WEEKDAY(+EA479),\"aaa\"))","v":"日"},"月",{"$f":"TEXT(WEEKDAY(+EC479),\"aaa\")","v":"火"},{"$f":"TEXT(WEEKDAY(+ED479),\"aaa\")","v":"水"},"木","金","土","日",null,null,null,null,"現場閉所率",{"$f":"IFERROR(+EN479/EN478,\"\")","v":""},{"$f":"IF(EN480=\"\",\"\",IF(COUNTIF(CX482:EB482,\"○\")>=COUNTIF(CX485:EB485,\"◎\"),\"4週8休以上\",IF(EN480>=0.285,\"4週8休以上\",\"週休2日未達成\")))","v":""}]
["",null,"行事",null,null,null,null,null,null,null,null,null,null,null,null,null,null,null,null,null,null,null,null,null,null,null,null,null,null,null,null,null,null,null,{"$f":"IF(D510=\"\",\"\",D510)","v":""},{"$f":"IF(E510=\"\",\"\",E510)","v":""},{"$f":"IF(F510=\"\",\"\",F510)","v":""},{"$f":"IF(G510=\"\",\"\",G510)","v":""},{"$f":"IF(H510=\"\",\"\",H510)","v":""},{"$f":"IF(I510=\"\",\"\",I510)","v":""},null,null,null,"実施","対象期間",{"$f":"IF(IF(MONTH(入力表!$E$6)=12,YEAR(入力表!$E$6)+1&\"01\",YEAR(入力表!$E$6)&TEXT(MONTH(入力表!$E$6)+1,\"00\"))>YEAR($D478)&TEXT(MONTH($D478),\"00\"),COUNTIF(D483:AH483,\"\")+COUNTIF(D483:AH483,\"●\"),\"\")","v":""},{"$f":"IF(COUNTIF(D479:AH479,\"／\")=0,\"\",IF(COUNTIF(D479:AH479,\"／\")=1,IF(AH483=\"／\",\"\",\"月末「／」漏れ\"),IF(COUNTIF(D479:AH479,\"／\")=2,IF(AND(AG483=\"／\",AH483=\"／\"),\"\",\"月末「／」漏れ\"),IF(AND(AF483=\"／\",AG483=\"／\",AH483=\"／\"),\"\",\"月末「／」漏れ\"))))","v":""},null,null,null,null,null,"行事",null,null,null,null,null,null,null,null,null,null,null,null,null,null,null,null,null,null,null,null,null,null,null,null,null,null,null,null,null,null,null,{"$f":"IF(BB510=\"\",\"\",BB510)","v":""},{"$f":"IF(BC510=\"\",\"\",BC510)","v":""},{"$f":"IF(BD510=\"\",\"\",BD510)","v":""},{"$f":"IF(BE510=\"\",\"\",BE510)","v":""},{"$f":"IF(BF510=\"\",\"\",BF510)","v":""},{"$f":"IF(BG510=\"\",\"\",BG510)","v":""},null,null,null,"実施","対象期間",{"$f":"IF(IF(MONTH($BL$5)=12,YEAR($BL$5)+1&\"01\",YEAR($BL$5)&TEXT(MONTH($BL$5)+1,\"00\"))>YEAR(BB478)&TEXT(MONTH(BB478),\"00\"),COUNTIF(BB483:CF483,\"\")+COUNTIF(BB483:CF483,\"●\"),\"\")","v":""},{"$f":"IF(COUNTIF(BB479:CF479,\"／\")=0,\"\",IF(COUNTIF(BB479:CF479,\"／\")=1,IF(CF483=\"／\",\"\",\"月末「／」漏れ\"),IF(COUNTIF(BB479:CF479,\"／\")=2,IF(AND(CE483=\"／\",CF483=\"／\"),\"\",\"月末「／」漏れ\"),IF(AND(CD483=\"／\",CE483=\"／\",CF483=\"／\"),\"\",\"月末「／」漏れ\"))))","v":""},null,null,null,"行事",null,null,null,null,null,null,null,null,null,null,null,null,null,null,null,null,null,null,null,null,null,null,null,null,null,null,null,null,null,null,null,{"$f":"IF(CX510=\"\",\"\",CX510)","v":""},{"$f":"IF(CY510=\"\",\"\",CY510)","v":""},{"$f":"IF(CZ510=\"\",\"\",CZ510)","v":""},{"$f":"IF(DA510=\"\",\"\",DA510)","v":""},{"$f":"IF(DB510=\"\",\"\",DB510)","v":""},{"$f":"IF(DC510=\"\",\"\",DC510)","v":""},null,null,null,"実施","対象期間",{"$f":"IF(IF(MONTH($BL$5)=12,YEAR($BL$5)+1&\"01\",YEAR($BL$5)&TEXT(MONTH($BL$5)+1,\"00\"))>YEAR($CX478)&TEXT(MONTH($CX478),\"00\"),COUNTIF(CX483:EB483,\"\")+COUNTIF(CX483:EB483,\"●\"),\"\")","v":""},{"$f":"IF(COUNTIF(CX479:EB479,\"／\")=0,\"\",IF(COUNTIF(CX479:EB479,\"／\")=1,IF(EB483=\"／\",\"\",\"月末「／」漏れ\"),IF(COUNTIF(CX479:EB479,\"／\")=2,IF(AND(EA483=\"／\",EB483=\"／\"),\"\",\"月末「／」漏れ\"),IF(AND(DZ483=\"／\",EA483=\"／\",EB483=\"／\"),\"\",\"月末「／」漏れ\"))))","v":""}]
["",null,"計画",null,null,null,null,null,null,null,null,null,null,null,null,null,null,null,null,null,null,null,null,null,null,null,null,null,null,null,null,null,null,null,{"$f":"IF(D511=\"\",\"\",D511)","v":""},{"$f":"IF(E511=\"\",\"\",E511)","v":""},{"$f":"IF(F511=\"\",\"\",F511)","v":""},{"$f":"IF(G511=\"\",\"\",G511)","v":""},{"$f":"IF(H511=\"\",\"\",H511)","v":""},{"$f":"IF(I511=\"\",\"\",I511)","v":""},{"$f":"COUNTIF(D482:AH482,\"○\")","v":0},{"$f":"+AO482+AP453","v":0},null,null,"閉所日数",{"$f":"IF(IF(MONTH(入力表!$E$6)=12,YEAR(入力表!$E$6)+1&\"01\",YEAR(入力表!$E$6)&TEXT(MONTH(入力表!$E$6)+1,\"00\"))>YEAR($D478)&TEXT(MONTH($D478),\"00\"),COUNTIF(D483:AH483,\"●\"),\"\")","v":""},{"$f":"IF(OR(MONTH(D478)=1,MONTH(D478)=8,MONTH(D478)=12),IF(COUNTIF(D483:AH483,\"／\")>=3,\"\",\"算定除外「／」漏れ\"),\"\")","v":"算定除外「／」漏れ"},null,null,null,null,null,"計画",null,null,null,null,null,null,null,null,null,null,null,null,null,null,null,null,null,null,null,null,null,null,null,null,null,null,null,null,null,null,null,{"$f":"IF(BB511=\"\",\"\",BB511)","v":""},"","","","","",{"$f":"COUNTIF(BB482:CF482,\"○\")","v":0},{"$f":"+CM482+CN453","v":0},null,null,"閉所日数",{"$f":"IF(IF(MONTH($BL$5)=12,YEAR($BL$5)+1&\"01\",YEAR($BL$5)&TEXT(MONTH($BL$5)+1,\"00\"))>YEAR(BB478)&TEXT(MONTH(BB478),\"00\"),COUNTIF(BB483:CF483,\"●\"),\"\")","v":""},{"$f":"IF(OR(MONTH(BB478)=1,MONTH(BB478)=8,MONTH(BB478)=12),IF(COUNTIF(BB483:CF483,\"／\")>=3,\"\",\"算定除外「／」漏れ\"),\"\")","v":"算定除外「／」漏れ"},null,null,null,"計画",null,null,null,null,null,null,null,null,null,null,null,null,null,null,null,null,null,null,null,null,null,null,null,null,null,null,null,null,null,null,null,{"$f":"IF(CX511=\"\",\"\",CX511)","v":""},"","","","","",{"$f":"COUNTIF(CX482:EB482,\"○\")","v":0},{"$f":"+EI482+EJ453","v":0},null,null,"閉所日数",{"$f":"IF(IF(MONTH($BL$5)=12,YEAR($BL$5)+1&\"01\",YEAR($BL$5)&TEXT(MONTH($BL$5)+1,\"00\"))>YEAR($CX478)&TEXT(MONTH($CX478),\"00\"),COUNTIF(CX483:EB483,\"●\"),\"\")","v":""},{"$f":"IF(OR(MONTH(CX478)=1,MONTH(CX478)=8,MONTH(CX478)=12),IF(COUNTIF(CX483:EB483,\"／\")>=3,\"\",\"算定除外「／」漏れ\"),\"\")","v":"算定除外「／」漏れ"}]
["",null,"実施",null,null,null,null,null,null,null,null,null,null,null,null,null,null,null,null,null,null,null,null,null,null,null,null,null,null,null,null,null,null,null,{"$f":"IF(D512=\"\",\"\",D512)","v":""},{"$f":"IF(E512=\"\",\"\",E512)","v":""},{"$f":"IF(F512=\"\",\"\",F512)","v":""},{"$f":"IF(G512=\"\",\"\",G512)","v":""},{"$f":"IF(H512=\"\",\"\",H512)","v":""},{"$f":"IF(I512=\"\",\"\",I512)","v":""},{"$f":"COUNTIF(D483:AH483,\"●\")","v":0},{"$f":"+AO483+AP454","v":0},null,null,"現場閉所率",{"$f":"IFERROR(+AT482/AT481,\"\")","v":""},{"$f":"IF(AT483=\"\",\"\",IF(COUNTIF(D483:AH483,\"●\")>=COUNTIF(D486:AH486,\"◎\"),\"4週8休以上\",IF(AT483>=0.285,\"4週8休以上\",\"週休2日未達成\")))","v":""},null,null,null,null,null,"実施",null,null,null,null,null,null,null,null,null,null,null,null,null,null,null,null,null,null,null,null,null,null,null,null,null,null,null,null,null,null,null,{"$f":"IF(BB512=\"\",\"\",BB512)","v":""},{"$f":"IF(BC512=\"\",\"\",BC512)","v":""},{"$f":"IF(BD512=\"\",\"\",BD512)","v":""},{"$f":"IF(BE512=\"\",\"\",BE512)","v":""},{"$f":"IF(BF512=\"\",\"\",BF512)","v":""},{"$f":"IF(BG512=\"\",\"\",BG512)","v":""},{"$f":"COUNTIF(BB483:CF483,\"●\")","v":0},{"$f":"+CM483+CN454","v":0},null,null,"現場閉所率",{"$f":"IFERROR(+CR482/CR481,\"\")","v":""},{"$f":"IF(CR483=\"\",\"\",IF(COUNTIF(BB483:CF483,\"●\")>=COUNTIF(BB486:CF486,\"◎\"),\"4週8休以上\",IF(CR483>=0.285,\"4週8休以上\",\"週休2日未達成\")))","v":""},null,null,null,"実施",null,null,null,null,null,null,null,null,null,null,null,null,null,null,null,null,null,null,null,null,null,null,null,null,null,null,null,null,null,null,null,{"$f":"IF(CX512=\"\",\"\",CX512)","v":""},{"$f":"IF(CY512=\"\",\"\",CY512)","v":""},{"$f":"IF(CZ512=\"\",\"\",CZ512)","v":""},{"$f":"IF(DA512=\"\",\"\",DA512)","v":""},{"$f":"IF(DB512=\"\",\"\",DB512)","v":""},{"$f":"IF(DC512=\"\",\"\",DC512)","v":""},{"$f":"COUNTIF(CX483:EB483,\"●\")","v":0},{"$f":"+EI483+EJ454","v":0},null,null,"現場閉所率",{"$f":"IFERROR(+EN482/EN481,\"\")","v":""},{"$f":"IF(EN483=\"\",\"\",IF(COUNTIF(CX483:EB483,\"●\")>=COUNTIF(CX486:EB486,\"◎\"),\"4週8休以上\",IF(EN483>=0.285,\"4週8休以上\",\"週休2日未達成\")))","v":""}]
[null,null,null,1,2,3,4,5,6,7,8,9,10,11,12,13,14,15,16,17,18,19,20,21,22,23,24,25,26,27,28,29,30,31,32,33,34,35,36,37,null,null,null,null,{"$f":"AU483","v":""},null,null,null,null,null,null,null,null,1,2,3,4,5,6,7,8,9,10,11,12,13,14,15,16,17,18,19,20,21,22,23,24,25,26,27,28,29,30,31,32,33,34,35,36,37,null,null,null,null,{"$f":"CS483","v":""},null,null,null,null,null,null,1,2,3,4,5,6,7,8,9,10,11,12,13,14,15,16,17,18,19,20,21,22,23,24,25,26,27,28,29,30,31,32,33,34,35,36,37,null,null,null,null,{"$f":"EO483","v":""}]
[null,null,"計画",{"$f":"IF(D482=\"／\",\"／\",IF(OR(D480=\"土\",D480=\"日\"),\"◎\",\"\"))","v":"◎"},{"$f":"IF(E482=\"／\",\"／\",IF(OR(E480=\"土\",E480=\"日\"),\"◎\",\"\"))","v":"◎"},"","","","","","◎","◎","","","","","","◎","◎","","","","","","◎","◎","","","",{"$f":"IF(AD482=\"／\",\"／\",IF(OR(AD480=\"土\",AD480=\"日\"),\"◎\",\"\"))","v":""},{"$f":"IF(AE482=\"／\",\"／\",IF(OR(AE480=\"土\",AE480=\"日\"),\"◎\",\"\"))","v":""},"◎","◎","","","","","","◎","◎",null,null,null,null,{"$f":"AT487","v":""},null,null,null,null,null,null,null,"計画",{"$f":"IF(BB482=\"／\",\"／\",IF(OR(BB480=\"土\",BB480=\"日\"),\"◎\",\"\"))","v":"◎"},"◎","","","","","","◎","◎","","","",{"$f":"IF(BN482=\"／\",\"／\",IF(OR(BN480=\"土\",BN480=\"日\"),\"◎\",\"\"))","v":""},{"$f":"IF(BO482=\"／\",\"／\",IF(OR(BO480=\"土\",BO480=\"日\"),\"◎\",\"\"))","v":""},"◎","◎","","","","","","◎","◎","","","",{"$f":"IF(CB482=\"／\",\"／\",IF(OR(CB480=\"土\",CB480=\"日\"),\"◎\",\"\"))","v":""},{"$f":"IF(CC482=\"／\",\"／\",IF(OR(CC480=\"土\",CC480=\"日\"),\"◎\",\"\"))","v":""},"◎","◎","","","","","","◎","◎",null,null,null,null,{"$f":"CR487","v":""},null,null,null,null,null,"計画",{"$f":"IF(CX482=\"／\",\"／\",IF(OR(CX480=\"土\",CX480=\"日\"),\"◎\",\"\"))","v":"◎"},"◎","","","","","","◎","◎","","","",{"$f":"IF(DJ482=\"／\",\"／\",IF(OR(DJ480=\"土\",DJ480=\"日\"),\"◎\",\"\"))","v":""},{"$f":"IF(DK482=\"／\",\"／\",IF(OR(DK480=\"土\",DK480=\"日\"),\"◎\",\"\"))","v":""},"◎","◎","","","","","","◎","◎","","","",{"$f":"IF(DX482=\"／\",\"／\",IF(OR(DX480=\"土\",DX480=\"日\"),\"◎\",\"\"))","v":""},{"$f":"IF(DY482=\"／\",\"／\",IF(OR(DY480=\"土\",DY480=\"日\"),\"◎\",\"\"))","v":""},"◎","◎","","","","","","◎","◎",null,null,null,null,{"$f":"EN487","v":""}]
[null,null,"実施",{"$f":"IF(D483=\"／\",\"／\",IF(OR(D480=\"土\",D480=\"日\"),\"◎\",\"\"))","v":"◎"},{"$f":"IF(E483=\"／\",\"／\",IF(OR(E480=\"土\",E480=\"日\"),\"◎\",\"\"))","v":"◎"},"","","","","","◎","◎","","","","","","◎","◎","","","","","","◎","◎","","","","","","◎","◎","","","","","","◎","◎",null,null,null,null,null,null,null,null,null,null,null,null,"実施",{"$f":"IF(BB483=\"／\",\"／\",IF(OR(BB480=\"土\",BB480=\"日\"),\"◎\",\"\"))","v":"◎"},{"$f":"IF(BC483=\"／\",\"／\",IF(OR(BC480=\"土\",BC480=\"日\"),\"◎\",\"\"))","v":"◎"},"","","","","","◎","◎","","","","","","◎","◎","","","","","","◎","◎","","","","","","◎","◎","","","","","","◎","◎",null,null,null,null,null,null,null,null,null,null,"実施",{"$f":"IF(CX483=\"／\",\"／\",IF(OR(CX480=\"土\",CX480=\"日\"),\"◎\",\"\"))","v":"◎"},{"$f":"IF(CY483=\"／\",\"／\",IF(OR(CY480=\"土\",CY480=\"日\"),\"◎\",\"\"))","v":"◎"},"","","","","","◎","◎","","","","","","◎","◎","","","","","","◎","◎","","","","","","◎","◎","","","","","","◎","◎"]
["",null,"完全",{"$f":"IF(WEEKDAY(DATE(YEAR(D478),MONTH(D478),1),2)=1,DATE(YEAR(D478),MONTH(D478),1),EOMONTH(D478,-1)-MOD(WEEKDAY(EOMONTH(D478,-1),2)+6,7))","v":"2026-07-27"},"～",{"$f":"DATE(YEAR(D478),MONTH(D478),1)+MOD(7-WEEKDAY(DATE(YEAR(D478),MONTH(D478),1),2),7)","v":"2026-08-02"},{"$f":"IF(DAY(D487)=1,IF(COUNTIF(D483:J483,\"／\")>=1,\"対象外\",IF(COUNTIF(INDEX(D483:AN483,DAY(D487)):INDEX(D483:AN483,HLOOKUP(F487,D479:AN484,6,FALSE)),\"\")+COUNTIF(INDEX(D483:AN483,DAY(D487)):INDEX(D483:AN483,HLOOKUP(F487,D479:AN484,6,FALSE)),\"●\")=7,IF(COUNTIF(INDEX(D483:AN483,DAY(D487)):INDEX(D483:AN483,HLOOKUP(F487,D479:AN484,6,FALSE)),\"●\")>=2,\"OK\",\"OUT\"),IF(COUNTIF(INDEX(D483:AN483,DAY(D487)):INDEX(D483:AN483,HLOOKUP(F487,D479:AN484,6,FALSE)),\"●\")>=COUNTIF(INDEX(D486:AN486,DAY(D487)):INDEX(D486:AN486,HLOOKUP(F487,D479:AN484,6,FALSE)),\"○\"),\"OK\",\"OUT\"))),IF(AND(AK458=\"\",AE458=\"\"),Y458,IF(AK458=\"\",AE458,AK458)))","v":"OUT"},null,null,{"$f":"F487+1","v":"2026-08-03"},"～",{"$f":"F487+7","v":"2026-08-09"},{"$f":"IF(COUNTIF(INDEX(D483:AN483,DAY(J487)):INDEX(D483:AN483,HLOOKUP(L487,D479:AN484,6,FALSE)),\"\")+COUNTIF(INDEX(D483:AN483,DAY(J487)):INDEX(D483:AN483,HLOOKUP(L487,D479:AN484,6,FALSE)),\"●\")=7,IF(COUNTIF(INDEX(D483:AN483,DAY(J487)):INDEX(D483:AN483,HLOOKUP(L487,D479:AN484,6,FALSE)),\"●\")>=2,\"OK\",\"OUT\"),\"対象外\")","v":"OUT"},null,null,{"$f":"L487+1","v":"2026-08-10"},"～",{"$f":"L487+7","v":"2026-08-16"},{"$f":"IF(COUNTIF(INDEX(D483:AN483,DAY(P487)):INDEX(D483:AN483,HLOOKUP(R487,D479:AN484,6,FALSE)),\"\")+COUNTIF(INDEX(D483:AN483,DAY(P487)):INDEX(D483:AN483,HLOOKUP(R487,D479:AN484,6,FALSE)),\"●\")=7,IF(COUNTIF(INDEX(D483:AN483,DAY(P487)):INDEX(D483:AN483,HLOOKUP(R487,D479:AN484,6,FALSE)),\"●\")>=2,\"OK\",\"OUT\"),\"対象外\")","v":"OUT"},null,null,{"$f":"R487+1","v":"2026-08-17"},"～",{"$f":"R487+7","v":"2026-08-23"},{"$f":"IF(COUNTIF(INDEX(D483:AN483,DAY(V487)):INDEX(D483:AN483,HLOOKUP(X487,D479:AN484,6,FALSE)),\"\")+COUNTIF(INDEX(D483:AN483,DAY(V487)):INDEX(D483:AN483,HLOOKUP(X487,D479:AN484,6,FALSE)),\"●\")=7,IF(COUNTIF(INDEX(D483:AN483,DAY(V487)):INDEX(D483:AN483,HLOOKUP(X487,D479:AN484,6,FALSE)),\"●\")>=2,\"OK\",\"OUT\"),\"対象外\")","v":"OUT"},null,null,{"$f":"IF(AND(DAY(X487+7)<23,DAY(X487+7)>=7),\"\",X487+1)","v":"2026-08-24"},{"$f":"IF(AND(DAY(X487+7)<23,DAY(X487+7)>=7),\"\",\"～\")","v":"～"},{"$f":"IF(AND(DAY(X487+7)<23,DAY(X487+7)>=7),\"\",X487+7)","v":"2026-08-30"},{"$f":"IF(AND(DAY(X487+7)<23,DAY(X487+7)>=7),\"\",IF(COUNTIF(INDEX(D483:AN483,DAY(AB487)):INDEX(D483:AN483,HLOOKUP(AD487,D479:AN484,6,FALSE)),\"\")+COUNTIF(INDEX(D483:AN483,DAY(AB487)):INDEX(D483:AN483,HLOOKUP(AD487,D479:AN484,6,FALSE)),\"●\")=7,IF(COUNTIF(INDEX(D483:AN483,DAY(AB487)):INDEX(D483:AN483,HLOOKUP(AD487,D479:AN484,6,FALSE)),\"●\")>=2,\"OK\",\"OUT\"),IF(COUNTIF(INDEX(D483:AN483,DAY(AB487)):INDEX(D483:AN483,HLOOKUP(AD487,D479:AN484,6,FALSE)),\"\")+COUNTIF(INDEX(D483:AN483,DAY(AB487)):INDEX(D483:AN483,HLOOKUP(AD487,D479:AN484,6,FALSE)),\"●\")>7,\"「／」漏れ\",\"対象外\")))","v":"OUT"},null,null,{"$f":"IF(AE487=\"\",\"\",IF(AND(DAY(AD487+7)<23,DAY(AD487+7)>=7),\"\",AD487+1))","v":"2026-08-31"},{"$f":"IF(AE487=\"\",\"\",IF(AND(DAY(AD487+7)<23,DAY(AD487+7)>=7),\"\",\"～\"))","v":"～"},{"$f":"IF(AE487=\"\",\"\",IF(AND(DAY(AD487+7)<23,DAY(AD487+7)>=7),\"\",AD487+7))","v":"2026-09-06"},{"$f":"IF(AE487=\"\",\"\",IF(AND(DAY(AD487+7)<23,DAY(AD487+7)>=7),\"\",IF(COUNTIF(INDEX(D483:AN483,DAY(AH487)):INDEX(D483:AN483,HLOOKUP(AJ487,D479:AN484,6,FALSE)),\"\")+COUNTIF(INDEX(D483:AN483,DAY(AH487)):INDEX(D483:AN483,HLOOKUP(AJ487,D479:AN484,6,FALSE)),\"●\")=7,IF(COUNTIF(INDEX(D483:AN483,DAY(AH487)):INDEX(D483:AN483,HLOOKUP(AJ487,D479:AN484,6,FALSE)),\"●\")>=2,\"OK\",\"OUT\"),IF(COUNTIF(INDEX(D483:AN483,HLOOKUP(AH487,D479:AN484,6,FALSE)):INDEX(D483:AN483,HLOOKUP(AJ487,D479:AN484,6,FALSE)),\"\")+COUNTIF(INDEX(D483:AN483,HLOOKUP(AH487,D479:AN484,6,FALSE)):INDEX(D483:AN483,HLOOKUP(AJ487,D479:AN484,6,FALSE)),\"●\")>7,\"「／」漏れ\",\"対象外\"))))","v":"OUT"},null,null,null,null,null,null,null,"完全週休二日",{"$f":"IF(AT478=\"\",\"\",IF(COUNTIF(D487:AN487,\"OUT\")>=1,\"OUT\",\"OK\"))","v":""},null,null,null,null,null,null,"完全",{"$f":"IF(WEEKDAY(DATE(YEAR(BB478),MONTH(BB478),1),2)=1,DATE(YEAR(BB478),MONTH(BB478),1),EOMONTH(BB478,-1)-MOD(WEEKDAY(EOMONTH(BB478,-1),2)+6,7))","v":"2026-07-27"},"～",{"$f":"DATE(YEAR(BB478),MONTH(BB478),1)+MOD(7-WEEKDAY(DATE(YEAR(BB478),MONTH(BB478),1),2),7)","v":"2026-08-02"},{"$f":"IF(DAY(BB487)=1,IF(COUNTIF(BB483:BH483,\"／\")>=1,\"対象外\",IF(COUNTIF(INDEX(BB483:CL483,DAY(BB487)):INDEX(BB483:CL483,HLOOKUP(BD487,BB479:CL484,6,FALSE)),\"\")+COUNTIF(INDEX(BB483:CL483,DAY(BB487)):INDEX(BB483:CL483,HLOOKUP(BD487,BB479:CL484,6,FALSE)),\"●\")=7,IF(COUNTIF(INDEX(BB483:CL483,DAY(BB487)):INDEX(BB483:CL483,HLOOKUP(BD487,BB479:CL484,6,FALSE)),\"●\")>=2,\"OK\",\"OUT\"),IF(COUNTIF(INDEX(BB483:CL483,DAY(BB487)):INDEX(BB483:CL483,HLOOKUP(BD487,BB479:CL484,6,FALSE)),\"●\")>=COUNTIF(INDEX(BB486:CL486,DAY(BB487)):INDEX(BB486:CL486,HLOOKUP(BD487,BB479:CL484,6,FALSE)),\"○\"),\"OK\",\"OUT\"))),IF(AND(CI458=\"\",CC458=\"\"),BW458,IF(CI458=\"\",CC458,CI458)))","v":"OUT"},null,null,{"$f":"BD487+1","v":"2026-08-03"},"～",{"$f":"BD487+7","v":"2026-08-09"},{"$f":"IF(COUNTIF(INDEX(BB483:CL483,DAY(BH487)):INDEX(BB483:CL483,HLOOKUP(BJ487,BB479:CL484,6,FALSE)),\"\")+COUNTIF(INDEX(BB483:CL483,DAY(BH487)):INDEX(BB483:CL483,HLOOKUP(BJ487,BB479:CL484,6,FALSE)),\"●\")=7,IF(COUNTIF(INDEX(BB483:CL483,DAY(BH487)):INDEX(BB483:CL483,HLOOKUP(BJ487,BB479:CL484,6,FALSE)),\"●\")>=2,\"OK\",\"OUT\"),\"対象外\")","v":"OUT"},null,null,{"$f":"BJ487+1","v":"2026-08-10"},"～",{"$f":"BJ487+7","v":"2026-08-16"},{"$f":"IF(COUNTIF(INDEX(BB483:CL483,DAY(BN487)):INDEX(BB483:CL483,HLOOKUP(BP487,BB479:CL484,6,FALSE)),\"\")+COUNTIF(INDEX(BB483:CL483,DAY(BN487)):INDEX(BB483:CL483,HLOOKUP(BP487,BB479:CL484,6,FALSE)),\"●\")=7,IF(COUNTIF(INDEX(BB483:CL483,DAY(BN487)):INDEX(BB483:CL483,HLOOKUP(BP487,BB479:CL484,6,FALSE)),\"●\")>=2,\"OK\",\"OUT\"),\"対象外\")","v":"OUT"},null,null,{"$f":"BP487+1","v":"2026-08-17"},"～",{"$f":"BP487+7","v":"2026-08-23"},{"$f":"IF(COUNTIF(INDEX(BB483:CL483,DAY(BT487)):INDEX(BB483:CL483,HLOOKUP(BV487,BB479:CL484,6,FALSE)),\"\")+COUNTIF(INDEX(BB483:CL483,DAY(BT487)):INDEX(BB483:CL483,HLOOKUP(BV487,BB479:CL484,6,FALSE)),\"●\")=7,IF(COUNTIF(INDEX(BB483:CL483,DAY(BT487)):INDEX(BB483:CL483,HLOOKUP(BV487,BB479:CL484,6,FALSE)),\"●\")>=2,\"OK\",\"OUT\"),\"対象外\")","v":"OUT"},null,null,{"$f":"IF(AND(DAY(BV487+7)<23,DAY(BV487+7)>=7),\"\",BV487+1)","v":"2026-08-24"},{"$f":"IF(AND(DAY(BV487+7)<23,DAY(BV487+7)>=7),\"\",\"～\")","v":"～"},{"$f":"IF(AND(DAY(BV487+7)<23,DAY(BV487+7)>=7),\"\",BV487+7)","v":"2026-08-30"},{"$f":"IF(AND(DAY(BV487+7)<23,DAY(BV487+7)>=7),\"\",IF(COUNTIF(INDEX(BB483:CL483,DAY(BZ487)):INDEX(BB483:CL483,HLOOKUP(CB487,BB479:CL484,6,FALSE)),\"\")+COUNTIF(INDEX(BB483:CL483,DAY(BZ487)):INDEX(BB483:CL483,HLOOKUP(CB487,BB479:CL484,6,FALSE)),\"●\")=7,IF(COUNTIF(INDEX(BB483:CL483,DAY(BZ487)):INDEX(BB483:CL483,HLOOKUP(CB487,BB479:CL484,6,FALSE)),\"●\")>=2,\"OK\",\"OUT\"),IF(COUNTIF(INDEX(BB483:CL483,DAY(BZ487)):INDEX(BB483:CL483,HLOOKUP(CB487,BB479:CL484,6,FALSE)),\"\")+COUNTIF(INDEX(BB483:CL483,DAY(BZ487)):INDEX(BB483:CL483,HLOOKUP(CB487,BB479:CL484,6,FALSE)),\"●\")>7,\"「／」漏れ\",\"対象外\")))","v":"OUT"},null,null,{"$f":"IF(CC487=\"\",\"\",IF(AND(DAY(CB487+7)<23,DAY(CB487+7)>=7),\"\",CB487+1))","v":"2026-08-31"},{"$f":"IF(CC487=\"\",\"\",IF(AND(DAY(CB487+7)<23,DAY(CB487+7)>=7),\"\",\"～\"))","v":"～"},{"$f":"IF(CC487=\"\",\"\",IF(AND(DAY(CB487+7)<23,DAY(CB487+7)>=7),\"\",CB487+7))","v":"2026-09-06"},{"$f":"IF(CC487=\"\",\"\",IF(AND(DAY(CB487+7)<23,DAY(CB487+7)>=7),\"\",IF(COUNTIF(INDEX(BB483:CL483,DAY(CF487)):INDEX(BB483:CL483,HLOOKUP(CH487,BB479:CL484,6,FALSE)),\"\")+COUNTIF(INDEX(BB483:CL483,DAY(CF487)):INDEX(BB483:CL483,HLOOKUP(CH487,BB479:CL484,6,FALSE)),\"●\")=7,IF(COUNTIF(INDEX(BB483:CL483,DAY(CF487)):INDEX(BB483:CL483,HLOOKUP(CH487,BB479:CL484,6,FALSE)),\"●\")>=2,\"OK\",\"OUT\"),IF(COUNTIF(INDEX(BB483:CL483,HLOOKUP(CF487,BB479:CL484,6,FALSE)):INDEX(BB483:CL483,HLOOKUP(CH487,BB479:CL484,6,FALSE)),\"\")+COUNTIF(INDEX(BB483:CL483,HLOOKUP(CF487,BB479:CL484,6,FALSE)):INDEX(BB483:CL483,HLOOKUP(CH487,BB479:CL484,6,FALSE)),\"●\")>7,\"「／」漏れ\",\"対象外\"))))","v":"OUT"},null,null,null,null,null,null,null,"完全週休二日",{"$f":"IF(CR478=\"\",\"\",IF(COUNTIF(BB487:CL487,\"OUT\")>=1,\"OUT\",\"OK\"))","v":""},null,null,null,null,"完全",{"$f":"IF(WEEKDAY(DATE(YEAR(CX478),MONTH(CX478),1),2)=1,DATE(YEAR(CX478),MONTH(CX478),1),EOMONTH(CX478,-1)-MOD(WEEKDAY(EOMONTH(CX478,-1),2)+6,7))","v":"2026-07-27"},"～",{"$f":"DATE(YEAR(CX478),MONTH(CX478),1)+MOD(7-WEEKDAY(DATE(YEAR(CX478),MONTH(CX478),1),2),7)","v":"2026-08-02"},{"$f":"IF(DAY(CX487)=1,IF(COUNTIF(CX483:DD483,\"／\")>=1,\"対象外\",IF(COUNTIF(INDEX(CX483:EH483,DAY(CX487)):INDEX(CX483:EH483,HLOOKUP(CZ487,CX479:EH484,6,FALSE)),\"\")+COUNTIF(INDEX(CX483:EH483,DAY(CX487)):INDEX(CX483:EH483,HLOOKUP(CZ487,CX479:EH484,6,FALSE)),\"●\")=7,IF(COUNTIF(INDEX(CX483:EH483,DAY(CX487)):INDEX(CX483:EH483,HLOOKUP(CZ487,CX479:EH484,6,FALSE)),\"●\")>=2,\"OK\",\"OUT\"),IF(COUNTIF(INDEX(CX483:EH483,DAY(CX487)):INDEX(CX483:EH483,HLOOKUP(CZ487,CX479:EH484,6,FALSE)),\"●\")>=COUNTIF(INDEX(CX486:EH486,DAY(CX487)):INDEX(CX486:EH486,HLOOKUP(CZ487,CX479:EH484,6,FALSE)),\"○\"),\"OK\",\"OUT\"))),IF(AND(EE458=\"\",DY458=\"\"),DS458,IF(EE458=\"\",DY458,EE458)))","v":"OUT"},null,null,{"$f":"CZ487+1","v":"2026-08-03"},"～",{"$f":"CZ487+7","v":"2026-08-09"},{"$f":"IF(COUNTIF(INDEX(CX483:EH483,DAY(DD487)):INDEX(CX483:EH483,HLOOKUP(DF487,CX479:EH484,6,FALSE)),\"\")+COUNTIF(INDEX(CX483:EH483,DAY(DD487)):INDEX(CX483:EH483,HLOOKUP(DF487,CX479:EH484,6,FALSE)),\"●\")=7,IF(COUNTIF(INDEX(CX483:EH483,DAY(DD487)):INDEX(CX483:EH483,HLOOKUP(DF487,CX479:EH484,6,FALSE)),\"●\")>=2,\"OK\",\"OUT\"),\"対象外\")","v":"OUT"},null,null,{"$f":"DF487+1","v":"2026-08-10"},"～",{"$f":"DF487+7","v":"2026-08-16"},{"$f":"IF(COUNTIF(INDEX(CX483:EH483,DAY(DJ487)):INDEX(CX483:EH483,HLOOKUP(DL487,CX479:EH484,6,FALSE)),\"\")+COUNTIF(INDEX(CX483:EH483,DAY(DJ487)):INDEX(CX483:EH483,HLOOKUP(DL487,CX479:EH484,6,FALSE)),\"●\")=7,IF(COUNTIF(INDEX(CX483:EH483,DAY(DJ487)):INDEX(CX483:EH483,HLOOKUP(DL487,CX479:EH484,6,FALSE)),\"●\")>=2,\"OK\",\"OUT\"),\"対象外\")","v":"OUT"},null,null,{"$f":"DL487+1","v":"2026-08-17"},"～",{"$f":"DL487+7","v":"2026-08-23"},{"$f":"IF(COUNTIF(INDEX(CX483:EH483,DAY(DP487)):INDEX(CX483:EH483,HLOOKUP(DR487,CX479:EH484,6,FALSE)),\"\")+COUNTIF(INDEX(CX483:EH483,DAY(DP487)):INDEX(CX483:EH483,HLOOKUP(DR487,CX479:EH484,6,FALSE)),\"●\")=7,IF(COUNTIF(INDEX(CX483:EH483,DAY(DP487)):INDEX(CX483:EH483,HLOOKUP(DR487,CX479:EH484,6,FALSE)),\"●\")>=2,\"OK\",\"OUT\"),\"対象外\")","v":"OUT"},null,null,{"$f":"IF(AND(DAY(DR487+7)<23,DAY(DR487+7)>=7),\"\",DR487+1)","v":"2026-08-24"},{"$f":"IF(AND(DAY(DR487+7)<23,DAY(DR487+7)>=7),\"\",\"～\")","v":"～"},{"$f":"IF(AND(DAY(DR487+7)<23,DAY(DR487+7)>=7),\"\",DR487+7)","v":"2026-08-30"},{"$f":"IF(AND(DAY(DR487+7)<23,DAY(DR487+7)>=7),\"\",IF(COUNTIF(INDEX(CX483:EH483,DAY(DV487)):INDEX(CX483:EH483,HLOOKUP(DX487,CX479:EH484,6,FALSE)),\"\")+COUNTIF(INDEX(CX483:EH483,DAY(DV487)):INDEX(CX483:EH483,HLOOKUP(DX487,CX479:EH484,6,FALSE)),\"●\")=7,IF(COUNTIF(INDEX(CX483:EH483,DAY(DV487)):INDEX(CX483:EH483,HLOOKUP(DX487,CX479:EH484,6,FALSE)),\"●\")>=2,\"OK\",\"OUT\"),IF(COUNTIF(INDEX(CX483:EH483,DAY(DV487)):INDEX(CX483:EH483,HLOOKUP(DX487,CX479:EH484,6,FALSE)),\"\")+COUNTIF(INDEX(CX483:EH483,DAY(DV487)):INDEX(CX483:EH483,HLOOKUP(DX487,CX479:EH484,6,FALSE)),\"●\")>7,\"「／」漏れ\",\"対象外\")))","v":"OUT"},null,null,{"$f":"IF(DY487=\"\",\"\",IF(AND(DAY(DX487+7)<23,DAY(DX487+7)>=7),\"\",DX487+1))","v":"2026-08-31"},{"$f":"IF(DY487=\"\",\"\",IF(AND(DAY(DX487+7)<23,DAY(DX487+7)>=7),\"\",\"～\"))","v":"～"},{"$f":"IF(DY487=\"\",\"\",IF(AND(DAY(DX487+7)<23,DAY(DX487+7)>=7),\"\",DX487+7))","v":"2026-09-06"},{"$f":"IF(DY487=\"\",\"\",IF(AND(DAY(DX487+7)<23,DAY(DX487+7)>=7),\"\",IF(COUNTIF(INDEX(CX483:EH483,DAY(EB487)):INDEX(CX483:EH483,HLOOKUP(ED487,CX479:EH484,6,FALSE)),\"\")+COUNTIF(INDEX(CX483:EH483,DAY(EB487)):INDEX(CX483:EH483,HLOOKUP(ED487,CX479:EH484,6,FALSE)),\"●\")=7,IF(COUNTIF(INDEX(CX483:EH483,DAY(EB487)):INDEX(CX483:EH483,HLOOKUP(ED487,CX479:EH484,6,FALSE)),\"●\")>=2,\"OK\",\"OUT\"),IF(COUNTIF(INDEX(CX483:EH483,HLOOKUP(EB487,CX479:EH484,6,FALSE)):INDEX(CX483:EH483,HLOOKUP(ED487,CX479:EH484,6,FALSE)),\"\")+COUNTIF(INDEX(CX483:EH483,HLOOKUP(EB487,CX479:EH484,6,FALSE)):INDEX(CX483:EH483,HLOOKUP(ED487,CX479:EH484,6,FALSE)),\"●\")>7,\"「／」漏れ\",\"対象外\"))))","v":"OUT"},null,null,null,null,null,null,null,"完全週休二日",{"$f":"IF(EN478=\"\",\"\",IF(COUNTIF(CX487:EH487,\"OUT\")>=1,\"OUT\",\"OK\"))","v":""}]
[""]
[{"$f":"IF(AND(NOT($AT$478=\"\"),$AT$507=\"\"),\"対象期間\",\"\")","v":""}]
[{"$f":"IF(AND(NOT($AT$478=\"\"),$AT$507=\"\"),\"対象期間\",\"\")","v":""},null,"※１工事着手日：始期日以降に準備工事（現場事務所の建設・測量等）、工場製作を含む工事における工場製作工に着手した日",null,null,null,null,null,null,null,null,null,null,null,null,null,null,null,null,null,null,null,null,null,null,null,null,null,null,null,null,null,null,null,null,null,null,null,null,null,null,null,null,"工事全体の確認",null,null,null,null,null,null,null,null,"※１工事着手日：始期日以降に準備工事（現場事務所の建設・測量等）、工場製作を含む工事における工場製作工に着手した日",null,null,null,null,null,null,null,null,null,null,null,null,null,null,null,null,null,null,null,null,null,null,null,null,null,null,null,null,null,null,null,null,null,null,null,null,null,null,null,null,"工事全体の確認",null,null,null,null,null,null,"※１工事着手日：始期日以降に準備工事（現場事務所の建設・測量等）、工場製作を含む工事における工場製作工に着手した日",null,null,null,null,null,null,null,null,null,null,null,null,null,null,null,null,null,null,null,null,null,null,null,null,null,null,null,null,null,null,null,null,null,null,null,null,null,null,null,null,"工事全体の確認"]
["",null,"※２作業完了日：工事施工範囲内で全ての作業（後片付けを含む）が完了した日\n　　　　　　　　　  （工事現場事務所は工事施工範囲外に設置するため、ここでいう後片付けの対象に含まない）",null,null,null,null,null,null,null,null,null,null,null,null,null,null,null,null,null,null,null,null,null,null,null,null,null,null,null,null,null,null,null,null,null,null,null,null,null,null,null,null,"計画","全対象期間",{"$f":"IFERROR(AT462+AT478,\"\")","v":""},null,null,null,null,null,null,"※２作業完了日：工事施工範囲内で全ての作業（後片付けを含む）が完了した日\n　　　　　　　　　  （工事現場事務所は工事施工範囲外に設置するため、ここでいう後片付けの対象に含まない）",null,null,null,null,null,null,null,null,null,null,null,null,null,null,null,null,null,null,null,null,null,null,null,null,null,null,null,null,null,null,null,null,null,null,null,null,null,null,null,null,"計画","全対象期間",{"$f":"IFERROR(CR462+CR478,\"\")","v":""},null,null,null,null,"※２作業完了日：工事施工範囲内で全ての作業（後片付けを含む）が完了した日\n　　　　　　　　　  （工事現場事務所は工事施工範囲外に設置するため、ここでいう後片付けの対象に含まない）",null,null,null,null,null,null,null,null,null,null,null,null,null,null,null,null,null,null,null,null,null,null,null,null,null,null,null,null,null,null,null,null,null,null,null,null,null,null,null,null,"計画","全対象期間",{"$f":"IFERROR(EN462+EN478,\"\")","v":""}]
["",null,null,null,null,null,null,null,null,null,null,null,null,null,null,null,null,null,null,null,null,null,null,null,null,null,null,null,null,null,null,null,null,null,null,null,null,null,null,null,null,null,null,null,"全現場閉所日数",{"$f":"IFERROR(AT463+AT479,\"\")","v":""},null,null,null,null,null,null,null,null,null,null,null,null,null,null,null,null,null,null,null,null,null,null,null,null,null,null,null,null,null,null,null,null,null,null,null,null,null,null,null,null,null,null,null,null,null,null,null,null,"全現場閉所日数",{"$f":"IFERROR(CR463+CR479,\"\")","v":""},null,null,null,null,null,null,null,null,null,null,null,null,null,null,null,null,null,null,null,null,null,null,null,null,null,null,null,null,null,null,null,null,null,null,null,null,null,null,null,null,null,null,null,null,null,null,"全現場閉所日数",{"$f":"IFERROR(EN463+EN479,\"\")","v":""}]
["",null,"【算定除外期間】：夏季休暇（8月13日～8月15日）、年末年始（12月29日～翌年1月3日）は算定期間の分母・分子に含めない",null,null,null,null,null,null,null,null,null,null,null,null,null,null,null,null,null,null,null,null,null,null,null,null,null,null,null,null,null,null,null,null,null,null,null,null,null,null,null,null,null,"現場閉所率",{"$f":"IFERROR(+AT492/AT491,\"\")","v":""},{"$f":"IF(AT493>=0.285,\"4週8休以上\",\"週休2日未達成\")","v":"4週8休以上"},null,null,null,null,null,"【算定除外期間】：夏季休暇（8月13日～8月15日）、年末年始（12月29日～翌年1月3日）は算定期間の分母・分子に含めない",null,null,null,null,null,null,null,null,null,null,null,null,null,null,null,null,null,null,null,null,null,null,null,null,null,null,null,null,null,null,null,null,null,null,null,null,null,null,null,null,null,"現場閉所率",{"$f":"IFERROR(+CR492/CR491,\"\")","v":""},{"$f":"IF(CR493>=0.285,\"4週8休以上\",\"週休2日未達成\")","v":"4週8休以上"},null,null,null,"【算定除外期間】：夏季休暇（8月13日～8月15日）、年末年始（12月29日～翌年1月3日）は算定期間の分母・分子に含めない",null,null,null,null,null,null,null,null,null,null,null,null,null,null,null,null,null,null,null,null,null,null,null,null,null,null,null,null,null,null,null,null,null,null,null,null,null,null,null,null,null,"現場閉所率",{"$f":"IFERROR(+EN492/EN491,\"\")","v":""},{"$f":"IF(EN493>=0.285,\"4週8休以上\",\"週休2日未達成\")","v":"4週8休以上"}]
["",null,"※３工事期間の全ての月において、達成状況を確認し、一度でも達成できない月があれば、４週８休以上（月単位）は「未達成」となり、補正の対象とならない。\n　　月によっては、土日を全て閉所しても現場閉所率が28.5％に満たない場合があるが、その月の対象期間の土日日数以上閉所していれば達成とみなす。\n\n※４工事対象期間のうち、一度でも完全週休２日（月～日で２日以上の現場閉所）を達成できなければ、\n　　 完全週休２日は「未達成」となり、補正の対象とならない。\n　　 なお、工期始期・終期、年末年始、夏季休暇などにより、７日間に満たない期間は完全週休２日の達成判断の対象外とする。",null,null,null,null,null,null,null,null,null,null,null,null,null,null,null,null,null,null,null,null,null,null,null,null,null,null,null,null,null,null,null,null,null,null,null,null,null,null,null,null,"実施","全対象期間",{"$f":"IFERROR(AT465+AT481,\"\")","v":""},null,null,null,null,null,null,"※３工事期間の全ての月において、達成状況を確認し、一度でも達成できない月があれば、４週８休以上（月単位）は「未達成」となり、補正の対象とならない。\n　　月によっては、土日を全て閉所しても現場閉所率が28.5％に満たない場合があるが、その月の対象期間の土日日数以上閉所していれば達成とみなす。\n\n※４工事対象期間のうち、一度でも完全週休２日（月～日で２日以上の現場閉所）を達成できなければ、\n　　 完全週休２日は「未達成」となり、補正の対象とならない。\n　　 なお、工期始期・終期、年末年始、夏季休暇などにより、７日間に満たない期間は完全週休２日の達成判断の対象外とする。",null,null,null,null,null,null,null,null,null,null,null,null,null,null,null,null,null,null,null,null,null,null,null,null,null,null,null,null,null,null,null,null,null,null,null,null,null,null,null,null,"実施","全対象期間",{"$f":"IFERROR(CR465+CR481,\"\")","v":""},null,null,null,null,"※３工事期間の全ての月において、達成状況を確認し、一度でも達成できない月があれば、４週８休以上（月単位）は「未達成」となり、補正の対象とならない。\n　　月によっては、土日を全て閉所しても現場閉所率が28.5％に満たない場合があるが、その月の対象期間の土日日数以上閉所していれば達成とみなす。\n\n※４工事対象期間のうち、一度でも完全週休２日（月～日で２日以上の現場閉所）を達成できなければ、\n　　 完全週休２日は「未達成」となり、補正の対象とならない。\n　　 なお、工期始期・終期、年末年始、夏季休暇などにより、７日間に満たない期間は完全週休２日の達成判断の対象外とする。",null,null,null,null,null,null,null,null,null,null,null,null,null,null,null,null,null,null,null,null,null,null,null,null,null,null,null,null,null,null,null,null,null,null,null,null,null,null,null,null,"実施","全対象期間",{"$f":"IFERROR(EN465+EN481,\"\")","v":""}]
["",null,null,null,null,null,null,null,null,null,null,null,null,null,null,null,null,null,null,null,null,null,null,null,null,null,null,null,null,null,null,null,null,null,null,null,null,null,null,null,null,null,null,null,"全現場閉所日数",{"$f":"IFERROR(AT466+AT482,\"\")","v":""},null,null,null,null,null,null,null,null,null,null,null,null,null,null,null,null,null,null,null,null,null,null,null,null,null,null,null,null,null,null,null,null,null,null,null,null,null,null,null,null,null,null,null,null,null,null,null,null,"全現場閉所日数",{"$f":"IFERROR(CR466+CR482,\"\")","v":""},null,null,null,null,null,null,null,null,null,null,null,null,null,null,null,null,null,null,null,null,null,null,null,null,null,null,null,null,null,null,null,null,null,null,null,null,null,null,null,null,null,null,null,null,null,null,"全現場閉所日数",{"$f":"IFERROR(EN466+EN482,\"\")","v":""}]
["",null,null,null,null,null,null,null,null,null,null,null,null,null,null,null,null,null,null,null,null,null,null,null,null,null,null,null,null,null,null,null,null,null,null,null,null,null,null,null,null,null,null,null,"現場閉所率",{"$f":"IFERROR(+AT495/AT494,\"\")","v":""},{"$f":"IF(AT496>=0.285,\"4週8休以上\",\"週休2日未達成\")","v":"4週8休以上"},null,null,null,null,null,null,null,null,null,null,null,null,null,null,null,null,null,null,null,null,null,null,null,null,null,null,null,null,null,null,null,null,null,null,null,null,null,null,null,null,null,null,null,null,null,null,null,"現場閉所率",{"$f":"IFERROR(+CR495/CR494,\"\")","v":""},{"$f":"IF(CR496>=0.285,\"4週8休以上\",\"週休2日未達成\")","v":"4週8休以上"},null,null,null,null,null,null,null,null,null,null,null,null,null,null,null,null,null,null,null,null,null,null,null,null,null,null,null,null,null,null,null,null,null,null,null,null,null,null,null,null,null,null,null,null,null,"現場閉所率",{"$f":"IFERROR(+EN495/EN494,\"\")","v":""},{"$f":"IF(EN496>=0.285,\"4週8休以上\",\"週休2日未達成\")","v":"4週8休以上"}]
["",null,null,null,null,null,null,null,null,null,null,null,null,null,null,null,null,null,null,null,null,null,null,null,null,null,null,null,null,null,null,null,null,null,null,null,null,null,null,null,null,null,null,null,"閉所（月単位）",{"$f":"IFERROR(COUNTIF(AS$14:$AS487,\"4週8休以上\")/(COUNTIF(AS$14:$AS487,\"4週8休以上\")+COUNTIF(AS$14:$AS487,\"週休2日未達成\")),\"\")","v":""},{"$f":"IF(OR(AT497=100%,AT497=\"\"),\"達成\",\"未達成\")","v":"達成"},null,null,null,null,null,null,null,null,null,null,null,null,null,null,null,null,null,null,null,null,null,null,null,null,null,null,null,null,null,null,null,null,null,null,null,null,null,null,null,null,null,null,null,null,null,null,null,"閉所（月単位）",{"$f":"IFERROR(COUNTIF(CQ$14:$CQ487,\"4週8休以上\")/(COUNTIF(CQ$14:$CQ487,\"4週8休以上\")+COUNTIF(CQ$14:$CQ487,\"週休2日未達成\")),\"\")","v":0},{"$f":"IF(OR(CR497=100%,CR497=\"\"),\"達成\",\"未達成\")","v":"未達成"},null,null,null,null,null,null,null,null,null,null,null,null,null,null,null,null,null,null,null,null,null,null,null,null,null,null,null,null,null,null,null,null,null,null,null,null,null,null,null,null,null,null,null,null,null,"閉所（月単位）",{"$f":"IFERROR(COUNTIF($EM$14:EM487,\"4週8休以上\")/(COUNTIF($EM$14:EM487,\"4週8休以上\")+COUNTIF($EM$14:EM487,\"週休2日未達成\")),\"\")","v":1},{"$f":"IF(OR(EN497=100%,EN497=\"\"),\"達成\",\"未達成\")","v":"達成"}]
["",null,null,null,null,null,null,null,null,null,null,null,null,null,null,null,null,null,null,null,null,null,null,null,null,null,null,null,null,null,null,null,null,null,null,null,null,null,null,null,null,null,null,null,"完全週休二日",{"$f":"IF(COUNTIF(AS$14:$AS487,\"OUT\")>=1,\"OUT\",\"OK\")","v":"OK"},{"$f":"IF(AT498=\"OK\",\"達成\",\"未達成\")","v":"達成"},null,null,null,null,null,null,null,null,null,null,null,null,null,null,null,null,null,null,null,null,null,null,null,null,null,null,null,null,null,null,null,null,null,null,null,null,null,null,null,null,null,null,null,null,null,null,null,"完全週休二日",{"$f":"IF(COUNTIF(CQ$14:$CQ487,\"OUT\")>=1,\"OUT\",\"OK\")","v":"OUT"},{"$f":"IF(CR498=\"OK\",\"達成\",\"未達成\")","v":"未達成"},null,null,null,null,null,null,null,null,null,null,null,null,null,null,null,null,null,null,null,null,null,null,null,null,null,null,null,null,null,null,null,null,null,null,null,null,null,null,null,null,null,null,null,null,null,"完全週休二日",{"$f":"IF(COUNTIF($EM$14:EM487,\"OUT\")>=1,\"OUT\",\"OK\")","v":"OUT"},{"$f":"IF(EN498=\"OK\",\"達成\",\"未達成\")","v":"未達成"}]
["",null,"※必要に応じて各月の完全週休2日（月～日）の達成判定の行を修正してください。（曜日に合わせて修正）",null,null,null,null,null,null,null,null,null,null,null,null,null,null,null,null,null,null,null,null,null,null,null,null,null,null,null,null,null,null,null,null,null,null,null,null,null,null,null,null,null,null,null,null,null,null,null,null,null,"※必要に応じて各月の完全週休2日（月～日）の達成判定の行を修正してください。（曜日に合わせて修正）",null,null,null,null,null,null,null,null,null,null,null,null,null,null,null,null,null,null,null,null,null,null,null,null,null,null,null,null,null,null,null,null,null,null,null,null,null,null,null,null,null,null,null,null,null,null,null,"※必要に応じて各月の完全週休2日（月～日）の達成判定の行を修正してください。（曜日に合わせて修正）"]
[""]
[""]
[""]
[""]
[""]
["",null,"算定除外期間以外の祝日（ＧＷ含む）は、算定期間（分母）の対象＝現場閉所の場合は分子にカウントして現場閉所率を算定",null,null,null,null,null,null,null,null,null,null,null,null,null,null,null,null,null,null,null,null,null,null,null,null,null,null,null,null,null,null,null,null,null,null,null,null,null,null,null,null,null,null,null,null,null,null,null,null,null,"算定除外期間以外の祝日（ＧＷ含む）は、算定期間（分母）の対象＝現場閉所の場合は分子にカウントして現場閉所率を算定",null,null,null,null,null,null,null,null,null,null,null,null,null,null,null,null,null,null,null,null,null,null,null,null,null,null,null,null,null,null,null,null,null,null,null,null,null,null,null,null,null,null,null,null,null,null,null,"算定除外期間以外の祝日（ＧＷ含む）は、算定期間（分母）の対象＝現場閉所の場合は分子にカウントして現場閉所率を算定"]
[{"$f":"IF(AND(NOT($AT$478=\"\"),$AT$507=\"\"),\"対象期間\",\"\")","v":""}]
[{"$f":"IF($AT$507=\"\",\"\",\"対象期間\")","v":""},null,"月",{"$f":"DATE(YEAR(D478),MONTH(D478)+1,1)","v":"2026-09-01"},null,null,null,null,null,null,null,null,null,null,null,null,null,null,null,null,null,null,null,null,null,null,null,null,null,null,null,null,null,null,{"$f":"DATE(YEAR(D507),MONTH(D507)+1,1)","v":"2026-10-01"},null,null,null,null,null,"現場閉所計","現場閉所累計",null,"計画","対象期間",{"$f":"IF(IF(MONTH(入力表!$E$6)=12,YEAR(入力表!$E$6)+1&\"01\",YEAR(入力表!$E$6)&TEXT(MONTH(入力表!$E$6)+1,\"00\"))>YEAR($D507)&TEXT(MONTH($D507),\"00\"),COUNTIF(D511:AH511,\"\")+COUNTIF(D511:AH511,\"○\"),\"\")","v":""},{"$f":"IF(COUNTIF(D508:AH508,\"／\")=0,\"\",IF(COUNTIF(D508:AH508,\"／\")=1,IF(AH511=\"／\",\"\",\"月末「／」漏れ\"),IF(COUNTIF(D508:AH508,\"／\")=2,IF(AND(AG511=\"／\",AH511=\"／\"),\"\",\"月末「／」漏れ\"),IF(AND(AF511=\"／\",AG511=\"／\",AH511=\"／\"),\"\",\"月末「／」漏れ\"))))","v":"月末「／」漏れ"},null,null,null,null,null,"月",{"$f":"DATE(YEAR(BB478),MONTH(BB478)+1,1)","v":"2026-09-01"},null,null,null,null,null,null,null,null,null,null,null,null,null,null,null,null,null,null,null,null,null,null,null,null,null,null,null,null,null,null,{"$f":"DATE(YEAR(BB507),MONTH(BB507)+1,1)","v":"2026-10-01"},null,null,null,null,null,"現場閉所計","現場閉所累計",null,"計画","対象期間",{"$f":"IF(IF(MONTH($BL$5)=12,YEAR($BL$5)+1&\"01\",YEAR($BL$5)&TEXT(MONTH($BL$5)+1,\"00\"))>YEAR(BB507)&TEXT(MONTH(BB507),\"00\"),COUNTIF(BB511:CF511,\"\")+COUNTIF(BB511:CF511,\"○\"),\"\")","v":""},{"$f":"IF(COUNTIF(BB508:CF508,\"／\")=0,\"\",IF(COUNTIF(BB508:CF508,\"／\")=1,IF(CF511=\"／\",\"\",\"月末「／」漏れ\"),IF(COUNTIF(BB508:CF508,\"／\")=2,IF(AND(CE511=\"／\",CF511=\"／\"),\"\",\"月末「／」漏れ\"),IF(AND(CD511=\"／\",CE511=\"／\",CF511=\"／\"),\"\",\"月末「／」漏れ\"))))","v":""},null,null,null,"月",{"$f":"DATE(YEAR(CX478),MONTH(CX478)+1,1)","v":"2026-09-01"},null,null,null,null,null,null,null,null,null,null,null,null,null,null,null,null,null,null,null,null,null,null,null,null,null,null,null,null,null,null,{"$f":"DATE(YEAR(CX507),MONTH(CX507)+1,1)","v":"2026-10-01"},null,null,null,null,null,"現場閉所計","現場閉所累計",null,"計画","対象期間",{"$f":"IF(IF(MONTH($BL$5)=12,YEAR($BL$5)+1&\"01\",YEAR($BL$5)&TEXT(MONTH($BL$5)+1,\"00\"))>YEAR($CX507)&TEXT(MONTH($CX507),\"00\"),COUNTIF(CX511:EB511,\"\")+COUNTIF(CX511:EB511,\"○\"),\"\")","v":""},{"$f":"IF(COUNTIF(CX508:EB508,\"／\")=0,\"\",IF(COUNTIF(CX508:EB508,\"／\")=1,IF(EB511=\"／\",\"\",\"月末「／」漏れ\"),IF(COUNTIF(CX508:EB508,\"／\")=2,IF(AND(EA511=\"／\",EB511=\"／\"),\"\",\"月末「／」漏れ\"),IF(AND(DZ511=\"／\",EA511=\"／\",EB511=\"／\"),\"\",\"月末「／」漏れ\"))))","v":""}]
[{"$f":"IF($AT$507=\"\",\"\",\"対象期間\")","v":""},null,"日",{"$f":"D507","v":"2026-09-01"},{"$f":"D508+1","v":"2026-09-02"},{"$f":"E508+1","v":"2026-09-03"},{"$f":"F508+1","v":"2026-09-04"},{"$f":"G508+1","v":"2026-09-05"},{"$f":"H508+1","v":"2026-09-06"},{"$f":"I508+1","v":"2026-09-07"},{"$f":"J508+1","v":"2026-09-08"},{"$f":"K508+1","v":"2026-09-09"},{"$f":"L508+1","v":"2026-09-10"},{"$f":"M508+1","v":"2026-09-11"},{"$f":"N508+1","v":"2026-09-12"},{"$f":"O508+1","v":"2026-09-13"},{"$f":"P508+1","v":"2026-09-14"},{"$f":"Q508+1","v":"2026-09-15"},{"$f":"R508+1","v":"2026-09-16"},{"$f":"S508+1","v":"2026-09-17"},{"$f":"T508+1","v":"2026-09-18"},{"$f":"U508+1","v":"2026-09-19"},{"$f":"V508+1","v":"2026-09-20"},{"$f":"W508+1","v":"2026-09-21"},{"$f":"X508+1","v":"2026-09-22"},{"$f":"Y508+1","v":"2026-09-23"},{"$f":"Z508+1","v":"2026-09-24"},{"$f":"AA508+1","v":"2026-09-25"},{"$f":"AB508+1","v":"2026-09-26"},{"$f":"AC508+1","v":"2026-09-27"},{"$f":"AD508+1","v":"2026-09-28"},{"$f":"IF(AE508=\"／\",\"／\",IF(YEAR($D507)&TEXT(MONTH($D507),\"00\")<YEAR(AE508+1)&TEXT(MONTH(AE508+1),\"00\"),\"／\",AE508+1))","v":"2026-09-29"},{"$f":"IF(AF508=\"／\",\"／\",IF(YEAR($D507)&TEXT(MONTH($D507),\"00\")<YEAR(AF508+1)&TEXT(MONTH(AF508+1),\"00\"),\"／\",AF508+1))","v":"2026-09-30"},{"$f":"IF(AG508=\"／\",\"／\",IF(YEAR($D507)&TEXT(MONTH($D507),\"00\")<YEAR(AG508+1)&TEXT(MONTH(AG508+1),\"00\"),\"／\",AG508+1))","v":"／"},{"$f":"AI507","v":"2026-10-01"},{"$f":"AI508+1","v":"2026-10-02"},{"$f":"AJ508+1","v":"2026-10-03"},{"$f":"AK508+1","v":"2026-10-04"},{"$f":"AL508+1","v":"2026-10-05"},{"$f":"AM508+1","v":"2026-10-06"},null,null,null,null,"閉所日数",{"$f":"IF(IF(MONTH(入力表!$E$6)=12,YEAR(入力表!$E$6)+1&\"01\",YEAR(入力表!$E$6)&TEXT(MONTH(入力表!$E$6)+1,\"00\"))>YEAR($D507)&TEXT(MONTH($D507),\"00\"),COUNTIF(D511:AH511,\"○\"),\"\")","v":""},{"$f":"IF(OR(MONTH(D507)=1,MONTH(D507)=8,MONTH(D507)=12),IF(COUNTIF(D511:AH511,\"／\")>=3,\"\",\"算定除外「／」漏れ\"),\"\")","v":""},null,null,null,null,null,"日",{"$f":"BB507","v":"2026-09-01"},{"$f":"BB508+1","v":"2026-09-02"},{"$f":"BC508+1","v":"2026-09-03"},{"$f":"BD508+1","v":"2026-09-04"},{"$f":"BE508+1","v":"2026-09-05"},{"$f":"BF508+1","v":"2026-09-06"},{"$f":"BG508+1","v":"2026-09-07"},{"$f":"BH508+1","v":"2026-09-08"},{"$f":"BI508+1","v":"2026-09-09"},{"$f":"BJ508+1","v":"2026-09-10"},{"$f":"BK508+1","v":"2026-09-11"},{"$f":"BL508+1","v":"2026-09-12"},{"$f":"BM508+1","v":"2026-09-13"},{"$f":"BN508+1","v":"2026-09-14"},{"$f":"BO508+1","v":"2026-09-15"},{"$f":"BP508+1","v":"2026-09-16"},{"$f":"BQ508+1","v":"2026-09-17"},{"$f":"BR508+1","v":"2026-09-18"},{"$f":"BS508+1","v":"2026-09-19"},{"$f":"BT508+1","v":"2026-09-20"},{"$f":"BU508+1","v":"2026-09-21"},{"$f":"BV508+1","v":"2026-09-22"},{"$f":"BW508+1","v":"2026-09-23"},{"$f":"BX508+1","v":"2026-09-24"},{"$f":"BY508+1","v":"2026-09-25"},{"$f":"BZ508+1","v":"2026-09-26"},{"$f":"CA508+1","v":"2026-09-27"},{"$f":"CB508+1","v":"2026-09-28"},{"$f":"IF(CC508=\"／\",\"／\",IF(YEAR(BB507)&TEXT(MONTH(BB507),\"00\")<YEAR(CC508+1)&TEXT(MONTH(CC508+1),\"00\"),\"／\",CC508+1))","v":"2026-09-29"},{"$f":"IF(CD508=\"／\",\"／\",IF(YEAR(BB507)&TEXT(MONTH(BB507),\"00\")<YEAR(CD508+1)&TEXT(MONTH(CD508+1),\"00\"),\"／\",CD508+1))","v":"2026-09-30"},{"$f":"IF(CE508=\"／\",\"／\",IF(YEAR(BB507)&TEXT(MONTH(BB507),\"00\")<YEAR(CE508+1)&TEXT(MONTH(CE508+1),\"00\"),\"／\",CE508+1))","v":"／"},{"$f":"CG507","v":"2026-10-01"},{"$f":"CG508+1","v":"2026-10-02"},{"$f":"CH508+1","v":"2026-10-03"},{"$f":"CI508+1","v":"2026-10-04"},{"$f":"CJ508+1","v":"2026-10-05"},{"$f":"CK508+1","v":"2026-10-06"},null,null,null,null,"閉所日数",{"$f":"IF(IF(MONTH($BL$5)=12,YEAR($BL$5)+1&\"01\",YEAR($BL$5)&TEXT(MONTH($BL$5)+1,\"00\"))>YEAR(BB507)&TEXT(MONTH(BB507),\"00\"),COUNTIF(BB511:CF511,\"○\"),\"\")","v":""},{"$f":"IF(OR(MONTH(BB507)=1,MONTH(BB507)=8,MONTH(BB507)=12),IF(COUNTIF(BB511:CF511,\"／\")>=3,\"\",\"算定除外「／」漏れ\"),\"\")","v":""},null,null,null,"日",{"$f":"CX507","v":"2026-09-01"},{"$f":"CX508+1","v":"2026-09-02"},{"$f":"CY508+1","v":"2026-09-03"},{"$f":"CZ508+1","v":"2026-09-04"},{"$f":"DA508+1","v":"2026-09-05"},{"$f":"DB508+1","v":"2026-09-06"},{"$f":"DC508+1","v":"2026-09-07"},{"$f":"DD508+1","v":"2026-09-08"},{"$f":"DE508+1","v":"2026-09-09"},{"$f":"DF508+1","v":"2026-09-10"},{"$f":"DG508+1","v":"2026-09-11"},{"$f":"DH508+1","v":"2026-09-12"},{"$f":"DI508+1","v":"2026-09-13"},{"$f":"DJ508+1","v":"2026-09-14"},{"$f":"DK508+1","v":"2026-09-15"},{"$f":"DL508+1","v":"2026-09-16"},{"$f":"DM508+1","v":"2026-09-17"},{"$f":"DN508+1","v":"2026-09-18"},{"$f":"DO508+1","v":"2026-09-19"},{"$f":"DP508+1","v":"2026-09-20"},{"$f":"DQ508+1","v":"2026-09-21"},{"$f":"DR508+1","v":"2026-09-22"},{"$f":"DS508+1","v":"2026-09-23"},{"$f":"DT508+1","v":"2026-09-24"},{"$f":"DU508+1","v":"2026-09-25"},{"$f":"DV508+1","v":"2026-09-26"},{"$f":"DW508+1","v":"2026-09-27"},{"$f":"DX508+1","v":"2026-09-28"},{"$f":"IF(DY508=\"／\",\"／\",IF(YEAR(CX507)&TEXT(MONTH(CX507),\"00\")<YEAR(DY508+1)&TEXT(MONTH(DY508+1),\"00\"),\"／\",DY508+1))","v":"2026-09-29"},{"$f":"IF(DZ508=\"／\",\"／\",IF(YEAR(CX507)&TEXT(MONTH(CX507),\"00\")<YEAR(DZ508+1)&TEXT(MONTH(DZ508+1),\"00\"),\"／\",DZ508+1))","v":"2026-09-30"},{"$f":"IF(EA508=\"／\",\"／\",IF(YEAR(CX507)&TEXT(MONTH(CX507),\"00\")<YEAR(EA508+1)&TEXT(MONTH(EA508+1),\"00\"),\"／\",EA508+1))","v":"／"},{"$f":"EC507","v":"2026-10-01"},{"$f":"EC508+1","v":"2026-10-02"},{"$f":"ED508+1","v":"2026-10-03"},{"$f":"EE508+1","v":"2026-10-04"},{"$f":"EF508+1","v":"2026-10-05"},{"$f":"EG508+1","v":"2026-10-06"},null,null,null,null,"閉所日数",{"$f":"IF(IF(MONTH($BL$5)=12,YEAR($BL$5)+1&\"01\",YEAR($BL$5)&TEXT(MONTH($BL$5)+1,\"00\"))>YEAR($CX507)&TEXT(MONTH($CX507),\"00\"),COUNTIF(CX511:EB511,\"○\"),\"\")","v":""},{"$f":"IF(OR(MONTH(CX507)=1,MONTH(CX507)=8,MONTH(CX507)=12),IF(COUNTIF(CX511:EB511,\"／\")>=3,\"\",\"算定除外「／」漏れ\"),\"\")","v":""}]
["",null,"曜日",{"$f":"TEXT(WEEKDAY(+D508),\"aaa\")","v":"火"},{"$f":"TEXT(WEEKDAY(+E508),\"aaa\")","v":"水"},"木","金","土",{"$f":"TEXT(WEEKDAY(+I508),\"aaa\")","v":"日"},{"$f":"TEXT(WEEKDAY(+J508),\"aaa\")","v":"月"},"火","水","木","金","土","日","月","火","水","木","金","土","日","月","火",{"$f":"TEXT(WEEKDAY(+Z508),\"aaa\")","v":"水"},{"$f":"TEXT(WEEKDAY(+AA508),\"aaa\")","v":"木"},"金","土","日","月",{"$f":"IF(AF508=\"／\",\"／\",TEXT(WEEKDAY(+AF508),\"aaa\"))","v":"火"},{"$f":"IF(AG508=\"／\",\"／\",TEXT(WEEKDAY(+AG508),\"aaa\"))","v":"水"},"／",{"$f":"TEXT(WEEKDAY(+AI508),\"aaa\")","v":"木"},{"$f":"TEXT(WEEKDAY(+AJ508),\"aaa\")","v":"金"},"土","日","月","火",null,null,null,null,"現場閉所率",{"$f":"IFERROR(+AT508/AT507,\"\")","v":""},{"$f":"IF(AT509=\"\",\"\",IF(COUNTIF(D511:AH511,\"○\")>=COUNTIF(D514:AH514,\"◎\"),\"4週8休以上\",IF(AT509>=0.285,\"4週8休以上\",\"週休2日未達成\")))","v":""},null,null,null,null,null,"曜日",{"$f":"TEXT(WEEKDAY(+BB508),\"aaa\")","v":"火"},{"$f":"TEXT(WEEKDAY(+BC508),\"aaa\")","v":"水"},"木","金","土",{"$f":"TEXT(WEEKDAY(+BG508),\"aaa\")","v":"日"},{"$f":"TEXT(WEEKDAY(+BH508),\"aaa\")","v":"月"},"火","水","木","金","土","日","月","火","水","木","金","土","日","月","火",{"$f":"TEXT(WEEKDAY(+BX508),\"aaa\")","v":"水"},{"$f":"TEXT(WEEKDAY(+BY508),\"aaa\")","v":"木"},"金","土","日","月",{"$f":"IF(CD508=\"／\",\"／\",TEXT(WEEKDAY(+CD508),\"aaa\"))","v":"火"},{"$f":"IF(CE508=\"／\",\"／\",TEXT(WEEKDAY(+CE508),\"aaa\"))","v":"水"},"／",{"$f":"TEXT(WEEKDAY(+CG508),\"aaa\")","v":"木"},{"$f":"TEXT(WEEKDAY(+CH508),\"aaa\")","v":"金"},"土","日","月","火",null,null,null,null,"現場閉所率",{"$f":"IFERROR(+CR508/CR507,\"\")","v":""},{"$f":"IF(CR509=\"\",\"\",IF(COUNTIF(BB511:CF511,\"○\")>=COUNTIF(BB514:CF514,\"◎\"),\"4週8休以上\",IF(CR509>=0.285,\"4週8休以上\",\"週休2日未達成\")))","v":""},null,null,null,"曜日",{"$f":"TEXT(WEEKDAY(+CX508),\"aaa\")","v":"火"},{"$f":"TEXT(WEEKDAY(+CY508),\"aaa\")","v":"水"},"木","金","土",{"$f":"TEXT(WEEKDAY(+DC508),\"aaa\")","v":"日"},{"$f":"TEXT(WEEKDAY(+DD508),\"aaa\")","v":"月"},"火","水","木","金","土","日","月","火","水","木","金","土","日","月","火",{"$f":"TEXT(WEEKDAY(+DT508),\"aaa\")","v":"水"},{"$f":"TEXT(WEEKDAY(+DU508),\"aaa\")","v":"木"},"金","土","日","月",{"$f":"IF(DZ508=\"／\",\"／\",TEXT(WEEKDAY(+DZ508),\"aaa\"))","v":"火"},{"$f":"IF(EA508=\"／\",\"／\",TEXT(WEEKDAY(+EA508),\"aaa\"))","v":"水"},"／",{"$f":"TEXT(WEEKDAY(+EC508),\"aaa\")","v":"木"},{"$f":"TEXT(WEEKDAY(+ED508),\"aaa\")","v":"金"},"土","日","月","火",null,null,null,null,"現場閉所率",{"$f":"IFERROR(+EN508/EN507,\"\")","v":""},{"$f":"IF(EN509=\"\",\"\",IF(COUNTIF(CX511:EB511,\"○\")>=COUNTIF(CX514:EB514,\"◎\"),\"4週8休以上\",IF(EN509>=0.285,\"4週8休以上\",\"週休2日未達成\")))","v":""}]
["",null,"行事",null,null,null,null,null,null,null,null,null,null,null,null,null,null,null,null,null,null,null,null,null,null,null,null,null,null,null,null,null,null,null,{"$f":"IF(D539=\"\",\"\",D539)","v":""},{"$f":"IF(E539=\"\",\"\",E539)","v":""},{"$f":"IF(F539=\"\",\"\",F539)","v":""},{"$f":"IF(G539=\"\",\"\",G539)","v":""},{"$f":"IF(H539=\"\",\"\",H539)","v":""},{"$f":"IF(I539=\"\",\"\",I539)","v":""},null,null,null,"実施","対象期間",{"$f":"IF(IF(MONTH(入力表!$E$6)=12,YEAR(入力表!$E$6)+1&\"01\",YEAR(入力表!$E$6)&TEXT(MONTH(入力表!$E$6)+1,\"00\"))>YEAR($D507)&TEXT(MONTH($D507),\"00\"),COUNTIF(D512:AH512,\"\")+COUNTIF(D512:AH512,\"●\"),\"\")","v":""},{"$f":"IF(COUNTIF(D508:AH508,\"／\")=0,\"\",IF(COUNTIF(D508:AH508,\"／\")=1,IF(AH512=\"／\",\"\",\"月末「／」漏れ\"),IF(COUNTIF(D508:AH508,\"／\")=2,IF(AND(AG512=\"／\",AH512=\"／\"),\"\",\"月末「／」漏れ\"),IF(AND(AF512=\"／\",AG512=\"／\",AH512=\"／\"),\"\",\"月末「／」漏れ\"))))","v":"月末「／」漏れ"},null,null,null,null,null,"行事",null,null,null,null,null,null,null,null,null,null,null,null,null,null,null,null,null,null,null,null,null,null,null,null,null,null,null,null,null,null,null,{"$f":"IF(BB539=\"\",\"\",BB539)","v":""},{"$f":"IF(BC539=\"\",\"\",BC539)","v":""},{"$f":"IF(BD539=\"\",\"\",BD539)","v":""},{"$f":"IF(BE539=\"\",\"\",BE539)","v":""},{"$f":"IF(BF539=\"\",\"\",BF539)","v":""},{"$f":"IF(BG539=\"\",\"\",BG539)","v":""},null,null,null,"実施","対象期間",{"$f":"IF(IF(MONTH($BL$5)=12,YEAR($BL$5)+1&\"01\",YEAR($BL$5)&TEXT(MONTH($BL$5)+1,\"00\"))>YEAR(BB507)&TEXT(MONTH(BB507),\"00\"),COUNTIF(BB512:CF512,\"\")+COUNTIF(BB512:CF512,\"●\"),\"\")","v":""},{"$f":"IF(COUNTIF(BB508:CF508,\"／\")=0,\"\",IF(COUNTIF(BB508:CF508,\"／\")=1,IF(CF512=\"／\",\"\",\"月末「／」漏れ\"),IF(COUNTIF(BB508:CF508,\"／\")=2,IF(AND(CE512=\"／\",CF512=\"／\"),\"\",\"月末「／」漏れ\"),IF(AND(CD512=\"／\",CE512=\"／\",CF512=\"／\"),\"\",\"月末「／」漏れ\"))))","v":""},null,null,null,"行事",null,null,null,null,null,null,null,null,null,null,null,null,null,null,null,null,null,null,null,null,null,null,null,null,null,null,null,null,null,null,null,{"$f":"IF(CX539=\"\",\"\",CX539)","v":""},{"$f":"IF(CY539=\"\",\"\",CY539)","v":""},{"$f":"IF(CZ539=\"\",\"\",CZ539)","v":""},{"$f":"IF(DA539=\"\",\"\",DA539)","v":""},{"$f":"IF(DB539=\"\",\"\",DB539)","v":""},{"$f":"IF(DC539=\"\",\"\",DC539)","v":""},null,null,null,"実施","対象期間",{"$f":"IF(IF(MONTH($BL$5)=12,YEAR($BL$5)+1&\"01\",YEAR($BL$5)&TEXT(MONTH($BL$5)+1,\"00\"))>YEAR($CX507)&TEXT(MONTH($CX507),\"00\"),COUNTIF(CX512:EB512,\"\")+COUNTIF(CX512:EB512,\"●\"),\"\")","v":""},{"$f":"IF(COUNTIF(CX508:EB508,\"／\")=0,\"\",IF(COUNTIF(CX508:EB508,\"／\")=1,IF(EB512=\"／\",\"\",\"月末「／」漏れ\"),IF(COUNTIF(CX508:EB508,\"／\")=2,IF(AND(EA512=\"／\",EB512=\"／\"),\"\",\"月末「／」漏れ\"),IF(AND(DZ512=\"／\",EA512=\"／\",EB512=\"／\"),\"\",\"月末「／」漏れ\"))))","v":""}]
["",null,"計画",null,null,null,null,null,null,null,null,null,null,null,null,null,null,null,null,null,null,null,null,null,null,null,null,null,null,null,null,null,null,null,{"$f":"IF(D540=\"\",\"\",D540)","v":""},{"$f":"IF(E540=\"\",\"\",E540)","v":""},{"$f":"IF(F540=\"\",\"\",F540)","v":""},{"$f":"IF(G540=\"\",\"\",G540)","v":""},{"$f":"IF(H540=\"\",\"\",H540)","v":""},{"$f":"IF(I540=\"\",\"\",I540)","v":""},{"$f":"COUNTIF(D511:AG511,\"○\")","v":0},{"$f":"+AO511+AP482","v":0},null,null,"閉所日数",{"$f":"IF(IF(MONTH(入力表!$E$6)=12,YEAR(入力表!$E$6)+1&\"01\",YEAR(入力表!$E$6)&TEXT(MONTH(入力表!$E$6)+1,\"00\"))>YEAR($D507)&TEXT(MONTH($D507),\"00\"),COUNTIF(D512:AH512,\"●\"),\"\")","v":""},{"$f":"IF(OR(MONTH(D507)=1,MONTH(D507)=8,MONTH(D507)=12),IF(COUNTIF(D512:AH512,\"／\")>=3,\"\",\"算定除外「／」漏れ\"),\"\")","v":""},null,null,null,null,null,"計画",null,null,null,null,null,null,null,null,null,null,null,null,null,null,null,null,null,null,null,null,null,null,null,null,null,null,null,null,null,null,"／",{"$f":"IF(BB540=\"\",\"\",BB540)","v":""},"","","","","",{"$f":"COUNTIF(BB511:CE511,\"○\")","v":0},{"$f":"+CM511+CN482","v":0},null,null,"閉所日数",{"$f":"IF(IF(MONTH($BL$5)=12,YEAR($BL$5)+1&\"01\",YEAR($BL$5)&TEXT(MONTH($BL$5)+1,\"00\"))>YEAR(BB507)&TEXT(MONTH(BB507),\"00\"),COUNTIF(BB512:CF512,\"●\"),\"\")","v":""},{"$f":"IF(OR(MONTH(BB507)=1,MONTH(BB507)=8,MONTH(BB507)=12),IF(COUNTIF(BB512:CF512,\"／\")>=3,\"\",\"算定除外「／」漏れ\"),\"\")","v":""},null,null,null,"計画",null,null,null,null,null,null,null,null,null,null,null,null,null,null,null,null,null,null,null,null,null,null,null,null,null,null,null,null,null,null,"／",{"$f":"IF(CX540=\"\",\"\",CX540)","v":""},"","","","","",{"$f":"COUNTIF(CX511:EA511,\"○\")","v":0},{"$f":"+EI511+EJ482","v":0},null,null,"閉所日数",{"$f":"IF(IF(MONTH($BL$5)=12,YEAR($BL$5)+1&\"01\",YEAR($BL$5)&TEXT(MONTH($BL$5)+1,\"00\"))>YEAR($CX507)&TEXT(MONTH($CX507),\"00\"),COUNTIF(CX512:EB512,\"●\"),\"\")","v":""},{"$f":"IF(OR(MONTH(CX507)=1,MONTH(CX507)=8,MONTH(CX507)=12),IF(COUNTIF(CX512:EB512,\"／\")>=3,\"\",\"算定除外「／」漏れ\"),\"\")","v":""}]
["",null,"実施",null,null,null,null,null,null,null,null,null,null,null,null,null,null,null,null,null,null,null,null,null,null,null,null,null,null,null,null,null,null,null,{"$f":"IF(D541=\"\",\"\",D541)","v":""},{"$f":"IF(E541=\"\",\"\",E541)","v":""},{"$f":"IF(F541=\"\",\"\",F541)","v":""},{"$f":"IF(G541=\"\",\"\",G541)","v":""},{"$f":"IF(H541=\"\",\"\",H541)","v":""},{"$f":"IF(I541=\"\",\"\",I541)","v":""},{"$f":"COUNTIF(D512:AG512,\"●\")","v":0},{"$f":"+AO512+AP483","v":0},null,null,"現場閉所率",{"$f":"IFERROR(+AT511/AT510,\"\")","v":""},{"$f":"IF(AT512=\"\",\"\",IF(COUNTIF(D512:AH512,\"●\")>=COUNTIF(D515:AH515,\"◎\"),\"4週8休以上\",IF(AT512>=0.285,\"4週8休以上\",\"週休2日未達成\")))","v":""},null,null,null,null,null,"実施",null,null,null,null,null,null,null,null,null,null,null,null,null,null,null,null,null,null,null,null,null,null,null,null,null,null,null,null,null,null,"／",{"$f":"IF(BB541=\"\",\"\",BB541)","v":""},{"$f":"IF(BC541=\"\",\"\",BC541)","v":""},{"$f":"IF(BD541=\"\",\"\",BD541)","v":""},{"$f":"IF(BE541=\"\",\"\",BE541)","v":""},{"$f":"IF(BF541=\"\",\"\",BF541)","v":""},{"$f":"IF(BG541=\"\",\"\",BG541)","v":""},{"$f":"COUNTIF(BB512:CE512,\"●\")","v":0},{"$f":"+CM512+CN483","v":0},null,null,"現場閉所率",{"$f":"IFERROR(+CR511/CR510,\"\")","v":""},{"$f":"IF(CR512=\"\",\"\",IF(COUNTIF(BB512:CF512,\"●\")>=COUNTIF(BB515:CF515,\"◎\"),\"4週8休以上\",IF(CR512>=0.285,\"4週8休以上\",\"週休2日未達成\")))","v":""},null,null,null,"実施",null,null,null,null,null,null,null,null,null,null,null,null,null,null,null,null,null,null,null,null,null,null,null,null,null,null,null,null,null,null,"／",{"$f":"IF(CX541=\"\",\"\",CX541)","v":""},{"$f":"IF(CY541=\"\",\"\",CY541)","v":""},{"$f":"IF(CZ541=\"\",\"\",CZ541)","v":""},{"$f":"IF(DA541=\"\",\"\",DA541)","v":""},{"$f":"IF(DB541=\"\",\"\",DB541)","v":""},{"$f":"IF(DC541=\"\",\"\",DC541)","v":""},{"$f":"COUNTIF(CX512:EA512,\"●\")","v":0},{"$f":"+EI512+EJ483","v":0},null,null,"現場閉所率",{"$f":"IFERROR(+EN511/EN510,\"\")","v":""},{"$f":"IF(EN512=\"\",\"\",IF(COUNTIF(CX512:EB512,\"●\")>=COUNTIF(CX515:EB515,\"◎\"),\"4週8休以上\",IF(EN512>=0.285,\"4週8休以上\",\"週休2日未達成\")))","v":""}]
[null,null,null,1,2,3,4,5,6,7,8,9,10,11,12,13,14,15,16,17,18,19,20,21,22,23,24,25,26,27,28,29,30,31,32,33,34,35,36,37,null,null,null,null,{"$f":"AU512","v":""},null,null,null,null,null,null,null,null,1,2,3,4,5,6,7,8,9,10,11,12,13,14,15,16,17,18,19,20,21,22,23,24,25,26,27,28,29,30,31,32,33,34,35,36,37,null,null,null,null,{"$f":"CS512","v":""},null,null,null,null,null,null,1,2,3,4,5,6,7,8,9,10,11,12,13,14,15,16,17,18,19,20,21,22,23,24,25,26,27,28,29,30,31,32,33,34,35,36,37,null,null,null,null,{"$f":"EO512","v":""}]
[null,null,"計画",{"$f":"IF(D511=\"／\",\"／\",IF(OR(D509=\"土\",D509=\"日\"),\"◎\",\"\"))","v":""},{"$f":"IF(E511=\"／\",\"／\",IF(OR(E509=\"土\",E509=\"日\"),\"◎\",\"\"))","v":""},"","","◎","◎","","","","","","◎","◎","","","","","","◎","◎","","","","","","◎",{"$f":"IF(AD511=\"／\",\"／\",IF(OR(AD509=\"土\",AD509=\"日\"),\"◎\",\"\"))","v":"◎"},{"$f":"IF(AE511=\"／\",\"／\",IF(OR(AE509=\"土\",AE509=\"日\"),\"◎\",\"\"))","v":""},"","","","","","◎","◎","","",null,null,null,null,{"$f":"AT516","v":""},null,null,null,null,null,null,null,"計画",{"$f":"IF(BB511=\"／\",\"／\",IF(OR(BB509=\"土\",BB509=\"日\"),\"◎\",\"\"))","v":""},"","","","◎","◎","","","","","","◎",{"$f":"IF(BN511=\"／\",\"／\",IF(OR(BN509=\"土\",BN509=\"日\"),\"◎\",\"\"))","v":"◎"},{"$f":"IF(BO511=\"／\",\"／\",IF(OR(BO509=\"土\",BO509=\"日\"),\"◎\",\"\"))","v":""},"","","","","◎","◎","","","","","","◎",{"$f":"IF(CB511=\"／\",\"／\",IF(OR(CB509=\"土\",CB509=\"日\"),\"◎\",\"\"))","v":"◎"},{"$f":"IF(CC511=\"／\",\"／\",IF(OR(CC509=\"土\",CC509=\"日\"),\"◎\",\"\"))","v":""},"","","／","","","◎","◎","","",null,null,null,null,{"$f":"CR516","v":""},null,null,null,null,null,"計画",{"$f":"IF(CX511=\"／\",\"／\",IF(OR(CX509=\"土\",CX509=\"日\"),\"◎\",\"\"))","v":""},"","","","◎","◎","","","","","","◎",{"$f":"IF(DJ511=\"／\",\"／\",IF(OR(DJ509=\"土\",DJ509=\"日\"),\"◎\",\"\"))","v":"◎"},{"$f":"IF(DK511=\"／\",\"／\",IF(OR(DK509=\"土\",DK509=\"日\"),\"◎\",\"\"))","v":""},"","","","","◎","◎","","","","","","◎",{"$f":"IF(DX511=\"／\",\"／\",IF(OR(DX509=\"土\",DX509=\"日\"),\"◎\",\"\"))","v":"◎"},{"$f":"IF(DY511=\"／\",\"／\",IF(OR(DY509=\"土\",DY509=\"日\"),\"◎\",\"\"))","v":""},"","","／","","","◎","◎","","",null,null,null,null,{"$f":"EN516","v":""}]
[null,null,"実施",{"$f":"IF(D512=\"／\",\"／\",IF(OR(D509=\"土\",D509=\"日\"),\"◎\",\"\"))","v":""},{"$f":"IF(E512=\"／\",\"／\",IF(OR(E509=\"土\",E509=\"日\"),\"◎\",\"\"))","v":""},"","","◎","◎","","","","","","◎","◎","","","","","","◎","◎","","","","","","◎","◎","","","","","","","◎","◎","","",null,null,null,null,null,null,null,null,null,null,null,null,"実施",{"$f":"IF(BB512=\"／\",\"／\",IF(OR(BB509=\"土\",BB509=\"日\"),\"◎\",\"\"))","v":""},{"$f":"IF(BC512=\"／\",\"／\",IF(OR(BC509=\"土\",BC509=\"日\"),\"◎\",\"\"))","v":""},"","","◎","◎","","","","","","◎","◎","","","","","","◎","◎","","","","","","◎","◎","","","","／","","","◎","◎","","",null,null,null,null,null,null,null,null,null,null,"実施",{"$f":"IF(CX512=\"／\",\"／\",IF(OR(CX509=\"土\",CX509=\"日\"),\"◎\",\"\"))","v":""},{"$f":"IF(CY512=\"／\",\"／\",IF(OR(CY509=\"土\",CY509=\"日\"),\"◎\",\"\"))","v":""},"","","◎","◎","","","","","","◎","◎","","","","","","◎","◎","","","","","","◎","◎","","","","／","","","◎","◎","",""]
["",null,"完全",{"$f":"IF(WEEKDAY(DATE(YEAR(D507),MONTH(D507),1),2)=1,DATE(YEAR(D507),MONTH(D507),1),EOMONTH(D507,-1)-MOD(WEEKDAY(EOMONTH(D507,-1),2)+6,7))","v":"2026-08-31"},"～",{"$f":"DATE(YEAR(D507),MONTH(D507),1)+MOD(7-WEEKDAY(DATE(YEAR(D507),MONTH(D507),1),2),7)","v":"2026-09-06"},{"$f":"IF(DAY(D516)=1,IF(COUNTIF(D512:J512,\"／\")>=1,\"対象外\",IF(COUNTIF(INDEX(D512:AN512,DAY(D516)):INDEX(D512:AN512,HLOOKUP(F516,D508:AN513,6,FALSE)),\"\")+COUNTIF(INDEX(D512:AN512,DAY(D516)):INDEX(D512:AN512,HLOOKUP(F516,D508:AN513,6,FALSE)),\"●\")=7,IF(COUNTIF(INDEX(D512:AN512,DAY(D516)):INDEX(D512:AN512,HLOOKUP(F516,D508:AN513,6,FALSE)),\"●\")>=2,\"OK\",\"OUT\"),IF(COUNTIF(INDEX(D512:AN512,DAY(D516)):INDEX(D512:AN512,HLOOKUP(F516,D508:AN513,6,FALSE)),\"●\")>=COUNTIF(INDEX(D515:AN515,DAY(D516)):INDEX(D515:AN515,HLOOKUP(F516,D508:AN513,6,FALSE)),\"○\"),\"OK\",\"OUT\"))),IF(AND(AK487=\"\",AE487=\"\"),Y487,IF(AK487=\"\",AE487,AK487)))","v":"OUT"},null,null,{"$f":"F516+1","v":"2026-09-07"},"～",{"$f":"F516+7","v":"2026-09-13"},{"$f":"IF(COUNTIF(INDEX(D512:AN512,DAY(J516)):INDEX(D512:AN512,HLOOKUP(L516,D508:AN513,6,FALSE)),\"\")+COUNTIF(INDEX(D512:AN512,DAY(J516)):INDEX(D512:AN512,HLOOKUP(L516,D508:AN513,6,FALSE)),\"●\")=7,IF(COUNTIF(INDEX(D512:AN512,DAY(J516)):INDEX(D512:AN512,HLOOKUP(L516,D508:AN513,6,FALSE)),\"●\")>=2,\"OK\",\"OUT\"),\"対象外\")","v":"OUT"},null,null,{"$f":"L516+1","v":"2026-09-14"},"～",{"$f":"L516+7","v":"2026-09-20"},{"$f":"IF(COUNTIF(INDEX(D512:AN512,DAY(P516)):INDEX(D512:AN512,HLOOKUP(R516,D508:AN513,6,FALSE)),\"\")+COUNTIF(INDEX(D512:AN512,DAY(P516)):INDEX(D512:AN512,HLOOKUP(R516,D508:AN513,6,FALSE)),\"●\")=7,IF(COUNTIF(INDEX(D512:AN512,DAY(P516)):INDEX(D512:AN512,HLOOKUP(R516,D508:AN513,6,FALSE)),\"●\")>=2,\"OK\",\"OUT\"),\"対象外\")","v":"OUT"},null,null,{"$f":"R516+1","v":"2026-09-21"},"～",{"$f":"R516+7","v":"2026-09-27"},{"$f":"IF(COUNTIF(INDEX(D512:AN512,DAY(V516)):INDEX(D512:AN512,HLOOKUP(X516,D508:AN513,6,FALSE)),\"\")+COUNTIF(INDEX(D512:AN512,DAY(V516)):INDEX(D512:AN512,HLOOKUP(X516,D508:AN513,6,FALSE)),\"●\")=7,IF(COUNTIF(INDEX(D512:AN512,DAY(V516)):INDEX(D512:AN512,HLOOKUP(X516,D508:AN513,6,FALSE)),\"●\")>=2,\"OK\",\"OUT\"),\"対象外\")","v":"OUT"},null,null,{"$f":"IF(AND(DAY(X516+7)<23,DAY(X516+7)>=7),\"\",X516+1)","v":"2026-09-28"},{"$f":"IF(AND(DAY(X516+7)<23,DAY(X516+7)>=7),\"\",\"～\")","v":"～"},{"$f":"IF(AND(DAY(X516+7)<23,DAY(X516+7)>=7),\"\",X516+7)","v":"2026-10-04"},{"$f":"IF(AND(DAY(X516+7)<23,DAY(X516+7)>=7),\"\",IF(COUNTIF(INDEX(D512:AN512,DAY(AB516)):INDEX(D512:AN512,HLOOKUP(AD516,D508:AN513,6,FALSE)),\"\")+COUNTIF(INDEX(D512:AN512,DAY(AB516)):INDEX(D512:AN512,HLOOKUP(AD516,D508:AN513,6,FALSE)),\"●\")=7,IF(COUNTIF(INDEX(D512:AN512,DAY(AB516)):INDEX(D512:AN512,HLOOKUP(AD516,D508:AN513,6,FALSE)),\"●\")>=2,\"OK\",\"OUT\"),IF(COUNTIF(INDEX(D512:AN512,DAY(AB516)):INDEX(D512:AN512,HLOOKUP(AD516,D508:AN513,6,FALSE)),\"\")+COUNTIF(INDEX(D512:AN512,DAY(AB516)):INDEX(D512:AN512,HLOOKUP(AD516,D508:AN513,6,FALSE)),\"●\")>7,\"「／」漏れ\",\"対象外\")))","v":"「／」漏れ"},null,null,{"$f":"IF(AE516=\"\",\"\",IF(AND(DAY(AD516+7)<23,DAY(AD516+7)>=7),\"\",AD516+1))","v":""},{"$f":"IF(AE516=\"\",\"\",IF(AND(DAY(AD516+7)<23,DAY(AD516+7)>=7),\"\",\"～\"))","v":""},{"$f":"IF(AE516=\"\",\"\",IF(AND(DAY(AD516+7)<23,DAY(AD516+7)>=7),\"\",AD516+7))","v":""},{"$f":"IF(AE516=\"\",\"\",IF(AND(DAY(AD516+7)<23,DAY(AD516+7)>=7),\"\",IF(COUNTIF(INDEX(D512:AN512,DAY(AH516)):INDEX(D512:AN512,HLOOKUP(AJ516,D508:AN513,6,FALSE)),\"\")+COUNTIF(INDEX(D512:AN512,DAY(AH516)):INDEX(D512:AN512,HLOOKUP(AJ516,D508:AN513,6,FALSE)),\"●\")=7,IF(COUNTIF(INDEX(D512:AN512,DAY(AH516)):INDEX(D512:AN512,HLOOKUP(AJ516,D508:AN513,6,FALSE)),\"●\")>=2,\"OK\",\"OUT\"),IF(COUNTIF(INDEX(D512:AN512,HLOOKUP(AH516,D508:AN513,6,FALSE)):INDEX(D512:AN512,HLOOKUP(AJ516,D508:AN513,6,FALSE)),\"\")+COUNTIF(INDEX(D512:AN512,HLOOKUP(AH516,D508:AN513,6,FALSE)):INDEX(D512:AN512,HLOOKUP(AJ516,D508:AN513,6,FALSE)),\"●\")>7,\"「／」漏れ\",\"対象外\"))))","v":""},null,null,null,null,null,null,null,"完全週休二日",{"$f":"IF(AT507=\"\",\"\",IF(COUNTIF(D516:AN516,\"OUT\")>=1,\"OUT\",\"OK\"))","v":""},null,null,null,null,null,null,"完全",{"$f":"IF(WEEKDAY(DATE(YEAR(BB507),MONTH(BB507),1),2)=1,DATE(YEAR(BB507),MONTH(BB507),1),EOMONTH(BB507,-1)-MOD(WEEKDAY(EOMONTH(BB507,-1),2)+6,7))","v":"2026-08-31"},"～",{"$f":"DATE(YEAR(BB507),MONTH(BB507),1)+MOD(7-WEEKDAY(DATE(YEAR(BB507),MONTH(BB507),1),2),7)","v":"2026-09-06"},{"$f":"IF(DAY(BB516)=1,IF(COUNTIF(BB512:BH512,\"／\")>=1,\"対象外\",IF(COUNTIF(INDEX(BB512:CL512,DAY(BB516)):INDEX(BB512:CL512,HLOOKUP(BD516,BB508:CL513,6,FALSE)),\"\")+COUNTIF(INDEX(BB512:CL512,DAY(BB516)):INDEX(BB512:CL512,HLOOKUP(BD516,BB508:CL513,6,FALSE)),\"●\")=7,IF(COUNTIF(INDEX(BB512:CL512,DAY(BB516)):INDEX(BB512:CL512,HLOOKUP(BD516,BB508:CL513,6,FALSE)),\"●\")>=2,\"OK\",\"OUT\"),IF(COUNTIF(INDEX(BB512:CL512,DAY(BB516)):INDEX(BB512:CL512,HLOOKUP(BD516,BB508:CL513,6,FALSE)),\"●\")>=COUNTIF(INDEX(BB515:CL515,DAY(BB516)):INDEX(BB515:CL515,HLOOKUP(BD516,BB508:CL513,6,FALSE)),\"○\"),\"OK\",\"OUT\"))),IF(AND(CI487=\"\",CC487=\"\"),BW487,IF(CI487=\"\",CC487,CI487)))","v":"OUT"},null,null,{"$f":"BD516+1","v":"2026-09-07"},"～",{"$f":"BD516+7","v":"2026-09-13"},{"$f":"IF(COUNTIF(INDEX(BB512:CL512,DAY(BH516)):INDEX(BB512:CL512,HLOOKUP(BJ516,BB508:CL513,6,FALSE)),\"\")+COUNTIF(INDEX(BB512:CL512,DAY(BH516)):INDEX(BB512:CL512,HLOOKUP(BJ516,BB508:CL513,6,FALSE)),\"●\")=7,IF(COUNTIF(INDEX(BB512:CL512,DAY(BH516)):INDEX(BB512:CL512,HLOOKUP(BJ516,BB508:CL513,6,FALSE)),\"●\")>=2,\"OK\",\"OUT\"),\"対象外\")","v":"OUT"},null,null,{"$f":"BJ516+1","v":"2026-09-14"},"～",{"$f":"BJ516+7","v":"2026-09-20"},{"$f":"IF(COUNTIF(INDEX(BB512:CL512,DAY(BN516)):INDEX(BB512:CL512,HLOOKUP(BP516,BB508:CL513,6,FALSE)),\"\")+COUNTIF(INDEX(BB512:CL512,DAY(BN516)):INDEX(BB512:CL512,HLOOKUP(BP516,BB508:CL513,6,FALSE)),\"●\")=7,IF(COUNTIF(INDEX(BB512:CL512,DAY(BN516)):INDEX(BB512:CL512,HLOOKUP(BP516,BB508:CL513,6,FALSE)),\"●\")>=2,\"OK\",\"OUT\"),\"対象外\")","v":"OUT"},null,null,{"$f":"BP516+1","v":"2026-09-21"},"～",{"$f":"BP516+7","v":"2026-09-27"},{"$f":"IF(COUNTIF(INDEX(BB512:CL512,DAY(BT516)):INDEX(BB512:CL512,HLOOKUP(BV516,BB508:CL513,6,FALSE)),\"\")+COUNTIF(INDEX(BB512:CL512,DAY(BT516)):INDEX(BB512:CL512,HLOOKUP(BV516,BB508:CL513,6,FALSE)),\"●\")=7,IF(COUNTIF(INDEX(BB512:CL512,DAY(BT516)):INDEX(BB512:CL512,HLOOKUP(BV516,BB508:CL513,6,FALSE)),\"●\")>=2,\"OK\",\"OUT\"),\"対象外\")","v":"OUT"},null,null,{"$f":"IF(AND(DAY(BV516+7)<23,DAY(BV516+7)>=7),\"\",BV516+1)","v":"2026-09-28"},{"$f":"IF(AND(DAY(BV516+7)<23,DAY(BV516+7)>=7),\"\",\"～\")","v":"～"},{"$f":"IF(AND(DAY(BV516+7)<23,DAY(BV516+7)>=7),\"\",BV516+7)","v":"2026-10-04"},{"$f":"IF(AND(DAY(BV516+7)<23,DAY(BV516+7)>=7),\"\",IF(COUNTIF(INDEX(BB512:CL512,DAY(BZ516)):INDEX(BB512:CL512,HLOOKUP(CB516,BB508:CL513,6,FALSE)),\"\")+COUNTIF(INDEX(BB512:CL512,DAY(BZ516)):INDEX(BB512:CL512,HLOOKUP(CB516,BB508:CL513,6,FALSE)),\"●\")=7,IF(COUNTIF(INDEX(BB512:CL512,DAY(BZ516)):INDEX(BB512:CL512,HLOOKUP(CB516,BB508:CL513,6,FALSE)),\"●\")>=2,\"OK\",\"OUT\"),IF(COUNTIF(INDEX(BB512:CL512,DAY(BZ516)):INDEX(BB512:CL512,HLOOKUP(CB516,BB508:CL513,6,FALSE)),\"\")+COUNTIF(INDEX(BB512:CL512,DAY(BZ516)):INDEX(BB512:CL512,HLOOKUP(CB516,BB508:CL513,6,FALSE)),\"●\")>7,\"「／」漏れ\",\"対象外\")))","v":"OUT"},null,null,{"$f":"IF(CC516=\"\",\"\",IF(AND(DAY(CB516+7)<23,DAY(CB516+7)>=7),\"\",CB516+1))","v":""},{"$f":"IF(CC516=\"\",\"\",IF(AND(DAY(CB516+7)<23,DAY(CB516+7)>=7),\"\",\"～\"))","v":""},{"$f":"IF(CC516=\"\",\"\",IF(AND(DAY(CB516+7)<23,DAY(CB516+7)>=7),\"\",CB516+7))","v":""},{"$f":"IF(CC516=\"\",\"\",IF(AND(DAY(CB516+7)<23,DAY(CB516+7)>=7),\"\",IF(COUNTIF(INDEX(BB512:CL512,DAY(CF516)):INDEX(BB512:CL512,HLOOKUP(CH516,BB508:CL513,6,FALSE)),\"\")+COUNTIF(INDEX(BB512:CL512,DAY(CF516)):INDEX(BB512:CL512,HLOOKUP(CH516,BB508:CL513,6,FALSE)),\"●\")=7,IF(COUNTIF(INDEX(BB512:CL512,DAY(CF516)):INDEX(BB512:CL512,HLOOKUP(CH516,BB508:CL513,6,FALSE)),\"●\")>=2,\"OK\",\"OUT\"),IF(COUNTIF(INDEX(BB512:CL512,HLOOKUP(CF516,BB508:CL513,6,FALSE)):INDEX(BB512:CL512,HLOOKUP(CH516,BB508:CL513,6,FALSE)),\"\")+COUNTIF(INDEX(BB512:CL512,HLOOKUP(CF516,BB508:CL513,6,FALSE)):INDEX(BB512:CL512,HLOOKUP(CH516,BB508:CL513,6,FALSE)),\"●\")>7,\"「／」漏れ\",\"対象外\"))))","v":""},null,null,null,null,null,null,null,"完全週休二日",{"$f":"IF(CR507=\"\",\"\",IF(COUNTIF(BB516:CL516,\"OUT\")>=1,\"OUT\",\"OK\"))","v":""},null,null,null,null,"完全",{"$f":"IF(WEEKDAY(DATE(YEAR(CX507),MONTH(CX507),1),2)=1,DATE(YEAR(CX507),MONTH(CX507),1),EOMONTH(CX507,-1)-MOD(WEEKDAY(EOMONTH(CX507,-1),2)+6,7))","v":"2026-08-31"},"～",{"$f":"DATE(YEAR(CX507),MONTH(CX507),1)+MOD(7-WEEKDAY(DATE(YEAR(CX507),MONTH(CX507),1),2),7)","v":"2026-09-06"},{"$f":"IF(DAY(CX516)=1,IF(COUNTIF(CX512:DD512,\"／\")>=1,\"対象外\",IF(COUNTIF(INDEX(CX512:EH512,DAY(CX516)):INDEX(CX512:EH512,HLOOKUP(CZ516,CX508:EH513,6,FALSE)),\"\")+COUNTIF(INDEX(CX512:EH512,DAY(CX516)):INDEX(CX512:EH512,HLOOKUP(CZ516,CX508:EH513,6,FALSE)),\"●\")=7,IF(COUNTIF(INDEX(CX512:EH512,DAY(CX516)):INDEX(CX512:EH512,HLOOKUP(CZ516,CX508:EH513,6,FALSE)),\"●\")>=2,\"OK\",\"OUT\"),IF(COUNTIF(INDEX(CX512:EH512,DAY(CX516)):INDEX(CX512:EH512,HLOOKUP(CZ516,CX508:EH513,6,FALSE)),\"●\")>=COUNTIF(INDEX(CX515:EH515,DAY(CX516)):INDEX(CX515:EH515,HLOOKUP(CZ516,CX508:EH513,6,FALSE)),\"○\"),\"OK\",\"OUT\"))),IF(AND(EE487=\"\",DY487=\"\"),DS487,IF(EE487=\"\",DY487,EE487)))","v":"OUT"},null,null,{"$f":"CZ516+1","v":"2026-09-07"},"～",{"$f":"CZ516+7","v":"2026-09-13"},{"$f":"IF(COUNTIF(INDEX(CX512:EH512,DAY(DD516)):INDEX(CX512:EH512,HLOOKUP(DF516,CX508:EH513,6,FALSE)),\"\")+COUNTIF(INDEX(CX512:EH512,DAY(DD516)):INDEX(CX512:EH512,HLOOKUP(DF516,CX508:EH513,6,FALSE)),\"●\")=7,IF(COUNTIF(INDEX(CX512:EH512,DAY(DD516)):INDEX(CX512:EH512,HLOOKUP(DF516,CX508:EH513,6,FALSE)),\"●\")>=2,\"OK\",\"OUT\"),\"対象外\")","v":"OUT"},null,null,{"$f":"DF516+1","v":"2026-09-14"},"～",{"$f":"DF516+7","v":"2026-09-20"},{"$f":"IF(COUNTIF(INDEX(CX512:EH512,DAY(DJ516)):INDEX(CX512:EH512,HLOOKUP(DL516,CX508:EH513,6,FALSE)),\"\")+COUNTIF(INDEX(CX512:EH512,DAY(DJ516)):INDEX(CX512:EH512,HLOOKUP(DL516,CX508:EH513,6,FALSE)),\"●\")=7,IF(COUNTIF(INDEX(CX512:EH512,DAY(DJ516)):INDEX(CX512:EH512,HLOOKUP(DL516,CX508:EH513,6,FALSE)),\"●\")>=2,\"OK\",\"OUT\"),\"対象外\")","v":"OUT"},null,null,{"$f":"DL516+1","v":"2026-09-21"},"～",{"$f":"DL516+7","v":"2026-09-27"},{"$f":"IF(COUNTIF(INDEX(CX512:EH512,DAY(DP516)):INDEX(CX512:EH512,HLOOKUP(DR516,CX508:EH513,6,FALSE)),\"\")+COUNTIF(INDEX(CX512:EH512,DAY(DP516)):INDEX(CX512:EH512,HLOOKUP(DR516,CX508:EH513,6,FALSE)),\"●\")=7,IF(COUNTIF(INDEX(CX512:EH512,DAY(DP516)):INDEX(CX512:EH512,HLOOKUP(DR516,CX508:EH513,6,FALSE)),\"●\")>=2,\"OK\",\"OUT\"),\"対象外\")","v":"OUT"},null,null,{"$f":"IF(AND(DAY(DR516+7)<23,DAY(DR516+7)>=7),\"\",DR516+1)","v":"2026-09-28"},{"$f":"IF(AND(DAY(DR516+7)<23,DAY(DR516+7)>=7),\"\",\"～\")","v":"～"},{"$f":"IF(AND(DAY(DR516+7)<23,DAY(DR516+7)>=7),\"\",DR516+7)","v":"2026-10-04"},{"$f":"IF(AND(DAY(DR516+7)<23,DAY(DR516+7)>=7),\"\",IF(COUNTIF(INDEX(CX512:EH512,DAY(DV516)):INDEX(CX512:EH512,HLOOKUP(DX516,CX508:EH513,6,FALSE)),\"\")+COUNTIF(INDEX(CX512:EH512,DAY(DV516)):INDEX(CX512:EH512,HLOOKUP(DX516,CX508:EH513,6,FALSE)),\"●\")=7,IF(COUNTIF(INDEX(CX512:EH512,DAY(DV516)):INDEX(CX512:EH512,HLOOKUP(DX516,CX508:EH513,6,FALSE)),\"●\")>=2,\"OK\",\"OUT\"),IF(COUNTIF(INDEX(CX512:EH512,DAY(DV516)):INDEX(CX512:EH512,HLOOKUP(DX516,CX508:EH513,6,FALSE)),\"\")+COUNTIF(INDEX(CX512:EH512,DAY(DV516)):INDEX(CX512:EH512,HLOOKUP(DX516,CX508:EH513,6,FALSE)),\"●\")>7,\"「／」漏れ\",\"対象外\")))","v":"OUT"},null,null,{"$f":"IF(DY516=\"\",\"\",IF(AND(DAY(DX516+7)<23,DAY(DX516+7)>=7),\"\",DX516+1))","v":""},{"$f":"IF(DY516=\"\",\"\",IF(AND(DAY(DX516+7)<23,DAY(DX516+7)>=7),\"\",\"～\"))","v":""},{"$f":"IF(DY516=\"\",\"\",IF(AND(DAY(DX516+7)<23,DAY(DX516+7)>=7),\"\",DX516+7))","v":""},{"$f":"IF(DY516=\"\",\"\",IF(AND(DAY(DX516+7)<23,DAY(DX516+7)>=7),\"\",IF(COUNTIF(INDEX(CX512:EH512,DAY(EB516)):INDEX(CX512:EH512,HLOOKUP(ED516,CX508:EH513,6,FALSE)),\"\")+COUNTIF(INDEX(CX512:EH512,DAY(EB516)):INDEX(CX512:EH512,HLOOKUP(ED516,CX508:EH513,6,FALSE)),\"●\")=7,IF(COUNTIF(INDEX(CX512:EH512,DAY(EB516)):INDEX(CX512:EH512,HLOOKUP(ED516,CX508:EH513,6,FALSE)),\"●\")>=2,\"OK\",\"OUT\"),IF(COUNTIF(INDEX(CX512:EH512,HLOOKUP(EB516,CX508:EH513,6,FALSE)):INDEX(CX512:EH512,HLOOKUP(ED516,CX508:EH513,6,FALSE)),\"\")+COUNTIF(INDEX(CX512:EH512,HLOOKUP(EB516,CX508:EH513,6,FALSE)):INDEX(CX512:EH512,HLOOKUP(ED516,CX508:EH513,6,FALSE)),\"●\")>7,\"「／」漏れ\",\"対象外\"))))","v":""},null,null,null,null,null,null,null,"完全週休二日",{"$f":"IF(EN507=\"\",\"\",IF(COUNTIF(CX516:EH516,\"OUT\")>=1,\"OUT\",\"OK\"))","v":""}]
[""]
[{"$f":"IF(AND(NOT($AT$507=\"\"),$AT$536=\"\"),\"対象期間\",\"\")","v":""}]
[{"$f":"IF(AND(NOT($AT$507=\"\"),$AT$536=\"\"),\"対象期間\",\"\")","v":""},null,"※１工事着手日：始期日以降に準備工事（現場事務所の建設・測量等）、工場製作を含む工事における工場製作工に着手した日",null,null,null,null,null,null,null,null,null,null,null,null,null,null,null,null,null,null,null,null,null,null,null,null,null,null,null,null,null,null,null,null,null,null,null,null,null,null,null,null,"工事全体の確認",null,null,null,null,null,null,null,null,"※１工事着手日：始期日以降に準備工事（現場事務所の建設・測量等）、工場製作を含む工事における工場製作工に着手した日",null,null,null,null,null,null,null,null,null,null,null,null,null,null,null,null,null,null,null,null,null,null,null,null,null,null,null,null,null,null,null,null,null,null,null,null,null,null,null,null,"工事全体の確認",null,null,null,null,null,null,"※１工事着手日：始期日以降に準備工事（現場事務所の建設・測量等）、工場製作を含む工事における工場製作工に着手した日",null,null,null,null,null,null,null,null,null,null,null,null,null,null,null,null,null,null,null,null,null,null,null,null,null,null,null,null,null,null,null,null,null,null,null,null,null,null,null,null,"工事全体の確認"]
["",null,"※２作業完了日：工事施工範囲内で全ての作業（後片付けを含む）が完了した日\n　　　　　　　　　  （工事現場事務所は工事施工範囲外に設置するため、ここでいう後片付けの対象に含まない）",null,null,null,null,null,null,null,null,null,null,null,null,null,null,null,null,null,null,null,null,null,null,null,null,null,null,null,null,null,null,null,null,null,null,null,null,null,null,null,null,"計画","全対象期間",{"$f":"IFERROR(AT491+AT507,\"\")","v":""},null,null,null,null,null,null,"※２作業完了日：工事施工範囲内で全ての作業（後片付けを含む）が完了した日\n　　　　　　　　　  （工事現場事務所は工事施工範囲外に設置するため、ここでいう後片付けの対象に含まない）",null,null,null,null,null,null,null,null,null,null,null,null,null,null,null,null,null,null,null,null,null,null,null,null,null,null,null,null,null,null,null,null,null,null,null,null,null,null,null,null,"計画","全対象期間",{"$f":"IFERROR(CR491+CR507,\"\")","v":""},null,null,null,null,"※２作業完了日：工事施工範囲内で全ての作業（後片付けを含む）が完了した日\n　　　　　　　　　  （工事現場事務所は工事施工範囲外に設置するため、ここでいう後片付けの対象に含まない）",null,null,null,null,null,null,null,null,null,null,null,null,null,null,null,null,null,null,null,null,null,null,null,null,null,null,null,null,null,null,null,null,null,null,null,null,null,null,null,null,"計画","全対象期間",{"$f":"IFERROR(EN491+EN507,\"\")","v":""}]
["",null,null,null,null,null,null,null,null,null,null,null,null,null,null,null,null,null,null,null,null,null,null,null,null,null,null,null,null,null,null,null,null,null,null,null,null,null,null,null,null,null,null,null,"全現場閉所日数",{"$f":"IFERROR(AT492+AT508,\"\")","v":""},null,null,null,null,null,null,null,null,null,null,null,null,null,null,null,null,null,null,null,null,null,null,null,null,null,null,null,null,null,null,null,null,null,null,null,null,null,null,null,null,null,null,null,null,null,null,null,null,"全現場閉所日数",{"$f":"IFERROR(CR492+CR508,\"\")","v":""},null,null,null,null,null,null,null,null,null,null,null,null,null,null,null,null,null,null,null,null,null,null,null,null,null,null,null,null,null,null,null,null,null,null,null,null,null,null,null,null,null,null,null,null,null,null,"全現場閉所日数",{"$f":"IFERROR(EN492+EN508,\"\")","v":""}]
["",null,"【算定除外期間】：夏季休暇（8月13日～8月15日）、年末年始（12月29日～翌年1月3日）は算定期間の分母・分子に含めない",null,null,null,null,null,null,null,null,null,null,null,null,null,null,null,null,null,null,null,null,null,null,null,null,null,null,null,null,null,null,null,null,null,null,null,null,null,null,null,null,null,"現場閉所率",{"$f":"IFERROR(+AT521/AT520,\"\")","v":""},{"$f":"IF(AT522>=0.285,\"4週8休以上\",\"週休2日未達成\")","v":"4週8休以上"},null,null,null,null,null,"【算定除外期間】：夏季休暇（8月13日～8月15日）、年末年始（12月29日～翌年1月3日）は算定期間の分母・分子に含めない",null,null,null,null,null,null,null,null,null,null,null,null,null,null,null,null,null,null,null,null,null,null,null,null,null,null,null,null,null,null,null,null,null,null,null,null,null,null,null,null,null,"現場閉所率",{"$f":"IFERROR(+CR521/CR520,\"\")","v":""},{"$f":"IF(CR522>=0.285,\"4週8休以上\",\"週休2日未達成\")","v":"4週8休以上"},null,null,null,"【算定除外期間】：夏季休暇（8月13日～8月15日）、年末年始（12月29日～翌年1月3日）は算定期間の分母・分子に含めない",null,null,null,null,null,null,null,null,null,null,null,null,null,null,null,null,null,null,null,null,null,null,null,null,null,null,null,null,null,null,null,null,null,null,null,null,null,null,null,null,null,"現場閉所率",{"$f":"IFERROR(+EN521/EN520,\"\")","v":""},{"$f":"IF(EN522>=0.285,\"4週8休以上\",\"週休2日未達成\")","v":"4週8休以上"}]
["",null,"※３工事期間の全ての月において、達成状況を確認し、一度でも達成できない月があれば、４週８休以上（月単位）は「未達成」となり、補正の対象とならない。\n　　月によっては、土日を全て閉所しても現場閉所率が28.5％に満たない場合があるが、その月の対象期間の土日日数以上閉所していれば達成とみなす。\n\n※４工事対象期間のうち、一度でも完全週休２日（月～日で２日以上の現場閉所）を達成できなければ、\n　　 完全週休２日は「未達成」となり、補正の対象とならない。\n　　 なお、工期始期・終期、年末年始、夏季休暇などにより、７日間に満たない期間は完全週休２日の達成判断の対象外とする。",null,null,null,null,null,null,null,null,null,null,null,null,null,null,null,null,null,null,null,null,null,null,null,null,null,null,null,null,null,null,null,null,null,null,null,null,null,null,null,null,"実施","全対象期間",{"$f":"IFERROR(AT494+AT510,\"\")","v":""},null,null,null,null,null,null,"※３工事期間の全ての月において、達成状況を確認し、一度でも達成できない月があれば、４週８休以上（月単位）は「未達成」となり、補正の対象とならない。\n　　月によっては、土日を全て閉所しても現場閉所率が28.5％に満たない場合があるが、その月の対象期間の土日日数以上閉所していれば達成とみなす。\n\n※４工事対象期間のうち、一度でも完全週休２日（月～日で２日以上の現場閉所）を達成できなければ、\n　　 完全週休２日は「未達成」となり、補正の対象とならない。\n　　 なお、工期始期・終期、年末年始、夏季休暇などにより、７日間に満たない期間は完全週休２日の達成判断の対象外とする。",null,null,null,null,null,null,null,null,null,null,null,null,null,null,null,null,null,null,null,null,null,null,null,null,null,null,null,null,null,null,null,null,null,null,null,null,null,null,null,null,"実施","全対象期間",{"$f":"IFERROR(CR494+CR510,\"\")","v":""},null,null,null,null,"※３工事期間の全ての月において、達成状況を確認し、一度でも達成できない月があれば、４週８休以上（月単位）は「未達成」となり、補正の対象とならない。\n　　月によっては、土日を全て閉所しても現場閉所率が28.5％に満たない場合があるが、その月の対象期間の土日日数以上閉所していれば達成とみなす。\n\n※４工事対象期間のうち、一度でも完全週休２日（月～日で２日以上の現場閉所）を達成できなければ、\n　　 完全週休２日は「未達成」となり、補正の対象とならない。\n　　 なお、工期始期・終期、年末年始、夏季休暇などにより、７日間に満たない期間は完全週休２日の達成判断の対象外とする。",null,null,null,null,null,null,null,null,null,null,null,null,null,null,null,null,null,null,null,null,null,null,null,null,null,null,null,null,null,null,null,null,null,null,null,null,null,null,null,null,"実施","全対象期間",{"$f":"IFERROR(EN494+EN510,\"\")","v":""}]
["",null,null,null,null,null,null,null,null,null,null,null,null,null,null,null,null,null,null,null,null,null,null,null,null,null,null,null,null,null,null,null,null,null,null,null,null,null,null,null,null,null,null,null,"全現場閉所日数",{"$f":"IFERROR(AT495+AT511,\"\")","v":""},null,null,null,null,null,null,null,null,null,null,null,null,null,null,null,null,null,null,null,null,null,null,null,null,null,null,null,null,null,null,null,null,null,null,null,null,null,null,null,null,null,null,null,null,null,null,null,null,"全現場閉所日数",{"$f":"IFERROR(CR495+CR511,\"\")","v":""},null,null,null,null,null,null,null,null,null,null,null,null,null,null,null,null,null,null,null,null,null,null,null,null,null,null,null,null,null,null,null,null,null,null,null,null,null,null,null,null,null,null,null,null,null,null,"全現場閉所日数",{"$f":"IFERROR(EN495+EN511,\"\")","v":""}]
["",null,null,null,null,null,null,null,null,null,null,null,null,null,null,null,null,null,null,null,null,null,null,null,null,null,null,null,null,null,null,null,null,null,null,null,null,null,null,null,null,null,null,null,"現場閉所率",{"$f":"IFERROR(+AT524/AT523,\"\")","v":""},{"$f":"IF(AT525>=0.285,\"4週8休以上\",\"週休2日未達成\")","v":"4週8休以上"},null,null,null,null,null,null,null,null,null,null,null,null,null,null,null,null,null,null,null,null,null,null,null,null,null,null,null,null,null,null,null,null,null,null,null,null,null,null,null,null,null,null,null,null,null,null,null,"現場閉所率",{"$f":"IFERROR(+CR524/CR523,\"\")","v":""},{"$f":"IF(CR525>=0.285,\"4週8休以上\",\"週休2日未達成\")","v":"4週8休以上"},null,null,null,null,null,null,null,null,null,null,null,null,null,null,null,null,null,null,null,null,null,null,null,null,null,null,null,null,null,null,null,null,null,null,null,null,null,null,null,null,null,null,null,null,null,"現場閉所率",{"$f":"IFERROR(+EN524/EN523,\"\")","v":""},{"$f":"IF(EN525>=0.285,\"4週8休以上\",\"週休2日未達成\")","v":"4週8休以上"}]
["",null,null,null,null,null,null,null,null,null,null,null,null,null,null,null,null,null,null,null,null,null,null,null,null,null,null,null,null,null,null,null,null,null,null,null,null,null,null,null,null,null,null,null,"閉所（月単位）",{"$f":"IFERROR(COUNTIF(AS$14:$AS516,\"4週8休以上\")/(COUNTIF(AS$14:$AS516,\"4週8休以上\")+COUNTIF(AS$14:$AS516,\"週休2日未達成\")),\"\")","v":""},{"$f":"IF(OR(AT526=100%,AT526=\"\"),\"達成\",\"未達成\")","v":"達成"},null,null,null,null,null,null,null,null,null,null,null,null,null,null,null,null,null,null,null,null,null,null,null,null,null,null,null,null,null,null,null,null,null,null,null,null,null,null,null,null,null,null,null,null,null,null,null,"閉所（月単位）",{"$f":"IFERROR(COUNTIF(CQ$14:$CQ516,\"4週8休以上\")/(COUNTIF(CQ$14:$CQ516,\"4週8休以上\")+COUNTIF(CQ$14:$CQ516,\"週休2日未達成\")),\"\")","v":0},{"$f":"IF(OR(CR526=100%,CR526=\"\"),\"達成\",\"未達成\")","v":"未達成"},null,null,null,null,null,null,null,null,null,null,null,null,null,null,null,null,null,null,null,null,null,null,null,null,null,null,null,null,null,null,null,null,null,null,null,null,null,null,null,null,null,null,null,null,null,"閉所（月単位）",{"$f":"IFERROR(COUNTIF($EM$14:EM516,\"4週8休以上\")/(COUNTIF($EM$14:EM516,\"4週8休以上\")+COUNTIF($EM$14:EM516,\"週休2日未達成\")),\"\")","v":1},{"$f":"IF(OR(EN526=100%,EN526=\"\"),\"達成\",\"未達成\")","v":"達成"}]
["",null,null,null,null,null,null,null,null,null,null,null,null,null,null,null,null,null,null,null,null,null,null,null,null,null,null,null,null,null,null,null,null,null,null,null,null,null,null,null,null,null,null,null,"完全週休二日",{"$f":"IF(COUNTIF(AS$14:$AS516,\"OUT\")>=1,\"OUT\",\"OK\")","v":"OK"},{"$f":"IF(AT527=\"OK\",\"達成\",\"未達成\")","v":"達成"},null,null,null,null,null,null,null,null,null,null,null,null,null,null,null,null,null,null,null,null,null,null,null,null,null,null,null,null,null,null,null,null,null,null,null,null,null,null,null,null,null,null,null,null,null,null,null,"完全週休二日",{"$f":"IF(COUNTIF(CQ$14:$CQ516,\"OUT\")>=1,\"OUT\",\"OK\")","v":"OUT"},{"$f":"IF(CR527=\"OK\",\"達成\",\"未達成\")","v":"未達成"},null,null,null,null,null,null,null,null,null,null,null,null,null,null,null,null,null,null,null,null,null,null,null,null,null,null,null,null,null,null,null,null,null,null,null,null,null,null,null,null,null,null,null,null,null,"完全週休二日",{"$f":"IF(COUNTIF($EM$14:EM516,\"OUT\")>=1,\"OUT\",\"OK\")","v":"OUT"},{"$f":"IF(EN527=\"OK\",\"達成\",\"未達成\")","v":"未達成"}]
["",null,"※必要に応じて各月の完全週休2日（月～日）の達成判定の行を修正してください。（曜日に合わせて修正）",null,null,null,null,null,null,null,null,null,null,null,null,null,null,null,null,null,null,null,null,null,null,null,null,null,null,null,null,null,null,null,null,null,null,null,null,null,null,null,null,null,null,null,null,null,null,null,null,null,"※必要に応じて各月の完全週休2日（月～日）の達成判定の行を修正してください。（曜日に合わせて修正）",null,null,null,null,null,null,null,null,null,null,null,null,null,null,null,null,null,null,null,null,null,null,null,null,null,null,null,null,null,null,null,null,null,null,null,null,null,null,null,null,null,null,null,null,null,null,null,"※必要に応じて各月の完全週休2日（月～日）の達成判定の行を修正してください。（曜日に合わせて修正）"]
[""]
[""]
[""]
[""]
[""]
["",null,"算定除外期間以外の祝日（ＧＷ含む）は、算定期間（分母）の対象＝現場閉所の場合は分子にカウントして現場閉所率を算定",null,null,null,null,null,null,null,null,null,null,null,null,null,null,null,null,null,null,null,null,null,null,null,null,null,null,null,null,null,null,null,null,null,null,null,null,null,null,null,null,null,null,null,null,null,null,null,null,null,"算定除外期間以外の祝日（ＧＷ含む）は、算定期間（分母）の対象＝現場閉所の場合は分子にカウントして現場閉所率を算定",null,null,null,null,null,null,null,null,null,null,null,null,null,null,null,null,null,null,null,null,null,null,null,null,null,null,null,null,null,null,null,null,null,null,null,null,null,null,null,null,null,null,null,null,null,null,null,"算定除外期間以外の祝日（ＧＷ含む）は、算定期間（分母）の対象＝現場閉所の場合は分子にカウントして現場閉所率を算定"]
[""]
[{"$f":"IF($AT$536=\"\",\"\",\"対象期間\")","v":""},null,"月",{"$f":"DATE(YEAR(D507),MONTH(D507)+1,1)","v":"2026-10-01"},null,null,null,null,null,null,null,null,null,null,null,null,null,null,null,null,null,null,null,null,null,null,null,null,null,null,null,null,null,null,{"$f":"DATE(YEAR(D536),MONTH(D536)+1,1)","v":"2026-11-01"},null,null,null,null,null,"現場閉所計","現場閉所累計",null,"計画","対象期間",{"$f":"IF(IF(MONTH(入力表!$E$6)=12,YEAR(入力表!$E$6)+1&\"01\",YEAR(入力表!$E$6)&TEXT(MONTH(入力表!$E$6)+1,\"00\"))>YEAR($D536)&TEXT(MONTH($D536),\"00\"),COUNTIF(D540:AH540,\"\")+COUNTIF(D540:AH540,\"○\"),\"\")","v":""},{"$f":"IF(COUNTIF(D537:AH537,\"／\")=0,\"\",IF(COUNTIF(D537:AH537,\"／\")=1,IF(AH540=\"／\",\"\",\"月末「／」漏れ\"),IF(COUNTIF(D537:AH537,\"／\")=2,IF(AND(AG540=\"／\",AH540=\"／\"),\"\",\"月末「／」漏れ\"),IF(AND(AF540=\"／\",AG540=\"／\",AH540=\"／\"),\"\",\"月末「／」漏れ\"))))","v":""},null,null,null,null,null,"月",{"$f":"DATE(YEAR(BB507),MONTH(BB507)+1,1)","v":"2026-10-01"},null,null,null,null,null,null,null,null,null,null,null,null,null,null,null,null,null,null,null,null,null,null,null,null,null,null,null,null,null,null,{"$f":"DATE(YEAR(BB536),MONTH(BB536)+1,1)","v":"2026-11-01"},null,null,null,null,null,"現場閉所計","現場閉所累計",null,"計画","対象期間",{"$f":"IF(IF(MONTH($BL$5)=12,YEAR($BL$5)+1&\"01\",YEAR($BL$5)&TEXT(MONTH($BL$5)+1,\"00\"))>YEAR(BB536)&TEXT(MONTH(BB536),\"00\"),COUNTIF(BB540:CF540,\"\")+COUNTIF(BB540:CF540,\"○\"),\"\")","v":""},{"$f":"IF(COUNTIF(BB537:CF537,\"／\")=0,\"\",IF(COUNTIF(BB537:CF537,\"／\")=1,IF(CF540=\"／\",\"\",\"月末「／」漏れ\"),IF(COUNTIF(BB537:CF537,\"／\")=2,IF(AND(CE540=\"／\",CF540=\"／\"),\"\",\"月末「／」漏れ\"),IF(AND(CD540=\"／\",CE540=\"／\",CF540=\"／\"),\"\",\"月末「／」漏れ\"))))","v":""},null,null,null,"月",{"$f":"DATE(YEAR(CX507),MONTH(CX507)+1,1)","v":"2026-10-01"},null,null,null,null,null,null,null,null,null,null,null,null,null,null,null,null,null,null,null,null,null,null,null,null,null,null,null,null,null,null,{"$f":"DATE(YEAR(CX536),MONTH(CX536)+1,1)","v":"2026-11-01"},null,null,null,null,null,"現場閉所計","現場閉所累計",null,"計画","対象期間",{"$f":"IF(IF(MONTH($BL$5)=12,YEAR($BL$5)+1&\"01\",YEAR($BL$5)&TEXT(MONTH($BL$5)+1,\"00\"))>YEAR($CX536)&TEXT(MONTH($CX536),\"00\"),COUNTIF(CX540:EB540,\"\")+COUNTIF(CX540:EB540,\"○\"),\"\")","v":""},{"$f":"IF(COUNTIF(CX537:EB537,\"／\")=0,\"\",IF(COUNTIF(CX537:EB537,\"／\")=1,IF(EB540=\"／\",\"\",\"月末「／」漏れ\"),IF(COUNTIF(CX537:EB537,\"／\")=2,IF(AND(EA540=\"／\",EB540=\"／\"),\"\",\"月末「／」漏れ\"),IF(AND(DZ540=\"／\",EA540=\"／\",EB540=\"／\"),\"\",\"月末「／」漏れ\"))))","v":""}]
[{"$f":"IF($AT$536=\"\",\"\",\"対象期間\")","v":""},null,"日",{"$f":"D536","v":"2026-10-01"},{"$f":"D537+1","v":"2026-10-02"},{"$f":"E537+1","v":"2026-10-03"},{"$f":"F537+1","v":"2026-10-04"},{"$f":"G537+1","v":"2026-10-05"},{"$f":"H537+1","v":"2026-10-06"},{"$f":"I537+1","v":"2026-10-07"},{"$f":"J537+1","v":"2026-10-08"},{"$f":"K537+1","v":"2026-10-09"},{"$f":"L537+1","v":"2026-10-10"},{"$f":"M537+1","v":"2026-10-11"},{"$f":"N537+1","v":"2026-10-12"},{"$f":"O537+1","v":"2026-10-13"},{"$f":"P537+1","v":"2026-10-14"},{"$f":"Q537+1","v":"2026-10-15"},{"$f":"R537+1","v":"2026-10-16"},{"$f":"S537+1","v":"2026-10-17"},{"$f":"T537+1","v":"2026-10-18"},{"$f":"U537+1","v":"2026-10-19"},{"$f":"V537+1","v":"2026-10-20"},{"$f":"W537+1","v":"2026-10-21"},{"$f":"X537+1","v":"2026-10-22"},{"$f":"Y537+1","v":"2026-10-23"},{"$f":"Z537+1","v":"2026-10-24"},{"$f":"AA537+1","v":"2026-10-25"},{"$f":"AB537+1","v":"2026-10-26"},{"$f":"AC537+1","v":"2026-10-27"},{"$f":"AD537+1","v":"2026-10-28"},{"$f":"IF(AE537=\"／\",\"／\",IF(YEAR($D536)&TEXT(MONTH($D536),\"00\")<YEAR(AE537+1)&TEXT(MONTH(AE537+1),\"00\"),\"／\",AE537+1))","v":"2026-10-29"},{"$f":"IF(AF537=\"／\",\"／\",IF(YEAR($D536)&TEXT(MONTH($D536),\"00\")<YEAR(AF537+1)&TEXT(MONTH(AF537+1),\"00\"),\"／\",AF537+1))","v":"2026-10-30"},{"$f":"IF(AG537=\"／\",\"／\",IF(YEAR($D536)&TEXT(MONTH($D536),\"00\")<YEAR(AG537+1)&TEXT(MONTH(AG537+1),\"00\"),\"／\",AG537+1))","v":"2026-10-31"},{"$f":"AI536","v":"2026-11-01"},{"$f":"AI537+1","v":"2026-11-02"},{"$f":"AJ537+1","v":"2026-11-03"},{"$f":"AK537+1","v":"2026-11-04"},{"$f":"AL537+1","v":"2026-11-05"},{"$f":"AM537+1","v":"2026-11-06"},null,null,null,null,"閉所日数",{"$f":"IF(IF(MONTH(入力表!$E$6)=12,YEAR(入力表!$E$6)+1&\"01\",YEAR(入力表!$E$6)&TEXT(MONTH(入力表!$E$6)+1,\"00\"))>YEAR($D536)&TEXT(MONTH($D536),\"00\"),COUNTIF(D540:AH540,\"○\"),\"\")","v":""},{"$f":"IF(OR(MONTH(D536)=1,MONTH(D536)=8,MONTH(D536)=12),IF(COUNTIF(D540:AH540,\"／\")>=3,\"\",\"算定除外「／」漏れ\"),\"\")","v":""},null,null,null,null,null,"日",{"$f":"BB536","v":"2026-10-01"},{"$f":"BB537+1","v":"2026-10-02"},{"$f":"BC537+1","v":"2026-10-03"},{"$f":"BD537+1","v":"2026-10-04"},{"$f":"BE537+1","v":"2026-10-05"},{"$f":"BF537+1","v":"2026-10-06"},{"$f":"BG537+1","v":"2026-10-07"},{"$f":"BH537+1","v":"2026-10-08"},{"$f":"BI537+1","v":"2026-10-09"},{"$f":"BJ537+1","v":"2026-10-10"},{"$f":"BK537+1","v":"2026-10-11"},{"$f":"BL537+1","v":"2026-10-12"},{"$f":"BM537+1","v":"2026-10-13"},{"$f":"BN537+1","v":"2026-10-14"},{"$f":"BO537+1","v":"2026-10-15"},{"$f":"BP537+1","v":"2026-10-16"},{"$f":"BQ537+1","v":"2026-10-17"},{"$f":"BR537+1","v":"2026-10-18"},{"$f":"BS537+1","v":"2026-10-19"},{"$f":"BT537+1","v":"2026-10-20"},{"$f":"BU537+1","v":"2026-10-21"},{"$f":"BV537+1","v":"2026-10-22"},{"$f":"BW537+1","v":"2026-10-23"},{"$f":"BX537+1","v":"2026-10-24"},{"$f":"BY537+1","v":"2026-10-25"},{"$f":"BZ537+1","v":"2026-10-26"},{"$f":"CA537+1","v":"2026-10-27"},{"$f":"CB537+1","v":"2026-10-28"},{"$f":"IF(CC537=\"／\",\"／\",IF(YEAR(BB536)&TEXT(MONTH(BB536),\"00\")<YEAR(CC537+1)&TEXT(MONTH(CC537+1),\"00\"),\"／\",CC537+1))","v":"2026-10-29"},{"$f":"IF(CD537=\"／\",\"／\",IF(YEAR(BB536)&TEXT(MONTH(BB536),\"00\")<YEAR(CD537+1)&TEXT(MONTH(CD537+1),\"00\"),\"／\",CD537+1))","v":"2026-10-30"},{"$f":"IF(CE537=\"／\",\"／\",IF(YEAR(BB536)&TEXT(MONTH(BB536),\"00\")<YEAR(CE537+1)&TEXT(MONTH(CE537+1),\"00\"),\"／\",CE537+1))","v":"2026-10-31"},{"$f":"CG536","v":"2026-11-01"},{"$f":"CG537+1","v":"2026-11-02"},{"$f":"CH537+1","v":"2026-11-03"},{"$f":"CI537+1","v":"2026-11-04"},{"$f":"CJ537+1","v":"2026-11-05"},{"$f":"CK537+1","v":"2026-11-06"},null,null,null,null,"閉所日数",{"$f":"IF(IF(MONTH($BL$5)=12,YEAR($BL$5)+1&\"01\",YEAR($BL$5)&TEXT(MONTH($BL$5)+1,\"00\"))>YEAR(BB536)&TEXT(MONTH(BB536),\"00\"),COUNTIF(BB540:CF540,\"○\"),\"\")","v":""},{"$f":"IF(OR(MONTH(BB536)=1,MONTH(BB536)=8,MONTH(BB536)=12),IF(COUNTIF(BB540:CF540,\"／\")>=3,\"\",\"算定除外「／」漏れ\"),\"\")","v":""},null,null,null,"日",{"$f":"CX536","v":"2026-10-01"},{"$f":"CX537+1","v":"2026-10-02"},{"$f":"CY537+1","v":"2026-10-03"},{"$f":"CZ537+1","v":"2026-10-04"},{"$f":"DA537+1","v":"2026-10-05"},{"$f":"DB537+1","v":"2026-10-06"},{"$f":"DC537+1","v":"2026-10-07"},{"$f":"DD537+1","v":"2026-10-08"},{"$f":"DE537+1","v":"2026-10-09"},{"$f":"DF537+1","v":"2026-10-10"},{"$f":"DG537+1","v":"2026-10-11"},{"$f":"DH537+1","v":"2026-10-12"},{"$f":"DI537+1","v":"2026-10-13"},{"$f":"DJ537+1","v":"2026-10-14"},{"$f":"DK537+1","v":"2026-10-15"},{"$f":"DL537+1","v":"2026-10-16"},{"$f":"DM537+1","v":"2026-10-17"},{"$f":"DN537+1","v":"2026-10-18"},{"$f":"DO537+1","v":"2026-10-19"},{"$f":"DP537+1","v":"2026-10-20"},{"$f":"DQ537+1","v":"2026-10-21"},{"$f":"DR537+1","v":"2026-10-22"},{"$f":"DS537+1","v":"2026-10-23"},{"$f":"DT537+1","v":"2026-10-24"},{"$f":"DU537+1","v":"2026-10-25"},{"$f":"DV537+1","v":"2026-10-26"},{"$f":"DW537+1","v":"2026-10-27"},{"$f":"DX537+1","v":"2026-10-28"},{"$f":"IF(DY537=\"／\",\"／\",IF(YEAR(CX536)&TEXT(MONTH(CX536),\"00\")<YEAR(DY537+1)&TEXT(MONTH(DY537+1),\"00\"),\"／\",DY537+1))","v":"2026-10-29"},{"$f":"IF(DZ537=\"／\",\"／\",IF(YEAR(CX536)&TEXT(MONTH(CX536),\"00\")<YEAR(DZ537+1)&TEXT(MONTH(DZ537+1),\"00\"),\"／\",DZ537+1))","v":"2026-10-30"},{"$f":"IF(EA537=\"／\",\"／\",IF(YEAR(CX536)&TEXT(MONTH(CX536),\"00\")<YEAR(EA537+1)&TEXT(MONTH(EA537+1),\"00\"),\"／\",EA537+1))","v":"2026-10-31"},{"$f":"EC536","v":"2026-11-01"},{"$f":"EC537+1","v":"2026-11-02"},{"$f":"ED537+1","v":"2026-11-03"},{"$f":"EE537+1","v":"2026-11-04"},{"$f":"EF537+1","v":"2026-11-05"},{"$f":"EG537+1","v":"2026-11-06"},null,null,null,null,"閉所日数",{"$f":"IF(IF(MONTH($BL$5)=12,YEAR($BL$5)+1&\"01\",YEAR($BL$5)&TEXT(MONTH($BL$5)+1,\"00\"))>YEAR($CX536)&TEXT(MONTH($CX536),\"00\"),COUNTIF(CX540:EB540,\"○\"),\"\")","v":""},{"$f":"IF(OR(MONTH(CX536)=1,MONTH(CX536)=8,MONTH(CX536)=12),IF(COUNTIF(CX540:EB540,\"／\")>=3,\"\",\"算定除外「／」漏れ\"),\"\")","v":""}]
["",null,"曜日",{"$f":"TEXT(WEEKDAY(+D537),\"aaa\")","v":"木"},{"$f":"TEXT(WEEKDAY(+E537),\"aaa\")","v":"金"},"土","日","月",{"$f":"TEXT(WEEKDAY(+I537),\"aaa\")","v":"火"},{"$f":"TEXT(WEEKDAY(+J537),\"aaa\")","v":"水"},"木","金","土","日","月","火","水","木","金","土","日","月","火","水","木",{"$f":"TEXT(WEEKDAY(+Z537),\"aaa\")","v":"金"},{"$f":"TEXT(WEEKDAY(+AA537),\"aaa\")","v":"土"},"日","月","火","水",{"$f":"IF(AF537=\"／\",\"／\",TEXT(WEEKDAY(+AF537),\"aaa\"))","v":"木"},{"$f":"IF(AG537=\"／\",\"／\",TEXT(WEEKDAY(+AG537),\"aaa\"))","v":"金"},"土",{"$f":"TEXT(WEEKDAY(+AI537),\"aaa\")","v":"日"},{"$f":"TEXT(WEEKDAY(+AJ537),\"aaa\")","v":"月"},"火","水","木","金",null,null,null,null,"現場閉所率",{"$f":"IFERROR(+AT537/AT536,\"\")","v":""},{"$f":"IF(AT538=\"\",\"\",IF(COUNTIF(D540:AH540,\"○\")>=COUNTIF(D543:AH543,\"◎\"),\"4週8休以上\",IF(AT538>=0.285,\"4週8休以上\",\"週休2日未達成\")))","v":""},null,null,null,null,null,"曜日",{"$f":"TEXT(WEEKDAY(+BB537),\"aaa\")","v":"木"},{"$f":"TEXT(WEEKDAY(+BC537),\"aaa\")","v":"金"},"土","日","月",{"$f":"TEXT(WEEKDAY(+BG537),\"aaa\")","v":"火"},{"$f":"TEXT(WEEKDAY(+BH537),\"aaa\")","v":"水"},"木","金","土","日","月","火","水","木","金","土","日","月","火","水","木",{"$f":"TEXT(WEEKDAY(+BX537),\"aaa\")","v":"金"},{"$f":"TEXT(WEEKDAY(+BY537),\"aaa\")","v":"土"},"日","月","火","水",{"$f":"IF(CD537=\"／\",\"／\",TEXT(WEEKDAY(+CD537),\"aaa\"))","v":"木"},{"$f":"IF(CE537=\"／\",\"／\",TEXT(WEEKDAY(+CE537),\"aaa\"))","v":"金"},"土",{"$f":"TEXT(WEEKDAY(+CG537),\"aaa\")","v":"日"},{"$f":"TEXT(WEEKDAY(+CH537),\"aaa\")","v":"月"},"火","水","木","金",null,null,null,null,"現場閉所率",{"$f":"IFERROR(+CR537/CR536,\"\")","v":""},{"$f":"IF(CR538=\"\",\"\",IF(COUNTIF(BB540:CF540,\"○\")>=COUNTIF(BB543:CF543,\"◎\"),\"4週8休以上\",IF(CR538>=0.285,\"4週8休以上\",\"週休2日未達成\")))","v":""},null,null,null,"曜日",{"$f":"TEXT(WEEKDAY(+CX537),\"aaa\")","v":"木"},{"$f":"TEXT(WEEKDAY(+CY537),\"aaa\")","v":"金"},"土","日","月",{"$f":"TEXT(WEEKDAY(+DC537),\"aaa\")","v":"火"},{"$f":"TEXT(WEEKDAY(+DD537),\"aaa\")","v":"水"},"木","金","土","日","月","火","水","木","金","土","日","月","火","水","木",{"$f":"TEXT(WEEKDAY(+DT537),\"aaa\")","v":"金"},{"$f":"TEXT(WEEKDAY(+DU537),\"aaa\")","v":"土"},"日","月","火","水",{"$f":"IF(DZ537=\"／\",\"／\",TEXT(WEEKDAY(+DZ537),\"aaa\"))","v":"木"},{"$f":"IF(EA537=\"／\",\"／\",TEXT(WEEKDAY(+EA537),\"aaa\"))","v":"金"},"土",{"$f":"TEXT(WEEKDAY(+EC537),\"aaa\")","v":"日"},{"$f":"TEXT(WEEKDAY(+ED537),\"aaa\")","v":"月"},"火","水","木","金",null,null,null,null,"現場閉所率",{"$f":"IFERROR(+EN537/EN536,\"\")","v":""},{"$f":"IF(EN538=\"\",\"\",IF(COUNTIF(CX540:EB540,\"○\")>=COUNTIF(CX543:EB543,\"◎\"),\"4週8休以上\",IF(EN538>=0.285,\"4週8休以上\",\"週休2日未達成\")))","v":""}]
["",null,"行事",null,null,null,null,null,null,null,null,null,null,null,null,null,null,null,null,null,null,null,null,null,null,null,null,null,null,null,null,null,null,null,{"$f":"IF(D568=\"\",\"\",D568)","v":""},{"$f":"IF(E568=\"\",\"\",E568)","v":""},{"$f":"IF(F568=\"\",\"\",F568)","v":""},{"$f":"IF(G568=\"\",\"\",G568)","v":""},{"$f":"IF(H568=\"\",\"\",H568)","v":""},{"$f":"IF(I568=\"\",\"\",I568)","v":""},null,null,null,"実施","対象期間",{"$f":"IF(IF(MONTH(入力表!$E$6)=12,YEAR(入力表!$E$6)+1&\"01\",YEAR(入力表!$E$6)&TEXT(MONTH(入力表!$E$6)+1,\"00\"))>YEAR($D536)&TEXT(MONTH($D536),\"00\"),COUNTIF(D541:AH541,\"\")+COUNTIF(D541:AH541,\"●\"),\"\")","v":""},{"$f":"IF(COUNTIF(D537:AH537,\"／\")=0,\"\",IF(COUNTIF(D537:AH537,\"／\")=1,IF(AH541=\"／\",\"\",\"月末「／」漏れ\"),IF(COUNTIF(D537:AH537,\"／\")=2,IF(AND(AG541=\"／\",AH541=\"／\"),\"\",\"月末「／」漏れ\"),IF(AND(AF541=\"／\",AG541=\"／\",AH541=\"／\"),\"\",\"月末「／」漏れ\"))))","v":""},null,null,null,null,null,"行事",null,null,null,null,null,null,null,null,null,null,null,null,null,null,null,null,null,null,null,null,null,null,null,null,null,null,null,null,null,null,null,{"$f":"IF(BB568=\"\",\"\",BB568)","v":""},{"$f":"IF(BC568=\"\",\"\",BC568)","v":""},{"$f":"IF(BD568=\"\",\"\",BD568)","v":""},{"$f":"IF(BE568=\"\",\"\",BE568)","v":""},{"$f":"IF(BF568=\"\",\"\",BF568)","v":""},{"$f":"IF(BG568=\"\",\"\",BG568)","v":""},null,null,null,"実施","対象期間",{"$f":"IF(IF(MONTH($BL$5)=12,YEAR($BL$5)+1&\"01\",YEAR($BL$5)&TEXT(MONTH($BL$5)+1,\"00\"))>YEAR(BB536)&TEXT(MONTH(BB536),\"00\"),COUNTIF(BB541:CF541,\"\")+COUNTIF(BB541:CF541,\"●\"),\"\")","v":""},{"$f":"IF(COUNTIF(BB537:CF537,\"／\")=0,\"\",IF(COUNTIF(BB537:CF537,\"／\")=1,IF(CF541=\"／\",\"\",\"月末「／」漏れ\"),IF(COUNTIF(BB537:CF537,\"／\")=2,IF(AND(CE541=\"／\",CF541=\"／\"),\"\",\"月末「／」漏れ\"),IF(AND(CD541=\"／\",CE541=\"／\",CF541=\"／\"),\"\",\"月末「／」漏れ\"))))","v":""},null,null,null,"行事",null,null,null,null,null,null,null,null,null,null,null,null,null,null,null,null,null,null,null,null,null,null,null,null,null,null,null,null,null,null,null,{"$f":"IF(CX568=\"\",\"\",CX568)","v":""},{"$f":"IF(CY568=\"\",\"\",CY568)","v":""},{"$f":"IF(CZ568=\"\",\"\",CZ568)","v":""},{"$f":"IF(DA568=\"\",\"\",DA568)","v":""},{"$f":"IF(DB568=\"\",\"\",DB568)","v":""},{"$f":"IF(DC568=\"\",\"\",DC568)","v":""},null,null,null,"実施","対象期間",{"$f":"IF(IF(MONTH($BL$5)=12,YEAR($BL$5)+1&\"01\",YEAR($BL$5)&TEXT(MONTH($BL$5)+1,\"00\"))>YEAR($CX536)&TEXT(MONTH($CX536),\"00\"),COUNTIF(CX541:EB541,\"\")+COUNTIF(CX541:EB541,\"●\"),\"\")","v":""},{"$f":"IF(COUNTIF(CX537:EB537,\"／\")=0,\"\",IF(COUNTIF(CX537:EB537,\"／\")=1,IF(EB541=\"／\",\"\",\"月末「／」漏れ\"),IF(COUNTIF(CX537:EB537,\"／\")=2,IF(AND(EA541=\"／\",EB541=\"／\"),\"\",\"月末「／」漏れ\"),IF(AND(DZ541=\"／\",EA541=\"／\",EB541=\"／\"),\"\",\"月末「／」漏れ\"))))","v":""}]
["",null,"計画",null,null,null,null,null,null,null,null,null,null,null,null,null,null,null,null,null,null,null,null,null,null,null,null,null,null,null,null,null,null,null,{"$f":"IF(D569=\"\",\"\",D569)","v":""},{"$f":"IF(E569=\"\",\"\",E569)","v":""},{"$f":"IF(F569=\"\",\"\",F569)","v":""},{"$f":"IF(G569=\"\",\"\",G569)","v":""},{"$f":"IF(H569=\"\",\"\",H569)","v":""},{"$f":"IF(I569=\"\",\"\",I569)","v":""},{"$f":"COUNTIF(D540:AH540,\"○\")","v":0},{"$f":"+AO540+AP511","v":0},null,null,"閉所日数",{"$f":"IF(IF(MONTH(入力表!$E$6)=12,YEAR(入力表!$E$6)+1&\"01\",YEAR(入力表!$E$6)&TEXT(MONTH(入力表!$E$6)+1,\"00\"))>YEAR($D536)&TEXT(MONTH($D536),\"00\"),COUNTIF(D541:AH541,\"●\"),\"\")","v":""},{"$f":"IF(OR(MONTH(D536)=1,MONTH(D536)=8,MONTH(D536)=12),IF(COUNTIF(D541:AH541,\"／\")>=3,\"\",\"算定除外「／」漏れ\"),\"\")","v":""},null,null,null,null,null,"計画",null,null,null,null,null,null,null,null,null,null,null,null,null,null,null,null,null,null,null,null,null,null,null,null,null,null,null,null,null,null,null,{"$f":"IF(BB569=\"\",\"\",BB569)","v":""},"","","","","",{"$f":"COUNTIF(BB540:CF540,\"○\")","v":0},{"$f":"+CM540+CN511","v":0},null,null,"閉所日数",{"$f":"IF(IF(MONTH($BL$5)=12,YEAR($BL$5)+1&\"01\",YEAR($BL$5)&TEXT(MONTH($BL$5)+1,\"00\"))>YEAR(BB536)&TEXT(MONTH(BB536),\"00\"),COUNTIF(BB541:CF541,\"●\"),\"\")","v":""},{"$f":"IF(OR(MONTH(BB536)=1,MONTH(BB536)=8,MONTH(BB536)=12),IF(COUNTIF(BB541:CF541,\"／\")>=3,\"\",\"算定除外「／」漏れ\"),\"\")","v":""},null,null,null,"計画",null,null,null,null,null,null,null,null,null,null,null,null,null,null,null,null,null,null,null,null,null,null,null,null,null,null,null,null,null,null,null,{"$f":"IF(CX569=\"\",\"\",CX569)","v":""},"","","","","",{"$f":"COUNTIF(CX540:EB540,\"○\")","v":0},{"$f":"+EI540+EJ511","v":0},null,null,"閉所日数",{"$f":"IF(IF(MONTH($BL$5)=12,YEAR($BL$5)+1&\"01\",YEAR($BL$5)&TEXT(MONTH($BL$5)+1,\"00\"))>YEAR($CX536)&TEXT(MONTH($CX536),\"00\"),COUNTIF(CX541:EB541,\"●\"),\"\")","v":""},{"$f":"IF(OR(MONTH(CX536)=1,MONTH(CX536)=8,MONTH(CX536)=12),IF(COUNTIF(CX541:EB541,\"／\")>=3,\"\",\"算定除外「／」漏れ\"),\"\")","v":""}]
["",null,"実施",null,null,null,null,null,null,null,null,null,null,null,null,null,null,null,null,null,null,null,null,null,null,null,null,null,null,null,null,null,null,null,{"$f":"IF(D570=\"\",\"\",D570)","v":""},{"$f":"IF(E570=\"\",\"\",E570)","v":""},{"$f":"IF(F570=\"\",\"\",F570)","v":""},{"$f":"IF(G570=\"\",\"\",G570)","v":""},{"$f":"IF(H570=\"\",\"\",H570)","v":""},{"$f":"IF(I570=\"\",\"\",I570)","v":""},{"$f":"COUNTIF(D541:AH541,\"●\")","v":0},{"$f":"+AO541+AP512","v":0},null,null,"現場閉所率",{"$f":"IFERROR(+AT540/AT539,\"\")","v":""},{"$f":"IF(AT541=\"\",\"\",IF(COUNTIF(D541:AH541,\"●\")>=COUNTIF(D544:AH544,\"◎\"),\"4週8休以上\",IF(AT541>=0.285,\"4週8休以上\",\"週休2日未達成\")))","v":""},null,null,null,null,null,"実施",null,null,null,null,null,null,null,null,null,null,null,null,null,null,null,null,null,null,null,null,null,null,null,null,null,null,null,null,null,null,null,{"$f":"IF(BB570=\"\",\"\",BB570)","v":""},{"$f":"IF(BC570=\"\",\"\",BC570)","v":""},{"$f":"IF(BD570=\"\",\"\",BD570)","v":""},{"$f":"IF(BE570=\"\",\"\",BE570)","v":""},{"$f":"IF(BF570=\"\",\"\",BF570)","v":""},{"$f":"IF(BG570=\"\",\"\",BG570)","v":""},{"$f":"COUNTIF(BB541:CF541,\"●\")","v":0},{"$f":"+CM541+CN512","v":0},null,null,"現場閉所率",{"$f":"IFERROR(+CR540/CR539,\"\")","v":""},{"$f":"IF(CR541=\"\",\"\",IF(COUNTIF(BB541:CF541,\"●\")>=COUNTIF(BB544:CF544,\"◎\"),\"4週8休以上\",IF(CR541>=0.285,\"4週8休以上\",\"週休2日未達成\")))","v":""},null,null,null,"実施",null,null,null,null,null,null,null,null,null,null,null,null,null,null,null,null,null,null,null,null,null,null,null,null,null,null,null,null,null,null,null,{"$f":"IF(CX570=\"\",\"\",CX570)","v":""},{"$f":"IF(CY570=\"\",\"\",CY570)","v":""},{"$f":"IF(CZ570=\"\",\"\",CZ570)","v":""},{"$f":"IF(DA570=\"\",\"\",DA570)","v":""},{"$f":"IF(DB570=\"\",\"\",DB570)","v":""},{"$f":"IF(DC570=\"\",\"\",DC570)","v":""},{"$f":"COUNTIF(CX541:EB541,\"●\")","v":0},{"$f":"+EI541+EJ512","v":0},null,null,"現場閉所率",{"$f":"IFERROR(+EN540/EN539,\"\")","v":""},{"$f":"IF(EN541=\"\",\"\",IF(COUNTIF(CX541:EB541,\"●\")>=COUNTIF(CX544:EB544,\"◎\"),\"4週8休以上\",IF(EN541>=0.285,\"4週8休以上\",\"週休2日未達成\")))","v":""}]
[null,null,null,1,2,3,4,5,6,7,8,9,10,11,12,13,14,15,16,17,18,19,20,21,22,23,24,25,26,27,28,29,30,31,32,33,34,35,36,37,null,null,null,null,{"$f":"AU541","v":""},null,null,null,null,null,null,null,null,1,2,3,4,5,6,7,8,9,10,11,12,13,14,15,16,17,18,19,20,21,22,23,24,25,26,27,28,29,30,31,32,33,34,35,36,37,null,null,null,null,{"$f":"CS541","v":""},null,null,null,null,null,null,1,2,3,4,5,6,7,8,9,10,11,12,13,14,15,16,17,18,19,20,21,22,23,24,25,26,27,28,29,30,31,32,33,34,35,36,37,null,null,null,null,{"$f":"EO541","v":""}]
[null,null,"計画",{"$f":"IF(D540=\"／\",\"／\",IF(OR(D538=\"土\",D538=\"日\"),\"◎\",\"\"))","v":""},{"$f":"IF(E540=\"／\",\"／\",IF(OR(E538=\"土\",E538=\"日\"),\"◎\",\"\"))","v":""},"◎","◎","","","","","","◎","◎","","","","","","◎","◎","","","","","","◎","◎","",{"$f":"IF(AD540=\"／\",\"／\",IF(OR(AD538=\"土\",AD538=\"日\"),\"◎\",\"\"))","v":""},{"$f":"IF(AE540=\"／\",\"／\",IF(OR(AE538=\"土\",AE538=\"日\"),\"◎\",\"\"))","v":""},"","","◎","◎","","","","","",null,null,null,null,{"$f":"AT545","v":""},null,null,null,null,null,null,null,"計画",{"$f":"IF(BB540=\"／\",\"／\",IF(OR(BB538=\"土\",BB538=\"日\"),\"◎\",\"\"))","v":""},"","◎","◎","","","","","","◎","◎","",{"$f":"IF(BN540=\"／\",\"／\",IF(OR(BN538=\"土\",BN538=\"日\"),\"◎\",\"\"))","v":""},{"$f":"IF(BO540=\"／\",\"／\",IF(OR(BO538=\"土\",BO538=\"日\"),\"◎\",\"\"))","v":""},"","","◎","◎","","","","","","◎","◎","",{"$f":"IF(CB540=\"／\",\"／\",IF(OR(CB538=\"土\",CB538=\"日\"),\"◎\",\"\"))","v":""},{"$f":"IF(CC540=\"／\",\"／\",IF(OR(CC538=\"土\",CC538=\"日\"),\"◎\",\"\"))","v":""},"","","◎","◎","","","","","",null,null,null,null,{"$f":"CR545","v":""},null,null,null,null,null,"計画",{"$f":"IF(CX540=\"／\",\"／\",IF(OR(CX538=\"土\",CX538=\"日\"),\"◎\",\"\"))","v":""},"","◎","◎","","","","","","◎","◎","",{"$f":"IF(DJ540=\"／\",\"／\",IF(OR(DJ538=\"土\",DJ538=\"日\"),\"◎\",\"\"))","v":""},{"$f":"IF(DK540=\"／\",\"／\",IF(OR(DK538=\"土\",DK538=\"日\"),\"◎\",\"\"))","v":""},"","","◎","◎","","","","","","◎","◎","",{"$f":"IF(DX540=\"／\",\"／\",IF(OR(DX538=\"土\",DX538=\"日\"),\"◎\",\"\"))","v":""},{"$f":"IF(DY540=\"／\",\"／\",IF(OR(DY538=\"土\",DY538=\"日\"),\"◎\",\"\"))","v":""},"","","◎","◎","","","","","",null,null,null,null,{"$f":"EN545","v":""}]
[null,null,"実施",{"$f":"IF(D541=\"／\",\"／\",IF(OR(D538=\"土\",D538=\"日\"),\"◎\",\"\"))","v":""},{"$f":"IF(E541=\"／\",\"／\",IF(OR(E538=\"土\",E538=\"日\"),\"◎\",\"\"))","v":""},"◎","◎","","","","","","◎","◎","","","","","","◎","◎","","","","","","◎","◎","","","","","","◎","◎","","","","","",null,null,null,null,null,null,null,null,null,null,null,null,"実施",{"$f":"IF(BB541=\"／\",\"／\",IF(OR(BB538=\"土\",BB538=\"日\"),\"◎\",\"\"))","v":""},{"$f":"IF(BC541=\"／\",\"／\",IF(OR(BC538=\"土\",BC538=\"日\"),\"◎\",\"\"))","v":""},"◎","◎","","","","","","◎","◎","","","","","","◎","◎","","","","","","◎","◎","","","","","","◎","◎","","","","","",null,null,null,null,null,null,null,null,null,null,"実施",{"$f":"IF(CX541=\"／\",\"／\",IF(OR(CX538=\"土\",CX538=\"日\"),\"◎\",\"\"))","v":""},{"$f":"IF(CY541=\"／\",\"／\",IF(OR(CY538=\"土\",CY538=\"日\"),\"◎\",\"\"))","v":""},"◎","◎","","","","","","◎","◎","","","","","","◎","◎","","","","","","◎","◎","","","","","","◎","◎","","","","",""]
["",null,"完全",{"$f":"IF(WEEKDAY(DATE(YEAR(D536),MONTH(D536),1),2)=1,DATE(YEAR(D536),MONTH(D536),1),EOMONTH(D536,-1)-MOD(WEEKDAY(EOMONTH(D536,-1),2)+6,7))","v":"2026-09-28"},"～",{"$f":"DATE(YEAR(D536),MONTH(D536),1)+MOD(7-WEEKDAY(DATE(YEAR(D536),MONTH(D536),1),2),7)","v":"2026-10-04"},{"$f":"IF(DAY(D545)=1,IF(COUNTIF(D541:J541,\"／\")>=1,\"対象外\",IF(COUNTIF(INDEX(D541:AN541,DAY(D545)):INDEX(D541:AN541,HLOOKUP(F545,D537:AN542,6,FALSE)),\"\")+COUNTIF(INDEX(D541:AN541,DAY(D545)):INDEX(D541:AN541,HLOOKUP(F545,D537:AN542,6,FALSE)),\"●\")=7,IF(COUNTIF(INDEX(D541:AN541,DAY(D545)):INDEX(D541:AN541,HLOOKUP(F545,D537:AN542,6,FALSE)),\"●\")>=2,\"OK\",\"OUT\"),IF(COUNTIF(INDEX(D541:AN541,DAY(D545)):INDEX(D541:AN541,HLOOKUP(F545,D537:AN542,6,FALSE)),\"●\")>=COUNTIF(INDEX(D544:AN544,DAY(D545)):INDEX(D544:AN544,HLOOKUP(F545,D537:AN542,6,FALSE)),\"○\"),\"OK\",\"OUT\"))),IF(AND(AK516=\"\",AE516=\"\"),Y516,IF(AK516=\"\",AE516,AK516)))","v":"「／」漏れ"},null,null,{"$f":"F545+1","v":"2026-10-05"},"～",{"$f":"F545+7","v":"2026-10-11"},{"$f":"IF(COUNTIF(INDEX(D541:AN541,DAY(J545)):INDEX(D541:AN541,HLOOKUP(L545,D537:AN542,6,FALSE)),\"\")+COUNTIF(INDEX(D541:AN541,DAY(J545)):INDEX(D541:AN541,HLOOKUP(L545,D537:AN542,6,FALSE)),\"●\")=7,IF(COUNTIF(INDEX(D541:AN541,DAY(J545)):INDEX(D541:AN541,HLOOKUP(L545,D537:AN542,6,FALSE)),\"●\")>=2,\"OK\",\"OUT\"),\"対象外\")","v":"OUT"},null,null,{"$f":"L545+1","v":"2026-10-12"},"～",{"$f":"L545+7","v":"2026-10-18"},{"$f":"IF(COUNTIF(INDEX(D541:AN541,DAY(P545)):INDEX(D541:AN541,HLOOKUP(R545,D537:AN542,6,FALSE)),\"\")+COUNTIF(INDEX(D541:AN541,DAY(P545)):INDEX(D541:AN541,HLOOKUP(R545,D537:AN542,6,FALSE)),\"●\")=7,IF(COUNTIF(INDEX(D541:AN541,DAY(P545)):INDEX(D541:AN541,HLOOKUP(R545,D537:AN542,6,FALSE)),\"●\")>=2,\"OK\",\"OUT\"),\"対象外\")","v":"OUT"},null,null,{"$f":"R545+1","v":"2026-10-19"},"～",{"$f":"R545+7","v":"2026-10-25"},{"$f":"IF(COUNTIF(INDEX(D541:AN541,DAY(V545)):INDEX(D541:AN541,HLOOKUP(X545,D537:AN542,6,FALSE)),\"\")+COUNTIF(INDEX(D541:AN541,DAY(V545)):INDEX(D541:AN541,HLOOKUP(X545,D537:AN542,6,FALSE)),\"●\")=7,IF(COUNTIF(INDEX(D541:AN541,DAY(V545)):INDEX(D541:AN541,HLOOKUP(X545,D537:AN542,6,FALSE)),\"●\")>=2,\"OK\",\"OUT\"),\"対象外\")","v":"OUT"},null,null,{"$f":"IF(AND(DAY(X545+7)<23,DAY(X545+7)>=7),\"\",X545+1)","v":"2026-10-26"},{"$f":"IF(AND(DAY(X545+7)<23,DAY(X545+7)>=7),\"\",\"～\")","v":"～"},{"$f":"IF(AND(DAY(X545+7)<23,DAY(X545+7)>=7),\"\",X545+7)","v":"2026-11-01"},{"$f":"IF(AND(DAY(X545+7)<23,DAY(X545+7)>=7),\"\",IF(COUNTIF(INDEX(D541:AN541,DAY(AB545)):INDEX(D541:AN541,HLOOKUP(AD545,D537:AN542,6,FALSE)),\"\")+COUNTIF(INDEX(D541:AN541,DAY(AB545)):INDEX(D541:AN541,HLOOKUP(AD545,D537:AN542,6,FALSE)),\"●\")=7,IF(COUNTIF(INDEX(D541:AN541,DAY(AB545)):INDEX(D541:AN541,HLOOKUP(AD545,D537:AN542,6,FALSE)),\"●\")>=2,\"OK\",\"OUT\"),IF(COUNTIF(INDEX(D541:AN541,DAY(AB545)):INDEX(D541:AN541,HLOOKUP(AD545,D537:AN542,6,FALSE)),\"\")+COUNTIF(INDEX(D541:AN541,DAY(AB545)):INDEX(D541:AN541,HLOOKUP(AD545,D537:AN542,6,FALSE)),\"●\")>7,\"「／」漏れ\",\"対象外\")))","v":"OUT"},null,null,{"$f":"IF(AE545=\"\",\"\",IF(AND(DAY(AD545+7)<23,DAY(AD545+7)>=7),\"\",AD545+1))","v":""},{"$f":"IF(AE545=\"\",\"\",IF(AND(DAY(AD545+7)<23,DAY(AD545+7)>=7),\"\",\"～\"))","v":""},{"$f":"IF(AE545=\"\",\"\",IF(AND(DAY(AD545+7)<23,DAY(AD545+7)>=7),\"\",AD545+7))","v":""},{"$f":"IF(AE545=\"\",\"\",IF(AND(DAY(AD545+7)<23,DAY(AD545+7)>=7),\"\",IF(COUNTIF(INDEX(D541:AN541,DAY(AH545)):INDEX(D541:AN541,HLOOKUP(AJ545,D537:AN542,6,FALSE)),\"\")+COUNTIF(INDEX(D541:AN541,DAY(AH545)):INDEX(D541:AN541,HLOOKUP(AJ545,D537:AN542,6,FALSE)),\"●\")=7,IF(COUNTIF(INDEX(D541:AN541,DAY(AH545)):INDEX(D541:AN541,HLOOKUP(AJ545,D537:AN542,6,FALSE)),\"●\")>=2,\"OK\",\"OUT\"),IF(COUNTIF(INDEX(D541:AN541,HLOOKUP(AH545,D537:AN542,6,FALSE)):INDEX(D541:AN541,HLOOKUP(AJ545,D537:AN542,6,FALSE)),\"\")+COUNTIF(INDEX(D541:AN541,HLOOKUP(AH545,D537:AN542,6,FALSE)):INDEX(D541:AN541,HLOOKUP(AJ545,D537:AN542,6,FALSE)),\"●\")>7,\"「／」漏れ\",\"対象外\"))))","v":""},null,null,null,null,null,null,null,"完全週休二日",{"$f":"IF(AT536=\"\",\"\",IF(COUNTIF(D545:AN545,\"OUT\")>=1,\"OUT\",\"OK\"))","v":""},null,null,null,null,null,null,"完全",{"$f":"IF(WEEKDAY(DATE(YEAR(BB536),MONTH(BB536),1),2)=1,DATE(YEAR(BB536),MONTH(BB536),1),EOMONTH(BB536,-1)-MOD(WEEKDAY(EOMONTH(BB536,-1),2)+6,7))","v":"2026-09-28"},"～",{"$f":"DATE(YEAR(BB536),MONTH(BB536),1)+MOD(7-WEEKDAY(DATE(YEAR(BB536),MONTH(BB536),1),2),7)","v":"2026-10-04"},{"$f":"IF(DAY(BB545)=1,IF(COUNTIF(BB541:BH541,\"／\")>=1,\"対象外\",IF(COUNTIF(INDEX(BB541:CL541,DAY(BB545)):INDEX(BB541:CL541,HLOOKUP(BD545,BB537:CL542,6,FALSE)),\"\")+COUNTIF(INDEX(BB541:CL541,DAY(BB545)):INDEX(BB541:CL541,HLOOKUP(BD545,BB537:CL542,6,FALSE)),\"●\")=7,IF(COUNTIF(INDEX(BB541:CL541,DAY(BB545)):INDEX(BB541:CL541,HLOOKUP(BD545,BB537:CL542,6,FALSE)),\"●\")>=2,\"OK\",\"OUT\"),IF(COUNTIF(INDEX(BB541:CL541,DAY(BB545)):INDEX(BB541:CL541,HLOOKUP(BD545,BB537:CL542,6,FALSE)),\"●\")>=COUNTIF(INDEX(BB544:CL544,DAY(BB545)):INDEX(BB544:CL544,HLOOKUP(BD545,BB537:CL542,6,FALSE)),\"○\"),\"OK\",\"OUT\"))),IF(AND(CI516=\"\",CC516=\"\"),BW516,IF(CI516=\"\",CC516,CI516)))","v":"OUT"},null,null,{"$f":"BD545+1","v":"2026-10-05"},"～",{"$f":"BD545+7","v":"2026-10-11"},{"$f":"IF(COUNTIF(INDEX(BB541:CL541,DAY(BH545)):INDEX(BB541:CL541,HLOOKUP(BJ545,BB537:CL542,6,FALSE)),\"\")+COUNTIF(INDEX(BB541:CL541,DAY(BH545)):INDEX(BB541:CL541,HLOOKUP(BJ545,BB537:CL542,6,FALSE)),\"●\")=7,IF(COUNTIF(INDEX(BB541:CL541,DAY(BH545)):INDEX(BB541:CL541,HLOOKUP(BJ545,BB537:CL542,6,FALSE)),\"●\")>=2,\"OK\",\"OUT\"),\"対象外\")","v":"OUT"},null,null,{"$f":"BJ545+1","v":"2026-10-12"},"～",{"$f":"BJ545+7","v":"2026-10-18"},{"$f":"IF(COUNTIF(INDEX(BB541:CL541,DAY(BN545)):INDEX(BB541:CL541,HLOOKUP(BP545,BB537:CL542,6,FALSE)),\"\")+COUNTIF(INDEX(BB541:CL541,DAY(BN545)):INDEX(BB541:CL541,HLOOKUP(BP545,BB537:CL542,6,FALSE)),\"●\")=7,IF(COUNTIF(INDEX(BB541:CL541,DAY(BN545)):INDEX(BB541:CL541,HLOOKUP(BP545,BB537:CL542,6,FALSE)),\"●\")>=2,\"OK\",\"OUT\"),\"対象外\")","v":"OUT"},null,null,{"$f":"BP545+1","v":"2026-10-19"},"～",{"$f":"BP545+7","v":"2026-10-25"},{"$f":"IF(COUNTIF(INDEX(BB541:CL541,DAY(BT545)):INDEX(BB541:CL541,HLOOKUP(BV545,BB537:CL542,6,FALSE)),\"\")+COUNTIF(INDEX(BB541:CL541,DAY(BT545)):INDEX(BB541:CL541,HLOOKUP(BV545,BB537:CL542,6,FALSE)),\"●\")=7,IF(COUNTIF(INDEX(BB541:CL541,DAY(BT545)):INDEX(BB541:CL541,HLOOKUP(BV545,BB537:CL542,6,FALSE)),\"●\")>=2,\"OK\",\"OUT\"),\"対象外\")","v":"OUT"},null,null,{"$f":"IF(AND(DAY(BV545+7)<23,DAY(BV545+7)>=7),\"\",BV545+1)","v":"2026-10-26"},{"$f":"IF(AND(DAY(BV545+7)<23,DAY(BV545+7)>=7),\"\",\"～\")","v":"～"},{"$f":"IF(AND(DAY(BV545+7)<23,DAY(BV545+7)>=7),\"\",BV545+7)","v":"2026-11-01"},{"$f":"IF(AND(DAY(BV545+7)<23,DAY(BV545+7)>=7),\"\",IF(COUNTIF(INDEX(BB541:CL541,DAY(BZ545)):INDEX(BB541:CL541,HLOOKUP(CB545,BB537:CL542,6,FALSE)),\"\")+COUNTIF(INDEX(BB541:CL541,DAY(BZ545)):INDEX(BB541:CL541,HLOOKUP(CB545,BB537:CL542,6,FALSE)),\"●\")=7,IF(COUNTIF(INDEX(BB541:CL541,DAY(BZ545)):INDEX(BB541:CL541,HLOOKUP(CB545,BB537:CL542,6,FALSE)),\"●\")>=2,\"OK\",\"OUT\"),IF(COUNTIF(INDEX(BB541:CL541,DAY(BZ545)):INDEX(BB541:CL541,HLOOKUP(CB545,BB537:CL542,6,FALSE)),\"\")+COUNTIF(INDEX(BB541:CL541,DAY(BZ545)):INDEX(BB541:CL541,HLOOKUP(CB545,BB537:CL542,6,FALSE)),\"●\")>7,\"「／」漏れ\",\"対象外\")))","v":"OUT"},null,null,{"$f":"IF(CC545=\"\",\"\",IF(AND(DAY(CB545+7)<23,DAY(CB545+7)>=7),\"\",CB545+1))","v":""},{"$f":"IF(CC545=\"\",\"\",IF(AND(DAY(CB545+7)<23,DAY(CB545+7)>=7),\"\",\"～\"))","v":""},{"$f":"IF(CC545=\"\",\"\",IF(AND(DAY(CB545+7)<23,DAY(CB545+7)>=7),\"\",CB545+7))","v":""},{"$f":"IF(CC545=\"\",\"\",IF(AND(DAY(CB545+7)<23,DAY(CB545+7)>=7),\"\",IF(COUNTIF(INDEX(BB541:CL541,DAY(CF545)):INDEX(BB541:CL541,HLOOKUP(CH545,BB537:CL542,6,FALSE)),\"\")+COUNTIF(INDEX(BB541:CL541,DAY(CF545)):INDEX(BB541:CL541,HLOOKUP(CH545,BB537:CL542,6,FALSE)),\"●\")=7,IF(COUNTIF(INDEX(BB541:CL541,DAY(CF545)):INDEX(BB541:CL541,HLOOKUP(CH545,BB537:CL542,6,FALSE)),\"●\")>=2,\"OK\",\"OUT\"),IF(COUNTIF(INDEX(BB541:CL541,HLOOKUP(CF545,BB537:CL542,6,FALSE)):INDEX(BB541:CL541,HLOOKUP(CH545,BB537:CL542,6,FALSE)),\"\")+COUNTIF(INDEX(BB541:CL541,HLOOKUP(CF545,BB537:CL542,6,FALSE)):INDEX(BB541:CL541,HLOOKUP(CH545,BB537:CL542,6,FALSE)),\"●\")>7,\"「／」漏れ\",\"対象外\"))))","v":""},null,null,null,null,null,null,null,"完全週休二日",{"$f":"IF(CR536=\"\",\"\",IF(COUNTIF(BB545:CL545,\"OUT\")>=1,\"OUT\",\"OK\"))","v":""},null,null,null,null,"完全",{"$f":"IF(WEEKDAY(DATE(YEAR(CX536),MONTH(CX536),1),2)=1,DATE(YEAR(CX536),MONTH(CX536),1),EOMONTH(CX536,-1)-MOD(WEEKDAY(EOMONTH(CX536,-1),2)+6,7))","v":"2026-09-28"},"～",{"$f":"DATE(YEAR(CX536),MONTH(CX536),1)+MOD(7-WEEKDAY(DATE(YEAR(CX536),MONTH(CX536),1),2),7)","v":"2026-10-04"},{"$f":"IF(DAY(CX545)=1,IF(COUNTIF(CX541:DD541,\"／\")>=1,\"対象外\",IF(COUNTIF(INDEX(CX541:EH541,DAY(CX545)):INDEX(CX541:EH541,HLOOKUP(CZ545,CX537:EH542,6,FALSE)),\"\")+COUNTIF(INDEX(CX541:EH541,DAY(CX545)):INDEX(CX541:EH541,HLOOKUP(CZ545,CX537:EH542,6,FALSE)),\"●\")=7,IF(COUNTIF(INDEX(CX541:EH541,DAY(CX545)):INDEX(CX541:EH541,HLOOKUP(CZ545,CX537:EH542,6,FALSE)),\"●\")>=2,\"OK\",\"OUT\"),IF(COUNTIF(INDEX(CX541:EH541,DAY(CX545)):INDEX(CX541:EH541,HLOOKUP(CZ545,CX537:EH542,6,FALSE)),\"●\")>=COUNTIF(INDEX(CX544:EH544,DAY(CX545)):INDEX(CX544:EH544,HLOOKUP(CZ545,CX537:EH542,6,FALSE)),\"○\"),\"OK\",\"OUT\"))),IF(AND(EE516=\"\",DY516=\"\"),DS516,IF(EE516=\"\",DY516,EE516)))","v":"OUT"},null,null,{"$f":"CZ545+1","v":"2026-10-05"},"～",{"$f":"CZ545+7","v":"2026-10-11"},{"$f":"IF(COUNTIF(INDEX(CX541:EH541,DAY(DD545)):INDEX(CX541:EH541,HLOOKUP(DF545,CX537:EH542,6,FALSE)),\"\")+COUNTIF(INDEX(CX541:EH541,DAY(DD545)):INDEX(CX541:EH541,HLOOKUP(DF545,CX537:EH542,6,FALSE)),\"●\")=7,IF(COUNTIF(INDEX(CX541:EH541,DAY(DD545)):INDEX(CX541:EH541,HLOOKUP(DF545,CX537:EH542,6,FALSE)),\"●\")>=2,\"OK\",\"OUT\"),\"対象外\")","v":"OUT"},null,null,{"$f":"DF545+1","v":"2026-10-12"},"～",{"$f":"DF545+7","v":"2026-10-18"},{"$f":"IF(COUNTIF(INDEX(CX541:EH541,DAY(DJ545)):INDEX(CX541:EH541,HLOOKUP(DL545,CX537:EH542,6,FALSE)),\"\")+COUNTIF(INDEX(CX541:EH541,DAY(DJ545)):INDEX(CX541:EH541,HLOOKUP(DL545,CX537:EH542,6,FALSE)),\"●\")=7,IF(COUNTIF(INDEX(CX541:EH541,DAY(DJ545)):INDEX(CX541:EH541,HLOOKUP(DL545,CX537:EH542,6,FALSE)),\"●\")>=2,\"OK\",\"OUT\"),\"対象外\")","v":"OUT"},null,null,{"$f":"DL545+1","v":"2026-10-19"},"～",{"$f":"DL545+7","v":"2026-10-25"},{"$f":"IF(COUNTIF(INDEX(CX541:EH541,DAY(DP545)):INDEX(CX541:EH541,HLOOKUP(DR545,CX537:EH542,6,FALSE)),\"\")+COUNTIF(INDEX(CX541:EH541,DAY(DP545)):INDEX(CX541:EH541,HLOOKUP(DR545,CX537:EH542,6,FALSE)),\"●\")=7,IF(COUNTIF(INDEX(CX541:EH541,DAY(DP545)):INDEX(CX541:EH541,HLOOKUP(DR545,CX537:EH542,6,FALSE)),\"●\")>=2,\"OK\",\"OUT\"),\"対象外\")","v":"OUT"},null,null,{"$f":"IF(AND(DAY(DR545+7)<23,DAY(DR545+7)>=7),\"\",DR545+1)","v":"2026-10-26"},{"$f":"IF(AND(DAY(DR545+7)<23,DAY(DR545+7)>=7),\"\",\"～\")","v":"～"},{"$f":"IF(AND(DAY(DR545+7)<23,DAY(DR545+7)>=7),\"\",DR545+7)","v":"2026-11-01"},{"$f":"IF(AND(DAY(DR545+7)<23,DAY(DR545+7)>=7),\"\",IF(COUNTIF(INDEX(CX541:EH541,DAY(DV545)):INDEX(CX541:EH541,HLOOKUP(DX545,CX537:EH542,6,FALSE)),\"\")+COUNTIF(INDEX(CX541:EH541,DAY(DV545)):INDEX(CX541:EH541,HLOOKUP(DX545,CX537:EH542,6,FALSE)),\"●\")=7,IF(COUNTIF(INDEX(CX541:EH541,DAY(DV545)):INDEX(CX541:EH541,HLOOKUP(DX545,CX537:EH542,6,FALSE)),\"●\")>=2,\"OK\",\"OUT\"),IF(COUNTIF(INDEX(CX541:EH541,DAY(DV545)):INDEX(CX541:EH541,HLOOKUP(DX545,CX537:EH542,6,FALSE)),\"\")+COUNTIF(INDEX(CX541:EH541,DAY(DV545)):INDEX(CX541:EH541,HLOOKUP(DX545,CX537:EH542,6,FALSE)),\"●\")>7,\"「／」漏れ\",\"対象外\")))","v":"OUT"},null,null,{"$f":"IF(DY545=\"\",\"\",IF(AND(DAY(DX545+7)<23,DAY(DX545+7)>=7),\"\",DX545+1))","v":""},{"$f":"IF(DY545=\"\",\"\",IF(AND(DAY(DX545+7)<23,DAY(DX545+7)>=7),\"\",\"～\"))","v":""},{"$f":"IF(DY545=\"\",\"\",IF(AND(DAY(DX545+7)<23,DAY(DX545+7)>=7),\"\",DX545+7))","v":""},{"$f":"IF(DY545=\"\",\"\",IF(AND(DAY(DX545+7)<23,DAY(DX545+7)>=7),\"\",IF(COUNTIF(INDEX(CX541:EH541,DAY(EB545)):INDEX(CX541:EH541,HLOOKUP(ED545,CX537:EH542,6,FALSE)),\"\")+COUNTIF(INDEX(CX541:EH541,DAY(EB545)):INDEX(CX541:EH541,HLOOKUP(ED545,CX537:EH542,6,FALSE)),\"●\")=7,IF(COUNTIF(INDEX(CX541:EH541,DAY(EB545)):INDEX(CX541:EH541,HLOOKUP(ED545,CX537:EH542,6,FALSE)),\"●\")>=2,\"OK\",\"OUT\"),IF(COUNTIF(INDEX(CX541:EH541,HLOOKUP(EB545,CX537:EH542,6,FALSE)):INDEX(CX541:EH541,HLOOKUP(ED545,CX537:EH542,6,FALSE)),\"\")+COUNTIF(INDEX(CX541:EH541,HLOOKUP(EB545,CX537:EH542,6,FALSE)):INDEX(CX541:EH541,HLOOKUP(ED545,CX537:EH542,6,FALSE)),\"●\")>7,\"「／」漏れ\",\"対象外\"))))","v":""},null,null,null,null,null,null,null,"完全週休二日",{"$f":"IF(EN536=\"\",\"\",IF(COUNTIF(CX545:EH545,\"OUT\")>=1,\"OUT\",\"OK\"))","v":""}]
[""]
[{"$f":"IF(AND(NOT($AT$536=\"\"),$AT$565=\"\"),\"対象期間\",\"\")","v":""}]
[{"$f":"IF(AND(NOT($AT$536=\"\"),$AT$565=\"\"),\"対象期間\",\"\")","v":""},null,"※１工事着手日：始期日以降に準備工事（現場事務所の建設・測量等）、工場製作を含む工事における工場製作工に着手した日",null,null,null,null,null,null,null,null,null,null,null,null,null,null,null,null,null,null,null,null,null,null,null,null,null,null,null,null,null,null,null,null,null,null,null,null,null,null,null,null,"工事全体の確認",null,null,null,null,null,null,null,null,"※１工事着手日：始期日以降に準備工事（現場事務所の建設・測量等）、工場製作を含む工事における工場製作工に着手した日",null,null,null,null,null,null,null,null,null,null,null,null,null,null,null,null,null,null,null,null,null,null,null,null,null,null,null,null,null,null,null,null,null,null,null,null,null,null,null,null,"工事全体の確認",null,null,null,null,null,null,"※１工事着手日：始期日以降に準備工事（現場事務所の建設・測量等）、工場製作を含む工事における工場製作工に着手した日",null,null,null,null,null,null,null,null,null,null,null,null,null,null,null,null,null,null,null,null,null,null,null,null,null,null,null,null,null,null,null,null,null,null,null,null,null,null,null,null,"工事全体の確認"]
["",null,"※２作業完了日：工事施工範囲内で全ての作業（後片付けを含む）が完了した日\n　　　　　　　　　  （工事現場事務所は工事施工範囲外に設置するため、ここでいう後片付けの対象に含まない）",null,null,null,null,null,null,null,null,null,null,null,null,null,null,null,null,null,null,null,null,null,null,null,null,null,null,null,null,null,null,null,null,null,null,null,null,null,null,null,null,"計画","全対象期間",{"$f":"IFERROR(AT520+AT536,\"\")","v":""},null,null,null,null,null,null,"※２作業完了日：工事施工範囲内で全ての作業（後片付けを含む）が完了した日\n　　　　　　　　　  （工事現場事務所は工事施工範囲外に設置するため、ここでいう後片付けの対象に含まない）",null,null,null,null,null,null,null,null,null,null,null,null,null,null,null,null,null,null,null,null,null,null,null,null,null,null,null,null,null,null,null,null,null,null,null,null,null,null,null,null,"計画","全対象期間",{"$f":"IFERROR(CR520+CR536,\"\")","v":""},null,null,null,null,"※２作業完了日：工事施工範囲内で全ての作業（後片付けを含む）が完了した日\n　　　　　　　　　  （工事現場事務所は工事施工範囲外に設置するため、ここでいう後片付けの対象に含まない）",null,null,null,null,null,null,null,null,null,null,null,null,null,null,null,null,null,null,null,null,null,null,null,null,null,null,null,null,null,null,null,null,null,null,null,null,null,null,null,null,"計画","全対象期間",{"$f":"IFERROR(EN520+EN536,\"\")","v":""}]
["",null,null,null,null,null,null,null,null,null,null,null,null,null,null,null,null,null,null,null,null,null,null,null,null,null,null,null,null,null,null,null,null,null,null,null,null,null,null,null,null,null,null,null,"全現場閉所日数",{"$f":"IFERROR(AT521+AT537,\"\")","v":""},null,null,null,null,null,null,null,null,null,null,null,null,null,null,null,null,null,null,null,null,null,null,null,null,null,null,null,null,null,null,null,null,null,null,null,null,null,null,null,null,null,null,null,null,null,null,null,null,"全現場閉所日数",{"$f":"IFERROR(CR521+CR537,\"\")","v":""},null,null,null,null,null,null,null,null,null,null,null,null,null,null,null,null,null,null,null,null,null,null,null,null,null,null,null,null,null,null,null,null,null,null,null,null,null,null,null,null,null,null,null,null,null,null,"全現場閉所日数",{"$f":"IFERROR(EN521+EN537,\"\")","v":""}]
["",null,"【算定除外期間】：夏季休暇（8月13日～8月15日）、年末年始（12月29日～翌年1月3日）は算定期間の分母・分子に含めない",null,null,null,null,null,null,null,null,null,null,null,null,null,null,null,null,null,null,null,null,null,null,null,null,null,null,null,null,null,null,null,null,null,null,null,null,null,null,null,null,null,"現場閉所率",{"$f":"IFERROR(+AT550/AT549,\"\")","v":""},{"$f":"IF(AT551>=0.285,\"4週8休以上\",\"週休2日未達成\")","v":"4週8休以上"},null,null,null,null,null,"【算定除外期間】：夏季休暇（8月13日～8月15日）、年末年始（12月29日～翌年1月3日）は算定期間の分母・分子に含めない",null,null,null,null,null,null,null,null,null,null,null,null,null,null,null,null,null,null,null,null,null,null,null,null,null,null,null,null,null,null,null,null,null,null,null,null,null,null,null,null,null,"現場閉所率",{"$f":"IFERROR(+CR550/CR549,\"\")","v":""},{"$f":"IF(CR551>=0.285,\"4週8休以上\",\"週休2日未達成\")","v":"4週8休以上"},null,null,null,"【算定除外期間】：夏季休暇（8月13日～8月15日）、年末年始（12月29日～翌年1月3日）は算定期間の分母・分子に含めない",null,null,null,null,null,null,null,null,null,null,null,null,null,null,null,null,null,null,null,null,null,null,null,null,null,null,null,null,null,null,null,null,null,null,null,null,null,null,null,null,null,"現場閉所率",{"$f":"IFERROR(+EN550/EN549,\"\")","v":""},{"$f":"IF(EN551>=0.285,\"4週8休以上\",\"週休2日未達成\")","v":"4週8休以上"}]
["",null,"※３工事期間の全ての月において、達成状況を確認し、一度でも達成できない月があれば、４週８休以上（月単位）は「未達成」となり、補正の対象とならない。\n　　月によっては、土日を全て閉所しても現場閉所率が28.5％に満たない場合があるが、その月の対象期間の土日日数以上閉所していれば達成とみなす。\n\n※４工事対象期間のうち、一度でも完全週休２日（月～日で２日以上の現場閉所）を達成できなければ、\n　　 完全週休２日は「未達成」となり、補正の対象とならない。\n　　 なお、工期始期・終期、年末年始、夏季休暇などにより、７日間に満たない期間は完全週休２日の達成判断の対象外とする。",null,null,null,null,null,null,null,null,null,null,null,null,null,null,null,null,null,null,null,null,null,null,null,null,null,null,null,null,null,null,null,null,null,null,null,null,null,null,null,null,"実施","全対象期間",{"$f":"IFERROR(AT523+AT539,\"\")","v":""},null,null,null,null,null,null,"※３工事期間の全ての月において、達成状況を確認し、一度でも達成できない月があれば、４週８休以上（月単位）は「未達成」となり、補正の対象とならない。\n　　月によっては、土日を全て閉所しても現場閉所率が28.5％に満たない場合があるが、その月の対象期間の土日日数以上閉所していれば達成とみなす。\n\n※４工事対象期間のうち、一度でも完全週休２日（月～日で２日以上の現場閉所）を達成できなければ、\n　　 完全週休２日は「未達成」となり、補正の対象とならない。\n　　 なお、工期始期・終期、年末年始、夏季休暇などにより、７日間に満たない期間は完全週休２日の達成判断の対象外とする。",null,null,null,null,null,null,null,null,null,null,null,null,null,null,null,null,null,null,null,null,null,null,null,null,null,null,null,null,null,null,null,null,null,null,null,null,null,null,null,null,"実施","全対象期間",{"$f":"IFERROR(CR523+CR539,\"\")","v":""},null,null,null,null,"※３工事期間の全ての月において、達成状況を確認し、一度でも達成できない月があれば、４週８休以上（月単位）は「未達成」となり、補正の対象とならない。\n　　月によっては、土日を全て閉所しても現場閉所率が28.5％に満たない場合があるが、その月の対象期間の土日日数以上閉所していれば達成とみなす。\n\n※４工事対象期間のうち、一度でも完全週休２日（月～日で２日以上の現場閉所）を達成できなければ、\n　　 完全週休２日は「未達成」となり、補正の対象とならない。\n　　 なお、工期始期・終期、年末年始、夏季休暇などにより、７日間に満たない期間は完全週休２日の達成判断の対象外とする。",null,null,null,null,null,null,null,null,null,null,null,null,null,null,null,null,null,null,null,null,null,null,null,null,null,null,null,null,null,null,null,null,null,null,null,null,null,null,null,null,"実施","全対象期間",{"$f":"IFERROR(EN523+EN539,\"\")","v":""}]
["",null,null,null,null,null,null,null,null,null,null,null,null,null,null,null,null,null,null,null,null,null,null,null,null,null,null,null,null,null,null,null,null,null,null,null,null,null,null,null,null,null,null,null,"全現場閉所日数",{"$f":"IFERROR(AT524+AT540,\"\")","v":""},null,null,null,null,null,null,null,null,null,null,null,null,null,null,null,null,null,null,null,null,null,null,null,null,null,null,null,null,null,null,null,null,null,null,null,null,null,null,null,null,null,null,null,null,null,null,null,null,"全現場閉所日数",{"$f":"IFERROR(CR524+CR540,\"\")","v":""},null,null,null,null,null,null,null,null,null,null,null,null,null,null,null,null,null,null,null,null,null,null,null,null,null,null,null,null,null,null,null,null,null,null,null,null,null,null,null,null,null,null,null,null,null,null,"全現場閉所日数",{"$f":"IFERROR(EN524+EN540,\"\")","v":""}]
["",null,null,null,null,null,null,null,null,null,null,null,null,null,null,null,null,null,null,null,null,null,null,null,null,null,null,null,null,null,null,null,null,null,null,null,null,null,null,null,null,null,null,null,"現場閉所率",{"$f":"IFERROR(+AT553/AT552,\"\")","v":""},{"$f":"IF(AT554>=0.285,\"4週8休以上\",\"週休2日未達成\")","v":"4週8休以上"},null,null,null,null,null,null,null,null,null,null,null,null,null,null,null,null,null,null,null,null,null,null,null,null,null,null,null,null,null,null,null,null,null,null,null,null,null,null,null,null,null,null,null,null,null,null,null,"現場閉所率",{"$f":"IFERROR(+CR553/CR552,\"\")","v":""},{"$f":"IF(CR554>=0.285,\"4週8休以上\",\"週休2日未達成\")","v":"4週8休以上"},null,null,null,null,null,null,null,null,null,null,null,null,null,null,null,null,null,null,null,null,null,null,null,null,null,null,null,null,null,null,null,null,null,null,null,null,null,null,null,null,null,null,null,null,null,"現場閉所率",{"$f":"IFERROR(+EN553/EN552,\"\")","v":""},{"$f":"IF(EN554>=0.285,\"4週8休以上\",\"週休2日未達成\")","v":"4週8休以上"}]
["",null,null,null,null,null,null,null,null,null,null,null,null,null,null,null,null,null,null,null,null,null,null,null,null,null,null,null,null,null,null,null,null,null,null,null,null,null,null,null,null,null,null,null,"閉所（月単位）",{"$f":"IFERROR(COUNTIF(AS$14:$AS545,\"4週8休以上\")/(COUNTIF(AS$14:$AS545,\"4週8休以上\")+COUNTIF(AS$14:$AS545,\"週休2日未達成\")),\"\")","v":""},{"$f":"IF(OR(AT555=100%,AT555=\"\"),\"達成\",\"未達成\")","v":"達成"},null,null,null,null,null,null,null,null,null,null,null,null,null,null,null,null,null,null,null,null,null,null,null,null,null,null,null,null,null,null,null,null,null,null,null,null,null,null,null,null,null,null,null,null,null,null,null,"閉所（月単位）",{"$f":"IFERROR(COUNTIF(CQ$14:$CQ545,\"4週8休以上\")/(COUNTIF(CQ$14:$CQ545,\"4週8休以上\")+COUNTIF(CQ$14:$CQ545,\"週休2日未達成\")),\"\")","v":0},{"$f":"IF(OR(CR555=100%,CR555=\"\"),\"達成\",\"未達成\")","v":"未達成"},null,null,null,null,null,null,null,null,null,null,null,null,null,null,null,null,null,null,null,null,null,null,null,null,null,null,null,null,null,null,null,null,null,null,null,null,null,null,null,null,null,null,null,null,null,"閉所（月単位）",{"$f":"IFERROR(COUNTIF($EM$14:EM545,\"4週8休以上\")/(COUNTIF($EM$14:EM545,\"4週8休以上\")+COUNTIF($EM$14:EM545,\"週休2日未達成\")),\"\")","v":1},{"$f":"IF(OR(EN555=100%,EN555=\"\"),\"達成\",\"未達成\")","v":"達成"}]
["",null,null,null,null,null,null,null,null,null,null,null,null,null,null,null,null,null,null,null,null,null,null,null,null,null,null,null,null,null,null,null,null,null,null,null,null,null,null,null,null,null,null,null,"完全週休二日",{"$f":"IF(COUNTIF(AS$14:$AS545,\"OUT\")>=1,\"OUT\",\"OK\")","v":"OK"},{"$f":"IF(AT556=\"OK\",\"達成\",\"未達成\")","v":"達成"},null,null,null,null,null,null,null,null,null,null,null,null,null,null,null,null,null,null,null,null,null,null,null,null,null,null,null,null,null,null,null,null,null,null,null,null,null,null,null,null,null,null,null,null,null,null,null,"完全週休二日",{"$f":"IF(COUNTIF(CQ$14:$CQ545,\"OUT\")>=1,\"OUT\",\"OK\")","v":"OUT"},{"$f":"IF(CR556=\"OK\",\"達成\",\"未達成\")","v":"未達成"},null,null,null,null,null,null,null,null,null,null,null,null,null,null,null,null,null,null,null,null,null,null,null,null,null,null,null,null,null,null,null,null,null,null,null,null,null,null,null,null,null,null,null,null,null,"完全週休二日",{"$f":"IF(COUNTIF($EM$14:EM545,\"OUT\")>=1,\"OUT\",\"OK\")","v":"OUT"},{"$f":"IF(EN556=\"OK\",\"達成\",\"未達成\")","v":"未達成"}]
["",null,"※必要に応じて各月の完全週休2日（月～日）の達成判定の行を修正してください。（曜日に合わせて修正）",null,null,null,null,null,null,null,null,null,null,null,null,null,null,null,null,null,null,null,null,null,null,null,null,null,null,null,null,null,null,null,null,null,null,null,null,null,null,null,null,null,null,null,null,null,null,null,null,null,"※必要に応じて各月の完全週休2日（月～日）の達成判定の行を修正してください。（曜日に合わせて修正）",null,null,null,null,null,null,null,null,null,null,null,null,null,null,null,null,null,null,null,null,null,null,null,null,null,null,null,null,null,null,null,null,null,null,null,null,null,null,null,null,null,null,null,null,null,null,null,"※必要に応じて各月の完全週休2日（月～日）の達成判定の行を修正してください。（曜日に合わせて修正）"]
[""]
[""]
[""]
[""]
[""]
["",null,"算定除外期間以外の祝日（ＧＷ含む）は、算定期間（分母）の対象＝現場閉所の場合は分子にカウントして現場閉所率を算定",null,null,null,null,null,null,null,null,null,null,null,null,null,null,null,null,null,null,null,null,null,null,null,null,null,null,null,null,null,null,null,null,null,null,null,null,null,null,null,null,null,null,null,null,null,null,null,null,null,"算定除外期間以外の祝日（ＧＷ含む）は、算定期間（分母）の対象＝現場閉所の場合は分子にカウントして現場閉所率を算定",null,null,null,null,null,null,null,null,null,null,null,null,null,null,null,null,null,null,null,null,null,null,null,null,null,null,null,null,null,null,null,null,null,null,null,null,null,null,null,null,null,null,null,null,null,null,null,"算定除外期間以外の祝日（ＧＷ含む）は、算定期間（分母）の対象＝現場閉所の場合は分子にカウントして現場閉所率を算定"]
[""]
[{"$f":"IF($AT$565=\"\",\"\",\"対象期間\")","v":""},null,"月",{"$f":"DATE(YEAR(D536),MONTH(D536)+1,1)","v":"2026-11-01"},null,null,null,null,null,null,null,null,null,null,null,null,null,null,null,null,null,null,null,null,null,null,null,null,null,null,null,null,null,null,{"$f":"DATE(YEAR(D565),MONTH(D565)+1,1)","v":"2026-12-01"},null,null,null,null,null,"現場閉所計","現場閉所累計",null,"計画","対象期間",{"$f":"IF(IF(MONTH(入力表!$E$6)=12,YEAR(入力表!$E$6)+1&\"01\",YEAR(入力表!$E$6)&TEXT(MONTH(入力表!$E$6)+1,\"00\"))>YEAR($D565)&TEXT(MONTH($D565),\"00\"),COUNTIF(D569:AH569,\"\")+COUNTIF(D569:AH569,\"○\"),\"\")","v":""},{"$f":"IF(COUNTIF(D566:AH566,\"／\")=0,\"\",IF(COUNTIF(D566:AH566,\"／\")=1,IF(AH569=\"／\",\"\",\"月末「／」漏れ\"),IF(COUNTIF(D566:AH566,\"／\")=2,IF(AND(AG569=\"／\",AH569=\"／\"),\"\",\"月末「／」漏れ\"),IF(AND(AF569=\"／\",AG569=\"／\",AH569=\"／\"),\"\",\"月末「／」漏れ\"))))","v":"月末「／」漏れ"},null,null,null,null,null,"月",{"$f":"DATE(YEAR(BB536),MONTH(BB536)+1,1)","v":"2026-11-01"},null,null,null,null,null,null,null,null,null,null,null,null,null,null,null,null,null,null,null,null,null,null,null,null,null,null,null,null,null,null,{"$f":"DATE(YEAR(BB565),MONTH(BB565)+1,1)","v":"2026-12-01"},null,null,null,null,null,"現場閉所計","現場閉所累計",null,"計画","対象期間",{"$f":"IF(IF(MONTH($BL$5)=12,YEAR($BL$5)+1&\"01\",YEAR($BL$5)&TEXT(MONTH($BL$5)+1,\"00\"))>YEAR(BB565)&TEXT(MONTH(BB565),\"00\"),COUNTIF(BB569:CF569,\"\")+COUNTIF(BB569:CF569,\"○\"),\"\")","v":""},{"$f":"IF(COUNTIF(BB566:CF566,\"／\")=0,\"\",IF(COUNTIF(BB566:CF566,\"／\")=1,IF(CF569=\"／\",\"\",\"月末「／」漏れ\"),IF(COUNTIF(BB566:CF566,\"／\")=2,IF(AND(CE569=\"／\",CF569=\"／\"),\"\",\"月末「／」漏れ\"),IF(AND(CD569=\"／\",CE569=\"／\",CF569=\"／\"),\"\",\"月末「／」漏れ\"))))","v":""},null,null,null,"月",{"$f":"DATE(YEAR(CX536),MONTH(CX536)+1,1)","v":"2026-11-01"},null,null,null,null,null,null,null,null,null,null,null,null,null,null,null,null,null,null,null,null,null,null,null,null,null,null,null,null,null,null,{"$f":"DATE(YEAR(CX565),MONTH(CX565)+1,1)","v":"2026-12-01"},null,null,null,null,null,"現場閉所計","現場閉所累計",null,"計画","対象期間",{"$f":"IF(IF(MONTH($BL$5)=12,YEAR($BL$5)+1&\"01\",YEAR($BL$5)&TEXT(MONTH($BL$5)+1,\"00\"))>YEAR($CX565)&TEXT(MONTH($CX565),\"00\"),COUNTIF(CX569:EB569,\"\")+COUNTIF(CX569:EB569,\"○\"),\"\")","v":""},{"$f":"IF(COUNTIF(CX566:EB566,\"／\")=0,\"\",IF(COUNTIF(CX566:EB566,\"／\")=1,IF(EB569=\"／\",\"\",\"月末「／」漏れ\"),IF(COUNTIF(CX566:EB566,\"／\")=2,IF(AND(EA569=\"／\",EB569=\"／\"),\"\",\"月末「／」漏れ\"),IF(AND(DZ569=\"／\",EA569=\"／\",EB569=\"／\"),\"\",\"月末「／」漏れ\"))))","v":""}]
[{"$f":"IF($AT$565=\"\",\"\",\"対象期間\")","v":""},null,"日",{"$f":"D565","v":"2026-11-01"},{"$f":"D566+1","v":"2026-11-02"},{"$f":"E566+1","v":"2026-11-03"},{"$f":"F566+1","v":"2026-11-04"},{"$f":"G566+1","v":"2026-11-05"},{"$f":"H566+1","v":"2026-11-06"},{"$f":"I566+1","v":"2026-11-07"},{"$f":"J566+1","v":"2026-11-08"},{"$f":"K566+1","v":"2026-11-09"},{"$f":"L566+1","v":"2026-11-10"},{"$f":"M566+1","v":"2026-11-11"},{"$f":"N566+1","v":"2026-11-12"},{"$f":"O566+1","v":"2026-11-13"},{"$f":"P566+1","v":"2026-11-14"},{"$f":"Q566+1","v":"2026-11-15"},{"$f":"R566+1","v":"2026-11-16"},{"$f":"S566+1","v":"2026-11-17"},{"$f":"T566+1","v":"2026-11-18"},{"$f":"U566+1","v":"2026-11-19"},{"$f":"V566+1","v":"2026-11-20"},{"$f":"W566+1","v":"2026-11-21"},{"$f":"X566+1","v":"2026-11-22"},{"$f":"Y566+1","v":"2026-11-23"},{"$f":"Z566+1","v":"2026-11-24"},{"$f":"AA566+1","v":"2026-11-25"},{"$f":"AB566+1","v":"2026-11-26"},{"$f":"AC566+1","v":"2026-11-27"},{"$f":"AD566+1","v":"2026-11-28"},{"$f":"IF(AE566=\"／\",\"／\",IF(YEAR($D565)&TEXT(MONTH($D565),\"00\")<YEAR(AE566+1)&TEXT(MONTH(AE566+1),\"00\"),\"／\",AE566+1))","v":"2026-11-29"},{"$f":"IF(AF566=\"／\",\"／\",IF(YEAR($D565)&TEXT(MONTH($D565),\"00\")<YEAR(AF566+1)&TEXT(MONTH(AF566+1),\"00\"),\"／\",AF566+1))","v":"2026-11-30"},{"$f":"IF(AG566=\"／\",\"／\",IF(YEAR($D565)&TEXT(MONTH($D565),\"00\")<YEAR(AG566+1)&TEXT(MONTH(AG566+1),\"00\"),\"／\",AG566+1))","v":"／"},{"$f":"AI565","v":"2026-12-01"},{"$f":"AI566+1","v":"2026-12-02"},{"$f":"AJ566+1","v":"2026-12-03"},{"$f":"AK566+1","v":"2026-12-04"},{"$f":"AL566+1","v":"2026-12-05"},{"$f":"AM566+1","v":"2026-12-06"},null,null,null,null,"閉所日数",{"$f":"IF(IF(MONTH(入力表!$E$6)=12,YEAR(入力表!$E$6)+1&\"01\",YEAR(入力表!$E$6)&TEXT(MONTH(入力表!$E$6)+1,\"00\"))>YEAR($D565)&TEXT(MONTH($D565),\"00\"),COUNTIF(D569:AH569,\"○\"),\"\")","v":""},{"$f":"IF(OR(MONTH(D565)=1,MONTH(D565)=8,MONTH(D565)=12),IF(COUNTIF(D569:AH569,\"／\")>=3,\"\",\"算定除外「／」漏れ\"),\"\")","v":""},null,null,null,null,null,"日",{"$f":"BB565","v":"2026-11-01"},{"$f":"BB566+1","v":"2026-11-02"},{"$f":"BC566+1","v":"2026-11-03"},{"$f":"BD566+1","v":"2026-11-04"},{"$f":"BE566+1","v":"2026-11-05"},{"$f":"BF566+1","v":"2026-11-06"},{"$f":"BG566+1","v":"2026-11-07"},{"$f":"BH566+1","v":"2026-11-08"},{"$f":"BI566+1","v":"2026-11-09"},{"$f":"BJ566+1","v":"2026-11-10"},{"$f":"BK566+1","v":"2026-11-11"},{"$f":"BL566+1","v":"2026-11-12"},{"$f":"BM566+1","v":"2026-11-13"},{"$f":"BN566+1","v":"2026-11-14"},{"$f":"BO566+1","v":"2026-11-15"},{"$f":"BP566+1","v":"2026-11-16"},{"$f":"BQ566+1","v":"2026-11-17"},{"$f":"BR566+1","v":"2026-11-18"},{"$f":"BS566+1","v":"2026-11-19"},{"$f":"BT566+1","v":"2026-11-20"},{"$f":"BU566+1","v":"2026-11-21"},{"$f":"BV566+1","v":"2026-11-22"},{"$f":"BW566+1","v":"2026-11-23"},{"$f":"BX566+1","v":"2026-11-24"},{"$f":"BY566+1","v":"2026-11-25"},{"$f":"BZ566+1","v":"2026-11-26"},{"$f":"CA566+1","v":"2026-11-27"},{"$f":"CB566+1","v":"2026-11-28"},{"$f":"IF(CC566=\"／\",\"／\",IF(YEAR(BB565)&TEXT(MONTH(BB565),\"00\")<YEAR(CC566+1)&TEXT(MONTH(CC566+1),\"00\"),\"／\",CC566+1))","v":"2026-11-29"},{"$f":"IF(CD566=\"／\",\"／\",IF(YEAR(BB565)&TEXT(MONTH(BB565),\"00\")<YEAR(CD566+1)&TEXT(MONTH(CD566+1),\"00\"),\"／\",CD566+1))","v":"2026-11-30"},{"$f":"IF(CE566=\"／\",\"／\",IF(YEAR(BB565)&TEXT(MONTH(BB565),\"00\")<YEAR(CE566+1)&TEXT(MONTH(CE566+1),\"00\"),\"／\",CE566+1))","v":"／"},{"$f":"CG565","v":"2026-12-01"},{"$f":"CG566+1","v":"2026-12-02"},{"$f":"CH566+1","v":"2026-12-03"},{"$f":"CI566+1","v":"2026-12-04"},{"$f":"CJ566+1","v":"2026-12-05"},{"$f":"CK566+1","v":"2026-12-06"},null,null,null,null,"閉所日数",{"$f":"IF(IF(MONTH($BL$5)=12,YEAR($BL$5)+1&\"01\",YEAR($BL$5)&TEXT(MONTH($BL$5)+1,\"00\"))>YEAR(BB565)&TEXT(MONTH(BB565),\"00\"),COUNTIF(BB569:CF569,\"○\"),\"\")","v":""},{"$f":"IF(OR(MONTH(BB565)=1,MONTH(BB565)=8,MONTH(BB565)=12),IF(COUNTIF(BB569:CF569,\"／\")>=3,\"\",\"算定除外「／」漏れ\"),\"\")","v":""},null,null,null,"日",{"$f":"CX565","v":"2026-11-01"},{"$f":"CX566+1","v":"2026-11-02"},{"$f":"CY566+1","v":"2026-11-03"},{"$f":"CZ566+1","v":"2026-11-04"},{"$f":"DA566+1","v":"2026-11-05"},{"$f":"DB566+1","v":"2026-11-06"},{"$f":"DC566+1","v":"2026-11-07"},{"$f":"DD566+1","v":"2026-11-08"},{"$f":"DE566+1","v":"2026-11-09"},{"$f":"DF566+1","v":"2026-11-10"},{"$f":"DG566+1","v":"2026-11-11"},{"$f":"DH566+1","v":"2026-11-12"},{"$f":"DI566+1","v":"2026-11-13"},{"$f":"DJ566+1","v":"2026-11-14"},{"$f":"DK566+1","v":"2026-11-15"},{"$f":"DL566+1","v":"2026-11-16"},{"$f":"DM566+1","v":"2026-11-17"},{"$f":"DN566+1","v":"2026-11-18"},{"$f":"DO566+1","v":"2026-11-19"},{"$f":"DP566+1","v":"2026-11-20"},{"$f":"DQ566+1","v":"2026-11-21"},{"$f":"DR566+1","v":"2026-11-22"},{"$f":"DS566+1","v":"2026-11-23"},{"$f":"DT566+1","v":"2026-11-24"},{"$f":"DU566+1","v":"2026-11-25"},{"$f":"DV566+1","v":"2026-11-26"},{"$f":"DW566+1","v":"2026-11-27"},{"$f":"DX566+1","v":"2026-11-28"},{"$f":"IF(DY566=\"／\",\"／\",IF(YEAR(CX565)&TEXT(MONTH(CX565),\"00\")<YEAR(DY566+1)&TEXT(MONTH(DY566+1),\"00\"),\"／\",DY566+1))","v":"2026-11-29"},{"$f":"IF(DZ566=\"／\",\"／\",IF(YEAR(CX565)&TEXT(MONTH(CX565),\"00\")<YEAR(DZ566+1)&TEXT(MONTH(DZ566+1),\"00\"),\"／\",DZ566+1))","v":"2026-11-30"},{"$f":"IF(EA566=\"／\",\"／\",IF(YEAR(CX565)&TEXT(MONTH(CX565),\"00\")<YEAR(EA566+1)&TEXT(MONTH(EA566+1),\"00\"),\"／\",EA566+1))","v":"／"},{"$f":"EC565","v":"2026-12-01"},{"$f":"EC566+1","v":"2026-12-02"},{"$f":"ED566+1","v":"2026-12-03"},{"$f":"EE566+1","v":"2026-12-04"},{"$f":"EF566+1","v":"2026-12-05"},{"$f":"EG566+1","v":"2026-12-06"},null,null,null,null,"閉所日数",{"$f":"IF(IF(MONTH($BL$5)=12,YEAR($BL$5)+1&\"01\",YEAR($BL$5)&TEXT(MONTH($BL$5)+1,\"00\"))>YEAR($CX565)&TEXT(MONTH($CX565),\"00\"),COUNTIF(CX569:EB569,\"○\"),\"\")","v":""},{"$f":"IF(OR(MONTH(CX565)=1,MONTH(CX565)=8,MONTH(CX565)=12),IF(COUNTIF(CX569:EB569,\"／\")>=3,\"\",\"算定除外「／」漏れ\"),\"\")","v":""}]
["",null,"曜日",{"$f":"TEXT(WEEKDAY(+D566),\"aaa\")","v":"日"},{"$f":"TEXT(WEEKDAY(+E566),\"aaa\")","v":"月"},"火","水","木",{"$f":"TEXT(WEEKDAY(+I566),\"aaa\")","v":"金"},{"$f":"TEXT(WEEKDAY(+J566),\"aaa\")","v":"土"},"日","月","火","水","木","金","土","日","月","火","水","木","金","土","日",{"$f":"TEXT(WEEKDAY(+Z566),\"aaa\")","v":"月"},{"$f":"TEXT(WEEKDAY(+AA566),\"aaa\")","v":"火"},"水","木","金","土",{"$f":"IF(AF566=\"／\",\"／\",TEXT(WEEKDAY(+AF566),\"aaa\"))","v":"日"},{"$f":"IF(AG566=\"／\",\"／\",TEXT(WEEKDAY(+AG566),\"aaa\"))","v":"月"},"／",{"$f":"TEXT(WEEKDAY(+AI566),\"aaa\")","v":"火"},{"$f":"TEXT(WEEKDAY(+AJ566),\"aaa\")","v":"水"},"木","金","土","日",null,null,null,null,"現場閉所率",{"$f":"IFERROR(+AT566/AT565,\"\")","v":""},{"$f":"IF(AT567=\"\",\"\",IF(COUNTIF(D569:AH569,\"○\")>=COUNTIF(D572:AH572,\"◎\"),\"4週8休以上\",IF(AT567>=0.285,\"4週8休以上\",\"週休2日未達成\")))","v":""},null,null,null,null,null,"曜日",{"$f":"TEXT(WEEKDAY(+BB566),\"aaa\")","v":"日"},{"$f":"TEXT(WEEKDAY(+BC566),\"aaa\")","v":"月"},"火","水","木",{"$f":"TEXT(WEEKDAY(+BG566),\"aaa\")","v":"金"},{"$f":"TEXT(WEEKDAY(+BH566),\"aaa\")","v":"土"},"日","月","火","水","木","金","土","日","月","火","水","木","金","土","日",{"$f":"TEXT(WEEKDAY(+BX566),\"aaa\")","v":"月"},{"$f":"TEXT(WEEKDAY(+BY566),\"aaa\")","v":"火"},"水","木","金","土",{"$f":"IF(CD566=\"／\",\"／\",TEXT(WEEKDAY(+CD566),\"aaa\"))","v":"日"},{"$f":"IF(CE566=\"／\",\"／\",TEXT(WEEKDAY(+CE566),\"aaa\"))","v":"月"},"／",{"$f":"TEXT(WEEKDAY(+CG566),\"aaa\")","v":"火"},{"$f":"TEXT(WEEKDAY(+CH566),\"aaa\")","v":"水"},"木","金","土","日",null,null,null,null,"現場閉所率",{"$f":"IFERROR(+CR566/CR565,\"\")","v":""},{"$f":"IF(CR567=\"\",\"\",IF(COUNTIF(BB569:CF569,\"○\")>=COUNTIF(BB572:CF572,\"◎\"),\"4週8休以上\",IF(CR567>=0.285,\"4週8休以上\",\"週休2日未達成\")))","v":""},null,null,null,"曜日",{"$f":"TEXT(WEEKDAY(+CX566),\"aaa\")","v":"日"},{"$f":"TEXT(WEEKDAY(+CY566),\"aaa\")","v":"月"},"火","水","木",{"$f":"TEXT(WEEKDAY(+DC566),\"aaa\")","v":"金"},{"$f":"TEXT(WEEKDAY(+DD566),\"aaa\")","v":"土"},"日","月","火","水","木","金","土","日","月","火","水","木","金","土","日",{"$f":"TEXT(WEEKDAY(+DT566),\"aaa\")","v":"月"},{"$f":"TEXT(WEEKDAY(+DU566),\"aaa\")","v":"火"},"水","木","金","土",{"$f":"IF(DZ566=\"／\",\"／\",TEXT(WEEKDAY(+DZ566),\"aaa\"))","v":"日"},{"$f":"IF(EA566=\"／\",\"／\",TEXT(WEEKDAY(+EA566),\"aaa\"))","v":"月"},"／",{"$f":"TEXT(WEEKDAY(+EC566),\"aaa\")","v":"火"},{"$f":"TEXT(WEEKDAY(+ED566),\"aaa\")","v":"水"},"木","金","土","日",null,null,null,null,"現場閉所率",{"$f":"IFERROR(+EN566/EN565,\"\")","v":""},{"$f":"IF(EN567=\"\",\"\",IF(COUNTIF(CX569:EB569,\"○\")>=COUNTIF(CX572:EB572,\"◎\"),\"4週8休以上\",IF(EN567>=0.285,\"4週8休以上\",\"週休2日未達成\")))","v":""}]
["",null,"行事",null,null,null,null,null,null,null,null,null,null,null,null,null,null,null,null,null,null,null,null,null,null,null,null,null,null,null,null,null,null,null,{"$f":"IF(D597=\"\",\"\",D597)","v":""},{"$f":"IF(E597=\"\",\"\",E597)","v":""},{"$f":"IF(F597=\"\",\"\",F597)","v":""},{"$f":"IF(G597=\"\",\"\",G597)","v":""},{"$f":"IF(H597=\"\",\"\",H597)","v":""},{"$f":"IF(I597=\"\",\"\",I597)","v":""},null,null,null,"実施","対象期間",{"$f":"IF(IF(MONTH(入力表!$E$6)=12,YEAR(入力表!$E$6)+1&\"01\",YEAR(入力表!$E$6)&TEXT(MONTH(入力表!$E$6)+1,\"00\"))>YEAR($D565)&TEXT(MONTH($D565),\"00\"),COUNTIF(D570:AH570,\"\")+COUNTIF(D570:AH570,\"●\"),\"\")","v":""},{"$f":"IF(COUNTIF(D566:AH566,\"／\")=0,\"\",IF(COUNTIF(D566:AH566,\"／\")=1,IF(AH570=\"／\",\"\",\"月末「／」漏れ\"),IF(COUNTIF(D566:AH566,\"／\")=2,IF(AND(AG570=\"／\",AH570=\"／\"),\"\",\"月末「／」漏れ\"),IF(AND(AF570=\"／\",AG570=\"／\",AH570=\"／\"),\"\",\"月末「／」漏れ\"))))","v":"月末「／」漏れ"},null,null,null,null,null,"行事",null,null,null,null,null,null,null,null,null,null,null,null,null,null,null,null,null,null,null,null,null,null,null,null,null,null,null,null,null,null,null,{"$f":"IF(BB597=\"\",\"\",BB597)","v":""},{"$f":"IF(BC597=\"\",\"\",BC597)","v":""},{"$f":"IF(BD597=\"\",\"\",BD597)","v":""},{"$f":"IF(BE597=\"\",\"\",BE597)","v":""},{"$f":"IF(BF597=\"\",\"\",BF597)","v":""},{"$f":"IF(BG597=\"\",\"\",BG597)","v":""},null,null,null,"実施","対象期間",{"$f":"IF(IF(MONTH($BL$5)=12,YEAR($BL$5)+1&\"01\",YEAR($BL$5)&TEXT(MONTH($BL$5)+1,\"00\"))>YEAR(BB565)&TEXT(MONTH(BB565),\"00\"),COUNTIF(BB570:CF570,\"\")+COUNTIF(BB570:CF570,\"●\"),\"\")","v":""},{"$f":"IF(COUNTIF(BB566:CF566,\"／\")=0,\"\",IF(COUNTIF(BB566:CF566,\"／\")=1,IF(CF570=\"／\",\"\",\"月末「／」漏れ\"),IF(COUNTIF(BB566:CF566,\"／\")=2,IF(AND(CE570=\"／\",CF570=\"／\"),\"\",\"月末「／」漏れ\"),IF(AND(CD570=\"／\",CE570=\"／\",CF570=\"／\"),\"\",\"月末「／」漏れ\"))))","v":""},null,null,null,"行事",null,null,null,null,null,null,null,null,null,null,null,null,null,null,null,null,null,null,null,null,null,null,null,null,null,null,null,null,null,null,null,{"$f":"IF(CX597=\"\",\"\",CX597)","v":""},{"$f":"IF(CY597=\"\",\"\",CY597)","v":""},{"$f":"IF(CZ597=\"\",\"\",CZ597)","v":""},{"$f":"IF(DA597=\"\",\"\",DA597)","v":""},{"$f":"IF(DB597=\"\",\"\",DB597)","v":""},{"$f":"IF(DC597=\"\",\"\",DC597)","v":""},null,null,null,"実施","対象期間",{"$f":"IF(IF(MONTH($BL$5)=12,YEAR($BL$5)+1&\"01\",YEAR($BL$5)&TEXT(MONTH($BL$5)+1,\"00\"))>YEAR($CX565)&TEXT(MONTH($CX565),\"00\"),COUNTIF(CX570:EB570,\"\")+COUNTIF(CX570:EB570,\"●\"),\"\")","v":""},{"$f":"IF(COUNTIF(CX566:EB566,\"／\")=0,\"\",IF(COUNTIF(CX566:EB566,\"／\")=1,IF(EB570=\"／\",\"\",\"月末「／」漏れ\"),IF(COUNTIF(CX566:EB566,\"／\")=2,IF(AND(EA570=\"／\",EB570=\"／\"),\"\",\"月末「／」漏れ\"),IF(AND(DZ570=\"／\",EA570=\"／\",EB570=\"／\"),\"\",\"月末「／」漏れ\"))))","v":""}]
["",null,"計画",null,null,null,null,null,null,null,null,null,null,null,null,null,null,null,null,null,null,null,null,null,null,null,null,null,null,null,null,null,null,null,{"$f":"IF(D598=\"\",\"\",D598)","v":""},{"$f":"IF(E598=\"\",\"\",E598)","v":""},{"$f":"IF(F598=\"\",\"\",F598)","v":""},{"$f":"IF(G598=\"\",\"\",G598)","v":""},{"$f":"IF(H598=\"\",\"\",H598)","v":""},{"$f":"IF(I598=\"\",\"\",I598)","v":""},{"$f":"COUNTIF(D569:AG569,\"○\")","v":0},{"$f":"+AO569+AP540","v":0},null,null,"閉所日数",{"$f":"IF(IF(MONTH(入力表!$E$6)=12,YEAR(入力表!$E$6)+1&\"01\",YEAR(入力表!$E$6)&TEXT(MONTH(入力表!$E$6)+1,\"00\"))>YEAR($D565)&TEXT(MONTH($D565),\"00\"),COUNTIF(D570:AH570,\"●\"),\"\")","v":""},{"$f":"IF(OR(MONTH(D565)=1,MONTH(D565)=8,MONTH(D565)=12),IF(COUNTIF(D570:AH570,\"／\")>=3,\"\",\"算定除外「／」漏れ\"),\"\")","v":""},null,null,null,null,null,"計画",null,null,null,null,null,null,null,null,null,null,null,null,null,null,null,null,null,null,null,null,null,null,null,null,null,null,null,null,null,null,"／",{"$f":"IF(BB598=\"\",\"\",BB598)","v":""},"","","","","",{"$f":"COUNTIF(BB569:CE569,\"○\")","v":0},{"$f":"+CM569+CN540","v":0},null,null,"閉所日数",{"$f":"IF(IF(MONTH($BL$5)=12,YEAR($BL$5)+1&\"01\",YEAR($BL$5)&TEXT(MONTH($BL$5)+1,\"00\"))>YEAR(BB565)&TEXT(MONTH(BB565),\"00\"),COUNTIF(BB570:CF570,\"●\"),\"\")","v":""},{"$f":"IF(OR(MONTH(BB565)=1,MONTH(BB565)=8,MONTH(BB565)=12),IF(COUNTIF(BB570:CF570,\"／\")>=3,\"\",\"算定除外「／」漏れ\"),\"\")","v":""},null,null,null,"計画",null,null,null,null,null,null,null,null,null,null,null,null,null,null,null,null,null,null,null,null,null,null,null,null,null,null,null,null,null,null,"／",{"$f":"IF(CX598=\"\",\"\",CX598)","v":""},"","","","","",{"$f":"COUNTIF(CX569:EA569,\"○\")","v":0},{"$f":"+EI569+EJ540","v":0},null,null,"閉所日数",{"$f":"IF(IF(MONTH($BL$5)=12,YEAR($BL$5)+1&\"01\",YEAR($BL$5)&TEXT(MONTH($BL$5)+1,\"00\"))>YEAR($CX565)&TEXT(MONTH($CX565),\"00\"),COUNTIF(CX570:EB570,\"●\"),\"\")","v":""},{"$f":"IF(OR(MONTH(CX565)=1,MONTH(CX565)=8,MONTH(CX565)=12),IF(COUNTIF(CX570:EB570,\"／\")>=3,\"\",\"算定除外「／」漏れ\"),\"\")","v":""}]
["",null,"実施",null,null,null,null,null,null,null,null,null,null,null,null,null,null,null,null,null,null,null,null,null,null,null,null,null,null,null,null,null,null,null,{"$f":"IF(D599=\"\",\"\",D599)","v":""},{"$f":"IF(E599=\"\",\"\",E599)","v":""},{"$f":"IF(F599=\"\",\"\",F599)","v":""},{"$f":"IF(G599=\"\",\"\",G599)","v":""},{"$f":"IF(H599=\"\",\"\",H599)","v":""},{"$f":"IF(I599=\"\",\"\",I599)","v":""},{"$f":"COUNTIF(D570:AG570,\"●\")","v":0},{"$f":"+AO570+AP541","v":0},null,null,"現場閉所率",{"$f":"IFERROR(+AT569/AT568,\"\")","v":""},{"$f":"IF(AT570=\"\",\"\",IF(COUNTIF(D570:AH570,\"●\")>=COUNTIF(D573:AH573,\"◎\"),\"4週8休以上\",IF(AT570>=0.285,\"4週8休以上\",\"週休2日未達成\")))","v":""},null,null,null,null,null,"実施",null,null,null,null,null,null,null,null,null,null,null,null,null,null,null,null,null,null,null,null,null,null,null,null,null,null,null,null,null,null,"／",{"$f":"IF(BB599=\"\",\"\",BB599)","v":""},{"$f":"IF(BC599=\"\",\"\",BC599)","v":""},{"$f":"IF(BD599=\"\",\"\",BD599)","v":""},{"$f":"IF(BE599=\"\",\"\",BE599)","v":""},{"$f":"IF(BF599=\"\",\"\",BF599)","v":""},{"$f":"IF(BG599=\"\",\"\",BG599)","v":""},{"$f":"COUNTIF(BB570:CE570,\"●\")","v":0},{"$f":"+CM570+CN541","v":0},null,null,"現場閉所率",{"$f":"IFERROR(+CR569/CR568,\"\")","v":""},{"$f":"IF(CR570=\"\",\"\",IF(COUNTIF(BB570:CF570,\"●\")>=COUNTIF(BB573:CF573,\"◎\"),\"4週8休以上\",IF(CR570>=0.285,\"4週8休以上\",\"週休2日未達成\")))","v":""},null,null,null,"実施",null,null,null,null,null,null,null,null,null,null,null,null,null,null,null,null,null,null,null,null,null,null,null,null,null,null,null,null,null,null,"／",{"$f":"IF(CX599=\"\",\"\",CX599)","v":""},{"$f":"IF(CY599=\"\",\"\",CY599)","v":""},{"$f":"IF(CZ599=\"\",\"\",CZ599)","v":""},{"$f":"IF(DA599=\"\",\"\",DA599)","v":""},{"$f":"IF(DB599=\"\",\"\",DB599)","v":""},{"$f":"IF(DC599=\"\",\"\",DC599)","v":""},{"$f":"COUNTIF(CX570:EA570,\"●\")","v":0},{"$f":"+EI570+EJ541","v":0},null,null,"現場閉所率",{"$f":"IFERROR(+EN569/EN568,\"\")","v":""},{"$f":"IF(EN570=\"\",\"\",IF(COUNTIF(CX570:EB570,\"●\")>=COUNTIF(CX573:EB573,\"◎\"),\"4週8休以上\",IF(EN570>=0.285,\"4週8休以上\",\"週休2日未達成\")))","v":""}]
[null,null,null,1,2,3,4,5,6,7,8,9,10,11,12,13,14,15,16,17,18,19,20,21,22,23,24,25,26,27,28,29,30,31,32,33,34,35,36,37,null,null,null,null,{"$f":"AU570","v":""},null,null,null,null,null,null,null,null,1,2,3,4,5,6,7,8,9,10,11,12,13,14,15,16,17,18,19,20,21,22,23,24,25,26,27,28,29,30,31,32,33,34,35,36,37,null,null,null,null,{"$f":"CS570","v":""},null,null,null,null,null,null,1,2,3,4,5,6,7,8,9,10,11,12,13,14,15,16,17,18,19,20,21,22,23,24,25,26,27,28,29,30,31,32,33,34,35,36,37,null,null,null,null,{"$f":"EO570","v":""}]
[null,null,"計画",{"$f":"IF(D569=\"／\",\"／\",IF(OR(D567=\"土\",D567=\"日\"),\"◎\",\"\"))","v":"◎"},{"$f":"IF(E569=\"／\",\"／\",IF(OR(E567=\"土\",E567=\"日\"),\"◎\",\"\"))","v":""},"","","","","◎","◎","","","","","","◎","◎","","","","","","◎","◎","","","","",{"$f":"IF(AD569=\"／\",\"／\",IF(OR(AD567=\"土\",AD567=\"日\"),\"◎\",\"\"))","v":""},{"$f":"IF(AE569=\"／\",\"／\",IF(OR(AE567=\"土\",AE567=\"日\"),\"◎\",\"\"))","v":"◎"},"◎","","","","","","","◎","◎",null,null,null,null,{"$f":"AT574","v":""},null,null,null,null,null,null,null,"計画",{"$f":"IF(BB569=\"／\",\"／\",IF(OR(BB567=\"土\",BB567=\"日\"),\"◎\",\"\"))","v":"◎"},"","","","","","◎","◎","","","","",{"$f":"IF(BN569=\"／\",\"／\",IF(OR(BN567=\"土\",BN567=\"日\"),\"◎\",\"\"))","v":""},{"$f":"IF(BO569=\"／\",\"／\",IF(OR(BO567=\"土\",BO567=\"日\"),\"◎\",\"\"))","v":"◎"},"◎","","","","","","◎","◎","","","","",{"$f":"IF(CB569=\"／\",\"／\",IF(OR(CB567=\"土\",CB567=\"日\"),\"◎\",\"\"))","v":""},{"$f":"IF(CC569=\"／\",\"／\",IF(OR(CC567=\"土\",CC567=\"日\"),\"◎\",\"\"))","v":"◎"},"◎","","／","","","","","◎","◎",null,null,null,null,{"$f":"CR574","v":""},null,null,null,null,null,"計画",{"$f":"IF(CX569=\"／\",\"／\",IF(OR(CX567=\"土\",CX567=\"日\"),\"◎\",\"\"))","v":"◎"},"","","","","","◎","◎","","","","",{"$f":"IF(DJ569=\"／\",\"／\",IF(OR(DJ567=\"土\",DJ567=\"日\"),\"◎\",\"\"))","v":""},{"$f":"IF(DK569=\"／\",\"／\",IF(OR(DK567=\"土\",DK567=\"日\"),\"◎\",\"\"))","v":"◎"},"◎","","","","","","◎","◎","","","","",{"$f":"IF(DX569=\"／\",\"／\",IF(OR(DX567=\"土\",DX567=\"日\"),\"◎\",\"\"))","v":""},{"$f":"IF(DY569=\"／\",\"／\",IF(OR(DY567=\"土\",DY567=\"日\"),\"◎\",\"\"))","v":"◎"},"◎","","／","","","","","◎","◎",null,null,null,null,{"$f":"EN574","v":""}]
[null,null,"実施",{"$f":"IF(D570=\"／\",\"／\",IF(OR(D567=\"土\",D567=\"日\"),\"◎\",\"\"))","v":"◎"},{"$f":"IF(E570=\"／\",\"／\",IF(OR(E567=\"土\",E567=\"日\"),\"◎\",\"\"))","v":""},"","","","","◎","◎","","","","","","◎","◎","","","","","","◎","◎","","","","","","◎","◎","","","","","","","◎","◎",null,null,null,null,null,null,null,null,null,null,null,null,"実施",{"$f":"IF(BB570=\"／\",\"／\",IF(OR(BB567=\"土\",BB567=\"日\"),\"◎\",\"\"))","v":"◎"},{"$f":"IF(BC570=\"／\",\"／\",IF(OR(BC567=\"土\",BC567=\"日\"),\"◎\",\"\"))","v":""},"","","","","◎","◎","","","","","","◎","◎","","","","","","◎","◎","","","","","","◎","◎","","／","","","","","◎","◎",null,null,null,null,null,null,null,null,null,null,"実施",{"$f":"IF(CX570=\"／\",\"／\",IF(OR(CX567=\"土\",CX567=\"日\"),\"◎\",\"\"))","v":"◎"},{"$f":"IF(CY570=\"／\",\"／\",IF(OR(CY567=\"土\",CY567=\"日\"),\"◎\",\"\"))","v":""},"","","","","◎","◎","","","","","","◎","◎","","","","","","◎","◎","","","","","","◎","◎","","／","","","","","◎","◎"]
["",null,"完全",{"$f":"IF(WEEKDAY(DATE(YEAR(D565),MONTH(D565),1),2)=1,DATE(YEAR(D565),MONTH(D565),1),EOMONTH(D565,-1)-MOD(WEEKDAY(EOMONTH(D565,-1),2)+6,7))","v":"2026-10-26"},"～",{"$f":"DATE(YEAR(D565),MONTH(D565),1)+MOD(7-WEEKDAY(DATE(YEAR(D565),MONTH(D565),1),2),7)","v":"2026-11-01"},{"$f":"IF(DAY(D574)=1,IF(COUNTIF(D570:J570,\"／\")>=1,\"対象外\",IF(COUNTIF(INDEX(D570:AN570,DAY(D574)):INDEX(D570:AN570,HLOOKUP(F574,D566:AN571,6,FALSE)),\"\")+COUNTIF(INDEX(D570:AN570,DAY(D574)):INDEX(D570:AN570,HLOOKUP(F574,D566:AN571,6,FALSE)),\"●\")=7,IF(COUNTIF(INDEX(D570:AN570,DAY(D574)):INDEX(D570:AN570,HLOOKUP(F574,D566:AN571,6,FALSE)),\"●\")>=2,\"OK\",\"OUT\"),IF(COUNTIF(INDEX(D570:AN570,DAY(D574)):INDEX(D570:AN570,HLOOKUP(F574,D566:AN571,6,FALSE)),\"●\")>=COUNTIF(INDEX(D573:AN573,DAY(D574)):INDEX(D573:AN573,HLOOKUP(F574,D566:AN571,6,FALSE)),\"○\"),\"OK\",\"OUT\"))),IF(AND(AK545=\"\",AE545=\"\"),Y545,IF(AK545=\"\",AE545,AK545)))","v":"OUT"},null,null,{"$f":"F574+1","v":"2026-11-02"},"～",{"$f":"F574+7","v":"2026-11-08"},{"$f":"IF(COUNTIF(INDEX(D570:AN570,DAY(J574)):INDEX(D570:AN570,HLOOKUP(L574,D566:AN571,6,FALSE)),\"\")+COUNTIF(INDEX(D570:AN570,DAY(J574)):INDEX(D570:AN570,HLOOKUP(L574,D566:AN571,6,FALSE)),\"●\")=7,IF(COUNTIF(INDEX(D570:AN570,DAY(J574)):INDEX(D570:AN570,HLOOKUP(L574,D566:AN571,6,FALSE)),\"●\")>=2,\"OK\",\"OUT\"),\"対象外\")","v":"OUT"},null,null,{"$f":"L574+1","v":"2026-11-09"},"～",{"$f":"L574+7","v":"2026-11-15"},{"$f":"IF(COUNTIF(INDEX(D570:AN570,DAY(P574)):INDEX(D570:AN570,HLOOKUP(R574,D566:AN571,6,FALSE)),\"\")+COUNTIF(INDEX(D570:AN570,DAY(P574)):INDEX(D570:AN570,HLOOKUP(R574,D566:AN571,6,FALSE)),\"●\")=7,IF(COUNTIF(INDEX(D570:AN570,DAY(P574)):INDEX(D570:AN570,HLOOKUP(R574,D566:AN571,6,FALSE)),\"●\")>=2,\"OK\",\"OUT\"),\"対象外\")","v":"OUT"},null,null,{"$f":"R574+1","v":"2026-11-16"},"～",{"$f":"R574+7","v":"2026-11-22"},{"$f":"IF(COUNTIF(INDEX(D570:AN570,DAY(V574)):INDEX(D570:AN570,HLOOKUP(X574,D566:AN571,6,FALSE)),\"\")+COUNTIF(INDEX(D570:AN570,DAY(V574)):INDEX(D570:AN570,HLOOKUP(X574,D566:AN571,6,FALSE)),\"●\")=7,IF(COUNTIF(INDEX(D570:AN570,DAY(V574)):INDEX(D570:AN570,HLOOKUP(X574,D566:AN571,6,FALSE)),\"●\")>=2,\"OK\",\"OUT\"),\"対象外\")","v":"OUT"},null,null,{"$f":"IF(AND(DAY(X574+7)<23,DAY(X574+7)>=7),\"\",X574+1)","v":"2026-11-23"},{"$f":"IF(AND(DAY(X574+7)<23,DAY(X574+7)>=7),\"\",\"～\")","v":"～"},{"$f":"IF(AND(DAY(X574+7)<23,DAY(X574+7)>=7),\"\",X574+7)","v":"2026-11-29"},{"$f":"IF(AND(DAY(X574+7)<23,DAY(X574+7)>=7),\"\",IF(COUNTIF(INDEX(D570:AN570,DAY(AB574)):INDEX(D570:AN570,HLOOKUP(AD574,D566:AN571,6,FALSE)),\"\")+COUNTIF(INDEX(D570:AN570,DAY(AB574)):INDEX(D570:AN570,HLOOKUP(AD574,D566:AN571,6,FALSE)),\"●\")=7,IF(COUNTIF(INDEX(D570:AN570,DAY(AB574)):INDEX(D570:AN570,HLOOKUP(AD574,D566:AN571,6,FALSE)),\"●\")>=2,\"OK\",\"OUT\"),IF(COUNTIF(INDEX(D570:AN570,DAY(AB574)):INDEX(D570:AN570,HLOOKUP(AD574,D566:AN571,6,FALSE)),\"\")+COUNTIF(INDEX(D570:AN570,DAY(AB574)):INDEX(D570:AN570,HLOOKUP(AD574,D566:AN571,6,FALSE)),\"●\")>7,\"「／」漏れ\",\"対象外\")))","v":"OUT"},null,null,{"$f":"IF(AE574=\"\",\"\",IF(AND(DAY(AD574+7)<23,DAY(AD574+7)>=7),\"\",AD574+1))","v":"2026-11-30"},{"$f":"IF(AE574=\"\",\"\",IF(AND(DAY(AD574+7)<23,DAY(AD574+7)>=7),\"\",\"～\"))","v":"～"},{"$f":"IF(AE574=\"\",\"\",IF(AND(DAY(AD574+7)<23,DAY(AD574+7)>=7),\"\",AD574+7))","v":"2026-12-06"},{"$f":"IF(AE574=\"\",\"\",IF(AND(DAY(AD574+7)<23,DAY(AD574+7)>=7),\"\",IF(COUNTIF(INDEX(D570:AN570,DAY(AH574)):INDEX(D570:AN570,HLOOKUP(AJ574,D566:AN571,6,FALSE)),\"\")+COUNTIF(INDEX(D570:AN570,DAY(AH574)):INDEX(D570:AN570,HLOOKUP(AJ574,D566:AN571,6,FALSE)),\"●\")=7,IF(COUNTIF(INDEX(D570:AN570,DAY(AH574)):INDEX(D570:AN570,HLOOKUP(AJ574,D566:AN571,6,FALSE)),\"●\")>=2,\"OK\",\"OUT\"),IF(COUNTIF(INDEX(D570:AN570,HLOOKUP(AH574,D566:AN571,6,FALSE)):INDEX(D570:AN570,HLOOKUP(AJ574,D566:AN571,6,FALSE)),\"\")+COUNTIF(INDEX(D570:AN570,HLOOKUP(AH574,D566:AN571,6,FALSE)):INDEX(D570:AN570,HLOOKUP(AJ574,D566:AN571,6,FALSE)),\"●\")>7,\"「／」漏れ\",\"対象外\"))))","v":"「／」漏れ"},null,null,null,null,null,null,null,"完全週休二日",{"$f":"IF(AT565=\"\",\"\",IF(COUNTIF(D574:AN574,\"OUT\")>=1,\"OUT\",\"OK\"))","v":""},null,null,null,null,null,null,"完全",{"$f":"IF(WEEKDAY(DATE(YEAR(BB565),MONTH(BB565),1),2)=1,DATE(YEAR(BB565),MONTH(BB565),1),EOMONTH(BB565,-1)-MOD(WEEKDAY(EOMONTH(BB565,-1),2)+6,7))","v":"2026-10-26"},"～",{"$f":"DATE(YEAR(BB565),MONTH(BB565),1)+MOD(7-WEEKDAY(DATE(YEAR(BB565),MONTH(BB565),1),2),7)","v":"2026-11-01"},{"$f":"IF(DAY(BB574)=1,IF(COUNTIF(BB570:BH570,\"／\")>=1,\"対象外\",IF(COUNTIF(INDEX(BB570:CL570,DAY(BB574)):INDEX(BB570:CL570,HLOOKUP(BD574,BB566:CL571,6,FALSE)),\"\")+COUNTIF(INDEX(BB570:CL570,DAY(BB574)):INDEX(BB570:CL570,HLOOKUP(BD574,BB566:CL571,6,FALSE)),\"●\")=7,IF(COUNTIF(INDEX(BB570:CL570,DAY(BB574)):INDEX(BB570:CL570,HLOOKUP(BD574,BB566:CL571,6,FALSE)),\"●\")>=2,\"OK\",\"OUT\"),IF(COUNTIF(INDEX(BB570:CL570,DAY(BB574)):INDEX(BB570:CL570,HLOOKUP(BD574,BB566:CL571,6,FALSE)),\"●\")>=COUNTIF(INDEX(BB573:CL573,DAY(BB574)):INDEX(BB573:CL573,HLOOKUP(BD574,BB566:CL571,6,FALSE)),\"○\"),\"OK\",\"OUT\"))),IF(AND(CI545=\"\",CC545=\"\"),BW545,IF(CI545=\"\",CC545,CI545)))","v":"OUT"},null,null,{"$f":"BD574+1","v":"2026-11-02"},"～",{"$f":"BD574+7","v":"2026-11-08"},{"$f":"IF(COUNTIF(INDEX(BB570:CL570,DAY(BH574)):INDEX(BB570:CL570,HLOOKUP(BJ574,BB566:CL571,6,FALSE)),\"\")+COUNTIF(INDEX(BB570:CL570,DAY(BH574)):INDEX(BB570:CL570,HLOOKUP(BJ574,BB566:CL571,6,FALSE)),\"●\")=7,IF(COUNTIF(INDEX(BB570:CL570,DAY(BH574)):INDEX(BB570:CL570,HLOOKUP(BJ574,BB566:CL571,6,FALSE)),\"●\")>=2,\"OK\",\"OUT\"),\"対象外\")","v":"OUT"},null,null,{"$f":"BJ574+1","v":"2026-11-09"},"～",{"$f":"BJ574+7","v":"2026-11-15"},{"$f":"IF(COUNTIF(INDEX(BB570:CL570,DAY(BN574)):INDEX(BB570:CL570,HLOOKUP(BP574,BB566:CL571,6,FALSE)),\"\")+COUNTIF(INDEX(BB570:CL570,DAY(BN574)):INDEX(BB570:CL570,HLOOKUP(BP574,BB566:CL571,6,FALSE)),\"●\")=7,IF(COUNTIF(INDEX(BB570:CL570,DAY(BN574)):INDEX(BB570:CL570,HLOOKUP(BP574,BB566:CL571,6,FALSE)),\"●\")>=2,\"OK\",\"OUT\"),\"対象外\")","v":"OUT"},null,null,{"$f":"BP574+1","v":"2026-11-16"},"～",{"$f":"BP574+7","v":"2026-11-22"},{"$f":"IF(COUNTIF(INDEX(BB570:CL570,DAY(BT574)):INDEX(BB570:CL570,HLOOKUP(BV574,BB566:CL571,6,FALSE)),\"\")+COUNTIF(INDEX(BB570:CL570,DAY(BT574)):INDEX(BB570:CL570,HLOOKUP(BV574,BB566:CL571,6,FALSE)),\"●\")=7,IF(COUNTIF(INDEX(BB570:CL570,DAY(BT574)):INDEX(BB570:CL570,HLOOKUP(BV574,BB566:CL571,6,FALSE)),\"●\")>=2,\"OK\",\"OUT\"),\"対象外\")","v":"OUT"},null,null,{"$f":"IF(AND(DAY(BV574+7)<23,DAY(BV574+7)>=7),\"\",BV574+1)","v":"2026-11-23"},{"$f":"IF(AND(DAY(BV574+7)<23,DAY(BV574+7)>=7),\"\",\"～\")","v":"～"},{"$f":"IF(AND(DAY(BV574+7)<23,DAY(BV574+7)>=7),\"\",BV574+7)","v":"2026-11-29"},{"$f":"IF(AND(DAY(BV574+7)<23,DAY(BV574+7)>=7),\"\",IF(COUNTIF(INDEX(BB570:CL570,DAY(BZ574)):INDEX(BB570:CL570,HLOOKUP(CB574,BB566:CL571,6,FALSE)),\"\")+COUNTIF(INDEX(BB570:CL570,DAY(BZ574)):INDEX(BB570:CL570,HLOOKUP(CB574,BB566:CL571,6,FALSE)),\"●\")=7,IF(COUNTIF(INDEX(BB570:CL570,DAY(BZ574)):INDEX(BB570:CL570,HLOOKUP(CB574,BB566:CL571,6,FALSE)),\"●\")>=2,\"OK\",\"OUT\"),IF(COUNTIF(INDEX(BB570:CL570,DAY(BZ574)):INDEX(BB570:CL570,HLOOKUP(CB574,BB566:CL571,6,FALSE)),\"\")+COUNTIF(INDEX(BB570:CL570,DAY(BZ574)):INDEX(BB570:CL570,HLOOKUP(CB574,BB566:CL571,6,FALSE)),\"●\")>7,\"「／」漏れ\",\"対象外\")))","v":"OUT"},null,null,{"$f":"IF(CC574=\"\",\"\",IF(AND(DAY(CB574+7)<23,DAY(CB574+7)>=7),\"\",CB574+1))","v":"2026-11-30"},{"$f":"IF(CC574=\"\",\"\",IF(AND(DAY(CB574+7)<23,DAY(CB574+7)>=7),\"\",\"～\"))","v":"～"},{"$f":"IF(CC574=\"\",\"\",IF(AND(DAY(CB574+7)<23,DAY(CB574+7)>=7),\"\",CB574+7))","v":"2026-12-06"},{"$f":"IF(CC574=\"\",\"\",IF(AND(DAY(CB574+7)<23,DAY(CB574+7)>=7),\"\",IF(COUNTIF(INDEX(BB570:CL570,DAY(CF574)):INDEX(BB570:CL570,HLOOKUP(CH574,BB566:CL571,6,FALSE)),\"\")+COUNTIF(INDEX(BB570:CL570,DAY(CF574)):INDEX(BB570:CL570,HLOOKUP(CH574,BB566:CL571,6,FALSE)),\"●\")=7,IF(COUNTIF(INDEX(BB570:CL570,DAY(CF574)):INDEX(BB570:CL570,HLOOKUP(CH574,BB566:CL571,6,FALSE)),\"●\")>=2,\"OK\",\"OUT\"),IF(COUNTIF(INDEX(BB570:CL570,HLOOKUP(CF574,BB566:CL571,6,FALSE)):INDEX(BB570:CL570,HLOOKUP(CH574,BB566:CL571,6,FALSE)),\"\")+COUNTIF(INDEX(BB570:CL570,HLOOKUP(CF574,BB566:CL571,6,FALSE)):INDEX(BB570:CL570,HLOOKUP(CH574,BB566:CL571,6,FALSE)),\"●\")>7,\"「／」漏れ\",\"対象外\"))))","v":"OUT"},null,null,null,null,null,null,null,"完全週休二日",{"$f":"IF(CR565=\"\",\"\",IF(COUNTIF(BB574:CL574,\"OUT\")>=1,\"OUT\",\"OK\"))","v":""},null,null,null,null,"完全",{"$f":"IF(WEEKDAY(DATE(YEAR(CX565),MONTH(CX565),1),2)=1,DATE(YEAR(CX565),MONTH(CX565),1),EOMONTH(CX565,-1)-MOD(WEEKDAY(EOMONTH(CX565,-1),2)+6,7))","v":"2026-10-26"},"～",{"$f":"DATE(YEAR(CX565),MONTH(CX565),1)+MOD(7-WEEKDAY(DATE(YEAR(CX565),MONTH(CX565),1),2),7)","v":"2026-11-01"},{"$f":"IF(DAY(CX574)=1,IF(COUNTIF(CX570:DD570,\"／\")>=1,\"対象外\",IF(COUNTIF(INDEX(CX570:EH570,DAY(CX574)):INDEX(CX570:EH570,HLOOKUP(CZ574,CX566:EH571,6,FALSE)),\"\")+COUNTIF(INDEX(CX570:EH570,DAY(CX574)):INDEX(CX570:EH570,HLOOKUP(CZ574,CX566:EH571,6,FALSE)),\"●\")=7,IF(COUNTIF(INDEX(CX570:EH570,DAY(CX574)):INDEX(CX570:EH570,HLOOKUP(CZ574,CX566:EH571,6,FALSE)),\"●\")>=2,\"OK\",\"OUT\"),IF(COUNTIF(INDEX(CX570:EH570,DAY(CX574)):INDEX(CX570:EH570,HLOOKUP(CZ574,CX566:EH571,6,FALSE)),\"●\")>=COUNTIF(INDEX(CX573:EH573,DAY(CX574)):INDEX(CX573:EH573,HLOOKUP(CZ574,CX566:EH571,6,FALSE)),\"○\"),\"OK\",\"OUT\"))),IF(AND(EE545=\"\",DY545=\"\"),DS545,IF(EE545=\"\",DY545,EE545)))","v":"OUT"},null,null,{"$f":"CZ574+1","v":"2026-11-02"},"～",{"$f":"CZ574+7","v":"2026-11-08"},{"$f":"IF(COUNTIF(INDEX(CX570:EH570,DAY(DD574)):INDEX(CX570:EH570,HLOOKUP(DF574,CX566:EH571,6,FALSE)),\"\")+COUNTIF(INDEX(CX570:EH570,DAY(DD574)):INDEX(CX570:EH570,HLOOKUP(DF574,CX566:EH571,6,FALSE)),\"●\")=7,IF(COUNTIF(INDEX(CX570:EH570,DAY(DD574)):INDEX(CX570:EH570,HLOOKUP(DF574,CX566:EH571,6,FALSE)),\"●\")>=2,\"OK\",\"OUT\"),\"対象外\")","v":"OUT"},null,null,{"$f":"DF574+1","v":"2026-11-09"},"～",{"$f":"DF574+7","v":"2026-11-15"},{"$f":"IF(COUNTIF(INDEX(CX570:EH570,DAY(DJ574)):INDEX(CX570:EH570,HLOOKUP(DL574,CX566:EH571,6,FALSE)),\"\")+COUNTIF(INDEX(CX570:EH570,DAY(DJ574)):INDEX(CX570:EH570,HLOOKUP(DL574,CX566:EH571,6,FALSE)),\"●\")=7,IF(COUNTIF(INDEX(CX570:EH570,DAY(DJ574)):INDEX(CX570:EH570,HLOOKUP(DL574,CX566:EH571,6,FALSE)),\"●\")>=2,\"OK\",\"OUT\"),\"対象外\")","v":"OUT"},null,null,{"$f":"DL574+1","v":"2026-11-16"},"～",{"$f":"DL574+7","v":"2026-11-22"},{"$f":"IF(COUNTIF(INDEX(CX570:EH570,DAY(DP574)):INDEX(CX570:EH570,HLOOKUP(DR574,CX566:EH571,6,FALSE)),\"\")+COUNTIF(INDEX(CX570:EH570,DAY(DP574)):INDEX(CX570:EH570,HLOOKUP(DR574,CX566:EH571,6,FALSE)),\"●\")=7,IF(COUNTIF(INDEX(CX570:EH570,DAY(DP574)):INDEX(CX570:EH570,HLOOKUP(DR574,CX566:EH571,6,FALSE)),\"●\")>=2,\"OK\",\"OUT\"),\"対象外\")","v":"OUT"},null,null,{"$f":"IF(AND(DAY(DR574+7)<23,DAY(DR574+7)>=7),\"\",DR574+1)","v":"2026-11-23"},{"$f":"IF(AND(DAY(DR574+7)<23,DAY(DR574+7)>=7),\"\",\"～\")","v":"～"},{"$f":"IF(AND(DAY(DR574+7)<23,DAY(DR574+7)>=7),\"\",DR574+7)","v":"2026-11-29"},{"$f":"IF(AND(DAY(DR574+7)<23,DAY(DR574+7)>=7),\"\",IF(COUNTIF(INDEX(CX570:EH570,DAY(DV574)):INDEX(CX570:EH570,HLOOKUP(DX574,CX566:EH571,6,FALSE)),\"\")+COUNTIF(INDEX(CX570:EH570,DAY(DV574)):INDEX(CX570:EH570,HLOOKUP(DX574,CX566:EH571,6,FALSE)),\"●\")=7,IF(COUNTIF(INDEX(CX570:EH570,DAY(DV574)):INDEX(CX570:EH570,HLOOKUP(DX574,CX566:EH571,6,FALSE)),\"●\")>=2,\"OK\",\"OUT\"),IF(COUNTIF(INDEX(CX570:EH570,DAY(DV574)):INDEX(CX570:EH570,HLOOKUP(DX574,CX566:EH571,6,FALSE)),\"\")+COUNTIF(INDEX(CX570:EH570,DAY(DV574)):INDEX(CX570:EH570,HLOOKUP(DX574,CX566:EH571,6,FALSE)),\"●\")>7,\"「／」漏れ\",\"対象外\")))","v":"OUT"},null,null,{"$f":"IF(DY574=\"\",\"\",IF(AND(DAY(DX574+7)<23,DAY(DX574+7)>=7),\"\",DX574+1))","v":"2026-11-30"},{"$f":"IF(DY574=\"\",\"\",IF(AND(DAY(DX574+7)<23,DAY(DX574+7)>=7),\"\",\"～\"))","v":"～"},{"$f":"IF(DY574=\"\",\"\",IF(AND(DAY(DX574+7)<23,DAY(DX574+7)>=7),\"\",DX574+7))","v":"2026-12-06"},{"$f":"IF(DY574=\"\",\"\",IF(AND(DAY(DX574+7)<23,DAY(DX574+7)>=7),\"\",IF(COUNTIF(INDEX(CX570:EH570,DAY(EB574)):INDEX(CX570:EH570,HLOOKUP(ED574,CX566:EH571,6,FALSE)),\"\")+COUNTIF(INDEX(CX570:EH570,DAY(EB574)):INDEX(CX570:EH570,HLOOKUP(ED574,CX566:EH571,6,FALSE)),\"●\")=7,IF(COUNTIF(INDEX(CX570:EH570,DAY(EB574)):INDEX(CX570:EH570,HLOOKUP(ED574,CX566:EH571,6,FALSE)),\"●\")>=2,\"OK\",\"OUT\"),IF(COUNTIF(INDEX(CX570:EH570,HLOOKUP(EB574,CX566:EH571,6,FALSE)):INDEX(CX570:EH570,HLOOKUP(ED574,CX566:EH571,6,FALSE)),\"\")+COUNTIF(INDEX(CX570:EH570,HLOOKUP(EB574,CX566:EH571,6,FALSE)):INDEX(CX570:EH570,HLOOKUP(ED574,CX566:EH571,6,FALSE)),\"●\")>7,\"「／」漏れ\",\"対象外\"))))","v":"OUT"},null,null,null,null,null,null,null,"完全週休二日",{"$f":"IF(EN565=\"\",\"\",IF(COUNTIF(CX574:EH574,\"OUT\")>=1,\"OUT\",\"OK\"))","v":""}]
[""]
[{"$f":"IF(AND(NOT($AT$565=\"\"),$AT$594=\"\"),\"対象期間\",\"\")","v":""}]
[{"$f":"IF(AND(NOT($AT$565=\"\"),$AT$594=\"\"),\"対象期間\",\"\")","v":""},null,"※１工事着手日：始期日以降に準備工事（現場事務所の建設・測量等）、工場製作を含む工事における工場製作工に着手した日",null,null,null,null,null,null,null,null,null,null,null,null,null,null,null,null,null,null,null,null,null,null,null,null,null,null,null,null,null,null,null,null,null,null,null,null,null,null,null,null,"工事全体の確認",null,null,null,null,null,null,null,null,"※１工事着手日：始期日以降に準備工事（現場事務所の建設・測量等）、工場製作を含む工事における工場製作工に着手した日",null,null,null,null,null,null,null,null,null,null,null,null,null,null,null,null,null,null,null,null,null,null,null,null,null,null,null,null,null,null,null,null,null,null,null,null,null,null,null,null,"工事全体の確認",null,null,null,null,null,null,"※１工事着手日：始期日以降に準備工事（現場事務所の建設・測量等）、工場製作を含む工事における工場製作工に着手した日",null,null,null,null,null,null,null,null,null,null,null,null,null,null,null,null,null,null,null,null,null,null,null,null,null,null,null,null,null,null,null,null,null,null,null,null,null,null,null,null,"工事全体の確認"]
["",null,"※２作業完了日：工事施工範囲内で全ての作業（後片付けを含む）が完了した日\n　　　　　　　　　  （工事現場事務所は工事施工範囲外に設置するため、ここでいう後片付けの対象に含まない）",null,null,null,null,null,null,null,null,null,null,null,null,null,null,null,null,null,null,null,null,null,null,null,null,null,null,null,null,null,null,null,null,null,null,null,null,null,null,null,null,"計画","全対象期間",{"$f":"IFERROR(AT549+AT565,\"\")","v":""},null,null,null,null,null,null,"※２作業完了日：工事施工範囲内で全ての作業（後片付けを含む）が完了した日\n　　　　　　　　　  （工事現場事務所は工事施工範囲外に設置するため、ここでいう後片付けの対象に含まない）",null,null,null,null,null,null,null,null,null,null,null,null,null,null,null,null,null,null,null,null,null,null,null,null,null,null,null,null,null,null,null,null,null,null,null,null,null,null,null,null,"計画","全対象期間",{"$f":"IFERROR(CR549+CR565,\"\")","v":""},null,null,null,null,"※２作業完了日：工事施工範囲内で全ての作業（後片付けを含む）が完了した日\n　　　　　　　　　  （工事現場事務所は工事施工範囲外に設置するため、ここでいう後片付けの対象に含まない）",null,null,null,null,null,null,null,null,null,null,null,null,null,null,null,null,null,null,null,null,null,null,null,null,null,null,null,null,null,null,null,null,null,null,null,null,null,null,null,null,"計画","全対象期間",{"$f":"IFERROR(EN549+EN565,\"\")","v":""}]
["",null,null,null,null,null,null,null,null,null,null,null,null,null,null,null,null,null,null,null,null,null,null,null,null,null,null,null,null,null,null,null,null,null,null,null,null,null,null,null,null,null,null,null,"全現場閉所日数",{"$f":"IFERROR(AT550+AT566,\"\")","v":""},null,null,null,null,null,null,null,null,null,null,null,null,null,null,null,null,null,null,null,null,null,null,null,null,null,null,null,null,null,null,null,null,null,null,null,null,null,null,null,null,null,null,null,null,null,null,null,null,"全現場閉所日数",{"$f":"IFERROR(CR550+CR566,\"\")","v":""},null,null,null,null,null,null,null,null,null,null,null,null,null,null,null,null,null,null,null,null,null,null,null,null,null,null,null,null,null,null,null,null,null,null,null,null,null,null,null,null,null,null,null,null,null,null,"全現場閉所日数",{"$f":"IFERROR(EN550+EN566,\"\")","v":""}]
["",null,"【算定除外期間】：夏季休暇（8月13日～8月15日）、年末年始（12月29日～翌年1月3日）は算定期間の分母・分子に含めない",null,null,null,null,null,null,null,null,null,null,null,null,null,null,null,null,null,null,null,null,null,null,null,null,null,null,null,null,null,null,null,null,null,null,null,null,null,null,null,null,null,"現場閉所率",{"$f":"IFERROR(+AT579/AT578,\"\")","v":""},{"$f":"IF(AT580>=0.285,\"4週8休以上\",\"週休2日未達成\")","v":"4週8休以上"},null,null,null,null,null,"【算定除外期間】：夏季休暇（8月13日～8月15日）、年末年始（12月29日～翌年1月3日）は算定期間の分母・分子に含めない",null,null,null,null,null,null,null,null,null,null,null,null,null,null,null,null,null,null,null,null,null,null,null,null,null,null,null,null,null,null,null,null,null,null,null,null,null,null,null,null,null,"現場閉所率",{"$f":"IFERROR(+CR579/CR578,\"\")","v":""},{"$f":"IF(CR580>=0.285,\"4週8休以上\",\"週休2日未達成\")","v":"4週8休以上"},null,null,null,"【算定除外期間】：夏季休暇（8月13日～8月15日）、年末年始（12月29日～翌年1月3日）は算定期間の分母・分子に含めない",null,null,null,null,null,null,null,null,null,null,null,null,null,null,null,null,null,null,null,null,null,null,null,null,null,null,null,null,null,null,null,null,null,null,null,null,null,null,null,null,null,"現場閉所率",{"$f":"IFERROR(+EN579/EN578,\"\")","v":""},{"$f":"IF(EN580>=0.285,\"4週8休以上\",\"週休2日未達成\")","v":"4週8休以上"}]
["",null,"※３工事期間の全ての月において、達成状況を確認し、一度でも達成できない月があれば、４週８休以上（月単位）は「未達成」となり、補正の対象とならない。\n　　月によっては、土日を全て閉所しても現場閉所率が28.5％に満たない場合があるが、その月の対象期間の土日日数以上閉所していれば達成とみなす。\n\n※４工事対象期間のうち、一度でも完全週休２日（月～日で２日以上の現場閉所）を達成できなければ、\n　　 完全週休２日は「未達成」となり、補正の対象とならない。\n　　 なお、工期始期・終期、年末年始、夏季休暇などにより、７日間に満たない期間は完全週休２日の達成判断の対象外とする。",null,null,null,null,null,null,null,null,null,null,null,null,null,null,null,null,null,null,null,null,null,null,null,null,null,null,null,null,null,null,null,null,null,null,null,null,null,null,null,null,"実施","全対象期間",{"$f":"IFERROR(AT552+AT568,\"\")","v":""},null,null,null,null,null,null,"※３工事期間の全ての月において、達成状況を確認し、一度でも達成できない月があれば、４週８休以上（月単位）は「未達成」となり、補正の対象とならない。\n　　月によっては、土日を全て閉所しても現場閉所率が28.5％に満たない場合があるが、その月の対象期間の土日日数以上閉所していれば達成とみなす。\n\n※４工事対象期間のうち、一度でも完全週休２日（月～日で２日以上の現場閉所）を達成できなければ、\n　　 完全週休２日は「未達成」となり、補正の対象とならない。\n　　 なお、工期始期・終期、年末年始、夏季休暇などにより、７日間に満たない期間は完全週休２日の達成判断の対象外とする。",null,null,null,null,null,null,null,null,null,null,null,null,null,null,null,null,null,null,null,null,null,null,null,null,null,null,null,null,null,null,null,null,null,null,null,null,null,null,null,null,"実施","全対象期間",{"$f":"IFERROR(CR552+CR568,\"\")","v":""},null,null,null,null,"※３工事期間の全ての月において、達成状況を確認し、一度でも達成できない月があれば、４週８休以上（月単位）は「未達成」となり、補正の対象とならない。\n　　月によっては、土日を全て閉所しても現場閉所率が28.5％に満たない場合があるが、その月の対象期間の土日日数以上閉所していれば達成とみなす。\n\n※４工事対象期間のうち、一度でも完全週休２日（月～日で２日以上の現場閉所）を達成できなければ、\n　　 完全週休２日は「未達成」となり、補正の対象とならない。\n　　 なお、工期始期・終期、年末年始、夏季休暇などにより、７日間に満たない期間は完全週休２日の達成判断の対象外とする。",null,null,null,null,null,null,null,null,null,null,null,null,null,null,null,null,null,null,null,null,null,null,null,null,null,null,null,null,null,null,null,null,null,null,null,null,null,null,null,null,"実施","全対象期間",{"$f":"IFERROR(EN552+EN568,\"\")","v":""}]
["",null,null,null,null,null,null,null,null,null,null,null,null,null,null,null,null,null,null,null,null,null,null,null,null,null,null,null,null,null,null,null,null,null,null,null,null,null,null,null,null,null,null,null,"全現場閉所日数",{"$f":"IFERROR(AT553+AT569,\"\")","v":""},null,null,null,null,null,null,null,null,null,null,null,null,null,null,null,null,null,null,null,null,null,null,null,null,null,null,null,null,null,null,null,null,null,null,null,null,null,null,null,null,null,null,null,null,null,null,null,null,"全現場閉所日数",{"$f":"IFERROR(CR553+CR569,\"\")","v":""},null,null,null,null,null,null,null,null,null,null,null,null,null,null,null,null,null,null,null,null,null,null,null,null,null,null,null,null,null,null,null,null,null,null,null,null,null,null,null,null,null,null,null,null,null,null,"全現場閉所日数",{"$f":"IFERROR(EN553+EN569,\"\")","v":""}]
["",null,null,null,null,null,null,null,null,null,null,null,null,null,null,null,null,null,null,null,null,null,null,null,null,null,null,null,null,null,null,null,null,null,null,null,null,null,null,null,null,null,null,null,"現場閉所率",{"$f":"IFERROR(+AT582/AT581,\"\")","v":""},{"$f":"IF(AT583>=0.285,\"4週8休以上\",\"週休2日未達成\")","v":"4週8休以上"},null,null,null,null,null,null,null,null,null,null,null,null,null,null,null,null,null,null,null,null,null,null,null,null,null,null,null,null,null,null,null,null,null,null,null,null,null,null,null,null,null,null,null,null,null,null,null,"現場閉所率",{"$f":"IFERROR(+CR582/CR581,\"\")","v":""},{"$f":"IF(CR583>=0.285,\"4週8休以上\",\"週休2日未達成\")","v":"4週8休以上"},null,null,null,null,null,null,null,null,null,null,null,null,null,null,null,null,null,null,null,null,null,null,null,null,null,null,null,null,null,null,null,null,null,null,null,null,null,null,null,null,null,null,null,null,null,"現場閉所率",{"$f":"IFERROR(+EN582/EN581,\"\")","v":""},{"$f":"IF(EN583>=0.285,\"4週8休以上\",\"週休2日未達成\")","v":"4週8休以上"}]
["",null,null,null,null,null,null,null,null,null,null,null,null,null,null,null,null,null,null,null,null,null,null,null,null,null,null,null,null,null,null,null,null,null,null,null,null,null,null,null,null,null,null,null,"閉所（月単位）",{"$f":"IFERROR(COUNTIF(AS$14:$AS574,\"4週8休以上\")/(COUNTIF(AS$14:$AS574,\"4週8休以上\")+COUNTIF(AS$14:$AS574,\"週休2日未達成\")),\"\")","v":""},{"$f":"IF(OR(AT584=100%,AT584=\"\"),\"達成\",\"未達成\")","v":"達成"},null,null,null,null,null,null,null,null,null,null,null,null,null,null,null,null,null,null,null,null,null,null,null,null,null,null,null,null,null,null,null,null,null,null,null,null,null,null,null,null,null,null,null,null,null,null,null,"閉所（月単位）",{"$f":"IFERROR(COUNTIF(CQ$14:$CQ574,\"4週8休以上\")/(COUNTIF(CQ$14:$CQ574,\"4週8休以上\")+COUNTIF(CQ$14:$CQ574,\"週休2日未達成\")),\"\")","v":0},{"$f":"IF(OR(CR584=100%,CR584=\"\"),\"達成\",\"未達成\")","v":"未達成"},null,null,null,null,null,null,null,null,null,null,null,null,null,null,null,null,null,null,null,null,null,null,null,null,null,null,null,null,null,null,null,null,null,null,null,null,null,null,null,null,null,null,null,null,null,"閉所（月単位）",{"$f":"IFERROR(COUNTIF($EM$14:EM574,\"4週8休以上\")/(COUNTIF($EM$14:EM574,\"4週8休以上\")+COUNTIF($EM$14:EM574,\"週休2日未達成\")),\"\")","v":1},{"$f":"IF(OR(EN584=100%,EN584=\"\"),\"達成\",\"未達成\")","v":"達成"}]
["",null,null,null,null,null,null,null,null,null,null,null,null,null,null,null,null,null,null,null,null,null,null,null,null,null,null,null,null,null,null,null,null,null,null,null,null,null,null,null,null,null,null,null,"完全週休二日",{"$f":"IF(COUNTIF(AS$14:$AS574,\"OUT\")>=1,\"OUT\",\"OK\")","v":"OK"},{"$f":"IF(AT585=\"OK\",\"達成\",\"未達成\")","v":"達成"},null,null,null,null,null,null,null,null,null,null,null,null,null,null,null,null,null,null,null,null,null,null,null,null,null,null,null,null,null,null,null,null,null,null,null,null,null,null,null,null,null,null,null,null,null,null,null,"完全週休二日",{"$f":"IF(COUNTIF(CQ$14:$CQ574,\"OUT\")>=1,\"OUT\",\"OK\")","v":"OUT"},{"$f":"IF(CR585=\"OK\",\"達成\",\"未達成\")","v":"未達成"},null,null,null,null,null,null,null,null,null,null,null,null,null,null,null,null,null,null,null,null,null,null,null,null,null,null,null,null,null,null,null,null,null,null,null,null,null,null,null,null,null,null,null,null,null,"完全週休二日",{"$f":"IF(COUNTIF($EM$14:EM574,\"OUT\")>=1,\"OUT\",\"OK\")","v":"OUT"},{"$f":"IF(EN585=\"OK\",\"達成\",\"未達成\")","v":"未達成"}]
["",null,"※必要に応じて各月の完全週休2日（月～日）の達成判定の行を修正してください。（曜日に合わせて修正）",null,null,null,null,null,null,null,null,null,null,null,null,null,null,null,null,null,null,null,null,null,null,null,null,null,null,null,null,null,null,null,null,null,null,null,null,null,null,null,null,null,null,null,null,null,null,null,null,null,"※必要に応じて各月の完全週休2日（月～日）の達成判定の行を修正してください。（曜日に合わせて修正）",null,null,null,null,null,null,null,null,null,null,null,null,null,null,null,null,null,null,null,null,null,null,null,null,null,null,null,null,null,null,null,null,null,null,null,null,null,null,null,null,null,null,null,null,null,null,null,"※必要に応じて各月の完全週休2日（月～日）の達成判定の行を修正してください。（曜日に合わせて修正）"]
[""]
[""]
[""]
[""]
[""]
["",null,"算定除外期間以外の祝日（ＧＷ含む）は、算定期間（分母）の対象＝現場閉所の場合は分子にカウントして現場閉所率を算定",null,null,null,null,null,null,null,null,null,null,null,null,null,null,null,null,null,null,null,null,null,null,null,null,null,null,null,null,null,null,null,null,null,null,null,null,null,null,null,null,null,null,null,null,null,null,null,null,null,"算定除外期間以外の祝日（ＧＷ含む）は、算定期間（分母）の対象＝現場閉所の場合は分子にカウントして現場閉所率を算定",null,null,null,null,null,null,null,null,null,null,null,null,null,null,null,null,null,null,null,null,null,null,null,null,null,null,null,null,null,null,null,null,null,null,null,null,null,null,null,null,null,null,null,null,null,null,null,"算定除外期間以外の祝日（ＧＷ含む）は、算定期間（分母）の対象＝現場閉所の場合は分子にカウントして現場閉所率を算定"]
[""]
[{"$f":"IF($AT$594=\"\",\"\",\"対象期間\")","v":""},null,"月",{"$f":"DATE(YEAR(D565),MONTH(D565)+1,1)","v":"2026-12-01"},null,null,null,null,null,null,null,null,null,null,null,null,null,null,null,null,null,null,null,null,null,null,null,null,null,null,null,null,null,null,{"$f":"DATE(YEAR(D594),MONTH(D594)+1,1)","v":"2027-01-01"},null,null,null,null,null,"現場閉所計","現場閉所累計",null,"計画","対象期間",{"$f":"IF(IF(MONTH(入力表!$E$6)=12,YEAR(入力表!$E$6)+1&\"01\",YEAR(入力表!$E$6)&TEXT(MONTH(入力表!$E$6)+1,\"00\"))>YEAR($D594)&TEXT(MONTH($D594),\"00\"),COUNTIF(D598:AH598,\"\")+COUNTIF(D598:AH598,\"○\"),\"\")","v":""},{"$f":"IF(COUNTIF(D595:AH595,\"／\")=0,\"\",IF(COUNTIF(D595:AH595,\"／\")=1,IF(AH598=\"／\",\"\",\"月末「／」漏れ\"),IF(COUNTIF(D595:AH595,\"／\")=2,IF(AND(AG598=\"／\",AH598=\"／\"),\"\",\"月末「／」漏れ\"),IF(AND(AF598=\"／\",AG598=\"／\",AH598=\"／\"),\"\",\"月末「／」漏れ\"))))","v":""},null,null,null,null,null,"月",{"$f":"DATE(YEAR(BB565),MONTH(BB565)+1,1)","v":"2026-12-01"},null,null,null,null,null,null,null,null,null,null,null,null,null,null,null,null,null,null,null,null,null,null,null,null,null,null,null,null,null,null,{"$f":"DATE(YEAR(BB594),MONTH(BB594)+1,1)","v":"2027-01-01"},null,null,null,null,null,"現場閉所計","現場閉所累計",null,"計画","対象期間",{"$f":"IF(IF(MONTH($BL$5)=12,YEAR($BL$5)+1&\"01\",YEAR($BL$5)&TEXT(MONTH($BL$5)+1,\"00\"))>YEAR(BB594)&TEXT(MONTH(BB594),\"00\"),COUNTIF(BB598:CF598,\"\")+COUNTIF(BB598:CF598,\"○\"),\"\")","v":""},{"$f":"IF(COUNTIF(BB595:CF595,\"／\")=0,\"\",IF(COUNTIF(BB595:CF595,\"／\")=1,IF(CF598=\"／\",\"\",\"月末「／」漏れ\"),IF(COUNTIF(BB595:CF595,\"／\")=2,IF(AND(CE598=\"／\",CF598=\"／\"),\"\",\"月末「／」漏れ\"),IF(AND(CD598=\"／\",CE598=\"／\",CF598=\"／\"),\"\",\"月末「／」漏れ\"))))","v":""},null,null,null,"月",{"$f":"DATE(YEAR(CX565),MONTH(CX565)+1,1)","v":"2026-12-01"},null,null,null,null,null,null,null,null,null,null,null,null,null,null,null,null,null,null,null,null,null,null,null,null,null,null,null,null,null,null,{"$f":"DATE(YEAR(CX594),MONTH(CX594)+1,1)","v":"2027-01-01"},null,null,null,null,null,"現場閉所計","現場閉所累計",null,"計画","対象期間",{"$f":"IF(IF(MONTH($BL$5)=12,YEAR($BL$5)+1&\"01\",YEAR($BL$5)&TEXT(MONTH($BL$5)+1,\"00\"))>YEAR($CX594)&TEXT(MONTH($CX594),\"00\"),COUNTIF(CX598:EB598,\"\")+COUNTIF(CX598:EB598,\"○\"),\"\")","v":""},{"$f":"IF(COUNTIF(CX595:EB595,\"／\")=0,\"\",IF(COUNTIF(CX595:EB595,\"／\")=1,IF(EB598=\"／\",\"\",\"月末「／」漏れ\"),IF(COUNTIF(CX595:EB595,\"／\")=2,IF(AND(EA598=\"／\",EB598=\"／\"),\"\",\"月末「／」漏れ\"),IF(AND(DZ598=\"／\",EA598=\"／\",EB598=\"／\"),\"\",\"月末「／」漏れ\"))))","v":""}]
[{"$f":"IF($AT$594=\"\",\"\",\"対象期間\")","v":""},null,"日",{"$f":"D594","v":"2026-12-01"},{"$f":"D595+1","v":"2026-12-02"},{"$f":"E595+1","v":"2026-12-03"},{"$f":"F595+1","v":"2026-12-04"},{"$f":"G595+1","v":"2026-12-05"},{"$f":"H595+1","v":"2026-12-06"},{"$f":"I595+1","v":"2026-12-07"},{"$f":"J595+1","v":"2026-12-08"},{"$f":"K595+1","v":"2026-12-09"},{"$f":"L595+1","v":"2026-12-10"},{"$f":"M595+1","v":"2026-12-11"},{"$f":"N595+1","v":"2026-12-12"},{"$f":"O595+1","v":"2026-12-13"},{"$f":"P595+1","v":"2026-12-14"},{"$f":"Q595+1","v":"2026-12-15"},{"$f":"R595+1","v":"2026-12-16"},{"$f":"S595+1","v":"2026-12-17"},{"$f":"T595+1","v":"2026-12-18"},{"$f":"U595+1","v":"2026-12-19"},{"$f":"V595+1","v":"2026-12-20"},{"$f":"W595+1","v":"2026-12-21"},{"$f":"X595+1","v":"2026-12-22"},{"$f":"Y595+1","v":"2026-12-23"},{"$f":"Z595+1","v":"2026-12-24"},{"$f":"AA595+1","v":"2026-12-25"},{"$f":"AB595+1","v":"2026-12-26"},{"$f":"AC595+1","v":"2026-12-27"},{"$f":"AD595+1","v":"2026-12-28"},{"$f":"IF(AE595=\"／\",\"／\",IF(YEAR($D594)&TEXT(MONTH($D594),\"00\")<YEAR(AE595+1)&TEXT(MONTH(AE595+1),\"00\"),\"／\",AE595+1))","v":"2026-12-29"},{"$f":"IF(AF595=\"／\",\"／\",IF(YEAR($D594)&TEXT(MONTH($D594),\"00\")<YEAR(AF595+1)&TEXT(MONTH(AF595+1),\"00\"),\"／\",AF595+1))","v":"2026-12-30"},{"$f":"IF(AG595=\"／\",\"／\",IF(YEAR($D594)&TEXT(MONTH($D594),\"00\")<YEAR(AG595+1)&TEXT(MONTH(AG595+1),\"00\"),\"／\",AG595+1))","v":"2026-12-31"},{"$f":"AI594","v":"2027-01-01"},{"$f":"AI595+1","v":"2027-01-02"},{"$f":"AJ595+1","v":"2027-01-03"},{"$f":"AK595+1","v":"2027-01-04"},{"$f":"AL595+1","v":"2027-01-05"},{"$f":"AM595+1","v":"2027-01-06"},null,null,null,null,"閉所日数",{"$f":"IF(IF(MONTH(入力表!$E$6)=12,YEAR(入力表!$E$6)+1&\"01\",YEAR(入力表!$E$6)&TEXT(MONTH(入力表!$E$6)+1,\"00\"))>YEAR($D594)&TEXT(MONTH($D594),\"00\"),COUNTIF(D598:AH598,\"○\"),\"\")","v":""},{"$f":"IF(OR(MONTH(D594)=1,MONTH(D594)=8,MONTH(D594)=12),IF(COUNTIF(D598:AH598,\"／\")>=3,\"\",\"算定除外「／」漏れ\"),\"\")","v":"算定除外「／」漏れ"},null,null,null,null,null,"日",{"$f":"BB594","v":"2026-12-01"},{"$f":"BB595+1","v":"2026-12-02"},{"$f":"BC595+1","v":"2026-12-03"},{"$f":"BD595+1","v":"2026-12-04"},{"$f":"BE595+1","v":"2026-12-05"},{"$f":"BF595+1","v":"2026-12-06"},{"$f":"BG595+1","v":"2026-12-07"},{"$f":"BH595+1","v":"2026-12-08"},{"$f":"BI595+1","v":"2026-12-09"},{"$f":"BJ595+1","v":"2026-12-10"},{"$f":"BK595+1","v":"2026-12-11"},{"$f":"BL595+1","v":"2026-12-12"},{"$f":"BM595+1","v":"2026-12-13"},{"$f":"BN595+1","v":"2026-12-14"},{"$f":"BO595+1","v":"2026-12-15"},{"$f":"BP595+1","v":"2026-12-16"},{"$f":"BQ595+1","v":"2026-12-17"},{"$f":"BR595+1","v":"2026-12-18"},{"$f":"BS595+1","v":"2026-12-19"},{"$f":"BT595+1","v":"2026-12-20"},{"$f":"BU595+1","v":"2026-12-21"},{"$f":"BV595+1","v":"2026-12-22"},{"$f":"BW595+1","v":"2026-12-23"},{"$f":"BX595+1","v":"2026-12-24"},{"$f":"BY595+1","v":"2026-12-25"},{"$f":"BZ595+1","v":"2026-12-26"},{"$f":"CA595+1","v":"2026-12-27"},{"$f":"CB595+1","v":"2026-12-28"},{"$f":"IF(CC595=\"／\",\"／\",IF(YEAR(BB594)&TEXT(MONTH(BB594),\"00\")<YEAR(CC595+1)&TEXT(MONTH(CC595+1),\"00\"),\"／\",CC595+1))","v":"2026-12-29"},{"$f":"IF(CD595=\"／\",\"／\",IF(YEAR(BB594)&TEXT(MONTH(BB594),\"00\")<YEAR(CD595+1)&TEXT(MONTH(CD595+1),\"00\"),\"／\",CD595+1))","v":"2026-12-30"},{"$f":"IF(CE595=\"／\",\"／\",IF(YEAR(BB594)&TEXT(MONTH(BB594),\"00\")<YEAR(CE595+1)&TEXT(MONTH(CE595+1),\"00\"),\"／\",CE595+1))","v":"2026-12-31"},{"$f":"CG594","v":"2027-01-01"},{"$f":"CG595+1","v":"2027-01-02"},{"$f":"CH595+1","v":"2027-01-03"},{"$f":"CI595+1","v":"2027-01-04"},{"$f":"CJ595+1","v":"2027-01-05"},{"$f":"CK595+1","v":"2027-01-06"},null,null,null,null,"閉所日数",{"$f":"IF(IF(MONTH($BL$5)=12,YEAR($BL$5)+1&\"01\",YEAR($BL$5)&TEXT(MONTH($BL$5)+1,\"00\"))>YEAR(BB594)&TEXT(MONTH(BB594),\"00\"),COUNTIF(BB598:CF598,\"○\"),\"\")","v":""},{"$f":"IF(OR(MONTH(BB594)=1,MONTH(BB594)=8,MONTH(BB594)=12),IF(COUNTIF(BB598:CF598,\"／\")>=3,\"\",\"算定除外「／」漏れ\"),\"\")","v":""},null,null,null,"日",{"$f":"CX594","v":"2026-12-01"},{"$f":"CX595+1","v":"2026-12-02"},{"$f":"CY595+1","v":"2026-12-03"},{"$f":"CZ595+1","v":"2026-12-04"},{"$f":"DA595+1","v":"2026-12-05"},{"$f":"DB595+1","v":"2026-12-06"},{"$f":"DC595+1","v":"2026-12-07"},{"$f":"DD595+1","v":"2026-12-08"},{"$f":"DE595+1","v":"2026-12-09"},{"$f":"DF595+1","v":"2026-12-10"},{"$f":"DG595+1","v":"2026-12-11"},{"$f":"DH595+1","v":"2026-12-12"},{"$f":"DI595+1","v":"2026-12-13"},{"$f":"DJ595+1","v":"2026-12-14"},{"$f":"DK595+1","v":"2026-12-15"},{"$f":"DL595+1","v":"2026-12-16"},{"$f":"DM595+1","v":"2026-12-17"},{"$f":"DN595+1","v":"2026-12-18"},{"$f":"DO595+1","v":"2026-12-19"},{"$f":"DP595+1","v":"2026-12-20"},{"$f":"DQ595+1","v":"2026-12-21"},{"$f":"DR595+1","v":"2026-12-22"},{"$f":"DS595+1","v":"2026-12-23"},{"$f":"DT595+1","v":"2026-12-24"},{"$f":"DU595+1","v":"2026-12-25"},{"$f":"DV595+1","v":"2026-12-26"},{"$f":"DW595+1","v":"2026-12-27"},{"$f":"DX595+1","v":"2026-12-28"},{"$f":"IF(DY595=\"／\",\"／\",IF(YEAR(CX594)&TEXT(MONTH(CX594),\"00\")<YEAR(DY595+1)&TEXT(MONTH(DY595+1),\"00\"),\"／\",DY595+1))","v":"2026-12-29"},{"$f":"IF(DZ595=\"／\",\"／\",IF(YEAR(CX594)&TEXT(MONTH(CX594),\"00\")<YEAR(DZ595+1)&TEXT(MONTH(DZ595+1),\"00\"),\"／\",DZ595+1))","v":"2026-12-30"},{"$f":"IF(EA595=\"／\",\"／\",IF(YEAR(CX594)&TEXT(MONTH(CX594),\"00\")<YEAR(EA595+1)&TEXT(MONTH(EA595+1),\"00\"),\"／\",EA595+1))","v":"2026-12-31"},{"$f":"EC594","v":"2027-01-01"},{"$f":"EC595+1","v":"2027-01-02"},{"$f":"ED595+1","v":"2027-01-03"},{"$f":"EE595+1","v":"2027-01-04"},{"$f":"EF595+1","v":"2027-01-05"},{"$f":"EG595+1","v":"2027-01-06"},null,null,null,null,"閉所日数",{"$f":"IF(IF(MONTH($BL$5)=12,YEAR($BL$5)+1&\"01\",YEAR($BL$5)&TEXT(MONTH($BL$5)+1,\"00\"))>YEAR($CX594)&TEXT(MONTH($CX594),\"00\"),COUNTIF(CX598:EB598,\"○\"),\"\")","v":""},{"$f":"IF(OR(MONTH(CX594)=1,MONTH(CX594)=8,MONTH(CX594)=12),IF(COUNTIF(CX598:EB598,\"／\")>=3,\"\",\"算定除外「／」漏れ\"),\"\")","v":""}]
["",null,"曜日",{"$f":"TEXT(WEEKDAY(+D595),\"aaa\")","v":"火"},{"$f":"TEXT(WEEKDAY(+E595),\"aaa\")","v":"水"},"木","金","土",{"$f":"TEXT(WEEKDAY(+I595),\"aaa\")","v":"日"},{"$f":"TEXT(WEEKDAY(+J595),\"aaa\")","v":"月"},"火","水","木","金","土","日","月","火","水","木","金","土","日","月","火",{"$f":"TEXT(WEEKDAY(+Z595),\"aaa\")","v":"水"},{"$f":"TEXT(WEEKDAY(+AA595),\"aaa\")","v":"木"},"金","土","日","月",{"$f":"IF(AF595=\"／\",\"／\",TEXT(WEEKDAY(+AF595),\"aaa\"))","v":"火"},{"$f":"IF(AG595=\"／\",\"／\",TEXT(WEEKDAY(+AG595),\"aaa\"))","v":"水"},"木",{"$f":"TEXT(WEEKDAY(+AI595),\"aaa\")","v":"金"},{"$f":"TEXT(WEEKDAY(+AJ595),\"aaa\")","v":"土"},"日","月","火","水",null,null,null,null,"現場閉所率",{"$f":"IFERROR(+AT595/AT594,\"\")","v":""},{"$f":"IF(AT596=\"\",\"\",IF(COUNTIF(D598:AH598,\"○\")>=COUNTIF(D601:AH601,\"◎\"),\"4週8休以上\",IF(AT596>=0.285,\"4週8休以上\",\"週休2日未達成\")))","v":""},null,null,null,null,null,"曜日",{"$f":"TEXT(WEEKDAY(+BB595),\"aaa\")","v":"火"},{"$f":"TEXT(WEEKDAY(+BC595),\"aaa\")","v":"水"},"木","金","土",{"$f":"TEXT(WEEKDAY(+BG595),\"aaa\")","v":"日"},{"$f":"TEXT(WEEKDAY(+BH595),\"aaa\")","v":"月"},"火","水","木","金","土","日","月","火","水","木","金","土","日","月","火",{"$f":"TEXT(WEEKDAY(+BX595),\"aaa\")","v":"水"},{"$f":"TEXT(WEEKDAY(+BY595),\"aaa\")","v":"木"},"金","土","日","月",{"$f":"IF(CD595=\"／\",\"／\",TEXT(WEEKDAY(+CD595),\"aaa\"))","v":"火"},{"$f":"IF(CE595=\"／\",\"／\",TEXT(WEEKDAY(+CE595),\"aaa\"))","v":"水"},"木",{"$f":"TEXT(WEEKDAY(+CG595),\"aaa\")","v":"金"},{"$f":"TEXT(WEEKDAY(+CH595),\"aaa\")","v":"土"},"日","月","火","水",null,null,null,null,"現場閉所率",{"$f":"IFERROR(+CR595/CR594,\"\")","v":""},{"$f":"IF(CR596=\"\",\"\",IF(COUNTIF(BB598:CF598,\"○\")>=COUNTIF(BB601:CF601,\"◎\"),\"4週8休以上\",IF(CR596>=0.285,\"4週8休以上\",\"週休2日未達成\")))","v":""},null,null,null,"曜日",{"$f":"TEXT(WEEKDAY(+CX595),\"aaa\")","v":"火"},{"$f":"TEXT(WEEKDAY(+CY595),\"aaa\")","v":"水"},"木","金","土",{"$f":"TEXT(WEEKDAY(+DC595),\"aaa\")","v":"日"},{"$f":"TEXT(WEEKDAY(+DD595),\"aaa\")","v":"月"},"火","水","木","金","土","日","月","火","水","木","金","土","日","月","火",{"$f":"TEXT(WEEKDAY(+DT595),\"aaa\")","v":"水"},{"$f":"TEXT(WEEKDAY(+DU595),\"aaa\")","v":"木"},"金","土","日","月",{"$f":"IF(DZ595=\"／\",\"／\",TEXT(WEEKDAY(+DZ595),\"aaa\"))","v":"火"},{"$f":"IF(EA595=\"／\",\"／\",TEXT(WEEKDAY(+EA595),\"aaa\"))","v":"水"},"木",{"$f":"TEXT(WEEKDAY(+EC595),\"aaa\")","v":"金"},{"$f":"TEXT(WEEKDAY(+ED595),\"aaa\")","v":"土"},"日","月","火","水",null,null,null,null,"現場閉所率",{"$f":"IFERROR(+EN595/EN594,\"\")","v":""},{"$f":"IF(EN596=\"\",\"\",IF(COUNTIF(CX598:EB598,\"○\")>=COUNTIF(CX601:EB601,\"◎\"),\"4週8休以上\",IF(EN596>=0.285,\"4週8休以上\",\"週休2日未達成\")))","v":""}]
["",null,"行事",null,null,null,null,null,null,null,null,null,null,null,null,null,null,null,null,null,null,null,null,null,null,null,null,null,null,null,null,null,null,null,{"$f":"IF(D626=\"\",\"\",D626)","v":""},{"$f":"IF(E626=\"\",\"\",E626)","v":""},{"$f":"IF(F626=\"\",\"\",F626)","v":""},{"$f":"IF(G626=\"\",\"\",G626)","v":""},{"$f":"IF(H626=\"\",\"\",H626)","v":""},{"$f":"IF(I626=\"\",\"\",I626)","v":""},null,null,null,"実施","対象期間",{"$f":"IF(IF(MONTH(入力表!$E$6)=12,YEAR(入力表!$E$6)+1&\"01\",YEAR(入力表!$E$6)&TEXT(MONTH(入力表!$E$6)+1,\"00\"))>YEAR($D594)&TEXT(MONTH($D594),\"00\"),COUNTIF(D599:AH599,\"\")+COUNTIF(D599:AH599,\"●\"),\"\")","v":""},{"$f":"IF(COUNTIF(D595:AH595,\"／\")=0,\"\",IF(COUNTIF(D595:AH595,\"／\")=1,IF(AH599=\"／\",\"\",\"月末「／」漏れ\"),IF(COUNTIF(D595:AH595,\"／\")=2,IF(AND(AG599=\"／\",AH599=\"／\"),\"\",\"月末「／」漏れ\"),IF(AND(AF599=\"／\",AG599=\"／\",AH599=\"／\"),\"\",\"月末「／」漏れ\"))))","v":""},null,null,null,null,null,"行事",null,null,null,null,null,null,null,null,null,null,null,null,null,null,null,null,null,null,null,null,null,null,null,null,null,null,null,null,null,null,null,{"$f":"IF(BB626=\"\",\"\",BB626)","v":""},{"$f":"IF(BC626=\"\",\"\",BC626)","v":""},{"$f":"IF(BD626=\"\",\"\",BD626)","v":""},{"$f":"IF(BE626=\"\",\"\",BE626)","v":""},{"$f":"IF(BF626=\"\",\"\",BF626)","v":""},{"$f":"IF(BG626=\"\",\"\",BG626)","v":""},null,null,null,"実施","対象期間",{"$f":"IF(IF(MONTH($BL$5)=12,YEAR($BL$5)+1&\"01\",YEAR($BL$5)&TEXT(MONTH($BL$5)+1,\"00\"))>YEAR(BB594)&TEXT(MONTH(BB594),\"00\"),COUNTIF(BB599:CF599,\"\")+COUNTIF(BB599:CF599,\"●\"),\"\")","v":""},{"$f":"IF(COUNTIF(BB595:CF595,\"／\")=0,\"\",IF(COUNTIF(BB595:CF595,\"／\")=1,IF(CF599=\"／\",\"\",\"月末「／」漏れ\"),IF(COUNTIF(BB595:CF595,\"／\")=2,IF(AND(CE599=\"／\",CF599=\"／\"),\"\",\"月末「／」漏れ\"),IF(AND(CD599=\"／\",CE599=\"／\",CF599=\"／\"),\"\",\"月末「／」漏れ\"))))","v":""},null,null,null,"行事",null,null,null,null,null,null,null,null,null,null,null,null,null,null,null,null,null,null,null,null,null,null,null,null,null,null,null,null,null,null,null,{"$f":"IF(CX626=\"\",\"\",CX626)","v":""},{"$f":"IF(CY626=\"\",\"\",CY626)","v":""},{"$f":"IF(CZ626=\"\",\"\",CZ626)","v":""},{"$f":"IF(DA626=\"\",\"\",DA626)","v":""},{"$f":"IF(DB626=\"\",\"\",DB626)","v":""},{"$f":"IF(DC626=\"\",\"\",DC626)","v":""},null,null,null,"実施","対象期間",{"$f":"IF(IF(MONTH($BL$5)=12,YEAR($BL$5)+1&\"01\",YEAR($BL$5)&TEXT(MONTH($BL$5)+1,\"00\"))>YEAR($CX594)&TEXT(MONTH($CX594),\"00\"),COUNTIF(CX599:EB599,\"\")+COUNTIF(CX599:EB599,\"●\"),\"\")","v":""},{"$f":"IF(COUNTIF(CX595:EB595,\"／\")=0,\"\",IF(COUNTIF(CX595:EB595,\"／\")=1,IF(EB599=\"／\",\"\",\"月末「／」漏れ\"),IF(COUNTIF(CX595:EB595,\"／\")=2,IF(AND(EA599=\"／\",EB599=\"／\"),\"\",\"月末「／」漏れ\"),IF(AND(DZ599=\"／\",EA599=\"／\",EB599=\"／\"),\"\",\"月末「／」漏れ\"))))","v":""}]
["",null,"計画",null,null,null,null,null,null,null,null,null,null,null,null,null,null,null,null,null,null,null,null,null,null,null,null,null,null,null,null,null,null,null,{"$f":"IF(D627=\"\",\"\",D627)","v":""},{"$f":"IF(E627=\"\",\"\",E627)","v":""},{"$f":"IF(F627=\"\",\"\",F627)","v":""},{"$f":"IF(G627=\"\",\"\",G627)","v":""},{"$f":"IF(H627=\"\",\"\",H627)","v":""},{"$f":"IF(I627=\"\",\"\",I627)","v":""},{"$f":"COUNTIF(D598:AH598,\"○\")","v":0},{"$f":"+AO598+AP569","v":0},null,null,"閉所日数",{"$f":"IF(IF(MONTH(入力表!$E$6)=12,YEAR(入力表!$E$6)+1&\"01\",YEAR(入力表!$E$6)&TEXT(MONTH(入力表!$E$6)+1,\"00\"))>YEAR($D594)&TEXT(MONTH($D594),\"00\"),COUNTIF(D599:AH599,\"●\"),\"\")","v":""},{"$f":"IF(OR(MONTH(D594)=1,MONTH(D594)=8,MONTH(D594)=12),IF(COUNTIF(D599:AH599,\"／\")>=3,\"\",\"算定除外「／」漏れ\"),\"\")","v":"算定除外「／」漏れ"},null,null,null,null,null,"計画",null,null,null,null,null,null,null,null,null,null,null,null,null,null,null,null,null,null,null,null,null,null,null,null,null,null,null,"○","／","／","／",{"$f":"IF(BB627=\"\",\"\",BB627)","v":"／"},"／","／","","","",{"$f":"COUNTIF(BB598:CF598,\"○\")","v":1},{"$f":"+CM598+CN569","v":1},null,null,"閉所日数",{"$f":"IF(IF(MONTH($BL$5)=12,YEAR($BL$5)+1&\"01\",YEAR($BL$5)&TEXT(MONTH($BL$5)+1,\"00\"))>YEAR(BB594)&TEXT(MONTH(BB594),\"00\"),COUNTIF(BB599:CF599,\"●\"),\"\")","v":""},{"$f":"IF(OR(MONTH(BB594)=1,MONTH(BB594)=8,MONTH(BB594)=12),IF(COUNTIF(BB599:CF599,\"／\")>=3,\"\",\"算定除外「／」漏れ\"),\"\")","v":""},null,null,null,"計画",null,null,null,null,null,null,null,null,null,null,null,null,null,null,null,null,null,null,null,null,null,null,null,null,null,null,null,null,"／","／","／",{"$f":"IF(CX627=\"\",\"\",CX627)","v":"／"},"／","／","","","",{"$f":"COUNTIF(CX598:EB598,\"○\")","v":0},{"$f":"+EI598+EJ569","v":0},null,null,"閉所日数",{"$f":"IF(IF(MONTH($BL$5)=12,YEAR($BL$5)+1&\"01\",YEAR($BL$5)&TEXT(MONTH($BL$5)+1,\"00\"))>YEAR($CX594)&TEXT(MONTH($CX594),\"00\"),COUNTIF(CX599:EB599,\"●\"),\"\")","v":""},{"$f":"IF(OR(MONTH(CX594)=1,MONTH(CX594)=8,MONTH(CX594)=12),IF(COUNTIF(CX599:EB599,\"／\")>=3,\"\",\"算定除外「／」漏れ\"),\"\")","v":""}]
["",null,"実施",null,null,null,null,null,null,null,null,null,null,null,null,null,null,null,null,null,null,null,null,null,null,null,null,null,null,null,null,null,null,null,{"$f":"IF(D628=\"\",\"\",D628)","v":""},{"$f":"IF(E628=\"\",\"\",E628)","v":""},{"$f":"IF(F628=\"\",\"\",F628)","v":""},{"$f":"IF(G628=\"\",\"\",G628)","v":""},{"$f":"IF(H628=\"\",\"\",H628)","v":""},{"$f":"IF(I628=\"\",\"\",I628)","v":""},{"$f":"COUNTIF(D599:AH599,\"●\")","v":0},{"$f":"+AO599+AP570","v":0},null,null,"現場閉所率",{"$f":"IFERROR(+AT598/AT597,\"\")","v":""},{"$f":"IF(AT599=\"\",\"\",IF(COUNTIF(D599:AH599,\"●\")>=COUNTIF(D602:AH602,\"◎\"),\"4週8休以上\",IF(AT599>=0.285,\"4週8休以上\",\"週休2日未達成\")))","v":""},null,null,null,null,null,"実施",null,null,null,null,null,null,null,null,null,null,null,null,null,null,null,null,null,null,null,null,null,null,null,null,null,null,null,null,"／","／","／",{"$f":"IF(BB628=\"\",\"\",BB628)","v":"／"},{"$f":"IF(BC628=\"\",\"\",BC628)","v":"／"},{"$f":"IF(BD628=\"\",\"\",BD628)","v":"／"},{"$f":"IF(BE628=\"\",\"\",BE628)","v":""},{"$f":"IF(BF628=\"\",\"\",BF628)","v":""},{"$f":"IF(BG628=\"\",\"\",BG628)","v":""},{"$f":"COUNTIF(BB599:CF599,\"●\")","v":0},{"$f":"+CM599+CN570","v":0},null,null,"現場閉所率",{"$f":"IFERROR(+CR598/CR597,\"\")","v":""},{"$f":"IF(CR599=\"\",\"\",IF(COUNTIF(BB599:CF599,\"●\")>=COUNTIF(BB602:CF602,\"◎\"),\"4週8休以上\",IF(CR599>=0.285,\"4週8休以上\",\"週休2日未達成\")))","v":""},null,null,null,"実施",null,null,null,null,null,null,null,null,null,null,null,null,null,null,null,null,null,null,null,null,null,null,null,null,null,null,null,null,"／","／","／",{"$f":"IF(CX628=\"\",\"\",CX628)","v":"／"},{"$f":"IF(CY628=\"\",\"\",CY628)","v":"／"},{"$f":"IF(CZ628=\"\",\"\",CZ628)","v":"／"},{"$f":"IF(DA628=\"\",\"\",DA628)","v":""},{"$f":"IF(DB628=\"\",\"\",DB628)","v":""},{"$f":"IF(DC628=\"\",\"\",DC628)","v":""},{"$f":"COUNTIF(CX599:EB599,\"●\")","v":0},{"$f":"+EI599+EJ570","v":0},null,null,"現場閉所率",{"$f":"IFERROR(+EN598/EN597,\"\")","v":""},{"$f":"IF(EN599=\"\",\"\",IF(COUNTIF(CX599:EB599,\"●\")>=COUNTIF(CX602:EB602,\"◎\"),\"4週8休以上\",IF(EN599>=0.285,\"4週8休以上\",\"週休2日未達成\")))","v":""}]
[null,null,null,1,2,3,4,5,6,7,8,9,10,11,12,13,14,15,16,17,18,19,20,21,22,23,24,25,26,27,28,29,30,31,32,33,34,35,36,37,null,null,null,null,{"$f":"AU599","v":""},null,null,null,null,null,null,null,null,1,2,3,4,5,6,7,8,9,10,11,12,13,14,15,16,17,18,19,20,21,22,23,24,25,26,27,28,29,30,31,32,33,34,35,36,37,null,null,null,null,{"$f":"CS599","v":""},null,null,null,null,null,null,1,2,3,4,5,6,7,8,9,10,11,12,13,14,15,16,17,18,19,20,21,22,23,24,25,26,27,28,29,30,31,32,33,34,35,36,37,null,null,null,null,{"$f":"EO599","v":""}]
[null,null,"計画",{"$f":"IF(D598=\"／\",\"／\",IF(OR(D596=\"土\",D596=\"日\"),\"◎\",\"\"))","v":""},{"$f":"IF(E598=\"／\",\"／\",IF(OR(E596=\"土\",E596=\"日\"),\"◎\",\"\"))","v":""},"","","◎","◎","","","","","","◎","◎","","","","","","◎","◎","","","","","","◎",{"$f":"IF(AD598=\"／\",\"／\",IF(OR(AD596=\"土\",AD596=\"日\"),\"◎\",\"\"))","v":"◎"},{"$f":"IF(AE598=\"／\",\"／\",IF(OR(AE596=\"土\",AE596=\"日\"),\"◎\",\"\"))","v":""},"","","","","◎","◎","","","",null,null,null,null,{"$f":"AT603","v":""},null,null,null,null,null,null,null,"計画",{"$f":"IF(BB598=\"／\",\"／\",IF(OR(BB596=\"土\",BB596=\"日\"),\"◎\",\"\"))","v":""},"","","","◎","◎","","","","","","◎",{"$f":"IF(BN598=\"／\",\"／\",IF(OR(BN596=\"土\",BN596=\"日\"),\"◎\",\"\"))","v":"◎"},{"$f":"IF(BO598=\"／\",\"／\",IF(OR(BO596=\"土\",BO596=\"日\"),\"◎\",\"\"))","v":""},"","","","","◎","◎","","","","","","◎",{"$f":"IF(CB598=\"／\",\"／\",IF(OR(CB596=\"土\",CB596=\"日\"),\"◎\",\"\"))","v":"◎"},{"$f":"IF(CC598=\"／\",\"／\",IF(OR(CC596=\"土\",CC596=\"日\"),\"◎\",\"\"))","v":""},"／","／","／","／","／","／","","","",null,null,null,null,{"$f":"CR603","v":""},null,null,null,null,null,"計画",{"$f":"IF(CX598=\"／\",\"／\",IF(OR(CX596=\"土\",CX596=\"日\"),\"◎\",\"\"))","v":""},"","","","◎","◎","","","","","","◎",{"$f":"IF(DJ598=\"／\",\"／\",IF(OR(DJ596=\"土\",DJ596=\"日\"),\"◎\",\"\"))","v":"◎"},{"$f":"IF(DK598=\"／\",\"／\",IF(OR(DK596=\"土\",DK596=\"日\"),\"◎\",\"\"))","v":""},"","","","","◎","◎","","","","","","◎",{"$f":"IF(DX598=\"／\",\"／\",IF(OR(DX596=\"土\",DX596=\"日\"),\"◎\",\"\"))","v":"◎"},{"$f":"IF(DY598=\"／\",\"／\",IF(OR(DY596=\"土\",DY596=\"日\"),\"◎\",\"\"))","v":""},"／","／","／","／","／","／","","","",null,null,null,null,{"$f":"EN603","v":""}]
[null,null,"実施",{"$f":"IF(D599=\"／\",\"／\",IF(OR(D596=\"土\",D596=\"日\"),\"◎\",\"\"))","v":""},{"$f":"IF(E599=\"／\",\"／\",IF(OR(E596=\"土\",E596=\"日\"),\"◎\",\"\"))","v":""},"","","◎","◎","","","","","","◎","◎","","","","","","◎","◎","","","","","","◎","◎","","","","","","◎","◎","","","",null,null,null,null,null,null,null,null,null,null,null,null,"実施",{"$f":"IF(BB599=\"／\",\"／\",IF(OR(BB596=\"土\",BB596=\"日\"),\"◎\",\"\"))","v":""},{"$f":"IF(BC599=\"／\",\"／\",IF(OR(BC596=\"土\",BC596=\"日\"),\"◎\",\"\"))","v":""},"","","◎","◎","","","","","","◎","◎","","","","","","◎","◎","","","","","","◎","◎","","／","／","／","／","／","／","","","",null,null,null,null,null,null,null,null,null,null,"実施",{"$f":"IF(CX599=\"／\",\"／\",IF(OR(CX596=\"土\",CX596=\"日\"),\"◎\",\"\"))","v":""},{"$f":"IF(CY599=\"／\",\"／\",IF(OR(CY596=\"土\",CY596=\"日\"),\"◎\",\"\"))","v":""},"","","◎","◎","","","","","","◎","◎","","","","","","◎","◎","","","","","","◎","◎","","／","／","／","／","／","／","","",""]
[{"$f":"IF($AT$594=\"\",\"\",\"対象期間\")","v":""},null,"完全",{"$f":"IF(WEEKDAY(DATE(YEAR(D594),MONTH(D594),1),2)=1,DATE(YEAR(D594),MONTH(D594),1),EOMONTH(D594,-1)-MOD(WEEKDAY(EOMONTH(D594,-1),2)+6,7))","v":"2026-11-30"},"～",{"$f":"DATE(YEAR(D594),MONTH(D594),1)+MOD(7-WEEKDAY(DATE(YEAR(D594),MONTH(D594),1),2),7)","v":"2026-12-06"},{"$f":"IF(DAY(D603)=1,IF(COUNTIF(D599:J599,\"／\")>=1,\"対象外\",IF(COUNTIF(INDEX(D599:AN599,DAY(D603)):INDEX(D599:AN599,HLOOKUP(F603,D595:AN600,6,FALSE)),\"\")+COUNTIF(INDEX(D599:AN599,DAY(D603)):INDEX(D599:AN599,HLOOKUP(F603,D595:AN600,6,FALSE)),\"●\")=7,IF(COUNTIF(INDEX(D599:AN599,DAY(D603)):INDEX(D599:AN599,HLOOKUP(F603,D595:AN600,6,FALSE)),\"●\")>=2,\"OK\",\"OUT\"),IF(COUNTIF(INDEX(D599:AN599,DAY(D603)):INDEX(D599:AN599,HLOOKUP(F603,D595:AN600,6,FALSE)),\"●\")>=COUNTIF(INDEX(D602:AN602,DAY(D603)):INDEX(D602:AN602,HLOOKUP(F603,D595:AN600,6,FALSE)),\"○\"),\"OK\",\"OUT\"))),IF(AND(AK574=\"\",AE574=\"\"),Y574,IF(AK574=\"\",AE574,AK574)))","v":"「／」漏れ"},null,null,{"$f":"F603+1","v":"2026-12-07"},"～",{"$f":"F603+7","v":"2026-12-13"},{"$f":"IF(COUNTIF(INDEX(D599:AN599,DAY(J603)):INDEX(D599:AN599,HLOOKUP(L603,D595:AN600,6,FALSE)),\"\")+COUNTIF(INDEX(D599:AN599,DAY(J603)):INDEX(D599:AN599,HLOOKUP(L603,D595:AN600,6,FALSE)),\"●\")=7,IF(COUNTIF(INDEX(D599:AN599,DAY(J603)):INDEX(D599:AN599,HLOOKUP(L603,D595:AN600,6,FALSE)),\"●\")>=2,\"OK\",\"OUT\"),\"対象外\")","v":"OUT"},null,null,{"$f":"L603+1","v":"2026-12-14"},"～",{"$f":"L603+7","v":"2026-12-20"},{"$f":"IF(COUNTIF(INDEX(D599:AN599,DAY(P603)):INDEX(D599:AN599,HLOOKUP(R603,D595:AN600,6,FALSE)),\"\")+COUNTIF(INDEX(D599:AN599,DAY(P603)):INDEX(D599:AN599,HLOOKUP(R603,D595:AN600,6,FALSE)),\"●\")=7,IF(COUNTIF(INDEX(D599:AN599,DAY(P603)):INDEX(D599:AN599,HLOOKUP(R603,D595:AN600,6,FALSE)),\"●\")>=2,\"OK\",\"OUT\"),\"対象外\")","v":"OUT"},null,null,{"$f":"R603+1","v":"2026-12-21"},"～",{"$f":"R603+7","v":"2026-12-27"},{"$f":"IF(COUNTIF(INDEX(D599:AN599,DAY(V603)):INDEX(D599:AN599,HLOOKUP(X603,D595:AN600,6,FALSE)),\"\")+COUNTIF(INDEX(D599:AN599,DAY(V603)):INDEX(D599:AN599,HLOOKUP(X603,D595:AN600,6,FALSE)),\"●\")=7,IF(COUNTIF(INDEX(D599:AN599,DAY(V603)):INDEX(D599:AN599,HLOOKUP(X603,D595:AN600,6,FALSE)),\"●\")>=2,\"OK\",\"OUT\"),\"対象外\")","v":"OUT"},null,null,{"$f":"IF(AND(DAY(X603+7)<23,DAY(X603+7)>=7),\"\",X603+1)","v":"2026-12-28"},{"$f":"IF(AND(DAY(X603+7)<23,DAY(X603+7)>=7),\"\",\"～\")","v":"～"},{"$f":"IF(AND(DAY(X603+7)<23,DAY(X603+7)>=7),\"\",X603+7)","v":"2027-01-03"},{"$f":"IF(AND(DAY(X603+7)<23,DAY(X603+7)>=7),\"\",IF(COUNTIF(INDEX(D599:AN599,DAY(AB603)):INDEX(D599:AN599,HLOOKUP(AD603,D595:AN600,6,FALSE)),\"\")+COUNTIF(INDEX(D599:AN599,DAY(AB603)):INDEX(D599:AN599,HLOOKUP(AD603,D595:AN600,6,FALSE)),\"●\")=7,IF(COUNTIF(INDEX(D599:AN599,DAY(AB603)):INDEX(D599:AN599,HLOOKUP(AD603,D595:AN600,6,FALSE)),\"●\")>=2,\"OK\",\"OUT\"),IF(COUNTIF(INDEX(D599:AN599,DAY(AB603)):INDEX(D599:AN599,HLOOKUP(AD603,D595:AN600,6,FALSE)),\"\")+COUNTIF(INDEX(D599:AN599,DAY(AB603)):INDEX(D599:AN599,HLOOKUP(AD603,D595:AN600,6,FALSE)),\"●\")>7,\"「／」漏れ\",\"対象外\")))","v":"OUT"},null,null,{"$f":"IF(AE603=\"\",\"\",IF(AND(DAY(AD603+7)<23,DAY(AD603+7)>=7),\"\",AD603+1))","v":""},{"$f":"IF(AE603=\"\",\"\",IF(AND(DAY(AD603+7)<23,DAY(AD603+7)>=7),\"\",\"～\"))","v":""},{"$f":"IF(AE603=\"\",\"\",IF(AND(DAY(AD603+7)<23,DAY(AD603+7)>=7),\"\",AD603+7))","v":""},{"$f":"IF(AE603=\"\",\"\",IF(AND(DAY(AD603+7)<23,DAY(AD603+7)>=7),\"\",IF(COUNTIF(INDEX(D599:AN599,DAY(AH603)):INDEX(D599:AN599,HLOOKUP(AJ603,D595:AN600,6,FALSE)),\"\")+COUNTIF(INDEX(D599:AN599,DAY(AH603)):INDEX(D599:AN599,HLOOKUP(AJ603,D595:AN600,6,FALSE)),\"●\")=7,IF(COUNTIF(INDEX(D599:AN599,DAY(AH603)):INDEX(D599:AN599,HLOOKUP(AJ603,D595:AN600,6,FALSE)),\"●\")>=2,\"OK\",\"OUT\"),IF(COUNTIF(INDEX(D599:AN599,HLOOKUP(AH603,D595:AN600,6,FALSE)):INDEX(D599:AN599,HLOOKUP(AJ603,D595:AN600,6,FALSE)),\"\")+COUNTIF(INDEX(D599:AN599,HLOOKUP(AH603,D595:AN600,6,FALSE)):INDEX(D599:AN599,HLOOKUP(AJ603,D595:AN600,6,FALSE)),\"●\")>7,\"「／」漏れ\",\"対象外\"))))","v":""},null,null,null,null,null,null,null,"完全週休二日",{"$f":"IF(AT594=\"\",\"\",IF(COUNTIF(D603:AN603,\"OUT\")>=1,\"OUT\",\"OK\"))","v":""},null,null,null,null,null,null,"完全",{"$f":"IF(WEEKDAY(DATE(YEAR(BB594),MONTH(BB594),1),2)=1,DATE(YEAR(BB594),MONTH(BB594),1),EOMONTH(BB594,-1)-MOD(WEEKDAY(EOMONTH(BB594,-1),2)+6,7))","v":"2026-11-30"},"～",{"$f":"DATE(YEAR(BB594),MONTH(BB594),1)+MOD(7-WEEKDAY(DATE(YEAR(BB594),MONTH(BB594),1),2),7)","v":"2026-12-06"},{"$f":"IF(DAY(BB603)=1,IF(COUNTIF(BB599:BH599,\"／\")>=1,\"対象外\",IF(COUNTIF(INDEX(BB599:CL599,DAY(BB603)):INDEX(BB599:CL599,HLOOKUP(BD603,BB595:CL600,6,FALSE)),\"\")+COUNTIF(INDEX(BB599:CL599,DAY(BB603)):INDEX(BB599:CL599,HLOOKUP(BD603,BB595:CL600,6,FALSE)),\"●\")=7,IF(COUNTIF(INDEX(BB599:CL599,DAY(BB603)):INDEX(BB599:CL599,HLOOKUP(BD603,BB595:CL600,6,FALSE)),\"●\")>=2,\"OK\",\"OUT\"),IF(COUNTIF(INDEX(BB599:CL599,DAY(BB603)):INDEX(BB599:CL599,HLOOKUP(BD603,BB595:CL600,6,FALSE)),\"●\")>=COUNTIF(INDEX(BB602:CL602,DAY(BB603)):INDEX(BB602:CL602,HLOOKUP(BD603,BB595:CL600,6,FALSE)),\"○\"),\"OK\",\"OUT\"))),IF(AND(CI574=\"\",CC574=\"\"),BW574,IF(CI574=\"\",CC574,CI574)))","v":"OUT"},null,null,{"$f":"BD603+1","v":"2026-12-07"},"～",{"$f":"BD603+7","v":"2026-12-13"},{"$f":"IF(COUNTIF(INDEX(BB599:CL599,DAY(BH603)):INDEX(BB599:CL599,HLOOKUP(BJ603,BB595:CL600,6,FALSE)),\"\")+COUNTIF(INDEX(BB599:CL599,DAY(BH603)):INDEX(BB599:CL599,HLOOKUP(BJ603,BB595:CL600,6,FALSE)),\"●\")=7,IF(COUNTIF(INDEX(BB599:CL599,DAY(BH603)):INDEX(BB599:CL599,HLOOKUP(BJ603,BB595:CL600,6,FALSE)),\"●\")>=2,\"OK\",\"OUT\"),\"対象外\")","v":"OUT"},null,null,{"$f":"BJ603+1","v":"2026-12-14"},"～",{"$f":"BJ603+7","v":"2026-12-20"},{"$f":"IF(COUNTIF(INDEX(BB599:CL599,DAY(BN603)):INDEX(BB599:CL599,HLOOKUP(BP603,BB595:CL600,6,FALSE)),\"\")+COUNTIF(INDEX(BB599:CL599,DAY(BN603)):INDEX(BB599:CL599,HLOOKUP(BP603,BB595:CL600,6,FALSE)),\"●\")=7,IF(COUNTIF(INDEX(BB599:CL599,DAY(BN603)):INDEX(BB599:CL599,HLOOKUP(BP603,BB595:CL600,6,FALSE)),\"●\")>=2,\"OK\",\"OUT\"),\"対象外\")","v":"OUT"},null,null,{"$f":"BP603+1","v":"2026-12-21"},"～",{"$f":"BP603+7","v":"2026-12-27"},{"$f":"IF(COUNTIF(INDEX(BB599:CL599,DAY(BT603)):INDEX(BB599:CL599,HLOOKUP(BV603,BB595:CL600,6,FALSE)),\"\")+COUNTIF(INDEX(BB599:CL599,DAY(BT603)):INDEX(BB599:CL599,HLOOKUP(BV603,BB595:CL600,6,FALSE)),\"●\")=7,IF(COUNTIF(INDEX(BB599:CL599,DAY(BT603)):INDEX(BB599:CL599,HLOOKUP(BV603,BB595:CL600,6,FALSE)),\"●\")>=2,\"OK\",\"OUT\"),\"対象外\")","v":"OUT"},null,null,{"$f":"IF(AND(DAY(BV603+7)<23,DAY(BV603+7)>=7),\"\",BV603+1)","v":"2026-12-28"},{"$f":"IF(AND(DAY(BV603+7)<23,DAY(BV603+7)>=7),\"\",\"～\")","v":"～"},{"$f":"IF(AND(DAY(BV603+7)<23,DAY(BV603+7)>=7),\"\",BV603+7)","v":"2027-01-03"},{"$f":"IF(AND(DAY(BV603+7)<23,DAY(BV603+7)>=7),\"\",IF(COUNTIF(INDEX(BB599:CL599,DAY(BZ603)):INDEX(BB599:CL599,HLOOKUP(CB603,BB595:CL600,6,FALSE)),\"\")+COUNTIF(INDEX(BB599:CL599,DAY(BZ603)):INDEX(BB599:CL599,HLOOKUP(CB603,BB595:CL600,6,FALSE)),\"●\")=7,IF(COUNTIF(INDEX(BB599:CL599,DAY(BZ603)):INDEX(BB599:CL599,HLOOKUP(CB603,BB595:CL600,6,FALSE)),\"●\")>=2,\"OK\",\"OUT\"),IF(COUNTIF(INDEX(BB599:CL599,DAY(BZ603)):INDEX(BB599:CL599,HLOOKUP(CB603,BB595:CL600,6,FALSE)),\"\")+COUNTIF(INDEX(BB599:CL599,DAY(BZ603)):INDEX(BB599:CL599,HLOOKUP(CB603,BB595:CL600,6,FALSE)),\"●\")>7,\"「／」漏れ\",\"対象外\")))","v":"対象外"},null,null,{"$f":"IF(CC603=\"\",\"\",IF(AND(DAY(CB603+7)<23,DAY(CB603+7)>=7),\"\",CB603+1))","v":""},{"$f":"IF(CC603=\"\",\"\",IF(AND(DAY(CB603+7)<23,DAY(CB603+7)>=7),\"\",\"～\"))","v":""},{"$f":"IF(CC603=\"\",\"\",IF(AND(DAY(CB603+7)<23,DAY(CB603+7)>=7),\"\",CB603+7))","v":""},{"$f":"IF(CC603=\"\",\"\",IF(AND(DAY(CB603+7)<23,DAY(CB603+7)>=7),\"\",IF(COUNTIF(INDEX(BB599:CL599,DAY(CF603)):INDEX(BB599:CL599,HLOOKUP(CH603,BB595:CL600,6,FALSE)),\"\")+COUNTIF(INDEX(BB599:CL599,DAY(CF603)):INDEX(BB599:CL599,HLOOKUP(CH603,BB595:CL600,6,FALSE)),\"●\")=7,IF(COUNTIF(INDEX(BB599:CL599,DAY(CF603)):INDEX(BB599:CL599,HLOOKUP(CH603,BB595:CL600,6,FALSE)),\"●\")>=2,\"OK\",\"OUT\"),IF(COUNTIF(INDEX(BB599:CL599,HLOOKUP(CF603,BB595:CL600,6,FALSE)):INDEX(BB599:CL599,HLOOKUP(CH603,BB595:CL600,6,FALSE)),\"\")+COUNTIF(INDEX(BB599:CL599,HLOOKUP(CF603,BB595:CL600,6,FALSE)):INDEX(BB599:CL599,HLOOKUP(CH603,BB595:CL600,6,FALSE)),\"●\")>7,\"「／」漏れ\",\"対象外\"))))","v":""},null,null,null,null,null,null,null,"完全週休二日",{"$f":"IF(CR594=\"\",\"\",IF(COUNTIF(BB603:CL603,\"OUT\")>=1,\"OUT\",\"OK\"))","v":""},null,null,null,null,"完全",{"$f":"IF(WEEKDAY(DATE(YEAR(CX594),MONTH(CX594),1),2)=1,DATE(YEAR(CX594),MONTH(CX594),1),EOMONTH(CX594,-1)-MOD(WEEKDAY(EOMONTH(CX594,-1),2)+6,7))","v":"2026-11-30"},"～",{"$f":"DATE(YEAR(CX594),MONTH(CX594),1)+MOD(7-WEEKDAY(DATE(YEAR(CX594),MONTH(CX594),1),2),7)","v":"2026-12-06"},{"$f":"IF(DAY(CX603)=1,IF(COUNTIF(CX599:DD599,\"／\")>=1,\"対象外\",IF(COUNTIF(INDEX(CX599:EH599,DAY(CX603)):INDEX(CX599:EH599,HLOOKUP(CZ603,CX595:EH600,6,FALSE)),\"\")+COUNTIF(INDEX(CX599:EH599,DAY(CX603)):INDEX(CX599:EH599,HLOOKUP(CZ603,CX595:EH600,6,FALSE)),\"●\")=7,IF(COUNTIF(INDEX(CX599:EH599,DAY(CX603)):INDEX(CX599:EH599,HLOOKUP(CZ603,CX595:EH600,6,FALSE)),\"●\")>=2,\"OK\",\"OUT\"),IF(COUNTIF(INDEX(CX599:EH599,DAY(CX603)):INDEX(CX599:EH599,HLOOKUP(CZ603,CX595:EH600,6,FALSE)),\"●\")>=COUNTIF(INDEX(CX602:EH602,DAY(CX603)):INDEX(CX602:EH602,HLOOKUP(CZ603,CX595:EH600,6,FALSE)),\"○\"),\"OK\",\"OUT\"))),IF(AND(EE574=\"\",DY574=\"\"),DS574,IF(EE574=\"\",DY574,EE574)))","v":"OUT"},null,null,{"$f":"CZ603+1","v":"2026-12-07"},"～",{"$f":"CZ603+7","v":"2026-12-13"},{"$f":"IF(COUNTIF(INDEX(CX599:EH599,DAY(DD603)):INDEX(CX599:EH599,HLOOKUP(DF603,CX595:EH600,6,FALSE)),\"\")+COUNTIF(INDEX(CX599:EH599,DAY(DD603)):INDEX(CX599:EH599,HLOOKUP(DF603,CX595:EH600,6,FALSE)),\"●\")=7,IF(COUNTIF(INDEX(CX599:EH599,DAY(DD603)):INDEX(CX599:EH599,HLOOKUP(DF603,CX595:EH600,6,FALSE)),\"●\")>=2,\"OK\",\"OUT\"),\"対象外\")","v":"OUT"},null,null,{"$f":"DF603+1","v":"2026-12-14"},"～",{"$f":"DF603+7","v":"2026-12-20"},{"$f":"IF(COUNTIF(INDEX(CX599:EH599,DAY(DJ603)):INDEX(CX599:EH599,HLOOKUP(DL603,CX595:EH600,6,FALSE)),\"\")+COUNTIF(INDEX(CX599:EH599,DAY(DJ603)):INDEX(CX599:EH599,HLOOKUP(DL603,CX595:EH600,6,FALSE)),\"●\")=7,IF(COUNTIF(INDEX(CX599:EH599,DAY(DJ603)):INDEX(CX599:EH599,HLOOKUP(DL603,CX595:EH600,6,FALSE)),\"●\")>=2,\"OK\",\"OUT\"),\"対象外\")","v":"OUT"},null,null,{"$f":"DL603+1","v":"2026-12-21"},"～",{"$f":"DL603+7","v":"2026-12-27"},{"$f":"IF(COUNTIF(INDEX(CX599:EH599,DAY(DP603)):INDEX(CX599:EH599,HLOOKUP(DR603,CX595:EH600,6,FALSE)),\"\")+COUNTIF(INDEX(CX599:EH599,DAY(DP603)):INDEX(CX599:EH599,HLOOKUP(DR603,CX595:EH600,6,FALSE)),\"●\")=7,IF(COUNTIF(INDEX(CX599:EH599,DAY(DP603)):INDEX(CX599:EH599,HLOOKUP(DR603,CX595:EH600,6,FALSE)),\"●\")>=2,\"OK\",\"OUT\"),\"対象外\")","v":"OUT"},null,null,{"$f":"IF(AND(DAY(DR603+7)<23,DAY(DR603+7)>=7),\"\",DR603+1)","v":"2026-12-28"},{"$f":"IF(AND(DAY(DR603+7)<23,DAY(DR603+7)>=7),\"\",\"～\")","v":"～"},{"$f":"IF(AND(DAY(DR603+7)<23,DAY(DR603+7)>=7),\"\",DR603+7)","v":"2027-01-03"},{"$f":"IF(AND(DAY(DR603+7)<23,DAY(DR603+7)>=7),\"\",IF(COUNTIF(INDEX(CX599:EH599,DAY(DV603)):INDEX(CX599:EH599,HLOOKUP(DX603,CX595:EH600,6,FALSE)),\"\")+COUNTIF(INDEX(CX599:EH599,DAY(DV603)):INDEX(CX599:EH599,HLOOKUP(DX603,CX595:EH600,6,FALSE)),\"●\")=7,IF(COUNTIF(INDEX(CX599:EH599,DAY(DV603)):INDEX(CX599:EH599,HLOOKUP(DX603,CX595:EH600,6,FALSE)),\"●\")>=2,\"OK\",\"OUT\"),IF(COUNTIF(INDEX(CX599:EH599,DAY(DV603)):INDEX(CX599:EH599,HLOOKUP(DX603,CX595:EH600,6,FALSE)),\"\")+COUNTIF(INDEX(CX599:EH599,DAY(DV603)):INDEX(CX599:EH599,HLOOKUP(DX603,CX595:EH600,6,FALSE)),\"●\")>7,\"「／」漏れ\",\"対象外\")))","v":"対象外"},null,null,{"$f":"IF(DY603=\"\",\"\",IF(AND(DAY(DX603+7)<23,DAY(DX603+7)>=7),\"\",DX603+1))","v":""},{"$f":"IF(DY603=\"\",\"\",IF(AND(DAY(DX603+7)<23,DAY(DX603+7)>=7),\"\",\"～\"))","v":""},{"$f":"IF(DY603=\"\",\"\",IF(AND(DAY(DX603+7)<23,DAY(DX603+7)>=7),\"\",DX603+7))","v":""},{"$f":"IF(DY603=\"\",\"\",IF(AND(DAY(DX603+7)<23,DAY(DX603+7)>=7),\"\",IF(COUNTIF(INDEX(CX599:EH599,DAY(EB603)):INDEX(CX599:EH599,HLOOKUP(ED603,CX595:EH600,6,FALSE)),\"\")+COUNTIF(INDEX(CX599:EH599,DAY(EB603)):INDEX(CX599:EH599,HLOOKUP(ED603,CX595:EH600,6,FALSE)),\"●\")=7,IF(COUNTIF(INDEX(CX599:EH599,DAY(EB603)):INDEX(CX599:EH599,HLOOKUP(ED603,CX595:EH600,6,FALSE)),\"●\")>=2,\"OK\",\"OUT\"),IF(COUNTIF(INDEX(CX599:EH599,HLOOKUP(EB603,CX595:EH600,6,FALSE)):INDEX(CX599:EH599,HLOOKUP(ED603,CX595:EH600,6,FALSE)),\"\")+COUNTIF(INDEX(CX599:EH599,HLOOKUP(EB603,CX595:EH600,6,FALSE)):INDEX(CX599:EH599,HLOOKUP(ED603,CX595:EH600,6,FALSE)),\"●\")>7,\"「／」漏れ\",\"対象外\"))))","v":""},null,null,null,null,null,null,null,"完全週休二日",{"$f":"IF(EN594=\"\",\"\",IF(COUNTIF(CX603:EH603,\"OUT\")>=1,\"OUT\",\"OK\"))","v":""}]
[""]
[{"$f":"IF(AND(NOT($AT$594=\"\"),$AT$623=\"\"),\"対象期間\",\"\")","v":""}]
[{"$f":"IF(AND(NOT($AT$594=\"\"),$AT$623=\"\"),\"対象期間\",\"\")","v":""},null,"※１工事着手日：始期日以降に準備工事（現場事務所の建設・測量等）、工場製作を含む工事における工場製作工に着手した日",null,null,null,null,null,null,null,null,null,null,null,null,null,null,null,null,null,null,null,null,null,null,null,null,null,null,null,null,null,null,null,null,null,null,null,null,null,null,null,null,"工事全体の確認",null,null,null,null,null,null,null,null,"※１工事着手日：始期日以降に準備工事（現場事務所の建設・測量等）、工場製作を含む工事における工場製作工に着手した日",null,null,null,null,null,null,null,null,null,null,null,null,null,null,null,null,null,null,null,null,null,null,null,null,null,null,null,null,null,null,null,null,null,null,null,null,null,null,null,null,"工事全体の確認",null,null,null,null,null,null,"※１工事着手日：始期日以降に準備工事（現場事務所の建設・測量等）、工場製作を含む工事における工場製作工に着手した日",null,null,null,null,null,null,null,null,null,null,null,null,null,null,null,null,null,null,null,null,null,null,null,null,null,null,null,null,null,null,null,null,null,null,null,null,null,null,null,null,"工事全体の確認"]
["",null,"※２作業完了日：工事施工範囲内で全ての作業（後片付けを含む）が完了した日\n　　　　　　　　　  （工事現場事務所は工事施工範囲外に設置するため、ここでいう後片付けの対象に含まない）",null,null,null,null,null,null,null,null,null,null,null,null,null,null,null,null,null,null,null,null,null,null,null,null,null,null,null,null,null,null,null,null,null,null,null,null,null,null,null,null,"計画","全対象期間",{"$f":"IFERROR(AT578+AT594,\"\")","v":""},null,null,null,null,null,null,"※２作業完了日：工事施工範囲内で全ての作業（後片付けを含む）が完了した日\n　　　　　　　　　  （工事現場事務所は工事施工範囲外に設置するため、ここでいう後片付けの対象に含まない）",null,null,null,null,null,null,null,null,null,null,null,null,null,null,null,null,null,null,null,null,null,null,null,null,null,null,null,null,null,null,null,null,null,null,null,null,null,null,null,null,"計画","全対象期間",{"$f":"IFERROR(CR578+CR594,\"\")","v":""},null,null,null,null,"※２作業完了日：工事施工範囲内で全ての作業（後片付けを含む）が完了した日\n　　　　　　　　　  （工事現場事務所は工事施工範囲外に設置するため、ここでいう後片付けの対象に含まない）",null,null,null,null,null,null,null,null,null,null,null,null,null,null,null,null,null,null,null,null,null,null,null,null,null,null,null,null,null,null,null,null,null,null,null,null,null,null,null,null,"計画","全対象期間",{"$f":"IFERROR(EN578+EN594,\"\")","v":""}]
["",null,null,null,null,null,null,null,null,null,null,null,null,null,null,null,null,null,null,null,null,null,null,null,null,null,null,null,null,null,null,null,null,null,null,null,null,null,null,null,null,null,null,null,"全現場閉所日数",{"$f":"IFERROR(AT579+AT595,\"\")","v":""},null,null,null,null,null,null,null,null,null,null,null,null,null,null,null,null,null,null,null,null,null,null,null,null,null,null,null,null,null,null,null,null,null,null,null,null,null,null,null,null,null,null,null,null,null,null,null,null,"全現場閉所日数",{"$f":"IFERROR(CR579+CR595,\"\")","v":""},null,null,null,null,null,null,null,null,null,null,null,null,null,null,null,null,null,null,null,null,null,null,null,null,null,null,null,null,null,null,null,null,null,null,null,null,null,null,null,null,null,null,null,null,null,null,"全現場閉所日数",{"$f":"IFERROR(EN579+EN595,\"\")","v":""}]
["",null,"【算定除外期間】：夏季休暇（8月13日～8月15日）、年末年始（12月29日～翌年1月3日）は算定期間の分母・分子に含めない",null,null,null,null,null,null,null,null,null,null,null,null,null,null,null,null,null,null,null,null,null,null,null,null,null,null,null,null,null,null,null,null,null,null,null,null,null,null,null,null,null,"現場閉所率",{"$f":"IFERROR(+AT608/AT607,\"\")","v":""},{"$f":"IF(AT609>=0.285,\"4週8休以上\",\"週休2日未達成\")","v":"4週8休以上"},null,null,null,null,null,"【算定除外期間】：夏季休暇（8月13日～8月15日）、年末年始（12月29日～翌年1月3日）は算定期間の分母・分子に含めない",null,null,null,null,null,null,null,null,null,null,null,null,null,null,null,null,null,null,null,null,null,null,null,null,null,null,null,null,null,null,null,null,null,null,null,null,null,null,null,null,null,"現場閉所率",{"$f":"IFERROR(+CR608/CR607,\"\")","v":""},{"$f":"IF(CR609>=0.285,\"4週8休以上\",\"週休2日未達成\")","v":"4週8休以上"},null,null,null,"【算定除外期間】：夏季休暇（8月13日～8月15日）、年末年始（12月29日～翌年1月3日）は算定期間の分母・分子に含めない",null,null,null,null,null,null,null,null,null,null,null,null,null,null,null,null,null,null,null,null,null,null,null,null,null,null,null,null,null,null,null,null,null,null,null,null,null,null,null,null,null,"現場閉所率",{"$f":"IFERROR(+EN608/EN607,\"\")","v":""},{"$f":"IF(EN609>=0.285,\"4週8休以上\",\"週休2日未達成\")","v":"4週8休以上"}]
["",null,"※３工事期間の全ての月において、達成状況を確認し、一度でも達成できない月があれば、４週８休以上（月単位）は「未達成」となり、補正の対象とならない。\n　　月によっては、土日を全て閉所しても現場閉所率が28.5％に満たない場合があるが、その月の対象期間の土日日数以上閉所していれば達成とみなす。\n\n※４工事対象期間のうち、一度でも完全週休２日（月～日で２日以上の現場閉所）を達成できなければ、\n　　 完全週休２日は「未達成」となり、補正の対象とならない。\n　　 なお、工期始期・終期、年末年始、夏季休暇などにより、７日間に満たない期間は完全週休２日の達成判断の対象外とする。",null,null,null,null,null,null,null,null,null,null,null,null,null,null,null,null,null,null,null,null,null,null,null,null,null,null,null,null,null,null,null,null,null,null,null,null,null,null,null,null,"実施","全対象期間",{"$f":"IFERROR(AT581+AT597,\"\")","v":""},null,null,null,null,null,null,"※３工事期間の全ての月において、達成状況を確認し、一度でも達成できない月があれば、４週８休以上（月単位）は「未達成」となり、補正の対象とならない。\n　　月によっては、土日を全て閉所しても現場閉所率が28.5％に満たない場合があるが、その月の対象期間の土日日数以上閉所していれば達成とみなす。\n\n※４工事対象期間のうち、一度でも完全週休２日（月～日で２日以上の現場閉所）を達成できなければ、\n　　 完全週休２日は「未達成」となり、補正の対象とならない。\n　　 なお、工期始期・終期、年末年始、夏季休暇などにより、７日間に満たない期間は完全週休２日の達成判断の対象外とする。",null,null,null,null,null,null,null,null,null,null,null,null,null,null,null,null,null,null,null,null,null,null,null,null,null,null,null,null,null,null,null,null,null,null,null,null,null,null,null,null,"実施","全対象期間",{"$f":"IFERROR(CR581+CR597,\"\")","v":""},null,null,null,null,"※３工事期間の全ての月において、達成状況を確認し、一度でも達成できない月があれば、４週８休以上（月単位）は「未達成」となり、補正の対象とならない。\n　　月によっては、土日を全て閉所しても現場閉所率が28.5％に満たない場合があるが、その月の対象期間の土日日数以上閉所していれば達成とみなす。\n\n※４工事対象期間のうち、一度でも完全週休２日（月～日で２日以上の現場閉所）を達成できなければ、\n　　 完全週休２日は「未達成」となり、補正の対象とならない。\n　　 なお、工期始期・終期、年末年始、夏季休暇などにより、７日間に満たない期間は完全週休２日の達成判断の対象外とする。",null,null,null,null,null,null,null,null,null,null,null,null,null,null,null,null,null,null,null,null,null,null,null,null,null,null,null,null,null,null,null,null,null,null,null,null,null,null,null,null,"実施","全対象期間",{"$f":"IFERROR(EN581+EN597,\"\")","v":""}]
["",null,null,null,null,null,null,null,null,null,null,null,null,null,null,null,null,null,null,null,null,null,null,null,null,null,null,null,null,null,null,null,null,null,null,null,null,null,null,null,null,null,null,null,"全現場閉所日数",{"$f":"IFERROR(AT582+AT598,\"\")","v":""},null,null,null,null,null,null,null,null,null,null,null,null,null,null,null,null,null,null,null,null,null,null,null,null,null,null,null,null,null,null,null,null,null,null,null,null,null,null,null,null,null,null,null,null,null,null,null,null,"全現場閉所日数",{"$f":"IFERROR(CR582+CR598,\"\")","v":""},null,null,null,null,null,null,null,null,null,null,null,null,null,null,null,null,null,null,null,null,null,null,null,null,null,null,null,null,null,null,null,null,null,null,null,null,null,null,null,null,null,null,null,null,null,null,"全現場閉所日数",{"$f":"IFERROR(EN582+EN598,\"\")","v":""}]
["",null,null,null,null,null,null,null,null,null,null,null,null,null,null,null,null,null,null,null,null,null,null,null,null,null,null,null,null,null,null,null,null,null,null,null,null,null,null,null,null,null,null,null,"現場閉所率",{"$f":"IFERROR(+AT611/AT610,\"\")","v":""},{"$f":"IF(AT612>=0.285,\"4週8休以上\",\"週休2日未達成\")","v":"4週8休以上"},null,null,null,null,null,null,null,null,null,null,null,null,null,null,null,null,null,null,null,null,null,null,null,null,null,null,null,null,null,null,null,null,null,null,null,null,null,null,null,null,null,null,null,null,null,null,null,"現場閉所率",{"$f":"IFERROR(+CR611/CR610,\"\")","v":""},{"$f":"IF(CR612>=0.285,\"4週8休以上\",\"週休2日未達成\")","v":"4週8休以上"},null,null,null,null,null,null,null,null,null,null,null,null,null,null,null,null,null,null,null,null,null,null,null,null,null,null,null,null,null,null,null,null,null,null,null,null,null,null,null,null,null,null,null,null,null,"現場閉所率",{"$f":"IFERROR(+EN611/EN610,\"\")","v":""},{"$f":"IF(EN612>=0.285,\"4週8休以上\",\"週休2日未達成\")","v":"4週8休以上"}]
["",null,null,null,null,null,null,null,null,null,null,null,null,null,null,null,null,null,null,null,null,null,null,null,null,null,null,null,null,null,null,null,null,null,null,null,null,null,null,null,null,null,null,null,"閉所（月単位）",{"$f":"IFERROR(COUNTIF(AS$14:$AS603,\"4週8休以上\")/(COUNTIF(AS$14:$AS603,\"4週8休以上\")+COUNTIF(AS$14:$AS603,\"週休2日未達成\")),\"\")","v":""},{"$f":"IF(OR(AT613=100%,AT613=\"\"),\"達成\",\"未達成\")","v":"達成"},null,null,null,null,null,null,null,null,null,null,null,null,null,null,null,null,null,null,null,null,null,null,null,null,null,null,null,null,null,null,null,null,null,null,null,null,null,null,null,null,null,null,null,null,null,null,null,"閉所（月単位）",{"$f":"IFERROR(COUNTIF(CQ$14:$CQ603,\"4週8休以上\")/(COUNTIF(CQ$14:$CQ603,\"4週8休以上\")+COUNTIF(CQ$14:$CQ603,\"週休2日未達成\")),\"\")","v":0},{"$f":"IF(OR(CR613=100%,CR613=\"\"),\"達成\",\"未達成\")","v":"未達成"},null,null,null,null,null,null,null,null,null,null,null,null,null,null,null,null,null,null,null,null,null,null,null,null,null,null,null,null,null,null,null,null,null,null,null,null,null,null,null,null,null,null,null,null,null,"閉所（月単位）",{"$f":"IFERROR(COUNTIF($EM$14:EM603,\"4週8休以上\")/(COUNTIF($EM$14:EM603,\"4週8休以上\")+COUNTIF($EM$14:EM603,\"週休2日未達成\")),\"\")","v":1},{"$f":"IF(OR(EN613=100%,EN613=\"\"),\"達成\",\"未達成\")","v":"達成"}]
["",null,null,null,null,null,null,null,null,null,null,null,null,null,null,null,null,null,null,null,null,null,null,null,null,null,null,null,null,null,null,null,null,null,null,null,null,null,null,null,null,null,null,null,"完全週休二日",{"$f":"IF(COUNTIF(AS$14:$AS603,\"OUT\")>=1,\"OUT\",\"OK\")","v":"OK"},{"$f":"IF(AT614=\"OK\",\"達成\",\"未達成\")","v":"達成"},null,null,null,null,null,null,null,null,null,null,null,null,null,null,null,null,null,null,null,null,null,null,null,null,null,null,null,null,null,null,null,null,null,null,null,null,null,null,null,null,null,null,null,null,null,null,null,"完全週休二日",{"$f":"IF(COUNTIF(CQ$14:$CQ603,\"OUT\")>=1,\"OUT\",\"OK\")","v":"OUT"},{"$f":"IF(CR614=\"OK\",\"達成\",\"未達成\")","v":"未達成"},null,null,null,null,null,null,null,null,null,null,null,null,null,null,null,null,null,null,null,null,null,null,null,null,null,null,null,null,null,null,null,null,null,null,null,null,null,null,null,null,null,null,null,null,null,"完全週休二日",{"$f":"IF(COUNTIF($EM$14:EM603,\"OUT\")>=1,\"OUT\",\"OK\")","v":"OUT"},{"$f":"IF(EN614=\"OK\",\"達成\",\"未達成\")","v":"未達成"}]
["",null,"※必要に応じて各月の完全週休2日（月～日）の達成判定の行を修正してください。（曜日に合わせて修正）",null,null,null,null,null,null,null,null,null,null,null,null,null,null,null,null,null,null,null,null,null,null,null,null,null,null,null,null,null,null,null,null,null,null,null,null,null,null,null,null,null,null,null,null,null,null,null,null,null,"※必要に応じて各月の完全週休2日（月～日）の達成判定の行を修正してください。（曜日に合わせて修正）",null,null,null,null,null,null,null,null,null,null,null,null,null,null,null,null,null,null,null,null,null,null,null,null,null,null,null,null,null,null,null,null,null,null,null,null,null,null,null,null,null,null,null,null,null,null,null,"※必要に応じて各月の完全週休2日（月～日）の達成判定の行を修正してください。（曜日に合わせて修正）"]
[""]
[""]
[""]
[""]
[""]
["",null,"算定除外期間以外の祝日（ＧＷ含む）は、算定期間（分母）の対象＝現場閉所の場合は分子にカウントして現場閉所率を算定",null,null,null,null,null,null,null,null,null,null,null,null,null,null,null,null,null,null,null,null,null,null,null,null,null,null,null,null,null,null,null,null,null,null,null,null,null,null,null,null,null,null,null,null,null,null,null,null,null,"算定除外期間以外の祝日（ＧＷ含む）は、算定期間（分母）の対象＝現場閉所の場合は分子にカウントして現場閉所率を算定",null,null,null,null,null,null,null,null,null,null,null,null,null,null,null,null,null,null,null,null,null,null,null,null,null,null,null,null,null,null,null,null,null,null,null,null,null,null,null,null,null,null,null,null,null,null,null,"算定除外期間以外の祝日（ＧＷ含む）は、算定期間（分母）の対象＝現場閉所の場合は分子にカウントして現場閉所率を算定"]
[""]
[{"$f":"IF($AT$623=\"\",\"\",\"対象期間\")","v":""},null,"月",{"$f":"DATE(YEAR(D594),MONTH(D594)+1,1)","v":"2027-01-01"},null,null,null,null,null,null,null,null,null,null,null,null,null,null,null,null,null,null,null,null,null,null,null,null,null,null,null,null,null,null,{"$f":"DATE(YEAR(D623),MONTH(D623)+1,1)","v":"2027-02-01"},null,null,null,null,null,"現場閉所計","現場閉所累計",null,"計画","対象期間",{"$f":"IF(IF(MONTH(入力表!$E$6)=12,YEAR(入力表!$E$6)+1&\"01\",YEAR(入力表!$E$6)&TEXT(MONTH(入力表!$E$6)+1,\"00\"))>YEAR($D623)&TEXT(MONTH($D623),\"00\"),COUNTIF(D627:AH627,\"\")+COUNTIF(D627:AH627,\"○\"),\"\")","v":""},{"$f":"IF(COUNTIF(D624:AH624,\"／\")=0,\"\",IF(COUNTIF(D624:AH624,\"／\")=1,IF(AH627=\"／\",\"\",\"月末「／」漏れ\"),IF(COUNTIF(D624:AH624,\"／\")=2,IF(AND(AG627=\"／\",AH627=\"／\"),\"\",\"月末「／」漏れ\"),IF(AND(AF627=\"／\",AG627=\"／\",AH627=\"／\"),\"\",\"月末「／」漏れ\"))))","v":""},null,null,null,null,null,"月",{"$f":"DATE(YEAR(BB594),MONTH(BB594)+1,1)","v":"2027-01-01"},null,null,null,null,null,null,null,null,null,null,null,null,null,null,null,null,null,null,null,null,null,null,null,null,null,null,null,null,null,null,{"$f":"DATE(YEAR(BB623),MONTH(BB623)+1,1)","v":"2027-02-01"},null,null,null,null,null,"現場閉所計","現場閉所累計",null,"計画","対象期間",{"$f":"IF(IF(MONTH($BL$5)=12,YEAR($BL$5)+1&\"01\",YEAR($BL$5)&TEXT(MONTH($BL$5)+1,\"00\"))>YEAR(BB623)&TEXT(MONTH(BB623),\"00\"),COUNTIF(BB627:CF627,\"\")+COUNTIF(BB627:CF627,\"○\"),\"\")","v":""},{"$f":"IF(COUNTIF(BB624:CF624,\"／\")=0,\"\",IF(COUNTIF(BB624:CF624,\"／\")=1,IF(CF627=\"／\",\"\",\"月末「／」漏れ\"),IF(COUNTIF(BB624:CF624,\"／\")=2,IF(AND(CE627=\"／\",CF627=\"／\"),\"\",\"月末「／」漏れ\"),IF(AND(CD627=\"／\",CE627=\"／\",CF627=\"／\"),\"\",\"月末「／」漏れ\"))))","v":""},null,null,null,"月",{"$f":"DATE(YEAR(CX594),MONTH(CX594)+1,1)","v":"2027-01-01"},null,null,null,null,null,null,null,null,null,null,null,null,null,null,null,null,null,null,null,null,null,null,null,null,null,null,null,null,null,null,{"$f":"DATE(YEAR(CX623),MONTH(CX623)+1,1)","v":"2027-02-01"},null,null,null,null,null,"現場閉所計","現場閉所累計",null,"計画","対象期間",{"$f":"IF(IF(MONTH($BL$5)=12,YEAR($BL$5)+1&\"01\",YEAR($BL$5)&TEXT(MONTH($BL$5)+1,\"00\"))>YEAR($CX623)&TEXT(MONTH($CX623),\"00\"),COUNTIF(CX627:EB627,\"\")+COUNTIF(CX627:EB627,\"○\"),\"\")","v":""},{"$f":"IF(COUNTIF(CX624:EB624,\"／\")=0,\"\",IF(COUNTIF(CX624:EB624,\"／\")=1,IF(EB627=\"／\",\"\",\"月末「／」漏れ\"),IF(COUNTIF(CX624:EB624,\"／\")=2,IF(AND(EA627=\"／\",EB627=\"／\"),\"\",\"月末「／」漏れ\"),IF(AND(DZ627=\"／\",EA627=\"／\",EB627=\"／\"),\"\",\"月末「／」漏れ\"))))","v":""}]
[{"$f":"IF($AT$623=\"\",\"\",\"対象期間\")","v":""},null,"日",{"$f":"D623","v":"2027-01-01"},{"$f":"D624+1","v":"2027-01-02"},{"$f":"E624+1","v":"2027-01-03"},{"$f":"F624+1","v":"2027-01-04"},{"$f":"G624+1","v":"2027-01-05"},{"$f":"H624+1","v":"2027-01-06"},{"$f":"I624+1","v":"2027-01-07"},{"$f":"J624+1","v":"2027-01-08"},{"$f":"K624+1","v":"2027-01-09"},{"$f":"L624+1","v":"2027-01-10"},{"$f":"M624+1","v":"2027-01-11"},{"$f":"N624+1","v":"2027-01-12"},{"$f":"O624+1","v":"2027-01-13"},{"$f":"P624+1","v":"2027-01-14"},{"$f":"Q624+1","v":"2027-01-15"},{"$f":"R624+1","v":"2027-01-16"},{"$f":"S624+1","v":"2027-01-17"},{"$f":"T624+1","v":"2027-01-18"},{"$f":"U624+1","v":"2027-01-19"},{"$f":"V624+1","v":"2027-01-20"},{"$f":"W624+1","v":"2027-01-21"},{"$f":"X624+1","v":"2027-01-22"},{"$f":"Y624+1","v":"2027-01-23"},{"$f":"Z624+1","v":"2027-01-24"},{"$f":"AA624+1","v":"2027-01-25"},{"$f":"AB624+1","v":"2027-01-26"},{"$f":"AC624+1","v":"2027-01-27"},{"$f":"AD624+1","v":"2027-01-28"},{"$f":"IF(AE624=\"／\",\"／\",IF(YEAR($D623)&TEXT(MONTH($D623),\"00\")<YEAR(AE624+1)&TEXT(MONTH(AE624+1),\"00\"),\"／\",AE624+1))","v":"2027-01-29"},{"$f":"IF(AF624=\"／\",\"／\",IF(YEAR($D623)&TEXT(MONTH($D623),\"00\")<YEAR(AF624+1)&TEXT(MONTH(AF624+1),\"00\"),\"／\",AF624+1))","v":"2027-01-30"},{"$f":"IF(AG624=\"／\",\"／\",IF(YEAR($D623)&TEXT(MONTH($D623),\"00\")<YEAR(AG624+1)&TEXT(MONTH(AG624+1),\"00\"),\"／\",AG624+1))","v":"2027-01-31"},{"$f":"AI623","v":"2027-02-01"},{"$f":"AI624+1","v":"2027-02-02"},{"$f":"AJ624+1","v":"2027-02-03"},{"$f":"AK624+1","v":"2027-02-04"},{"$f":"AL624+1","v":"2027-02-05"},{"$f":"AM624+1","v":"2027-02-06"},null,null,null,null,"閉所日数",{"$f":"IF(IF(MONTH(入力表!$E$6)=12,YEAR(入力表!$E$6)+1&\"01\",YEAR(入力表!$E$6)&TEXT(MONTH(入力表!$E$6)+1,\"00\"))>YEAR($D623)&TEXT(MONTH($D623),\"00\"),COUNTIF(D627:AH627,\"○\"),\"\")","v":""},{"$f":"IF(OR(MONTH(D623)=1,MONTH(D623)=8,MONTH(D623)=12),IF(COUNTIF(D627:AH627,\"／\")>=3,\"\",\"算定除外「／」漏れ\"),\"\")","v":"算定除外「／」漏れ"},null,null,null,null,null,"日",{"$f":"BB623","v":"2027-01-01"},{"$f":"BB624+1","v":"2027-01-02"},{"$f":"BC624+1","v":"2027-01-03"},{"$f":"BD624+1","v":"2027-01-04"},{"$f":"BE624+1","v":"2027-01-05"},{"$f":"BF624+1","v":"2027-01-06"},{"$f":"BG624+1","v":"2027-01-07"},{"$f":"BH624+1","v":"2027-01-08"},{"$f":"BI624+1","v":"2027-01-09"},{"$f":"BJ624+1","v":"2027-01-10"},{"$f":"BK624+1","v":"2027-01-11"},{"$f":"BL624+1","v":"2027-01-12"},{"$f":"BM624+1","v":"2027-01-13"},{"$f":"BN624+1","v":"2027-01-14"},{"$f":"BO624+1","v":"2027-01-15"},{"$f":"BP624+1","v":"2027-01-16"},{"$f":"BQ624+1","v":"2027-01-17"},{"$f":"BR624+1","v":"2027-01-18"},{"$f":"BS624+1","v":"2027-01-19"},{"$f":"BT624+1","v":"2027-01-20"},{"$f":"BU624+1","v":"2027-01-21"},{"$f":"BV624+1","v":"2027-01-22"},{"$f":"BW624+1","v":"2027-01-23"},{"$f":"BX624+1","v":"2027-01-24"},{"$f":"BY624+1","v":"2027-01-25"},{"$f":"BZ624+1","v":"2027-01-26"},{"$f":"CA624+1","v":"2027-01-27"},{"$f":"CB624+1","v":"2027-01-28"},{"$f":"IF(CC624=\"／\",\"／\",IF(YEAR(BB623)&TEXT(MONTH(BB623),\"00\")<YEAR(CC624+1)&TEXT(MONTH(CC624+1),\"00\"),\"／\",CC624+1))","v":"2027-01-29"},{"$f":"IF(CD624=\"／\",\"／\",IF(YEAR(BB623)&TEXT(MONTH(BB623),\"00\")<YEAR(CD624+1)&TEXT(MONTH(CD624+1),\"00\"),\"／\",CD624+1))","v":"2027-01-30"},{"$f":"IF(CE624=\"／\",\"／\",IF(YEAR(BB623)&TEXT(MONTH(BB623),\"00\")<YEAR(CE624+1)&TEXT(MONTH(CE624+1),\"00\"),\"／\",CE624+1))","v":"2027-01-31"},{"$f":"CG623","v":"2027-02-01"},{"$f":"CG624+1","v":"2027-02-02"},{"$f":"CH624+1","v":"2027-02-03"},{"$f":"CI624+1","v":"2027-02-04"},{"$f":"CJ624+1","v":"2027-02-05"},{"$f":"CK624+1","v":"2027-02-06"},null,null,null,null,"閉所日数",{"$f":"IF(IF(MONTH($BL$5)=12,YEAR($BL$5)+1&\"01\",YEAR($BL$5)&TEXT(MONTH($BL$5)+1,\"00\"))>YEAR(BB623)&TEXT(MONTH(BB623),\"00\"),COUNTIF(BB627:CF627,\"○\"),\"\")","v":""},{"$f":"IF(OR(MONTH(BB623)=1,MONTH(BB623)=8,MONTH(BB623)=12),IF(COUNTIF(BB627:CF627,\"／\")>=3,\"\",\"算定除外「／」漏れ\"),\"\")","v":""},null,null,null,"日",{"$f":"CX623","v":"2027-01-01"},{"$f":"CX624+1","v":"2027-01-02"},{"$f":"CY624+1","v":"2027-01-03"},{"$f":"CZ624+1","v":"2027-01-04"},{"$f":"DA624+1","v":"2027-01-05"},{"$f":"DB624+1","v":"2027-01-06"},{"$f":"DC624+1","v":"2027-01-07"},{"$f":"DD624+1","v":"2027-01-08"},{"$f":"DE624+1","v":"2027-01-09"},{"$f":"DF624+1","v":"2027-01-10"},{"$f":"DG624+1","v":"2027-01-11"},{"$f":"DH624+1","v":"2027-01-12"},{"$f":"DI624+1","v":"2027-01-13"},{"$f":"DJ624+1","v":"2027-01-14"},{"$f":"DK624+1","v":"2027-01-15"},{"$f":"DL624+1","v":"2027-01-16"},{"$f":"DM624+1","v":"2027-01-17"},{"$f":"DN624+1","v":"2027-01-18"},{"$f":"DO624+1","v":"2027-01-19"},{"$f":"DP624+1","v":"2027-01-20"},{"$f":"DQ624+1","v":"2027-01-21"},{"$f":"DR624+1","v":"2027-01-22"},{"$f":"DS624+1","v":"2027-01-23"},{"$f":"DT624+1","v":"2027-01-24"},{"$f":"DU624+1","v":"2027-01-25"},{"$f":"DV624+1","v":"2027-01-26"},{"$f":"DW624+1","v":"2027-01-27"},{"$f":"DX624+1","v":"2027-01-28"},{"$f":"IF(DY624=\"／\",\"／\",IF(YEAR(CX623)&TEXT(MONTH(CX623),\"00\")<YEAR(DY624+1)&TEXT(MONTH(DY624+1),\"00\"),\"／\",DY624+1))","v":"2027-01-29"},{"$f":"IF(DZ624=\"／\",\"／\",IF(YEAR(CX623)&TEXT(MONTH(CX623),\"00\")<YEAR(DZ624+1)&TEXT(MONTH(DZ624+1),\"00\"),\"／\",DZ624+1))","v":"2027-01-30"},{"$f":"IF(EA624=\"／\",\"／\",IF(YEAR(CX623)&TEXT(MONTH(CX623),\"00\")<YEAR(EA624+1)&TEXT(MONTH(EA624+1),\"00\"),\"／\",EA624+1))","v":"2027-01-31"},{"$f":"EC623","v":"2027-02-01"},{"$f":"EC624+1","v":"2027-02-02"},{"$f":"ED624+1","v":"2027-02-03"},{"$f":"EE624+1","v":"2027-02-04"},{"$f":"EF624+1","v":"2027-02-05"},{"$f":"EG624+1","v":"2027-02-06"},null,null,null,null,"閉所日数",{"$f":"IF(IF(MONTH($BL$5)=12,YEAR($BL$5)+1&\"01\",YEAR($BL$5)&TEXT(MONTH($BL$5)+1,\"00\"))>YEAR($CX623)&TEXT(MONTH($CX623),\"00\"),COUNTIF(CX627:EB627,\"○\"),\"\")","v":""},{"$f":"IF(OR(MONTH(CX623)=1,MONTH(CX623)=8,MONTH(CX623)=12),IF(COUNTIF(CX627:EB627,\"／\")>=3,\"\",\"算定除外「／」漏れ\"),\"\")","v":""}]
["",null,"曜日",{"$f":"TEXT(WEEKDAY(+D624),\"aaa\")","v":"金"},{"$f":"TEXT(WEEKDAY(+E624),\"aaa\")","v":"土"},"日","月","火",{"$f":"TEXT(WEEKDAY(+I624),\"aaa\")","v":"水"},{"$f":"TEXT(WEEKDAY(+J624),\"aaa\")","v":"木"},"金","土","日","月","火","水","木","金","土","日","月","火","水","木","金",{"$f":"TEXT(WEEKDAY(+Z624),\"aaa\")","v":"土"},{"$f":"TEXT(WEEKDAY(+AA624),\"aaa\")","v":"日"},"月","火","水","木",{"$f":"IF(AF624=\"／\",\"／\",TEXT(WEEKDAY(+AF624),\"aaa\"))","v":"金"},{"$f":"IF(AG624=\"／\",\"／\",TEXT(WEEKDAY(+AG624),\"aaa\"))","v":"土"},"日",{"$f":"TEXT(WEEKDAY(+AI624),\"aaa\")","v":"月"},{"$f":"TEXT(WEEKDAY(+AJ624),\"aaa\")","v":"火"},"水","木","金","土",null,null,null,null,"現場閉所率",{"$f":"IFERROR(+AT624/AT623,\"\")","v":""},{"$f":"IF(AT625=\"\",\"\",IF(COUNTIF(D627:AH627,\"○\")>=COUNTIF(D630:AH630,\"◎\"),\"4週8休以上\",IF(AT625>=0.285,\"4週8休以上\",\"週休2日未達成\")))","v":""},null,null,null,null,null,"曜日",{"$f":"TEXT(WEEKDAY(+BB624),\"aaa\")","v":"金"},{"$f":"TEXT(WEEKDAY(+BC624),\"aaa\")","v":"土"},"日","月","火",{"$f":"TEXT(WEEKDAY(+BG624),\"aaa\")","v":"水"},{"$f":"TEXT(WEEKDAY(+BH624),\"aaa\")","v":"木"},"金","土","日","月","火","水","木","金","土","日","月","火","水","木","金",{"$f":"TEXT(WEEKDAY(+BX624),\"aaa\")","v":"土"},{"$f":"TEXT(WEEKDAY(+BY624),\"aaa\")","v":"日"},"月","火","水","木",{"$f":"IF(CD624=\"／\",\"／\",TEXT(WEEKDAY(+CD624),\"aaa\"))","v":"金"},{"$f":"IF(CE624=\"／\",\"／\",TEXT(WEEKDAY(+CE624),\"aaa\"))","v":"土"},"日",{"$f":"TEXT(WEEKDAY(+CG624),\"aaa\")","v":"月"},{"$f":"TEXT(WEEKDAY(+CH624),\"aaa\")","v":"火"},"水","木","金","土",null,null,null,null,"現場閉所率",{"$f":"IFERROR(+CR624/CR623,\"\")","v":""},{"$f":"IF(CR625=\"\",\"\",IF(COUNTIF(BB627:CF627,\"○\")>=COUNTIF(BB630:CF630,\"◎\"),\"4週8休以上\",IF(CR625>=0.285,\"4週8休以上\",\"週休2日未達成\")))","v":""},null,null,null,"曜日",{"$f":"TEXT(WEEKDAY(+CX624),\"aaa\")","v":"金"},{"$f":"TEXT(WEEKDAY(+CY624),\"aaa\")","v":"土"},"日","月","火",{"$f":"TEXT(WEEKDAY(+DC624),\"aaa\")","v":"水"},{"$f":"TEXT(WEEKDAY(+DD624),\"aaa\")","v":"木"},"金","土","日","月","火","水","木","金","土","日","月","火","水","木","金",{"$f":"TEXT(WEEKDAY(+DT624),\"aaa\")","v":"土"},{"$f":"TEXT(WEEKDAY(+DU624),\"aaa\")","v":"日"},"月","火","水","木",{"$f":"IF(DZ624=\"／\",\"／\",TEXT(WEEKDAY(+DZ624),\"aaa\"))","v":"金"},{"$f":"IF(EA624=\"／\",\"／\",TEXT(WEEKDAY(+EA624),\"aaa\"))","v":"土"},"日",{"$f":"TEXT(WEEKDAY(+EC624),\"aaa\")","v":"月"},{"$f":"TEXT(WEEKDAY(+ED624),\"aaa\")","v":"火"},"水","木","金","土",null,null,null,null,"現場閉所率",{"$f":"IFERROR(+EN624/EN623,\"\")","v":""},{"$f":"IF(EN625=\"\",\"\",IF(COUNTIF(CX627:EB627,\"○\")>=COUNTIF(CX630:EB630,\"◎\"),\"4週8休以上\",IF(EN625>=0.285,\"4週8休以上\",\"週休2日未達成\")))","v":""}]
["",null,"行事",null,null,null,null,null,null,null,null,null,null,null,null,null,null,null,null,null,null,null,null,null,null,null,null,null,null,null,null,null,null,null,{"$f":"IF(D655=\"\",\"\",D655)","v":""},{"$f":"IF(E655=\"\",\"\",E655)","v":""},{"$f":"IF(F655=\"\",\"\",F655)","v":""},{"$f":"IF(G655=\"\",\"\",G655)","v":""},{"$f":"IF(H655=\"\",\"\",H655)","v":""},{"$f":"IF(I655=\"\",\"\",I655)","v":""},null,null,null,"実施","対象期間",{"$f":"IF(IF(MONTH(入力表!$E$6)=12,YEAR(入力表!$E$6)+1&\"01\",YEAR(入力表!$E$6)&TEXT(MONTH(入力表!$E$6)+1,\"00\"))>YEAR($D623)&TEXT(MONTH($D623),\"00\"),COUNTIF(D628:AH628,\"\")+COUNTIF(D628:AH628,\"●\"),\"\")","v":""},{"$f":"IF(COUNTIF(D624:AH624,\"／\")=0,\"\",IF(COUNTIF(D624:AH624,\"／\")=1,IF(AH628=\"／\",\"\",\"月末「／」漏れ\"),IF(COUNTIF(D624:AH624,\"／\")=2,IF(AND(AG628=\"／\",AH628=\"／\"),\"\",\"月末「／」漏れ\"),IF(AND(AF628=\"／\",AG628=\"／\",AH628=\"／\"),\"\",\"月末「／」漏れ\"))))","v":""},null,null,null,null,null,"行事",null,null,null,null,null,null,null,null,null,null,null,null,null,null,null,null,null,null,null,null,null,null,null,null,null,null,null,null,null,null,null,{"$f":"IF(BB655=\"\",\"\",BB655)","v":""},{"$f":"IF(BC655=\"\",\"\",BC655)","v":""},{"$f":"IF(BD655=\"\",\"\",BD655)","v":""},{"$f":"IF(BE655=\"\",\"\",BE655)","v":""},{"$f":"IF(BF655=\"\",\"\",BF655)","v":""},{"$f":"IF(BG655=\"\",\"\",BG655)","v":""},null,null,null,"実施","対象期間",{"$f":"IF(IF(MONTH($BL$5)=12,YEAR($BL$5)+1&\"01\",YEAR($BL$5)&TEXT(MONTH($BL$5)+1,\"00\"))>YEAR(BB623)&TEXT(MONTH(BB623),\"00\"),COUNTIF(BB628:CF628,\"\")+COUNTIF(BB628:CF628,\"●\"),\"\")","v":""},{"$f":"IF(COUNTIF(BB624:CF624,\"／\")=0,\"\",IF(COUNTIF(BB624:CF624,\"／\")=1,IF(CF628=\"／\",\"\",\"月末「／」漏れ\"),IF(COUNTIF(BB624:CF624,\"／\")=2,IF(AND(CE628=\"／\",CF628=\"／\"),\"\",\"月末「／」漏れ\"),IF(AND(CD628=\"／\",CE628=\"／\",CF628=\"／\"),\"\",\"月末「／」漏れ\"))))","v":""},null,null,null,"行事",null,null,null,null,null,null,null,null,null,null,null,null,null,null,null,null,null,null,null,null,null,null,null,null,null,null,null,null,null,null,null,{"$f":"IF(CX655=\"\",\"\",CX655)","v":""},{"$f":"IF(CY655=\"\",\"\",CY655)","v":""},{"$f":"IF(CZ655=\"\",\"\",CZ655)","v":""},{"$f":"IF(DA655=\"\",\"\",DA655)","v":""},{"$f":"IF(DB655=\"\",\"\",DB655)","v":""},{"$f":"IF(DC655=\"\",\"\",DC655)","v":""},null,null,null,"実施","対象期間",{"$f":"IF(IF(MONTH($BL$5)=12,YEAR($BL$5)+1&\"01\",YEAR($BL$5)&TEXT(MONTH($BL$5)+1,\"00\"))>YEAR($CX623)&TEXT(MONTH($CX623),\"00\"),COUNTIF(CX628:EB628,\"\")+COUNTIF(CX628:EB628,\"●\"),\"\")","v":""},{"$f":"IF(COUNTIF(CX624:EB624,\"／\")=0,\"\",IF(COUNTIF(CX624:EB624,\"／\")=1,IF(EB628=\"／\",\"\",\"月末「／」漏れ\"),IF(COUNTIF(CX624:EB624,\"／\")=2,IF(AND(EA628=\"／\",EB628=\"／\"),\"\",\"月末「／」漏れ\"),IF(AND(DZ628=\"／\",EA628=\"／\",EB628=\"／\"),\"\",\"月末「／」漏れ\"))))","v":""}]
["",null,"計画",null,null,null,null,null,null,null,null,null,null,null,null,null,null,null,null,null,null,null,null,null,null,null,null,null,null,null,null,null,null,null,{"$f":"IF(D656=\"\",\"\",D656)","v":""},{"$f":"IF(E656=\"\",\"\",E656)","v":""},{"$f":"IF(F656=\"\",\"\",F656)","v":""},{"$f":"IF(G656=\"\",\"\",G656)","v":""},{"$f":"IF(H656=\"\",\"\",H656)","v":""},{"$f":"IF(I656=\"\",\"\",I656)","v":""},{"$f":"COUNTIF(D627:AH627,\"○\")","v":0},{"$f":"+AO627+AP598","v":0},null,null,"閉所日数",{"$f":"IF(IF(MONTH(入力表!$E$6)=12,YEAR(入力表!$E$6)+1&\"01\",YEAR(入力表!$E$6)&TEXT(MONTH(入力表!$E$6)+1,\"00\"))>YEAR($D623)&TEXT(MONTH($D623),\"00\"),COUNTIF(D628:AH628,\"●\"),\"\")","v":""},{"$f":"IF(OR(MONTH(D623)=1,MONTH(D623)=8,MONTH(D623)=12),IF(COUNTIF(D628:AH628,\"／\")>=3,\"\",\"算定除外「／」漏れ\"),\"\")","v":"算定除外「／」漏れ"},null,null,null,null,null,"計画","／","／","／",null,null,null,null,null,null,null,null,null,null,null,null,null,null,null,null,null,null,null,null,null,null,null,null,null,null,null,null,{"$f":"IF(BB656=\"\",\"\",BB656)","v":""},"","","","","",{"$f":"COUNTIF(BB627:CF627,\"○\")","v":0},{"$f":"+CM627+CN598","v":1},null,null,"閉所日数",{"$f":"IF(IF(MONTH($BL$5)=12,YEAR($BL$5)+1&\"01\",YEAR($BL$5)&TEXT(MONTH($BL$5)+1,\"00\"))>YEAR(BB623)&TEXT(MONTH(BB623),\"00\"),COUNTIF(BB628:CF628,\"●\"),\"\")","v":""},{"$f":"IF(OR(MONTH(BB623)=1,MONTH(BB623)=8,MONTH(BB623)=12),IF(COUNTIF(BB628:CF628,\"／\")>=3,\"\",\"算定除外「／」漏れ\"),\"\")","v":""},null,null,null,"計画","／","／","／",null,null,null,null,null,null,null,null,null,null,null,null,null,null,null,null,null,null,null,null,null,null,null,null,null,null,null,null,{"$f":"IF(CX656=\"\",\"\",CX656)","v":""},"","","","","",{"$f":"COUNTIF(CX627:EB627,\"○\")","v":0},{"$f":"+EI627+EJ598","v":0},null,null,"閉所日数",{"$f":"IF(IF(MONTH($BL$5)=12,YEAR($BL$5)+1&\"01\",YEAR($BL$5)&TEXT(MONTH($BL$5)+1,\"00\"))>YEAR($CX623)&TEXT(MONTH($CX623),\"00\"),COUNTIF(CX628:EB628,\"●\"),\"\")","v":""},{"$f":"IF(OR(MONTH(CX623)=1,MONTH(CX623)=8,MONTH(CX623)=12),IF(COUNTIF(CX628:EB628,\"／\")>=3,\"\",\"算定除外「／」漏れ\"),\"\")","v":""}]
["",null,"実施",null,null,null,null,null,null,null,null,null,null,null,null,null,null,null,null,null,null,null,null,null,null,null,null,null,null,null,null,null,null,null,{"$f":"IF(D657=\"\",\"\",D657)","v":""},{"$f":"IF(E657=\"\",\"\",E657)","v":""},{"$f":"IF(F657=\"\",\"\",F657)","v":""},{"$f":"IF(G657=\"\",\"\",G657)","v":""},{"$f":"IF(H657=\"\",\"\",H657)","v":""},{"$f":"IF(I657=\"\",\"\",I657)","v":""},{"$f":"COUNTIF(D628:AH628,\"●\")","v":0},{"$f":"+AO628+AP599","v":0},null,null,"現場閉所率",{"$f":"IFERROR(+AT627/AT626,\"\")","v":""},{"$f":"IF(AT628=\"\",\"\",IF(COUNTIF(D628:AH628,\"●\")>=COUNTIF(D631:AH631,\"◎\"),\"4週8休以上\",IF(AT628>=0.285,\"4週8休以上\",\"週休2日未達成\")))","v":""},null,null,null,null,null,"実施","／","／","／",null,null,null,null,null,null,null,null,null,null,null,null,null,null,null,null,null,null,null,null,null,null,null,null,null,null,null,null,{"$f":"IF(BB657=\"\",\"\",BB657)","v":""},{"$f":"IF(BC657=\"\",\"\",BC657)","v":""},{"$f":"IF(BD657=\"\",\"\",BD657)","v":""},{"$f":"IF(BE657=\"\",\"\",BE657)","v":""},{"$f":"IF(BF657=\"\",\"\",BF657)","v":""},{"$f":"IF(BG657=\"\",\"\",BG657)","v":""},{"$f":"COUNTIF(BB628:CF628,\"●\")","v":0},{"$f":"+CM628+CN599","v":0},null,null,"現場閉所率",{"$f":"IFERROR(+CR627/CR626,\"\")","v":""},{"$f":"IF(CR628=\"\",\"\",IF(COUNTIF(BB628:CF628,\"●\")>=COUNTIF(BB631:CF631,\"◎\"),\"4週8休以上\",IF(CR628>=0.285,\"4週8休以上\",\"週休2日未達成\")))","v":""},null,null,null,"実施","／","／","／",null,null,null,null,null,null,null,null,null,null,null,null,null,null,null,null,null,null,null,null,null,null,null,null,null,null,null,null,{"$f":"IF(CX657=\"\",\"\",CX657)","v":""},{"$f":"IF(CY657=\"\",\"\",CY657)","v":""},{"$f":"IF(CZ657=\"\",\"\",CZ657)","v":""},{"$f":"IF(DA657=\"\",\"\",DA657)","v":""},{"$f":"IF(DB657=\"\",\"\",DB657)","v":""},{"$f":"IF(DC657=\"\",\"\",DC657)","v":""},{"$f":"COUNTIF(CX628:EB628,\"●\")","v":0},{"$f":"+EI628+EJ599","v":0},null,null,"現場閉所率",{"$f":"IFERROR(+EN627/EN626,\"\")","v":""},{"$f":"IF(EN628=\"\",\"\",IF(COUNTIF(CX628:EB628,\"●\")>=COUNTIF(CX631:EB631,\"◎\"),\"4週8休以上\",IF(EN628>=0.285,\"4週8休以上\",\"週休2日未達成\")))","v":""}]
[null,null,null,1,2,3,4,5,6,7,8,9,10,11,12,13,14,15,16,17,18,19,20,21,22,23,24,25,26,27,28,29,30,31,32,33,34,35,36,37,null,null,null,null,{"$f":"AU628","v":""},null,null,null,null,null,null,null,null,1,2,3,4,5,6,7,8,9,10,11,12,13,14,15,16,17,18,19,20,21,22,23,24,25,26,27,28,29,30,31,32,33,34,35,36,37,null,null,null,null,{"$f":"CS628","v":""},null,null,null,null,null,null,1,2,3,4,5,6,7,8,9,10,11,12,13,14,15,16,17,18,19,20,21,22,23,24,25,26,27,28,29,30,31,32,33,34,35,36,37,null,null,null,null,{"$f":"EO628","v":""}]
[null,null,"計画",{"$f":"IF(D627=\"／\",\"／\",IF(OR(D625=\"土\",D625=\"日\"),\"◎\",\"\"))","v":""},{"$f":"IF(E627=\"／\",\"／\",IF(OR(E625=\"土\",E625=\"日\"),\"◎\",\"\"))","v":"◎"},"◎","","","","","","◎","◎","","","","","","◎","◎","","","","","","◎","◎","","",{"$f":"IF(AD627=\"／\",\"／\",IF(OR(AD625=\"土\",AD625=\"日\"),\"◎\",\"\"))","v":""},{"$f":"IF(AE627=\"／\",\"／\",IF(OR(AE625=\"土\",AE625=\"日\"),\"◎\",\"\"))","v":""},"","◎","◎","","","","","","◎",null,null,null,null,{"$f":"AT632","v":""},null,null,null,null,null,null,null,"計画",{"$f":"IF(BB627=\"／\",\"／\",IF(OR(BB625=\"土\",BB625=\"日\"),\"◎\",\"\"))","v":"／"},"／","／","","","","","","◎","◎","","",{"$f":"IF(BN627=\"／\",\"／\",IF(OR(BN625=\"土\",BN625=\"日\"),\"◎\",\"\"))","v":""},{"$f":"IF(BO627=\"／\",\"／\",IF(OR(BO625=\"土\",BO625=\"日\"),\"◎\",\"\"))","v":""},"","◎","◎","","","","","","◎","◎","","",{"$f":"IF(CB627=\"／\",\"／\",IF(OR(CB625=\"土\",CB625=\"日\"),\"◎\",\"\"))","v":""},{"$f":"IF(CC627=\"／\",\"／\",IF(OR(CC625=\"土\",CC625=\"日\"),\"◎\",\"\"))","v":""},"","◎","◎","","","","","","◎",null,null,null,null,{"$f":"CR632","v":""},null,null,null,null,null,"計画",{"$f":"IF(CX627=\"／\",\"／\",IF(OR(CX625=\"土\",CX625=\"日\"),\"◎\",\"\"))","v":"／"},"／","／","","","","","","◎","◎","","",{"$f":"IF(DJ627=\"／\",\"／\",IF(OR(DJ625=\"土\",DJ625=\"日\"),\"◎\",\"\"))","v":""},{"$f":"IF(DK627=\"／\",\"／\",IF(OR(DK625=\"土\",DK625=\"日\"),\"◎\",\"\"))","v":""},"","◎","◎","","","","","","◎","◎","","",{"$f":"IF(DX627=\"／\",\"／\",IF(OR(DX625=\"土\",DX625=\"日\"),\"◎\",\"\"))","v":""},{"$f":"IF(DY627=\"／\",\"／\",IF(OR(DY625=\"土\",DY625=\"日\"),\"◎\",\"\"))","v":""},"","◎","◎","","","","","","◎",null,null,null,null,{"$f":"EN632","v":""}]
[null,null,"実施",{"$f":"IF(D628=\"／\",\"／\",IF(OR(D625=\"土\",D625=\"日\"),\"◎\",\"\"))","v":""},{"$f":"IF(E628=\"／\",\"／\",IF(OR(E625=\"土\",E625=\"日\"),\"◎\",\"\"))","v":"◎"},"◎","","","","","","◎","◎","","","","","","◎","◎","","","","","","◎","◎","","","","","","◎","◎","","","","","","◎",null,null,null,null,null,null,null,null,null,null,null,null,"実施",{"$f":"IF(BB628=\"／\",\"／\",IF(OR(BB625=\"土\",BB625=\"日\"),\"◎\",\"\"))","v":"／"},{"$f":"IF(BC628=\"／\",\"／\",IF(OR(BC625=\"土\",BC625=\"日\"),\"◎\",\"\"))","v":"／"},"／","","","","","","◎","◎","","","","","","◎","◎","","","","","","◎","◎","","","","","","◎","◎","","","","","","◎",null,null,null,null,null,null,null,null,null,null,"実施",{"$f":"IF(CX628=\"／\",\"／\",IF(OR(CX625=\"土\",CX625=\"日\"),\"◎\",\"\"))","v":"／"},{"$f":"IF(CY628=\"／\",\"／\",IF(OR(CY625=\"土\",CY625=\"日\"),\"◎\",\"\"))","v":"／"},"／","","","","","","◎","◎","","","","","","◎","◎","","","","","","◎","◎","","","","","","◎","◎","","","","","","◎"]
["",null,"完全",{"$f":"IF(WEEKDAY(DATE(YEAR(D623),MONTH(D623),1),2)=1,DATE(YEAR(D623),MONTH(D623),1),EOMONTH(D623,-1)-MOD(WEEKDAY(EOMONTH(D623,-1),2)+6,7))","v":"2026-12-28"},"～",{"$f":"DATE(YEAR(D623),MONTH(D623),1)+MOD(7-WEEKDAY(DATE(YEAR(D623),MONTH(D623),1),2),7)","v":"2027-01-03"},{"$f":"IF(DAY(D632)=1,IF(COUNTIF(D628:J628,\"／\")>=1,\"対象外\",IF(COUNTIF(INDEX(D628:AN628,DAY(D632)):INDEX(D628:AN628,HLOOKUP(F632,D624:AN629,6,FALSE)),\"\")+COUNTIF(INDEX(D628:AN628,DAY(D632)):INDEX(D628:AN628,HLOOKUP(F632,D624:AN629,6,FALSE)),\"●\")=7,IF(COUNTIF(INDEX(D628:AN628,DAY(D632)):INDEX(D628:AN628,HLOOKUP(F632,D624:AN629,6,FALSE)),\"●\")>=2,\"OK\",\"OUT\"),IF(COUNTIF(INDEX(D628:AN628,DAY(D632)):INDEX(D628:AN628,HLOOKUP(F632,D624:AN629,6,FALSE)),\"●\")>=COUNTIF(INDEX(D631:AN631,DAY(D632)):INDEX(D631:AN631,HLOOKUP(F632,D624:AN629,6,FALSE)),\"○\"),\"OK\",\"OUT\"))),IF(AND(AK603=\"\",AE603=\"\"),Y603,IF(AK603=\"\",AE603,AK603)))","v":"OUT"},null,null,{"$f":"F632+1","v":"2027-01-04"},"～",{"$f":"F632+7","v":"2027-01-10"},{"$f":"IF(COUNTIF(INDEX(D628:AN628,DAY(J632)):INDEX(D628:AN628,HLOOKUP(L632,D624:AN629,6,FALSE)),\"\")+COUNTIF(INDEX(D628:AN628,DAY(J632)):INDEX(D628:AN628,HLOOKUP(L632,D624:AN629,6,FALSE)),\"●\")=7,IF(COUNTIF(INDEX(D628:AN628,DAY(J632)):INDEX(D628:AN628,HLOOKUP(L632,D624:AN629,6,FALSE)),\"●\")>=2,\"OK\",\"OUT\"),\"対象外\")","v":"OUT"},null,null,{"$f":"L632+1","v":"2027-01-11"},"～",{"$f":"L632+7","v":"2027-01-17"},{"$f":"IF(COUNTIF(INDEX(D628:AN628,DAY(P632)):INDEX(D628:AN628,HLOOKUP(R632,D624:AN629,6,FALSE)),\"\")+COUNTIF(INDEX(D628:AN628,DAY(P632)):INDEX(D628:AN628,HLOOKUP(R632,D624:AN629,6,FALSE)),\"●\")=7,IF(COUNTIF(INDEX(D628:AN628,DAY(P632)):INDEX(D628:AN628,HLOOKUP(R632,D624:AN629,6,FALSE)),\"●\")>=2,\"OK\",\"OUT\"),\"対象外\")","v":"OUT"},null,null,{"$f":"R632+1","v":"2027-01-18"},"～",{"$f":"R632+7","v":"2027-01-24"},{"$f":"IF(COUNTIF(INDEX(D628:AN628,DAY(V632)):INDEX(D628:AN628,HLOOKUP(X632,D624:AN629,6,FALSE)),\"\")+COUNTIF(INDEX(D628:AN628,DAY(V632)):INDEX(D628:AN628,HLOOKUP(X632,D624:AN629,6,FALSE)),\"●\")=7,IF(COUNTIF(INDEX(D628:AN628,DAY(V632)):INDEX(D628:AN628,HLOOKUP(X632,D624:AN629,6,FALSE)),\"●\")>=2,\"OK\",\"OUT\"),\"対象外\")","v":"OUT"},null,null,{"$f":"IF(AND(DAY(X632+7)<23,DAY(X632+7)>=7),\"\",X632+1)","v":"2027-01-25"},{"$f":"IF(AND(DAY(X632+7)<23,DAY(X632+7)>=7),\"\",\"～\")","v":"～"},{"$f":"IF(AND(DAY(X632+7)<23,DAY(X632+7)>=7),\"\",X632+7)","v":"2027-01-31"},{"$f":"IF(AND(DAY(X632+7)<23,DAY(X632+7)>=7),\"\",IF(COUNTIF(INDEX(D628:AN628,DAY(AB632)):INDEX(D628:AN628,HLOOKUP(AD632,D624:AN629,6,FALSE)),\"\")+COUNTIF(INDEX(D628:AN628,DAY(AB632)):INDEX(D628:AN628,HLOOKUP(AD632,D624:AN629,6,FALSE)),\"●\")=7,IF(COUNTIF(INDEX(D628:AN628,DAY(AB632)):INDEX(D628:AN628,HLOOKUP(AD632,D624:AN629,6,FALSE)),\"●\")>=2,\"OK\",\"OUT\"),IF(COUNTIF(INDEX(D628:AN628,DAY(AB632)):INDEX(D628:AN628,HLOOKUP(AD632,D624:AN629,6,FALSE)),\"\")+COUNTIF(INDEX(D628:AN628,DAY(AB632)):INDEX(D628:AN628,HLOOKUP(AD632,D624:AN629,6,FALSE)),\"●\")>7,\"「／」漏れ\",\"対象外\")))","v":"OUT"},null,null,{"$f":"IF(AE632=\"\",\"\",IF(AND(DAY(AD632+7)<23,DAY(AD632+7)>=7),\"\",AD632+1))","v":""},{"$f":"IF(AE632=\"\",\"\",IF(AND(DAY(AD632+7)<23,DAY(AD632+7)>=7),\"\",\"～\"))","v":""},{"$f":"IF(AE632=\"\",\"\",IF(AND(DAY(AD632+7)<23,DAY(AD632+7)>=7),\"\",AD632+7))","v":""},{"$f":"IF(AE632=\"\",\"\",IF(AND(DAY(AD632+7)<23,DAY(AD632+7)>=7),\"\",IF(COUNTIF(INDEX(D628:AN628,DAY(AH632)):INDEX(D628:AN628,HLOOKUP(AJ632,D624:AN629,6,FALSE)),\"\")+COUNTIF(INDEX(D628:AN628,DAY(AH632)):INDEX(D628:AN628,HLOOKUP(AJ632,D624:AN629,6,FALSE)),\"●\")=7,IF(COUNTIF(INDEX(D628:AN628,DAY(AH632)):INDEX(D628:AN628,HLOOKUP(AJ632,D624:AN629,6,FALSE)),\"●\")>=2,\"OK\",\"OUT\"),IF(COUNTIF(INDEX(D628:AN628,HLOOKUP(AH632,D624:AN629,6,FALSE)):INDEX(D628:AN628,HLOOKUP(AJ632,D624:AN629,6,FALSE)),\"\")+COUNTIF(INDEX(D628:AN628,HLOOKUP(AH632,D624:AN629,6,FALSE)):INDEX(D628:AN628,HLOOKUP(AJ632,D624:AN629,6,FALSE)),\"●\")>7,\"「／」漏れ\",\"対象外\"))))","v":""},null,null,null,null,null,null,null,"完全週休二日",{"$f":"IF(AT623=\"\",\"\",IF(COUNTIF(D632:AN632,\"OUT\")>=1,\"OUT\",\"OK\"))","v":""},null,null,null,null,null,null,"完全",{"$f":"IF(WEEKDAY(DATE(YEAR(BB623),MONTH(BB623),1),2)=1,DATE(YEAR(BB623),MONTH(BB623),1),EOMONTH(BB623,-1)-MOD(WEEKDAY(EOMONTH(BB623,-1),2)+6,7))","v":"2026-12-28"},"～",{"$f":"DATE(YEAR(BB623),MONTH(BB623),1)+MOD(7-WEEKDAY(DATE(YEAR(BB623),MONTH(BB623),1),2),7)","v":"2027-01-03"},{"$f":"IF(DAY(BB632)=1,IF(COUNTIF(BB628:BH628,\"／\")>=1,\"対象外\",IF(COUNTIF(INDEX(BB628:CL628,DAY(BB632)):INDEX(BB628:CL628,HLOOKUP(BD632,BB624:CL629,6,FALSE)),\"\")+COUNTIF(INDEX(BB628:CL628,DAY(BB632)):INDEX(BB628:CL628,HLOOKUP(BD632,BB624:CL629,6,FALSE)),\"●\")=7,IF(COUNTIF(INDEX(BB628:CL628,DAY(BB632)):INDEX(BB628:CL628,HLOOKUP(BD632,BB624:CL629,6,FALSE)),\"●\")>=2,\"OK\",\"OUT\"),IF(COUNTIF(INDEX(BB628:CL628,DAY(BB632)):INDEX(BB628:CL628,HLOOKUP(BD632,BB624:CL629,6,FALSE)),\"●\")>=COUNTIF(INDEX(BB631:CL631,DAY(BB632)):INDEX(BB631:CL631,HLOOKUP(BD632,BB624:CL629,6,FALSE)),\"○\"),\"OK\",\"OUT\"))),IF(AND(CI603=\"\",CC603=\"\"),BW603,IF(CI603=\"\",CC603,CI603)))","v":"対象外"},null,null,{"$f":"BD632+1","v":"2027-01-04"},"～",{"$f":"BD632+7","v":"2027-01-10"},{"$f":"IF(COUNTIF(INDEX(BB628:CL628,DAY(BH632)):INDEX(BB628:CL628,HLOOKUP(BJ632,BB624:CL629,6,FALSE)),\"\")+COUNTIF(INDEX(BB628:CL628,DAY(BH632)):INDEX(BB628:CL628,HLOOKUP(BJ632,BB624:CL629,6,FALSE)),\"●\")=7,IF(COUNTIF(INDEX(BB628:CL628,DAY(BH632)):INDEX(BB628:CL628,HLOOKUP(BJ632,BB624:CL629,6,FALSE)),\"●\")>=2,\"OK\",\"OUT\"),\"対象外\")","v":"OUT"},null,null,{"$f":"BJ632+1","v":"2027-01-11"},"～",{"$f":"BJ632+7","v":"2027-01-17"},{"$f":"IF(COUNTIF(INDEX(BB628:CL628,DAY(BN632)):INDEX(BB628:CL628,HLOOKUP(BP632,BB624:CL629,6,FALSE)),\"\")+COUNTIF(INDEX(BB628:CL628,DAY(BN632)):INDEX(BB628:CL628,HLOOKUP(BP632,BB624:CL629,6,FALSE)),\"●\")=7,IF(COUNTIF(INDEX(BB628:CL628,DAY(BN632)):INDEX(BB628:CL628,HLOOKUP(BP632,BB624:CL629,6,FALSE)),\"●\")>=2,\"OK\",\"OUT\"),\"対象外\")","v":"OUT"},null,null,{"$f":"BP632+1","v":"2027-01-18"},"～",{"$f":"BP632+7","v":"2027-01-24"},{"$f":"IF(COUNTIF(INDEX(BB628:CL628,DAY(BT632)):INDEX(BB628:CL628,HLOOKUP(BV632,BB624:CL629,6,FALSE)),\"\")+COUNTIF(INDEX(BB628:CL628,DAY(BT632)):INDEX(BB628:CL628,HLOOKUP(BV632,BB624:CL629,6,FALSE)),\"●\")=7,IF(COUNTIF(INDEX(BB628:CL628,DAY(BT632)):INDEX(BB628:CL628,HLOOKUP(BV632,BB624:CL629,6,FALSE)),\"●\")>=2,\"OK\",\"OUT\"),\"対象外\")","v":"OUT"},null,null,{"$f":"IF(AND(DAY(BV632+7)<23,DAY(BV632+7)>=7),\"\",BV632+1)","v":"2027-01-25"},{"$f":"IF(AND(DAY(BV632+7)<23,DAY(BV632+7)>=7),\"\",\"～\")","v":"～"},{"$f":"IF(AND(DAY(BV632+7)<23,DAY(BV632+7)>=7),\"\",BV632+7)","v":"2027-01-31"},{"$f":"IF(AND(DAY(BV632+7)<23,DAY(BV632+7)>=7),\"\",IF(COUNTIF(INDEX(BB628:CL628,DAY(BZ632)):INDEX(BB628:CL628,HLOOKUP(CB632,BB624:CL629,6,FALSE)),\"\")+COUNTIF(INDEX(BB628:CL628,DAY(BZ632)):INDEX(BB628:CL628,HLOOKUP(CB632,BB624:CL629,6,FALSE)),\"●\")=7,IF(COUNTIF(INDEX(BB628:CL628,DAY(BZ632)):INDEX(BB628:CL628,HLOOKUP(CB632,BB624:CL629,6,FALSE)),\"●\")>=2,\"OK\",\"OUT\"),IF(COUNTIF(INDEX(BB628:CL628,DAY(BZ632)):INDEX(BB628:CL628,HLOOKUP(CB632,BB624:CL629,6,FALSE)),\"\")+COUNTIF(INDEX(BB628:CL628,DAY(BZ632)):INDEX(BB628:CL628,HLOOKUP(CB632,BB624:CL629,6,FALSE)),\"●\")>7,\"「／」漏れ\",\"対象外\")))","v":"OUT"},null,null,{"$f":"IF(CC632=\"\",\"\",IF(AND(DAY(CB632+7)<23,DAY(CB632+7)>=7),\"\",CB632+1))","v":""},{"$f":"IF(CC632=\"\",\"\",IF(AND(DAY(CB632+7)<23,DAY(CB632+7)>=7),\"\",\"～\"))","v":""},{"$f":"IF(CC632=\"\",\"\",IF(AND(DAY(CB632+7)<23,DAY(CB632+7)>=7),\"\",CB632+7))","v":""},{"$f":"IF(CC632=\"\",\"\",IF(AND(DAY(CB632+7)<23,DAY(CB632+7)>=7),\"\",IF(COUNTIF(INDEX(BB628:CL628,DAY(CF632)):INDEX(BB628:CL628,HLOOKUP(CH632,BB624:CL629,6,FALSE)),\"\")+COUNTIF(INDEX(BB628:CL628,DAY(CF632)):INDEX(BB628:CL628,HLOOKUP(CH632,BB624:CL629,6,FALSE)),\"●\")=7,IF(COUNTIF(INDEX(BB628:CL628,DAY(CF632)):INDEX(BB628:CL628,HLOOKUP(CH632,BB624:CL629,6,FALSE)),\"●\")>=2,\"OK\",\"OUT\"),IF(COUNTIF(INDEX(BB628:CL628,HLOOKUP(CF632,BB624:CL629,6,FALSE)):INDEX(BB628:CL628,HLOOKUP(CH632,BB624:CL629,6,FALSE)),\"\")+COUNTIF(INDEX(BB628:CL628,HLOOKUP(CF632,BB624:CL629,6,FALSE)):INDEX(BB628:CL628,HLOOKUP(CH632,BB624:CL629,6,FALSE)),\"●\")>7,\"「／」漏れ\",\"対象外\"))))","v":""},null,null,null,null,null,null,null,"完全週休二日",{"$f":"IF(CR623=\"\",\"\",IF(COUNTIF(BB632:CL632,\"OUT\")>=1,\"OUT\",\"OK\"))","v":""},null,null,null,null,"完全",{"$f":"IF(WEEKDAY(DATE(YEAR(CX623),MONTH(CX623),1),2)=1,DATE(YEAR(CX623),MONTH(CX623),1),EOMONTH(CX623,-1)-MOD(WEEKDAY(EOMONTH(CX623,-1),2)+6,7))","v":"2026-12-28"},"～",{"$f":"DATE(YEAR(CX623),MONTH(CX623),1)+MOD(7-WEEKDAY(DATE(YEAR(CX623),MONTH(CX623),1),2),7)","v":"2027-01-03"},{"$f":"IF(DAY(CX632)=1,IF(COUNTIF(CX628:DD628,\"／\")>=1,\"対象外\",IF(COUNTIF(INDEX(CX628:EH628,DAY(CX632)):INDEX(CX628:EH628,HLOOKUP(CZ632,CX624:EH629,6,FALSE)),\"\")+COUNTIF(INDEX(CX628:EH628,DAY(CX632)):INDEX(CX628:EH628,HLOOKUP(CZ632,CX624:EH629,6,FALSE)),\"●\")=7,IF(COUNTIF(INDEX(CX628:EH628,DAY(CX632)):INDEX(CX628:EH628,HLOOKUP(CZ632,CX624:EH629,6,FALSE)),\"●\")>=2,\"OK\",\"OUT\"),IF(COUNTIF(INDEX(CX628:EH628,DAY(CX632)):INDEX(CX628:EH628,HLOOKUP(CZ632,CX624:EH629,6,FALSE)),\"●\")>=COUNTIF(INDEX(CX631:EH631,DAY(CX632)):INDEX(CX631:EH631,HLOOKUP(CZ632,CX624:EH629,6,FALSE)),\"○\"),\"OK\",\"OUT\"))),IF(AND(EE603=\"\",DY603=\"\"),DS603,IF(EE603=\"\",DY603,EE603)))","v":"対象外"},null,null,{"$f":"CZ632+1","v":"2027-01-04"},"～",{"$f":"CZ632+7","v":"2027-01-10"},{"$f":"IF(COUNTIF(INDEX(CX628:EH628,DAY(DD632)):INDEX(CX628:EH628,HLOOKUP(DF632,CX624:EH629,6,FALSE)),\"\")+COUNTIF(INDEX(CX628:EH628,DAY(DD632)):INDEX(CX628:EH628,HLOOKUP(DF632,CX624:EH629,6,FALSE)),\"●\")=7,IF(COUNTIF(INDEX(CX628:EH628,DAY(DD632)):INDEX(CX628:EH628,HLOOKUP(DF632,CX624:EH629,6,FALSE)),\"●\")>=2,\"OK\",\"OUT\"),\"対象外\")","v":"OUT"},null,null,{"$f":"DF632+1","v":"2027-01-11"},"～",{"$f":"DF632+7","v":"2027-01-17"},{"$f":"IF(COUNTIF(INDEX(CX628:EH628,DAY(DJ632)):INDEX(CX628:EH628,HLOOKUP(DL632,CX624:EH629,6,FALSE)),\"\")+COUNTIF(INDEX(CX628:EH628,DAY(DJ632)):INDEX(CX628:EH628,HLOOKUP(DL632,CX624:EH629,6,FALSE)),\"●\")=7,IF(COUNTIF(INDEX(CX628:EH628,DAY(DJ632)):INDEX(CX628:EH628,HLOOKUP(DL632,CX624:EH629,6,FALSE)),\"●\")>=2,\"OK\",\"OUT\"),\"対象外\")","v":"OUT"},null,null,{"$f":"DL632+1","v":"2027-01-18"},"～",{"$f":"DL632+7","v":"2027-01-24"},{"$f":"IF(COUNTIF(INDEX(CX628:EH628,DAY(DP632)):INDEX(CX628:EH628,HLOOKUP(DR632,CX624:EH629,6,FALSE)),\"\")+COUNTIF(INDEX(CX628:EH628,DAY(DP632)):INDEX(CX628:EH628,HLOOKUP(DR632,CX624:EH629,6,FALSE)),\"●\")=7,IF(COUNTIF(INDEX(CX628:EH628,DAY(DP632)):INDEX(CX628:EH628,HLOOKUP(DR632,CX624:EH629,6,FALSE)),\"●\")>=2,\"OK\",\"OUT\"),\"対象外\")","v":"OUT"},null,null,{"$f":"IF(AND(DAY(DR632+7)<23,DAY(DR632+7)>=7),\"\",DR632+1)","v":"2027-01-25"},{"$f":"IF(AND(DAY(DR632+7)<23,DAY(DR632+7)>=7),\"\",\"～\")","v":"～"},{"$f":"IF(AND(DAY(DR632+7)<23,DAY(DR632+7)>=7),\"\",DR632+7)","v":"2027-01-31"},{"$f":"IF(AND(DAY(DR632+7)<23,DAY(DR632+7)>=7),\"\",IF(COUNTIF(INDEX(CX628:EH628,DAY(DV632)):INDEX(CX628:EH628,HLOOKUP(DX632,CX624:EH629,6,FALSE)),\"\")+COUNTIF(INDEX(CX628:EH628,DAY(DV632)):INDEX(CX628:EH628,HLOOKUP(DX632,CX624:EH629,6,FALSE)),\"●\")=7,IF(COUNTIF(INDEX(CX628:EH628,DAY(DV632)):INDEX(CX628:EH628,HLOOKUP(DX632,CX624:EH629,6,FALSE)),\"●\")>=2,\"OK\",\"OUT\"),IF(COUNTIF(INDEX(CX628:EH628,DAY(DV632)):INDEX(CX628:EH628,HLOOKUP(DX632,CX624:EH629,6,FALSE)),\"\")+COUNTIF(INDEX(CX628:EH628,DAY(DV632)):INDEX(CX628:EH628,HLOOKUP(DX632,CX624:EH629,6,FALSE)),\"●\")>7,\"「／」漏れ\",\"対象外\")))","v":"OUT"},null,null,{"$f":"IF(DY632=\"\",\"\",IF(AND(DAY(DX632+7)<23,DAY(DX632+7)>=7),\"\",DX632+1))","v":""},{"$f":"IF(DY632=\"\",\"\",IF(AND(DAY(DX632+7)<23,DAY(DX632+7)>=7),\"\",\"～\"))","v":""},{"$f":"IF(DY632=\"\",\"\",IF(AND(DAY(DX632+7)<23,DAY(DX632+7)>=7),\"\",DX632+7))","v":""},{"$f":"IF(DY632=\"\",\"\",IF(AND(DAY(DX632+7)<23,DAY(DX632+7)>=7),\"\",IF(COUNTIF(INDEX(CX628:EH628,DAY(EB632)):INDEX(CX628:EH628,HLOOKUP(ED632,CX624:EH629,6,FALSE)),\"\")+COUNTIF(INDEX(CX628:EH628,DAY(EB632)):INDEX(CX628:EH628,HLOOKUP(ED632,CX624:EH629,6,FALSE)),\"●\")=7,IF(COUNTIF(INDEX(CX628:EH628,DAY(EB632)):INDEX(CX628:EH628,HLOOKUP(ED632,CX624:EH629,6,FALSE)),\"●\")>=2,\"OK\",\"OUT\"),IF(COUNTIF(INDEX(CX628:EH628,HLOOKUP(EB632,CX624:EH629,6,FALSE)):INDEX(CX628:EH628,HLOOKUP(ED632,CX624:EH629,6,FALSE)),\"\")+COUNTIF(INDEX(CX628:EH628,HLOOKUP(EB632,CX624:EH629,6,FALSE)):INDEX(CX628:EH628,HLOOKUP(ED632,CX624:EH629,6,FALSE)),\"●\")>7,\"「／」漏れ\",\"対象外\"))))","v":""},null,null,null,null,null,null,null,"完全週休二日",{"$f":"IF(EN623=\"\",\"\",IF(COUNTIF(CX632:EH632,\"OUT\")>=1,\"OUT\",\"OK\"))","v":""}]
[""]
[{"$f":"IF(AND(NOT($AT$623=\"\"),$AT$652=\"\"),\"対象期間\",\"\")","v":""}]
[{"$f":"IF(AND(NOT($AT$623=\"\"),$AT$652=\"\"),\"対象期間\",\"\")","v":""},null,"※１工事着手日：始期日以降に準備工事（現場事務所の建設・測量等）、工場製作を含む工事における工場製作工に着手した日",null,null,null,null,null,null,null,null,null,null,null,null,null,null,null,null,null,null,null,null,null,null,null,null,null,null,null,null,null,null,null,null,null,null,null,null,null,null,null,null,"工事全体の確認",null,null,null,null,null,null,null,null,"※１工事着手日：始期日以降に準備工事（現場事務所の建設・測量等）、工場製作を含む工事における工場製作工に着手した日",null,null,null,null,null,null,null,null,null,null,null,null,null,null,null,null,null,null,null,null,null,null,null,null,null,null,null,null,null,null,null,null,null,null,null,null,null,null,null,null,"工事全体の確認",null,null,null,null,null,null,"※１工事着手日：始期日以降に準備工事（現場事務所の建設・測量等）、工場製作を含む工事における工場製作工に着手した日",null,null,null,null,null,null,null,null,null,null,null,null,null,null,null,null,null,null,null,null,null,null,null,null,null,null,null,null,null,null,null,null,null,null,null,null,null,null,null,null,"工事全体の確認"]
["",null,"※２作業完了日：工事施工範囲内で全ての作業（後片付けを含む）が完了した日\n　　　　　　　　　  （工事現場事務所は工事施工範囲外に設置するため、ここでいう後片付けの対象に含まない）",null,null,null,null,null,null,null,null,null,null,null,null,null,null,null,null,null,null,null,null,null,null,null,null,null,null,null,null,null,null,null,null,null,null,null,null,null,null,null,null,"計画","全対象期間",{"$f":"IFERROR(AT607+AT623,\"\")","v":""},null,null,null,null,null,null,"※２作業完了日：工事施工範囲内で全ての作業（後片付けを含む）が完了した日\n　　　　　　　　　  （工事現場事務所は工事施工範囲外に設置するため、ここでいう後片付けの対象に含まない）",null,null,null,null,null,null,null,null,null,null,null,null,null,null,null,null,null,null,null,null,null,null,null,null,null,null,null,null,null,null,null,null,null,null,null,null,null,null,null,null,"計画","全対象期間",{"$f":"IFERROR(CR607+CR623,\"\")","v":""},null,null,null,null,"※２作業完了日：工事施工範囲内で全ての作業（後片付けを含む）が完了した日\n　　　　　　　　　  （工事現場事務所は工事施工範囲外に設置するため、ここでいう後片付けの対象に含まない）",null,null,null,null,null,null,null,null,null,null,null,null,null,null,null,null,null,null,null,null,null,null,null,null,null,null,null,null,null,null,null,null,null,null,null,null,null,null,null,null,"計画","全対象期間",{"$f":"IFERROR(EN607+EN623,\"\")","v":""}]
["",null,null,null,null,null,null,null,null,null,null,null,null,null,null,null,null,null,null,null,null,null,null,null,null,null,null,null,null,null,null,null,null,null,null,null,null,null,null,null,null,null,null,null,"全現場閉所日数",{"$f":"IFERROR(AT608+AT624,\"\")","v":""},null,null,null,null,null,null,null,null,null,null,null,null,null,null,null,null,null,null,null,null,null,null,null,null,null,null,null,null,null,null,null,null,null,null,null,null,null,null,null,null,null,null,null,null,null,null,null,null,"全現場閉所日数",{"$f":"IFERROR(CR608+CR624,\"\")","v":""},null,null,null,null,null,null,null,null,null,null,null,null,null,null,null,null,null,null,null,null,null,null,null,null,null,null,null,null,null,null,null,null,null,null,null,null,null,null,null,null,null,null,null,null,null,null,"全現場閉所日数",{"$f":"IFERROR(EN608+EN624,\"\")","v":""}]
["",null,"【算定除外期間】：夏季休暇（8月13日～8月15日）、年末年始（12月29日～翌年1月3日）は算定期間の分母・分子に含めない",null,null,null,null,null,null,null,null,null,null,null,null,null,null,null,null,null,null,null,null,null,null,null,null,null,null,null,null,null,null,null,null,null,null,null,null,null,null,null,null,null,"現場閉所率",{"$f":"IFERROR(+AT637/AT636,\"\")","v":""},{"$f":"IF(AT638>=0.285,\"4週8休以上\",\"週休2日未達成\")","v":"4週8休以上"},null,null,null,null,null,"【算定除外期間】：夏季休暇（8月13日～8月15日）、年末年始（12月29日～翌年1月3日）は算定期間の分母・分子に含めない",null,null,null,null,null,null,null,null,null,null,null,null,null,null,null,null,null,null,null,null,null,null,null,null,null,null,null,null,null,null,null,null,null,null,null,null,null,null,null,null,null,"現場閉所率",{"$f":"IFERROR(+CR637/CR636,\"\")","v":""},{"$f":"IF(CR638>=0.285,\"4週8休以上\",\"週休2日未達成\")","v":"4週8休以上"},null,null,null,"【算定除外期間】：夏季休暇（8月13日～8月15日）、年末年始（12月29日～翌年1月3日）は算定期間の分母・分子に含めない",null,null,null,null,null,null,null,null,null,null,null,null,null,null,null,null,null,null,null,null,null,null,null,null,null,null,null,null,null,null,null,null,null,null,null,null,null,null,null,null,null,"現場閉所率",{"$f":"IFERROR(+EN637/EN636,\"\")","v":""},{"$f":"IF(EN638>=0.285,\"4週8休以上\",\"週休2日未達成\")","v":"4週8休以上"}]
["",null,"※３工事期間の全ての月において、達成状況を確認し、一度でも達成できない月があれば、４週８休以上（月単位）は「未達成」となり、補正の対象とならない。\n　　月によっては、土日を全て閉所しても現場閉所率が28.5％に満たない場合があるが、その月の対象期間の土日日数以上閉所していれば達成とみなす。\n\n※４工事対象期間のうち、一度でも完全週休２日（月～日で２日以上の現場閉所）を達成できなければ、\n　　 完全週休２日は「未達成」となり、補正の対象とならない。\n　　 なお、工期始期・終期、年末年始、夏季休暇などにより、７日間に満たない期間は完全週休２日の達成判断の対象外とする。",null,null,null,null,null,null,null,null,null,null,null,null,null,null,null,null,null,null,null,null,null,null,null,null,null,null,null,null,null,null,null,null,null,null,null,null,null,null,null,null,"実施","全対象期間",{"$f":"IFERROR(AT610+AT626,\"\")","v":""},null,null,null,null,null,null,"※３工事期間の全ての月において、達成状況を確認し、一度でも達成できない月があれば、４週８休以上（月単位）は「未達成」となり、補正の対象とならない。\n　　月によっては、土日を全て閉所しても現場閉所率が28.5％に満たない場合があるが、その月の対象期間の土日日数以上閉所していれば達成とみなす。\n\n※４工事対象期間のうち、一度でも完全週休２日（月～日で２日以上の現場閉所）を達成できなければ、\n　　 完全週休２日は「未達成」となり、補正の対象とならない。\n　　 なお、工期始期・終期、年末年始、夏季休暇などにより、７日間に満たない期間は完全週休２日の達成判断の対象外とする。",null,null,null,null,null,null,null,null,null,null,null,null,null,null,null,null,null,null,null,null,null,null,null,null,null,null,null,null,null,null,null,null,null,null,null,null,null,null,null,null,"実施","全対象期間",{"$f":"IFERROR(CR610+CR626,\"\")","v":""},null,null,null,null,"※３工事期間の全ての月において、達成状況を確認し、一度でも達成できない月があれば、４週８休以上（月単位）は「未達成」となり、補正の対象とならない。\n　　月によっては、土日を全て閉所しても現場閉所率が28.5％に満たない場合があるが、その月の対象期間の土日日数以上閉所していれば達成とみなす。\n\n※４工事対象期間のうち、一度でも完全週休２日（月～日で２日以上の現場閉所）を達成できなければ、\n　　 完全週休２日は「未達成」となり、補正の対象とならない。\n　　 なお、工期始期・終期、年末年始、夏季休暇などにより、７日間に満たない期間は完全週休２日の達成判断の対象外とする。",null,null,null,null,null,null,null,null,null,null,null,null,null,null,null,null,null,null,null,null,null,null,null,null,null,null,null,null,null,null,null,null,null,null,null,null,null,null,null,null,"実施","全対象期間",{"$f":"IFERROR(EN610+EN626,\"\")","v":""}]
["",null,null,null,null,null,null,null,null,null,null,null,null,null,null,null,null,null,null,null,null,null,null,null,null,null,null,null,null,null,null,null,null,null,null,null,null,null,null,null,null,null,null,null,"全現場閉所日数",{"$f":"IFERROR(AT611+AT627,\"\")","v":""},null,null,null,null,null,null,null,null,null,null,null,null,null,null,null,null,null,null,null,null,null,null,null,null,null,null,null,null,null,null,null,null,null,null,null,null,null,null,null,null,null,null,null,null,null,null,null,null,"全現場閉所日数",{"$f":"IFERROR(CR611+CR627,\"\")","v":""},null,null,null,null,null,null,null,null,null,null,null,null,null,null,null,null,null,null,null,null,null,null,null,null,null,null,null,null,null,null,null,null,null,null,null,null,null,null,null,null,null,null,null,null,null,null,"全現場閉所日数",{"$f":"IFERROR(EN611+EN627,\"\")","v":""}]
["",null,null,null,null,null,null,null,null,null,null,null,null,null,null,null,null,null,null,null,null,null,null,null,null,null,null,null,null,null,null,null,null,null,null,null,null,null,null,null,null,null,null,null,"現場閉所率",{"$f":"IFERROR(+AT640/AT639,\"\")","v":""},{"$f":"IF(AT641>=0.285,\"4週8休以上\",\"週休2日未達成\")","v":"4週8休以上"},null,null,null,null,null,null,null,null,null,null,null,null,null,null,null,null,null,null,null,null,null,null,null,null,null,null,null,null,null,null,null,null,null,null,null,null,null,null,null,null,null,null,null,null,null,null,null,"現場閉所率",{"$f":"IFERROR(+CR640/CR639,\"\")","v":""},{"$f":"IF(CR641>=0.285,\"4週8休以上\",\"週休2日未達成\")","v":"4週8休以上"},null,null,null,null,null,null,null,null,null,null,null,null,null,null,null,null,null,null,null,null,null,null,null,null,null,null,null,null,null,null,null,null,null,null,null,null,null,null,null,null,null,null,null,null,null,"現場閉所率",{"$f":"IFERROR(+EN640/EN639,\"\")","v":""},{"$f":"IF(EN641>=0.285,\"4週8休以上\",\"週休2日未達成\")","v":"4週8休以上"}]
["",null,null,null,null,null,null,null,null,null,null,null,null,null,null,null,null,null,null,null,null,null,null,null,null,null,null,null,null,null,null,null,null,null,null,null,null,null,null,null,null,null,null,null,"閉所（月単位）",{"$f":"IFERROR(COUNTIF(AS$14:$AS632,\"4週8休以上\")/(COUNTIF(AS$14:$AS632,\"4週8休以上\")+COUNTIF(AS$14:$AS632,\"週休2日未達成\")),\"\")","v":""},{"$f":"IF(OR(AT642=100%,AT642=\"\"),\"達成\",\"未達成\")","v":"達成"},null,null,null,null,null,null,null,null,null,null,null,null,null,null,null,null,null,null,null,null,null,null,null,null,null,null,null,null,null,null,null,null,null,null,null,null,null,null,null,null,null,null,null,null,null,null,null,"閉所（月単位）",{"$f":"IFERROR(COUNTIF(CQ$14:$CQ632,\"4週8休以上\")/(COUNTIF(CQ$14:$CQ632,\"4週8休以上\")+COUNTIF(CQ$14:$CQ632,\"週休2日未達成\")),\"\")","v":0},{"$f":"IF(OR(CR642=100%,CR642=\"\"),\"達成\",\"未達成\")","v":"未達成"},null,null,null,null,null,null,null,null,null,null,null,null,null,null,null,null,null,null,null,null,null,null,null,null,null,null,null,null,null,null,null,null,null,null,null,null,null,null,null,null,null,null,null,null,null,"閉所（月単位）",{"$f":"IFERROR(COUNTIF($EM$14:EM632,\"4週8休以上\")/(COUNTIF($EM$14:EM632,\"4週8休以上\")+COUNTIF($EM$14:EM632,\"週休2日未達成\")),\"\")","v":1},{"$f":"IF(OR(EN642=100%,EN642=\"\"),\"達成\",\"未達成\")","v":"達成"}]
["",null,null,null,null,null,null,null,null,null,null,null,null,null,null,null,null,null,null,null,null,null,null,null,null,null,null,null,null,null,null,null,null,null,null,null,null,null,null,null,null,null,null,null,"完全週休二日",{"$f":"IF(COUNTIF(AS$14:$AS632,\"OUT\")>=1,\"OUT\",\"OK\")","v":"OK"},{"$f":"IF(AT643=\"OK\",\"達成\",\"未達成\")","v":"達成"},null,null,null,null,null,null,null,null,null,null,null,null,null,null,null,null,null,null,null,null,null,null,null,null,null,null,null,null,null,null,null,null,null,null,null,null,null,null,null,null,null,null,null,null,null,null,null,"完全週休二日",{"$f":"IF(COUNTIF(CQ$14:$CQ632,\"OUT\")>=1,\"OUT\",\"OK\")","v":"OUT"},{"$f":"IF(CR643=\"OK\",\"達成\",\"未達成\")","v":"未達成"},null,null,null,null,null,null,null,null,null,null,null,null,null,null,null,null,null,null,null,null,null,null,null,null,null,null,null,null,null,null,null,null,null,null,null,null,null,null,null,null,null,null,null,null,null,"完全週休二日",{"$f":"IF(COUNTIF($EM$14:EM632,\"OUT\")>=1,\"OUT\",\"OK\")","v":"OUT"},{"$f":"IF(EN643=\"OK\",\"達成\",\"未達成\")","v":"未達成"}]
["",null,"※必要に応じて各月の完全週休2日（月～日）の達成判定の行を修正してください。（曜日に合わせて修正）",null,null,null,null,null,null,null,null,null,null,null,null,null,null,null,null,null,null,null,null,null,null,null,null,null,null,null,null,null,null,null,null,null,null,null,null,null,null,null,null,null,null,null,null,null,null,null,null,null,"※必要に応じて各月の完全週休2日（月～日）の達成判定の行を修正してください。（曜日に合わせて修正）",null,null,null,null,null,null,null,null,null,null,null,null,null,null,null,null,null,null,null,null,null,null,null,null,null,null,null,null,null,null,null,null,null,null,null,null,null,null,null,null,null,null,null,null,null,null,null,"※必要に応じて各月の完全週休2日（月～日）の達成判定の行を修正してください。（曜日に合わせて修正）"]
[""]
[""]
[""]
[""]
[""]
["",null,"算定除外期間以外の祝日（ＧＷ含む）は、算定期間（分母）の対象＝現場閉所の場合は分子にカウントして現場閉所率を算定",null,null,null,null,null,null,null,null,null,null,null,null,null,null,null,null,null,null,null,null,null,null,null,null,null,null,null,null,null,null,null,null,null,null,null,null,null,null,null,null,null,null,null,null,null,null,null,null,null,"算定除外期間以外の祝日（ＧＷ含む）は、算定期間（分母）の対象＝現場閉所の場合は分子にカウントして現場閉所率を算定",null,null,null,null,null,null,null,null,null,null,null,null,null,null,null,null,null,null,null,null,null,null,null,null,null,null,null,null,null,null,null,null,null,null,null,null,null,null,null,null,null,null,null,null,null,null,null,"算定除外期間以外の祝日（ＧＷ含む）は、算定期間（分母）の対象＝現場閉所の場合は分子にカウントして現場閉所率を算定"]
[""]
[{"$f":"IF($AT$652=\"\",\"\",\"対象期間\")","v":""},null,"月",{"$f":"DATE(YEAR(D623),MONTH(D623)+1,1)","v":"2027-02-01"},null,null,null,null,null,null,null,null,null,null,null,null,null,null,null,null,null,null,null,null,null,null,null,null,null,null,null,null,null,null,{"$f":"DATE(YEAR(D652),MONTH(D652)+1,1)","v":"2027-03-01"},null,null,null,null,null,"現場閉所計","現場閉所累計",null,"計画","対象期間",{"$f":"IF(IF(MONTH(入力表!$E$6)=12,YEAR(入力表!$E$6)+1&\"01\",YEAR(入力表!$E$6)&TEXT(MONTH(入力表!$E$6)+1,\"00\"))>YEAR($D652)&TEXT(MONTH($D652),\"00\"),COUNTIF(D656:AH656,\"\")+COUNTIF(D656:AH656,\"○\"),\"\")","v":""},{"$f":"IF(COUNTIF(D653:AH653,\"／\")=0,\"\",IF(COUNTIF(D653:AH653,\"／\")=1,IF(AH656=\"／\",\"\",\"月末「／」漏れ\"),IF(COUNTIF(D653:AH653,\"／\")=2,IF(AND(AG656=\"／\",AH656=\"／\"),\"\",\"月末「／」漏れ\"),IF(AND(AF656=\"／\",AG656=\"／\",AH656=\"／\"),\"\",\"月末「／」漏れ\"))))","v":"月末「／」漏れ"},null,null,null,null,null,"月",{"$f":"DATE(YEAR(BB623),MONTH(BB623)+1,1)","v":"2027-02-01"},null,null,null,null,null,null,null,null,null,null,null,null,null,null,null,null,null,null,null,null,null,null,null,null,null,null,null,null,null,null,{"$f":"DATE(YEAR(BB652),MONTH(BB652)+1,1)","v":"2027-03-01"},null,null,null,null,null,"現場閉所計","現場閉所累計",null,"計画","対象期間",{"$f":"IF(IF(MONTH($BL$5)=12,YEAR($BL$5)+1&\"01\",YEAR($BL$5)&TEXT(MONTH($BL$5)+1,\"00\"))>YEAR(BB652)&TEXT(MONTH(BB652),\"00\"),COUNTIF(BB656:CF656,\"\")+COUNTIF(BB656:CF656,\"○\"),\"\")","v":""},{"$f":"IF(COUNTIF(BB653:CF653,\"／\")=0,\"\",IF(COUNTIF(BB653:CF653,\"／\")=1,IF(CF656=\"／\",\"\",\"月末「／」漏れ\"),IF(COUNTIF(BB653:CF653,\"／\")=2,IF(AND(CE656=\"／\",CF656=\"／\"),\"\",\"月末「／」漏れ\"),IF(AND(CD656=\"／\",CE656=\"／\",CF656=\"／\"),\"\",\"月末「／」漏れ\"))))","v":""},null,null,null,"月",{"$f":"DATE(YEAR(CX623),MONTH(CX623)+1,1)","v":"2027-02-01"},null,null,null,null,null,null,null,null,null,null,null,null,null,null,null,null,null,null,null,null,null,null,null,null,null,null,null,null,null,null,{"$f":"DATE(YEAR(CX652),MONTH(CX652)+1,1)","v":"2027-03-01"},null,null,null,null,null,"現場閉所計","現場閉所累計",null,"計画","対象期間",{"$f":"IF(IF(MONTH($BL$5)=12,YEAR($BL$5)+1&\"01\",YEAR($BL$5)&TEXT(MONTH($BL$5)+1,\"00\"))>YEAR($CX652)&TEXT(MONTH($CX652),\"00\"),COUNTIF(CX656:EB656,\"\")+COUNTIF(CX656:EB656,\"○\"),\"\")","v":""},{"$f":"IF(COUNTIF(CX653:EB653,\"／\")=0,\"\",IF(COUNTIF(CX653:EB653,\"／\")=1,IF(EB656=\"／\",\"\",\"月末「／」漏れ\"),IF(COUNTIF(CX653:EB653,\"／\")=2,IF(AND(EA656=\"／\",EB656=\"／\"),\"\",\"月末「／」漏れ\"),IF(AND(DZ656=\"／\",EA656=\"／\",EB656=\"／\"),\"\",\"月末「／」漏れ\"))))","v":""}]
[{"$f":"IF($AT$652=\"\",\"\",\"対象期間\")","v":""},null,"日",{"$f":"D652","v":"2027-02-01"},{"$f":"D653+1","v":"2027-02-02"},{"$f":"E653+1","v":"2027-02-03"},{"$f":"F653+1","v":"2027-02-04"},{"$f":"G653+1","v":"2027-02-05"},{"$f":"H653+1","v":"2027-02-06"},{"$f":"I653+1","v":"2027-02-07"},{"$f":"J653+1","v":"2027-02-08"},{"$f":"K653+1","v":"2027-02-09"},{"$f":"L653+1","v":"2027-02-10"},{"$f":"M653+1","v":"2027-02-11"},{"$f":"N653+1","v":"2027-02-12"},{"$f":"O653+1","v":"2027-02-13"},{"$f":"P653+1","v":"2027-02-14"},{"$f":"Q653+1","v":"2027-02-15"},{"$f":"R653+1","v":"2027-02-16"},{"$f":"S653+1","v":"2027-02-17"},{"$f":"T653+1","v":"2027-02-18"},{"$f":"U653+1","v":"2027-02-19"},{"$f":"V653+1","v":"2027-02-20"},{"$f":"W653+1","v":"2027-02-21"},{"$f":"X653+1","v":"2027-02-22"},{"$f":"Y653+1","v":"2027-02-23"},{"$f":"Z653+1","v":"2027-02-24"},{"$f":"AA653+1","v":"2027-02-25"},{"$f":"AB653+1","v":"2027-02-26"},{"$f":"AC653+1","v":"2027-02-27"},{"$f":"AD653+1","v":"2027-02-28"},{"$f":"IF(AE653=\"／\",\"／\",IF(YEAR($D652)&TEXT(MONTH($D652),\"00\")<YEAR(AE653+1)&TEXT(MONTH(AE653+1),\"00\"),\"／\",AE653+1))","v":"／"},{"$f":"IF(AF653=\"／\",\"／\",IF(YEAR($D652)&TEXT(MONTH($D652),\"00\")<YEAR(AF653+1)&TEXT(MONTH(AF653+1),\"00\"),\"／\",AF653+1))","v":"／"},{"$f":"IF(AG653=\"／\",\"／\",IF(YEAR($D652)&TEXT(MONTH($D652),\"00\")<YEAR(AG653+1)&TEXT(MONTH(AG653+1),\"00\"),\"／\",AG653+1))","v":"／"},{"$f":"AI652","v":"2027-03-01"},{"$f":"AI653+1","v":"2027-03-02"},{"$f":"AJ653+1","v":"2027-03-03"},{"$f":"AK653+1","v":"2027-03-04"},{"$f":"AL653+1","v":"2027-03-05"},{"$f":"AM653+1","v":"2027-03-06"},null,null,null,null,"閉所日数",{"$f":"IF(IF(MONTH(入力表!$E$6)=12,YEAR(入力表!$E$6)+1&\"01\",YEAR(入力表!$E$6)&TEXT(MONTH(入力表!$E$6)+1,\"00\"))>YEAR($D652)&TEXT(MONTH($D652),\"00\"),COUNTIF(D656:AH656,\"○\"),\"\")","v":""},{"$f":"IF(OR(MONTH(D652)=1,MONTH(D652)=8,MONTH(D652)=12),IF(COUNTIF(D656:AH656,\"／\")>=3,\"\",\"算定除外「／」漏れ\"),\"\")","v":""},null,null,null,null,null,"日",{"$f":"BB652","v":"2027-02-01"},{"$f":"BB653+1","v":"2027-02-02"},{"$f":"BC653+1","v":"2027-02-03"},{"$f":"BD653+1","v":"2027-02-04"},{"$f":"BE653+1","v":"2027-02-05"},{"$f":"BF653+1","v":"2027-02-06"},{"$f":"BG653+1","v":"2027-02-07"},{"$f":"BH653+1","v":"2027-02-08"},{"$f":"BI653+1","v":"2027-02-09"},{"$f":"BJ653+1","v":"2027-02-10"},{"$f":"BK653+1","v":"2027-02-11"},{"$f":"BL653+1","v":"2027-02-12"},{"$f":"BM653+1","v":"2027-02-13"},{"$f":"BN653+1","v":"2027-02-14"},{"$f":"BO653+1","v":"2027-02-15"},{"$f":"BP653+1","v":"2027-02-16"},{"$f":"BQ653+1","v":"2027-02-17"},{"$f":"BR653+1","v":"2027-02-18"},{"$f":"BS653+1","v":"2027-02-19"},{"$f":"BT653+1","v":"2027-02-20"},{"$f":"BU653+1","v":"2027-02-21"},{"$f":"BV653+1","v":"2027-02-22"},{"$f":"BW653+1","v":"2027-02-23"},{"$f":"BX653+1","v":"2027-02-24"},{"$f":"BY653+1","v":"2027-02-25"},{"$f":"BZ653+1","v":"2027-02-26"},{"$f":"CA653+1","v":"2027-02-27"},{"$f":"CB653+1","v":"2027-02-28"},{"$f":"IF(CC653=\"／\",\"／\",IF(YEAR(BB652)&TEXT(MONTH(BB652),\"00\")<YEAR(CC653+1)&TEXT(MONTH(CC653+1),\"00\"),\"／\",CC653+1))","v":"／"},{"$f":"IF(CD653=\"／\",\"／\",IF(YEAR(BB652)&TEXT(MONTH(BB652),\"00\")<YEAR(CD653+1)&TEXT(MONTH(CD653+1),\"00\"),\"／\",CD653+1))","v":"／"},{"$f":"IF(CE653=\"／\",\"／\",IF(YEAR(BB652)&TEXT(MONTH(BB652),\"00\")<YEAR(CE653+1)&TEXT(MONTH(CE653+1),\"00\"),\"／\",CE653+1))","v":"／"},{"$f":"CG652","v":"2027-03-01"},{"$f":"CG653+1","v":"2027-03-02"},{"$f":"CH653+1","v":"2027-03-03"},{"$f":"CI653+1","v":"2027-03-04"},{"$f":"CJ653+1","v":"2027-03-05"},{"$f":"CK653+1","v":"2027-03-06"},null,null,null,null,"閉所日数",{"$f":"IF(IF(MONTH($BL$5)=12,YEAR($BL$5)+1&\"01\",YEAR($BL$5)&TEXT(MONTH($BL$5)+1,\"00\"))>YEAR(BB652)&TEXT(MONTH(BB652),\"00\"),COUNTIF(BB656:CF656,\"○\"),\"\")","v":""},{"$f":"IF(OR(MONTH(BB652)=1,MONTH(BB652)=8,MONTH(BB652)=12),IF(COUNTIF(BB656:CF656,\"／\")>=3,\"\",\"算定除外「／」漏れ\"),\"\")","v":""},null,null,null,"日",{"$f":"CX652","v":"2027-02-01"},{"$f":"CX653+1","v":"2027-02-02"},{"$f":"CY653+1","v":"2027-02-03"},{"$f":"CZ653+1","v":"2027-02-04"},{"$f":"DA653+1","v":"2027-02-05"},{"$f":"DB653+1","v":"2027-02-06"},{"$f":"DC653+1","v":"2027-02-07"},{"$f":"DD653+1","v":"2027-02-08"},{"$f":"DE653+1","v":"2027-02-09"},{"$f":"DF653+1","v":"2027-02-10"},{"$f":"DG653+1","v":"2027-02-11"},{"$f":"DH653+1","v":"2027-02-12"},{"$f":"DI653+1","v":"2027-02-13"},{"$f":"DJ653+1","v":"2027-02-14"},{"$f":"DK653+1","v":"2027-02-15"},{"$f":"DL653+1","v":"2027-02-16"},{"$f":"DM653+1","v":"2027-02-17"},{"$f":"DN653+1","v":"2027-02-18"},{"$f":"DO653+1","v":"2027-02-19"},{"$f":"DP653+1","v":"2027-02-20"},{"$f":"DQ653+1","v":"2027-02-21"},{"$f":"DR653+1","v":"2027-02-22"},{"$f":"DS653+1","v":"2027-02-23"},{"$f":"DT653+1","v":"2027-02-24"},{"$f":"DU653+1","v":"2027-02-25"},{"$f":"DV653+1","v":"2027-02-26"},{"$f":"DW653+1","v":"2027-02-27"},{"$f":"DX653+1","v":"2027-02-28"},{"$f":"IF(DY653=\"／\",\"／\",IF(YEAR(CX652)&TEXT(MONTH(CX652),\"00\")<YEAR(DY653+1)&TEXT(MONTH(DY653+1),\"00\"),\"／\",DY653+1))","v":"／"},{"$f":"IF(DZ653=\"／\",\"／\",IF(YEAR(CX652)&TEXT(MONTH(CX652),\"00\")<YEAR(DZ653+1)&TEXT(MONTH(DZ653+1),\"00\"),\"／\",DZ653+1))","v":"／"},{"$f":"IF(EA653=\"／\",\"／\",IF(YEAR(CX652)&TEXT(MONTH(CX652),\"00\")<YEAR(EA653+1)&TEXT(MONTH(EA653+1),\"00\"),\"／\",EA653+1))","v":"／"},{"$f":"EC652","v":"2027-03-01"},{"$f":"EC653+1","v":"2027-03-02"},{"$f":"ED653+1","v":"2027-03-03"},{"$f":"EE653+1","v":"2027-03-04"},{"$f":"EF653+1","v":"2027-03-05"},{"$f":"EG653+1","v":"2027-03-06"},null,null,null,null,"閉所日数",{"$f":"IF(IF(MONTH($BL$5)=12,YEAR($BL$5)+1&\"01\",YEAR($BL$5)&TEXT(MONTH($BL$5)+1,\"00\"))>YEAR($CX652)&TEXT(MONTH($CX652),\"00\"),COUNTIF(CX656:EB656,\"○\"),\"\")","v":""},{"$f":"IF(OR(MONTH(CX652)=1,MONTH(CX652)=8,MONTH(CX652)=12),IF(COUNTIF(CX656:EB656,\"／\")>=3,\"\",\"算定除外「／」漏れ\"),\"\")","v":""}]
["",null,"曜日",{"$f":"TEXT(WEEKDAY(+D653),\"aaa\")","v":"月"},{"$f":"TEXT(WEEKDAY(+E653),\"aaa\")","v":"火"},"水","木","金",{"$f":"TEXT(WEEKDAY(+I653),\"aaa\")","v":"土"},{"$f":"TEXT(WEEKDAY(+J653),\"aaa\")","v":"日"},"月","火","水","木","金","土","日","月","火","水","木","金","土","日","月",{"$f":"TEXT(WEEKDAY(+Z653),\"aaa\")","v":"火"},{"$f":"TEXT(WEEKDAY(+AA653),\"aaa\")","v":"水"},"木","金","土","日",{"$f":"IF(AF653=\"／\",\"／\",TEXT(WEEKDAY(+AF653),\"aaa\"))","v":"／"},{"$f":"IF(AG653=\"／\",\"／\",TEXT(WEEKDAY(+AG653),\"aaa\"))","v":"／"},"／",{"$f":"TEXT(WEEKDAY(+AI653),\"aaa\")","v":"月"},{"$f":"TEXT(WEEKDAY(+AJ653),\"aaa\")","v":"火"},"水","木","金","土",null,null,null,null,"現場閉所率",{"$f":"IFERROR(+AT653/AT652,\"\")","v":""},{"$f":"IF(AT654=\"\",\"\",IF(COUNTIF(D656:AH656,\"○\")>=COUNTIF(D659:AH659,\"◎\"),\"4週8休以上\",IF(AT654>=0.285,\"4週8休以上\",\"週休2日未達成\")))","v":""},null,null,null,null,null,"曜日",{"$f":"TEXT(WEEKDAY(+BB653),\"aaa\")","v":"月"},{"$f":"TEXT(WEEKDAY(+BC653),\"aaa\")","v":"火"},"水","木","金",{"$f":"TEXT(WEEKDAY(+BG653),\"aaa\")","v":"土"},{"$f":"TEXT(WEEKDAY(+BH653),\"aaa\")","v":"日"},"月","火","水","木","金","土","日","月","火","水","木","金","土","日","月",{"$f":"TEXT(WEEKDAY(+BX653),\"aaa\")","v":"火"},{"$f":"TEXT(WEEKDAY(+BY653),\"aaa\")","v":"水"},"木","金","土","日",{"$f":"IF(CD653=\"／\",\"／\",TEXT(WEEKDAY(+CD653),\"aaa\"))","v":"／"},{"$f":"IF(CE653=\"／\",\"／\",TEXT(WEEKDAY(+CE653),\"aaa\"))","v":"／"},"／",{"$f":"TEXT(WEEKDAY(+CG653),\"aaa\")","v":"月"},{"$f":"TEXT(WEEKDAY(+CH653),\"aaa\")","v":"火"},"水","木","金","土",null,null,null,null,"現場閉所率",{"$f":"IFERROR(+CR653/CR652,\"\")","v":""},{"$f":"IF(CR654=\"\",\"\",IF(COUNTIF(BB656:CF656,\"○\")>=COUNTIF(BB659:CF659,\"◎\"),\"4週8休以上\",IF(CR654>=0.285,\"4週8休以上\",\"週休2日未達成\")))","v":""},null,null,null,"曜日",{"$f":"TEXT(WEEKDAY(+CX653),\"aaa\")","v":"月"},{"$f":"TEXT(WEEKDAY(+CY653),\"aaa\")","v":"火"},"水","木","金",{"$f":"TEXT(WEEKDAY(+DC653),\"aaa\")","v":"土"},{"$f":"TEXT(WEEKDAY(+DD653),\"aaa\")","v":"日"},"月","火","水","木","金","土","日","月","火","水","木","金","土","日","月",{"$f":"TEXT(WEEKDAY(+DT653),\"aaa\")","v":"火"},{"$f":"TEXT(WEEKDAY(+DU653),\"aaa\")","v":"水"},"木","金","土","日",{"$f":"IF(DZ653=\"／\",\"／\",TEXT(WEEKDAY(+DZ653),\"aaa\"))","v":"／"},{"$f":"IF(EA653=\"／\",\"／\",TEXT(WEEKDAY(+EA653),\"aaa\"))","v":"／"},"／",{"$f":"TEXT(WEEKDAY(+EC653),\"aaa\")","v":"月"},{"$f":"TEXT(WEEKDAY(+ED653),\"aaa\")","v":"火"},"水","木","金","土",null,null,null,null,"現場閉所率",{"$f":"IFERROR(+EN653/EN652,\"\")","v":""},{"$f":"IF(EN654=\"\",\"\",IF(COUNTIF(CX656:EB656,\"○\")>=COUNTIF(CX659:EB659,\"◎\"),\"4週8休以上\",IF(EN654>=0.285,\"4週8休以上\",\"週休2日未達成\")))","v":""}]
["",null,"行事",null,null,null,null,null,null,null,null,null,null,null,null,null,null,null,null,null,null,null,null,null,null,null,null,null,null,null,null,null,null,null,{"$f":"IF(D684=\"\",\"\",D684)","v":""},{"$f":"IF(E684=\"\",\"\",E684)","v":""},{"$f":"IF(F684=\"\",\"\",F684)","v":""},{"$f":"IF(G684=\"\",\"\",G684)","v":""},{"$f":"IF(H684=\"\",\"\",H684)","v":""},{"$f":"IF(I684=\"\",\"\",I684)","v":""},null,null,null,"実施","対象期間",{"$f":"IF(IF(MONTH(入力表!$E$6)=12,YEAR(入力表!$E$6)+1&\"01\",YEAR(入力表!$E$6)&TEXT(MONTH(入力表!$E$6)+1,\"00\"))>YEAR($D652)&TEXT(MONTH($D652),\"00\"),COUNTIF(D657:AH657,\"\")+COUNTIF(D657:AH657,\"●\"),\"\")","v":""},{"$f":"IF(COUNTIF(D653:AH653,\"／\")=0,\"\",IF(COUNTIF(D653:AH653,\"／\")=1,IF(AH657=\"／\",\"\",\"月末「／」漏れ\"),IF(COUNTIF(D653:AH653,\"／\")=2,IF(AND(AG657=\"／\",AH657=\"／\"),\"\",\"月末「／」漏れ\"),IF(AND(AF657=\"／\",AG657=\"／\",AH657=\"／\"),\"\",\"月末「／」漏れ\"))))","v":"月末「／」漏れ"},null,null,null,null,null,"行事",null,null,null,null,null,null,null,null,null,null,null,null,null,null,null,null,null,null,null,null,null,null,null,null,null,null,null,null,null,null,null,{"$f":"IF(BB684=\"\",\"\",BB684)","v":""},{"$f":"IF(BC684=\"\",\"\",BC684)","v":""},{"$f":"IF(BD684=\"\",\"\",BD684)","v":""},{"$f":"IF(BE684=\"\",\"\",BE684)","v":""},{"$f":"IF(BF684=\"\",\"\",BF684)","v":""},{"$f":"IF(BG684=\"\",\"\",BG684)","v":""},null,null,null,"実施","対象期間",{"$f":"IF(IF(MONTH($BL$5)=12,YEAR($BL$5)+1&\"01\",YEAR($BL$5)&TEXT(MONTH($BL$5)+1,\"00\"))>YEAR(BB652)&TEXT(MONTH(BB652),\"00\"),COUNTIF(BB657:CF657,\"\")+COUNTIF(BB657:CF657,\"●\"),\"\")","v":""},{"$f":"IF(COUNTIF(BB653:CF653,\"／\")=0,\"\",IF(COUNTIF(BB653:CF653,\"／\")=1,IF(CF657=\"／\",\"\",\"月末「／」漏れ\"),IF(COUNTIF(BB653:CF653,\"／\")=2,IF(AND(CE657=\"／\",CF657=\"／\"),\"\",\"月末「／」漏れ\"),IF(AND(CD657=\"／\",CE657=\"／\",CF657=\"／\"),\"\",\"月末「／」漏れ\"))))","v":""},null,null,null,"行事",null,null,null,null,null,null,null,null,null,null,null,null,null,null,null,null,null,null,null,null,null,null,null,null,null,null,null,null,null,null,null,{"$f":"IF(CX684=\"\",\"\",CX684)","v":""},{"$f":"IF(CY684=\"\",\"\",CY684)","v":""},{"$f":"IF(CZ684=\"\",\"\",CZ684)","v":""},{"$f":"IF(DA684=\"\",\"\",DA684)","v":""},{"$f":"IF(DB684=\"\",\"\",DB684)","v":""},{"$f":"IF(DC684=\"\",\"\",DC684)","v":""},null,null,null,"実施","対象期間",{"$f":"IF(IF(MONTH($BL$5)=12,YEAR($BL$5)+1&\"01\",YEAR($BL$5)&TEXT(MONTH($BL$5)+1,\"00\"))>YEAR($CX652)&TEXT(MONTH($CX652),\"00\"),COUNTIF(CX657:EB657,\"\")+COUNTIF(CX657:EB657,\"●\"),\"\")","v":""},{"$f":"IF(COUNTIF(CX653:EB653,\"／\")=0,\"\",IF(COUNTIF(CX653:EB653,\"／\")=1,IF(EB657=\"／\",\"\",\"月末「／」漏れ\"),IF(COUNTIF(CX653:EB653,\"／\")=2,IF(AND(EA657=\"／\",EB657=\"／\"),\"\",\"月末「／」漏れ\"),IF(AND(DZ657=\"／\",EA657=\"／\",EB657=\"／\"),\"\",\"月末「／」漏れ\"))))","v":""}]
["",null,"計画",null,null,null,null,null,null,null,null,null,null,null,null,null,null,null,null,null,null,null,null,null,null,null,null,null,null,null,null,null,null,null,{"$f":"IF(D685=\"\",\"\",D685)","v":""},{"$f":"IF(E685=\"\",\"\",E685)","v":""},{"$f":"IF(F685=\"\",\"\",F685)","v":""},{"$f":"IF(G685=\"\",\"\",G685)","v":""},{"$f":"IF(H685=\"\",\"\",H685)","v":""},{"$f":"IF(I685=\"\",\"\",I685)","v":""},{"$f":"COUNTIF(D656:AE656,\"○\")","v":0},{"$f":"+AO656+AP627","v":0},null,null,"閉所日数",{"$f":"IF(IF(MONTH(入力表!$E$6)=12,YEAR(入力表!$E$6)+1&\"01\",YEAR(入力表!$E$6)&TEXT(MONTH(入力表!$E$6)+1,\"00\"))>YEAR($D652)&TEXT(MONTH($D652),\"00\"),COUNTIF(D657:AH657,\"●\"),\"\")","v":""},{"$f":"IF(OR(MONTH(D652)=1,MONTH(D652)=8,MONTH(D652)=12),IF(COUNTIF(D657:AH657,\"／\")>=3,\"\",\"算定除外「／」漏れ\"),\"\")","v":""},null,null,null,null,null,"計画",null,null,null,null,null,null,null,null,null,null,null,null,null,null,null,null,null,null,null,null,null,null,null,null,null,null,null,null,"／","／","／",{"$f":"IF(BB685=\"\",\"\",BB685)","v":""},"","","","","",{"$f":"COUNTIF(BB656:CC656,\"○\")","v":0},{"$f":"+CM656+CN627","v":1},null,null,"閉所日数",{"$f":"IF(IF(MONTH($BL$5)=12,YEAR($BL$5)+1&\"01\",YEAR($BL$5)&TEXT(MONTH($BL$5)+1,\"00\"))>YEAR(BB652)&TEXT(MONTH(BB652),\"00\"),COUNTIF(BB657:CF657,\"●\"),\"\")","v":""},{"$f":"IF(OR(MONTH(BB652)=1,MONTH(BB652)=8,MONTH(BB652)=12),IF(COUNTIF(BB657:CF657,\"／\")>=3,\"\",\"算定除外「／」漏れ\"),\"\")","v":""},null,null,null,"計画",null,null,null,null,null,null,null,null,null,null,null,null,null,null,null,null,null,null,null,null,null,null,null,null,null,null,null,null,"／","／","／",{"$f":"IF(CX685=\"\",\"\",CX685)","v":""},"","","","","",{"$f":"COUNTIF(CX656:DY656,\"○\")","v":0},{"$f":"+EI656+EJ627","v":0},null,null,"閉所日数",{"$f":"IF(IF(MONTH($BL$5)=12,YEAR($BL$5)+1&\"01\",YEAR($BL$5)&TEXT(MONTH($BL$5)+1,\"00\"))>YEAR($CX652)&TEXT(MONTH($CX652),\"00\"),COUNTIF(CX657:EB657,\"●\"),\"\")","v":""},{"$f":"IF(OR(MONTH(CX652)=1,MONTH(CX652)=8,MONTH(CX652)=12),IF(COUNTIF(CX657:EB657,\"／\")>=3,\"\",\"算定除外「／」漏れ\"),\"\")","v":""}]
["",null,"実施",null,null,null,null,null,null,null,null,null,null,null,null,null,null,null,null,null,null,null,null,null,null,null,null,null,null,null,null,null,null,null,{"$f":"IF(D686=\"\",\"\",D686)","v":""},{"$f":"IF(E686=\"\",\"\",E686)","v":""},{"$f":"IF(F686=\"\",\"\",F686)","v":""},{"$f":"IF(G686=\"\",\"\",G686)","v":""},{"$f":"IF(H686=\"\",\"\",H686)","v":""},{"$f":"IF(I686=\"\",\"\",I686)","v":""},{"$f":"COUNTIF(D657:AE657,\"●\")","v":0},{"$f":"+AO657+AP628","v":0},null,null,"現場閉所率",{"$f":"IFERROR(+AT656/AT655,\"\")","v":""},{"$f":"IF(AT657=\"\",\"\",IF(COUNTIF(D657:AH657,\"●\")>=COUNTIF(D660:AH660,\"◎\"),\"4週8休以上\",IF(AT657>=0.285,\"4週8休以上\",\"週休2日未達成\")))","v":""},null,null,null,null,null,"実施",null,null,null,null,null,null,null,null,null,null,null,null,null,null,null,null,null,null,null,null,null,null,null,null,null,null,null,null,"／","／","／",{"$f":"IF(BB686=\"\",\"\",BB686)","v":""},{"$f":"IF(BC686=\"\",\"\",BC686)","v":""},{"$f":"IF(BD686=\"\",\"\",BD686)","v":""},{"$f":"IF(BE686=\"\",\"\",BE686)","v":""},{"$f":"IF(BF686=\"\",\"\",BF686)","v":""},{"$f":"IF(BG686=\"\",\"\",BG686)","v":""},{"$f":"COUNTIF(BB657:CC657,\"●\")","v":0},{"$f":"+CM657+CN628","v":0},null,null,"現場閉所率",{"$f":"IFERROR(+CR656/CR655,\"\")","v":""},{"$f":"IF(CR657=\"\",\"\",IF(COUNTIF(BB657:CF657,\"●\")>=COUNTIF(BB660:CF660,\"◎\"),\"4週8休以上\",IF(CR657>=0.285,\"4週8休以上\",\"週休2日未達成\")))","v":""},null,null,null,"実施",null,null,null,null,null,null,null,null,null,null,null,null,null,null,null,null,null,null,null,null,null,null,null,null,null,null,null,null,"／","／","／",{"$f":"IF(CX686=\"\",\"\",CX686)","v":""},{"$f":"IF(CY686=\"\",\"\",CY686)","v":""},{"$f":"IF(CZ686=\"\",\"\",CZ686)","v":""},{"$f":"IF(DA686=\"\",\"\",DA686)","v":""},{"$f":"IF(DB686=\"\",\"\",DB686)","v":""},{"$f":"IF(DC686=\"\",\"\",DC686)","v":""},{"$f":"COUNTIF(CX657:DY657,\"●\")","v":0},{"$f":"+EI657+EJ628","v":0},null,null,"現場閉所率",{"$f":"IFERROR(+EN656/EN655,\"\")","v":""},{"$f":"IF(EN657=\"\",\"\",IF(COUNTIF(CX657:EB657,\"●\")>=COUNTIF(CX660:EB660,\"◎\"),\"4週8休以上\",IF(EN657>=0.285,\"4週8休以上\",\"週休2日未達成\")))","v":""}]
[null,null,null,1,2,3,4,5,6,7,8,9,10,11,12,13,14,15,16,17,18,19,20,21,22,23,24,25,26,27,28,29,30,31,32,33,34,35,36,37,null,null,null,null,{"$f":"AU657","v":""},null,null,null,null,null,null,null,null,1,2,3,4,5,6,7,8,9,10,11,12,13,14,15,16,17,18,19,20,21,22,23,24,25,26,27,28,29,30,31,32,33,34,35,36,37,null,null,null,null,{"$f":"CS657","v":""},null,null,null,null,null,null,1,2,3,4,5,6,7,8,9,10,11,12,13,14,15,16,17,18,19,20,21,22,23,24,25,26,27,28,29,30,31,32,33,34,35,36,37,null,null,null,null,{"$f":"EO657","v":""}]
[null,null,"計画",{"$f":"IF(D656=\"／\",\"／\",IF(OR(D654=\"土\",D654=\"日\"),\"◎\",\"\"))","v":""},{"$f":"IF(E656=\"／\",\"／\",IF(OR(E654=\"土\",E654=\"日\"),\"◎\",\"\"))","v":""},"","","","◎","◎","","","","","","◎","◎","","","","","","◎","◎","","","","","",{"$f":"IF(AD656=\"／\",\"／\",IF(OR(AD654=\"土\",AD654=\"日\"),\"◎\",\"\"))","v":"◎"},{"$f":"IF(AE656=\"／\",\"／\",IF(OR(AE654=\"土\",AE654=\"日\"),\"◎\",\"\"))","v":"◎"},"","","","","","","","","◎",null,null,null,null,{"$f":"AT661","v":""},null,null,null,null,null,null,null,"計画",{"$f":"IF(BB656=\"／\",\"／\",IF(OR(BB654=\"土\",BB654=\"日\"),\"◎\",\"\"))","v":""},"","","","","◎","◎","","","","","",{"$f":"IF(BN656=\"／\",\"／\",IF(OR(BN654=\"土\",BN654=\"日\"),\"◎\",\"\"))","v":"◎"},{"$f":"IF(BO656=\"／\",\"／\",IF(OR(BO654=\"土\",BO654=\"日\"),\"◎\",\"\"))","v":"◎"},"","","","","","◎","◎","","","","","",{"$f":"IF(CB656=\"／\",\"／\",IF(OR(CB654=\"土\",CB654=\"日\"),\"◎\",\"\"))","v":"◎"},{"$f":"IF(CC656=\"／\",\"／\",IF(OR(CC654=\"土\",CC654=\"日\"),\"◎\",\"\"))","v":"◎"},"／","／","／","","","","","","◎",null,null,null,null,{"$f":"CR661","v":""},null,null,null,null,null,"計画",{"$f":"IF(CX656=\"／\",\"／\",IF(OR(CX654=\"土\",CX654=\"日\"),\"◎\",\"\"))","v":""},"","","","","◎","◎","","","","","",{"$f":"IF(DJ656=\"／\",\"／\",IF(OR(DJ654=\"土\",DJ654=\"日\"),\"◎\",\"\"))","v":"◎"},{"$f":"IF(DK656=\"／\",\"／\",IF(OR(DK654=\"土\",DK654=\"日\"),\"◎\",\"\"))","v":"◎"},"","","","","","◎","◎","","","","","",{"$f":"IF(DX656=\"／\",\"／\",IF(OR(DX654=\"土\",DX654=\"日\"),\"◎\",\"\"))","v":"◎"},{"$f":"IF(DY656=\"／\",\"／\",IF(OR(DY654=\"土\",DY654=\"日\"),\"◎\",\"\"))","v":"◎"},"／","／","／","","","","","","◎",null,null,null,null,{"$f":"EN661","v":""}]
[null,null,"実施",{"$f":"IF(D657=\"／\",\"／\",IF(OR(D654=\"土\",D654=\"日\"),\"◎\",\"\"))","v":""},{"$f":"IF(E657=\"／\",\"／\",IF(OR(E654=\"土\",E654=\"日\"),\"◎\",\"\"))","v":""},"","","","◎","◎","","","","","","◎","◎","","","","","","◎","◎","","","","","","◎","◎","","","","","","","","","◎",null,null,null,null,null,null,null,null,null,null,null,null,"実施",{"$f":"IF(BB657=\"／\",\"／\",IF(OR(BB654=\"土\",BB654=\"日\"),\"◎\",\"\"))","v":""},{"$f":"IF(BC657=\"／\",\"／\",IF(OR(BC654=\"土\",BC654=\"日\"),\"◎\",\"\"))","v":""},"","","","◎","◎","","","","","","◎","◎","","","","","","◎","◎","","","","","","◎","◎","／","／","／","","","","","","◎",null,null,null,null,null,null,null,null,null,null,"実施",{"$f":"IF(CX657=\"／\",\"／\",IF(OR(CX654=\"土\",CX654=\"日\"),\"◎\",\"\"))","v":""},{"$f":"IF(CY657=\"／\",\"／\",IF(OR(CY654=\"土\",CY654=\"日\"),\"◎\",\"\"))","v":""},"","","","◎","◎","","","","","","◎","◎","","","","","","◎","◎","","","","","","◎","◎","／","／","／","","","","","","◎"]
["",null,"完全",{"$f":"IF(WEEKDAY(DATE(YEAR(D652),MONTH(D652),1),2)=1,DATE(YEAR(D652),MONTH(D652),1),EOMONTH(D652,-1)-MOD(WEEKDAY(EOMONTH(D652,-1),2)+6,7))","v":"2027-02-01"},"～",{"$f":"DATE(YEAR(D652),MONTH(D652),1)+MOD(7-WEEKDAY(DATE(YEAR(D652),MONTH(D652),1),2),7)","v":"2027-02-07"},{"$f":"IF(DAY(D661)=1,IF(COUNTIF(D657:J657,\"／\")>=1,\"対象外\",IF(COUNTIF(INDEX(D657:AN657,DAY(D661)):INDEX(D657:AN657,HLOOKUP(F661,D653:AN658,6,FALSE)),\"\")+COUNTIF(INDEX(D657:AN657,DAY(D661)):INDEX(D657:AN657,HLOOKUP(F661,D653:AN658,6,FALSE)),\"●\")=7,IF(COUNTIF(INDEX(D657:AN657,DAY(D661)):INDEX(D657:AN657,HLOOKUP(F661,D653:AN658,6,FALSE)),\"●\")>=2,\"OK\",\"OUT\"),IF(COUNTIF(INDEX(D657:AN657,DAY(D661)):INDEX(D657:AN657,HLOOKUP(F661,D653:AN658,6,FALSE)),\"●\")>=COUNTIF(INDEX(D660:AN660,DAY(D661)):INDEX(D660:AN660,HLOOKUP(F661,D653:AN658,6,FALSE)),\"○\"),\"OK\",\"OUT\"))),IF(AND(AK632=\"\",AE632=\"\"),Y632,IF(AK632=\"\",AE632,AK632)))","v":"OUT"},null,null,{"$f":"F661+1","v":"2027-02-08"},"～",{"$f":"F661+7","v":"2027-02-14"},{"$f":"IF(COUNTIF(INDEX(D657:AN657,DAY(J661)):INDEX(D657:AN657,HLOOKUP(L661,D653:AN658,6,FALSE)),\"\")+COUNTIF(INDEX(D657:AN657,DAY(J661)):INDEX(D657:AN657,HLOOKUP(L661,D653:AN658,6,FALSE)),\"●\")=7,IF(COUNTIF(INDEX(D657:AN657,DAY(J661)):INDEX(D657:AN657,HLOOKUP(L661,D653:AN658,6,FALSE)),\"●\")>=2,\"OK\",\"OUT\"),\"対象外\")","v":"OUT"},null,null,{"$f":"L661+1","v":"2027-02-15"},"～",{"$f":"L661+7","v":"2027-02-21"},{"$f":"IF(COUNTIF(INDEX(D657:AN657,DAY(P661)):INDEX(D657:AN657,HLOOKUP(R661,D653:AN658,6,FALSE)),\"\")+COUNTIF(INDEX(D657:AN657,DAY(P661)):INDEX(D657:AN657,HLOOKUP(R661,D653:AN658,6,FALSE)),\"●\")=7,IF(COUNTIF(INDEX(D657:AN657,DAY(P661)):INDEX(D657:AN657,HLOOKUP(R661,D653:AN658,6,FALSE)),\"●\")>=2,\"OK\",\"OUT\"),\"対象外\")","v":"OUT"},null,null,{"$f":"R661+1","v":"2027-02-22"},"～",{"$f":"R661+7","v":"2027-02-28"},{"$f":"IF(COUNTIF(INDEX(D657:AN657,DAY(V661)):INDEX(D657:AN657,HLOOKUP(X661,D653:AN658,6,FALSE)),\"\")+COUNTIF(INDEX(D657:AN657,DAY(V661)):INDEX(D657:AN657,HLOOKUP(X661,D653:AN658,6,FALSE)),\"●\")=7,IF(COUNTIF(INDEX(D657:AN657,DAY(V661)):INDEX(D657:AN657,HLOOKUP(X661,D653:AN658,6,FALSE)),\"●\")>=2,\"OK\",\"OUT\"),\"対象外\")","v":"OUT"},null,null,{"$f":"IF(AND(DAY(X661+7)<23,DAY(X661+7)>=7),\"\",X661+1)","v":""},{"$f":"IF(AND(DAY(X661+7)<23,DAY(X661+7)>=7),\"\",\"～\")","v":""},{"$f":"IF(AND(DAY(X661+7)<23,DAY(X661+7)>=7),\"\",X661+7)","v":""},{"$f":"IF(AND(DAY(X661+7)<23,DAY(X661+7)>=7),\"\",IF(COUNTIF(INDEX(D657:AN657,DAY(AB661)):INDEX(D657:AN657,HLOOKUP(AD661,D653:AN658,6,FALSE)),\"\")+COUNTIF(INDEX(D657:AN657,DAY(AB661)):INDEX(D657:AN657,HLOOKUP(AD661,D653:AN658,6,FALSE)),\"●\")=7,IF(COUNTIF(INDEX(D657:AN657,DAY(AB661)):INDEX(D657:AN657,HLOOKUP(AD661,D653:AN658,6,FALSE)),\"●\")>=2,\"OK\",\"OUT\"),IF(COUNTIF(INDEX(D657:AN657,DAY(AB661)):INDEX(D657:AN657,HLOOKUP(AD661,D653:AN658,6,FALSE)),\"\")+COUNTIF(INDEX(D657:AN657,DAY(AB661)):INDEX(D657:AN657,HLOOKUP(AD661,D653:AN658,6,FALSE)),\"●\")>7,\"「／」漏れ\",\"対象外\")))","v":""},null,null,{"$f":"IF(AE661=\"\",\"\",IF(AND(DAY(AD661+7)<23,DAY(AD661+7)>=7),\"\",AD661+1))","v":""},{"$f":"IF(AE661=\"\",\"\",IF(AND(DAY(AD661+7)<23,DAY(AD661+7)>=7),\"\",\"～\"))","v":""},{"$f":"IF(AE661=\"\",\"\",IF(AND(DAY(AD661+7)<23,DAY(AD661+7)>=7),\"\",AD661+7))","v":""},{"$f":"IF(AE661=\"\",\"\",IF(AND(DAY(AD661+7)<23,DAY(AD661+7)>=7),\"\",IF(COUNTIF(INDEX(D657:AN657,DAY(AH661)):INDEX(D657:AN657,HLOOKUP(AJ661,D653:AN658,6,FALSE)),\"\")+COUNTIF(INDEX(D657:AN657,DAY(AH661)):INDEX(D657:AN657,HLOOKUP(AJ661,D653:AN658,6,FALSE)),\"●\")=7,IF(COUNTIF(INDEX(D657:AN657,DAY(AH661)):INDEX(D657:AN657,HLOOKUP(AJ661,D653:AN658,6,FALSE)),\"●\")>=2,\"OK\",\"OUT\"),IF(COUNTIF(INDEX(D657:AN657,HLOOKUP(AH661,D653:AN658,6,FALSE)):INDEX(D657:AN657,HLOOKUP(AJ661,D653:AN658,6,FALSE)),\"\")+COUNTIF(INDEX(D657:AN657,HLOOKUP(AH661,D653:AN658,6,FALSE)):INDEX(D657:AN657,HLOOKUP(AJ661,D653:AN658,6,FALSE)),\"●\")>7,\"「／」漏れ\",\"対象外\"))))","v":""},null,null,null,null,null,null,null,"完全週休二日",{"$f":"IF(AT652=\"\",\"\",IF(COUNTIF(D661:AN661,\"OUT\")>=1,\"OUT\",\"OK\"))","v":""},null,null,null,null,null,null,"完全",{"$f":"IF(WEEKDAY(DATE(YEAR(BB652),MONTH(BB652),1),2)=1,DATE(YEAR(BB652),MONTH(BB652),1),EOMONTH(BB652,-1)-MOD(WEEKDAY(EOMONTH(BB652,-1),2)+6,7))","v":"2027-02-01"},"～",{"$f":"DATE(YEAR(BB652),MONTH(BB652),1)+MOD(7-WEEKDAY(DATE(YEAR(BB652),MONTH(BB652),1),2),7)","v":"2027-02-07"},{"$f":"IF(DAY(BB661)=1,IF(COUNTIF(BB657:BH657,\"／\")>=1,\"対象外\",IF(COUNTIF(INDEX(BB657:CL657,DAY(BB661)):INDEX(BB657:CL657,HLOOKUP(BD661,BB653:CL658,6,FALSE)),\"\")+COUNTIF(INDEX(BB657:CL657,DAY(BB661)):INDEX(BB657:CL657,HLOOKUP(BD661,BB653:CL658,6,FALSE)),\"●\")=7,IF(COUNTIF(INDEX(BB657:CL657,DAY(BB661)):INDEX(BB657:CL657,HLOOKUP(BD661,BB653:CL658,6,FALSE)),\"●\")>=2,\"OK\",\"OUT\"),IF(COUNTIF(INDEX(BB657:CL657,DAY(BB661)):INDEX(BB657:CL657,HLOOKUP(BD661,BB653:CL658,6,FALSE)),\"●\")>=COUNTIF(INDEX(BB660:CL660,DAY(BB661)):INDEX(BB660:CL660,HLOOKUP(BD661,BB653:CL658,6,FALSE)),\"○\"),\"OK\",\"OUT\"))),IF(AND(CI632=\"\",CC632=\"\"),BW632,IF(CI632=\"\",CC632,CI632)))","v":"OUT"},null,null,{"$f":"BD661+1","v":"2027-02-08"},"～",{"$f":"BD661+7","v":"2027-02-14"},{"$f":"IF(COUNTIF(INDEX(BB657:CL657,DAY(BH661)):INDEX(BB657:CL657,HLOOKUP(BJ661,BB653:CL658,6,FALSE)),\"\")+COUNTIF(INDEX(BB657:CL657,DAY(BH661)):INDEX(BB657:CL657,HLOOKUP(BJ661,BB653:CL658,6,FALSE)),\"●\")=7,IF(COUNTIF(INDEX(BB657:CL657,DAY(BH661)):INDEX(BB657:CL657,HLOOKUP(BJ661,BB653:CL658,6,FALSE)),\"●\")>=2,\"OK\",\"OUT\"),\"対象外\")","v":"OUT"},null,null,{"$f":"BJ661+1","v":"2027-02-15"},"～",{"$f":"BJ661+7","v":"2027-02-21"},{"$f":"IF(COUNTIF(INDEX(BB657:CL657,DAY(BN661)):INDEX(BB657:CL657,HLOOKUP(BP661,BB653:CL658,6,FALSE)),\"\")+COUNTIF(INDEX(BB657:CL657,DAY(BN661)):INDEX(BB657:CL657,HLOOKUP(BP661,BB653:CL658,6,FALSE)),\"●\")=7,IF(COUNTIF(INDEX(BB657:CL657,DAY(BN661)):INDEX(BB657:CL657,HLOOKUP(BP661,BB653:CL658,6,FALSE)),\"●\")>=2,\"OK\",\"OUT\"),\"対象外\")","v":"OUT"},null,null,{"$f":"BP661+1","v":"2027-02-22"},"～",{"$f":"BP661+7","v":"2027-02-28"},{"$f":"IF(COUNTIF(INDEX(BB657:CL657,DAY(BT661)):INDEX(BB657:CL657,HLOOKUP(BV661,BB653:CL658,6,FALSE)),\"\")+COUNTIF(INDEX(BB657:CL657,DAY(BT661)):INDEX(BB657:CL657,HLOOKUP(BV661,BB653:CL658,6,FALSE)),\"●\")=7,IF(COUNTIF(INDEX(BB657:CL657,DAY(BT661)):INDEX(BB657:CL657,HLOOKUP(BV661,BB653:CL658,6,FALSE)),\"●\")>=2,\"OK\",\"OUT\"),\"対象外\")","v":"OUT"},null,null,{"$f":"IF(AND(DAY(BV661+7)<23,DAY(BV661+7)>=7),\"\",BV661+1)","v":""},{"$f":"IF(AND(DAY(BV661+7)<23,DAY(BV661+7)>=7),\"\",\"～\")","v":""},{"$f":"IF(AND(DAY(BV661+7)<23,DAY(BV661+7)>=7),\"\",BV661+7)","v":""},{"$f":"IF(AND(DAY(BV661+7)<23,DAY(BV661+7)>=7),\"\",IF(COUNTIF(INDEX(BB657:CL657,DAY(BZ661)):INDEX(BB657:CL657,HLOOKUP(CB661,BB653:CL658,6,FALSE)),\"\")+COUNTIF(INDEX(BB657:CL657,DAY(BZ661)):INDEX(BB657:CL657,HLOOKUP(CB661,BB653:CL658,6,FALSE)),\"●\")=7,IF(COUNTIF(INDEX(BB657:CL657,DAY(BZ661)):INDEX(BB657:CL657,HLOOKUP(CB661,BB653:CL658,6,FALSE)),\"●\")>=2,\"OK\",\"OUT\"),IF(COUNTIF(INDEX(BB657:CL657,DAY(BZ661)):INDEX(BB657:CL657,HLOOKUP(CB661,BB653:CL658,6,FALSE)),\"\")+COUNTIF(INDEX(BB657:CL657,DAY(BZ661)):INDEX(BB657:CL657,HLOOKUP(CB661,BB653:CL658,6,FALSE)),\"●\")>7,\"「／」漏れ\",\"対象外\")))","v":""},null,null,{"$f":"IF(CC661=\"\",\"\",IF(AND(DAY(CB661+7)<23,DAY(CB661+7)>=7),\"\",CB661+1))","v":""},{"$f":"IF(CC661=\"\",\"\",IF(AND(DAY(CB661+7)<23,DAY(CB661+7)>=7),\"\",\"～\"))","v":""},{"$f":"IF(CC661=\"\",\"\",IF(AND(DAY(CB661+7)<23,DAY(CB661+7)>=7),\"\",CB661+7))","v":""},{"$f":"IF(CC661=\"\",\"\",IF(AND(DAY(CB661+7)<23,DAY(CB661+7)>=7),\"\",IF(COUNTIF(INDEX(BB657:CL657,DAY(CF661)):INDEX(BB657:CL657,HLOOKUP(CH661,BB653:CL658,6,FALSE)),\"\")+COUNTIF(INDEX(BB657:CL657,DAY(CF661)):INDEX(BB657:CL657,HLOOKUP(CH661,BB653:CL658,6,FALSE)),\"●\")=7,IF(COUNTIF(INDEX(BB657:CL657,DAY(CF661)):INDEX(BB657:CL657,HLOOKUP(CH661,BB653:CL658,6,FALSE)),\"●\")>=2,\"OK\",\"OUT\"),IF(COUNTIF(INDEX(BB657:CL657,HLOOKUP(CF661,BB653:CL658,6,FALSE)):INDEX(BB657:CL657,HLOOKUP(CH661,BB653:CL658,6,FALSE)),\"\")+COUNTIF(INDEX(BB657:CL657,HLOOKUP(CF661,BB653:CL658,6,FALSE)):INDEX(BB657:CL657,HLOOKUP(CH661,BB653:CL658,6,FALSE)),\"●\")>7,\"「／」漏れ\",\"対象外\"))))","v":""},null,null,null,null,null,null,null,"完全週休二日",{"$f":"IF(CR652=\"\",\"\",IF(COUNTIF(BB661:CL661,\"OUT\")>=1,\"OUT\",\"OK\"))","v":""},null,null,null,null,"完全",{"$f":"IF(WEEKDAY(DATE(YEAR(CX652),MONTH(CX652),1),2)=1,DATE(YEAR(CX652),MONTH(CX652),1),EOMONTH(CX652,-1)-MOD(WEEKDAY(EOMONTH(CX652,-1),2)+6,7))","v":"2027-02-01"},"～",{"$f":"DATE(YEAR(CX652),MONTH(CX652),1)+MOD(7-WEEKDAY(DATE(YEAR(CX652),MONTH(CX652),1),2),7)","v":"2027-02-07"},{"$f":"IF(DAY(CX661)=1,IF(COUNTIF(CX657:DD657,\"／\")>=1,\"対象外\",IF(COUNTIF(INDEX(CX657:EH657,DAY(CX661)):INDEX(CX657:EH657,HLOOKUP(CZ661,CX653:EH658,6,FALSE)),\"\")+COUNTIF(INDEX(CX657:EH657,DAY(CX661)):INDEX(CX657:EH657,HLOOKUP(CZ661,CX653:EH658,6,FALSE)),\"●\")=7,IF(COUNTIF(INDEX(CX657:EH657,DAY(CX661)):INDEX(CX657:EH657,HLOOKUP(CZ661,CX653:EH658,6,FALSE)),\"●\")>=2,\"OK\",\"OUT\"),IF(COUNTIF(INDEX(CX657:EH657,DAY(CX661)):INDEX(CX657:EH657,HLOOKUP(CZ661,CX653:EH658,6,FALSE)),\"●\")>=COUNTIF(INDEX(CX660:EH660,DAY(CX661)):INDEX(CX660:EH660,HLOOKUP(CZ661,CX653:EH658,6,FALSE)),\"○\"),\"OK\",\"OUT\"))),IF(AND(EE632=\"\",DY632=\"\"),DS632,IF(EE632=\"\",DY632,EE632)))","v":"OUT"},null,null,{"$f":"CZ661+1","v":"2027-02-08"},"～",{"$f":"CZ661+7","v":"2027-02-14"},{"$f":"IF(COUNTIF(INDEX(CX657:EH657,DAY(DD661)):INDEX(CX657:EH657,HLOOKUP(DF661,CX653:EH658,6,FALSE)),\"\")+COUNTIF(INDEX(CX657:EH657,DAY(DD661)):INDEX(CX657:EH657,HLOOKUP(DF661,CX653:EH658,6,FALSE)),\"●\")=7,IF(COUNTIF(INDEX(CX657:EH657,DAY(DD661)):INDEX(CX657:EH657,HLOOKUP(DF661,CX653:EH658,6,FALSE)),\"●\")>=2,\"OK\",\"OUT\"),\"対象外\")","v":"OUT"},null,null,{"$f":"DF661+1","v":"2027-02-15"},"～",{"$f":"DF661+7","v":"2027-02-21"},{"$f":"IF(COUNTIF(INDEX(CX657:EH657,DAY(DJ661)):INDEX(CX657:EH657,HLOOKUP(DL661,CX653:EH658,6,FALSE)),\"\")+COUNTIF(INDEX(CX657:EH657,DAY(DJ661)):INDEX(CX657:EH657,HLOOKUP(DL661,CX653:EH658,6,FALSE)),\"●\")=7,IF(COUNTIF(INDEX(CX657:EH657,DAY(DJ661)):INDEX(CX657:EH657,HLOOKUP(DL661,CX653:EH658,6,FALSE)),\"●\")>=2,\"OK\",\"OUT\"),\"対象外\")","v":"OUT"},null,null,{"$f":"DL661+1","v":"2027-02-22"},"～",{"$f":"DL661+7","v":"2027-02-28"},{"$f":"IF(COUNTIF(INDEX(CX657:EH657,DAY(DP661)):INDEX(CX657:EH657,HLOOKUP(DR661,CX653:EH658,6,FALSE)),\"\")+COUNTIF(INDEX(CX657:EH657,DAY(DP661)):INDEX(CX657:EH657,HLOOKUP(DR661,CX653:EH658,6,FALSE)),\"●\")=7,IF(COUNTIF(INDEX(CX657:EH657,DAY(DP661)):INDEX(CX657:EH657,HLOOKUP(DR661,CX653:EH658,6,FALSE)),\"●\")>=2,\"OK\",\"OUT\"),\"対象外\")","v":"OUT"},null,null,{"$f":"IF(AND(DAY(DR661+7)<23,DAY(DR661+7)>=7),\"\",DR661+1)","v":""},{"$f":"IF(AND(DAY(DR661+7)<23,DAY(DR661+7)>=7),\"\",\"～\")","v":""},{"$f":"IF(AND(DAY(DR661+7)<23,DAY(DR661+7)>=7),\"\",DR661+7)","v":""},{"$f":"IF(AND(DAY(DR661+7)<23,DAY(DR661+7)>=7),\"\",IF(COUNTIF(INDEX(CX657:EH657,DAY(DV661)):INDEX(CX657:EH657,HLOOKUP(DX661,CX653:EH658,6,FALSE)),\"\")+COUNTIF(INDEX(CX657:EH657,DAY(DV661)):INDEX(CX657:EH657,HLOOKUP(DX661,CX653:EH658,6,FALSE)),\"●\")=7,IF(COUNTIF(INDEX(CX657:EH657,DAY(DV661)):INDEX(CX657:EH657,HLOOKUP(DX661,CX653:EH658,6,FALSE)),\"●\")>=2,\"OK\",\"OUT\"),IF(COUNTIF(INDEX(CX657:EH657,DAY(DV661)):INDEX(CX657:EH657,HLOOKUP(DX661,CX653:EH658,6,FALSE)),\"\")+COUNTIF(INDEX(CX657:EH657,DAY(DV661)):INDEX(CX657:EH657,HLOOKUP(DX661,CX653:EH658,6,FALSE)),\"●\")>7,\"「／」漏れ\",\"対象外\")))","v":""},null,null,{"$f":"IF(DY661=\"\",\"\",IF(AND(DAY(DX661+7)<23,DAY(DX661+7)>=7),\"\",DX661+1))","v":""},{"$f":"IF(DY661=\"\",\"\",IF(AND(DAY(DX661+7)<23,DAY(DX661+7)>=7),\"\",\"～\"))","v":""},{"$f":"IF(DY661=\"\",\"\",IF(AND(DAY(DX661+7)<23,DAY(DX661+7)>=7),\"\",DX661+7))","v":""},{"$f":"IF(DY661=\"\",\"\",IF(AND(DAY(DX661+7)<23,DAY(DX661+7)>=7),\"\",IF(COUNTIF(INDEX(CX657:EH657,DAY(EB661)):INDEX(CX657:EH657,HLOOKUP(ED661,CX653:EH658,6,FALSE)),\"\")+COUNTIF(INDEX(CX657:EH657,DAY(EB661)):INDEX(CX657:EH657,HLOOKUP(ED661,CX653:EH658,6,FALSE)),\"●\")=7,IF(COUNTIF(INDEX(CX657:EH657,DAY(EB661)):INDEX(CX657:EH657,HLOOKUP(ED661,CX653:EH658,6,FALSE)),\"●\")>=2,\"OK\",\"OUT\"),IF(COUNTIF(INDEX(CX657:EH657,HLOOKUP(EB661,CX653:EH658,6,FALSE)):INDEX(CX657:EH657,HLOOKUP(ED661,CX653:EH658,6,FALSE)),\"\")+COUNTIF(INDEX(CX657:EH657,HLOOKUP(EB661,CX653:EH658,6,FALSE)):INDEX(CX657:EH657,HLOOKUP(ED661,CX653:EH658,6,FALSE)),\"●\")>7,\"「／」漏れ\",\"対象外\"))))","v":""},null,null,null,null,null,null,null,"完全週休二日",{"$f":"IF(EN652=\"\",\"\",IF(COUNTIF(CX661:EH661,\"OUT\")>=1,\"OUT\",\"OK\"))","v":""}]
[""]
[{"$f":"IF(AND(NOT($AT$652=\"\"),$AT$681=\"\"),\"対象期間\",\"\")","v":""}]
[{"$f":"IF(AND(NOT($AT$652=\"\"),$AT$681=\"\"),\"対象期間\",\"\")","v":""},null,"※１工事着手日：始期日以降に準備工事（現場事務所の建設・測量等）、工場製作を含む工事における工場製作工に着手した日",null,null,null,null,null,null,null,null,null,null,null,null,null,null,null,null,null,null,null,null,null,null,null,null,null,null,null,null,null,null,null,null,null,null,null,null,null,null,null,null,"工事全体の確認",null,null,null,null,null,null,null,null,"※１工事着手日：始期日以降に準備工事（現場事務所の建設・測量等）、工場製作を含む工事における工場製作工に着手した日",null,null,null,null,null,null,null,null,null,null,null,null,null,null,null,null,null,null,null,null,null,null,null,null,null,null,null,null,null,null,null,null,null,null,null,null,null,null,null,null,"工事全体の確認",null,null,null,null,null,null,"※１工事着手日：始期日以降に準備工事（現場事務所の建設・測量等）、工場製作を含む工事における工場製作工に着手した日",null,null,null,null,null,null,null,null,null,null,null,null,null,null,null,null,null,null,null,null,null,null,null,null,null,null,null,null,null,null,null,null,null,null,null,null,null,null,null,null,"工事全体の確認"]
["",null,"※２作業完了日：工事施工範囲内で全ての作業（後片付けを含む）が完了した日\n　　　　　　　　　  （工事現場事務所は工事施工範囲外に設置するため、ここでいう後片付けの対象に含まない）",null,null,null,null,null,null,null,null,null,null,null,null,null,null,null,null,null,null,null,null,null,null,null,null,null,null,null,null,null,null,null,null,null,null,null,null,null,null,null,null,"計画","全対象期間",{"$f":"IFERROR(AT636+AT652,\"\")","v":""},null,null,null,null,null,null,"※２作業完了日：工事施工範囲内で全ての作業（後片付けを含む）が完了した日\n　　　　　　　　　  （工事現場事務所は工事施工範囲外に設置するため、ここでいう後片付けの対象に含まない）",null,null,null,null,null,null,null,null,null,null,null,null,null,null,null,null,null,null,null,null,null,null,null,null,null,null,null,null,null,null,null,null,null,null,null,null,null,null,null,null,"計画","全対象期間",{"$f":"IFERROR(CR636+CR652,\"\")","v":""},null,null,null,null,"※２作業完了日：工事施工範囲内で全ての作業（後片付けを含む）が完了した日\n　　　　　　　　　  （工事現場事務所は工事施工範囲外に設置するため、ここでいう後片付けの対象に含まない）",null,null,null,null,null,null,null,null,null,null,null,null,null,null,null,null,null,null,null,null,null,null,null,null,null,null,null,null,null,null,null,null,null,null,null,null,null,null,null,null,"計画","全対象期間",{"$f":"IFERROR(EN636+EN652,\"\")","v":""}]
["",null,null,null,null,null,null,null,null,null,null,null,null,null,null,null,null,null,null,null,null,null,null,null,null,null,null,null,null,null,null,null,null,null,null,null,null,null,null,null,null,null,null,null,"全現場閉所日数",{"$f":"IFERROR(AT637+AT653,\"\")","v":""},null,null,null,null,null,null,null,null,null,null,null,null,null,null,null,null,null,null,null,null,null,null,null,null,null,null,null,null,null,null,null,null,null,null,null,null,null,null,null,null,null,null,null,null,null,null,null,null,"全現場閉所日数",{"$f":"IFERROR(CR637+CR653,\"\")","v":""},null,null,null,null,null,null,null,null,null,null,null,null,null,null,null,null,null,null,null,null,null,null,null,null,null,null,null,null,null,null,null,null,null,null,null,null,null,null,null,null,null,null,null,null,null,null,"全現場閉所日数",{"$f":"IFERROR(EN637+EN653,\"\")","v":""}]
["",null,"【算定除外期間】：夏季休暇（8月13日～8月15日）、年末年始（12月29日～翌年1月3日）は算定期間の分母・分子に含めない",null,null,null,null,null,null,null,null,null,null,null,null,null,null,null,null,null,null,null,null,null,null,null,null,null,null,null,null,null,null,null,null,null,null,null,null,null,null,null,null,null,"現場閉所率",{"$f":"IFERROR(+AT666/AT665,\"\")","v":""},{"$f":"IF(AT667>=0.285,\"4週8休以上\",\"週休2日未達成\")","v":"4週8休以上"},null,null,null,null,null,"【算定除外期間】：夏季休暇（8月13日～8月15日）、年末年始（12月29日～翌年1月3日）は算定期間の分母・分子に含めない",null,null,null,null,null,null,null,null,null,null,null,null,null,null,null,null,null,null,null,null,null,null,null,null,null,null,null,null,null,null,null,null,null,null,null,null,null,null,null,null,null,"現場閉所率",{"$f":"IFERROR(+CR666/CR665,\"\")","v":""},{"$f":"IF(CR667>=0.285,\"4週8休以上\",\"週休2日未達成\")","v":"4週8休以上"},null,null,null,"【算定除外期間】：夏季休暇（8月13日～8月15日）、年末年始（12月29日～翌年1月3日）は算定期間の分母・分子に含めない",null,null,null,null,null,null,null,null,null,null,null,null,null,null,null,null,null,null,null,null,null,null,null,null,null,null,null,null,null,null,null,null,null,null,null,null,null,null,null,null,null,"現場閉所率",{"$f":"IFERROR(+EN666/EN665,\"\")","v":""},{"$f":"IF(EN667>=0.285,\"4週8休以上\",\"週休2日未達成\")","v":"4週8休以上"}]
["",null,"※３工事期間の全ての月において、達成状況を確認し、一度でも達成できない月があれば、４週８休以上（月単位）は「未達成」となり、補正の対象とならない。\n　　月によっては、土日を全て閉所しても現場閉所率が28.5％に満たない場合があるが、その月の対象期間の土日日数以上閉所していれば達成とみなす。\n\n※４工事対象期間のうち、一度でも完全週休２日（月～日で２日以上の現場閉所）を達成できなければ、\n　　 完全週休２日は「未達成」となり、補正の対象とならない。\n　　 なお、工期始期・終期、年末年始、夏季休暇などにより、７日間に満たない期間は完全週休２日の達成判断の対象外とする。",null,null,null,null,null,null,null,null,null,null,null,null,null,null,null,null,null,null,null,null,null,null,null,null,null,null,null,null,null,null,null,null,null,null,null,null,null,null,null,null,"実施","全対象期間",{"$f":"IFERROR(AT639+AT655,\"\")","v":""},null,null,null,null,null,null,"※３工事期間の全ての月において、達成状況を確認し、一度でも達成できない月があれば、４週８休以上（月単位）は「未達成」となり、補正の対象とならない。\n　　月によっては、土日を全て閉所しても現場閉所率が28.5％に満たない場合があるが、その月の対象期間の土日日数以上閉所していれば達成とみなす。\n\n※４工事対象期間のうち、一度でも完全週休２日（月～日で２日以上の現場閉所）を達成できなければ、\n　　 完全週休２日は「未達成」となり、補正の対象とならない。\n　　 なお、工期始期・終期、年末年始、夏季休暇などにより、７日間に満たない期間は完全週休２日の達成判断の対象外とする。",null,null,null,null,null,null,null,null,null,null,null,null,null,null,null,null,null,null,null,null,null,null,null,null,null,null,null,null,null,null,null,null,null,null,null,null,null,null,null,null,"実施","全対象期間",{"$f":"IFERROR(CR639+CR655,\"\")","v":""},null,null,null,null,"※３工事期間の全ての月において、達成状況を確認し、一度でも達成できない月があれば、４週８休以上（月単位）は「未達成」となり、補正の対象とならない。\n　　月によっては、土日を全て閉所しても現場閉所率が28.5％に満たない場合があるが、その月の対象期間の土日日数以上閉所していれば達成とみなす。\n\n※４工事対象期間のうち、一度でも完全週休２日（月～日で２日以上の現場閉所）を達成できなければ、\n　　 完全週休２日は「未達成」となり、補正の対象とならない。\n　　 なお、工期始期・終期、年末年始、夏季休暇などにより、７日間に満たない期間は完全週休２日の達成判断の対象外とする。",null,null,null,null,null,null,null,null,null,null,null,null,null,null,null,null,null,null,null,null,null,null,null,null,null,null,null,null,null,null,null,null,null,null,null,null,null,null,null,null,"実施","全対象期間",{"$f":"IFERROR(EN639+EN655,\"\")","v":""}]
["",null,null,null,null,null,null,null,null,null,null,null,null,null,null,null,null,null,null,null,null,null,null,null,null,null,null,null,null,null,null,null,null,null,null,null,null,null,null,null,null,null,null,null,"全現場閉所日数",{"$f":"IFERROR(AT640+AT656,\"\")","v":""},null,null,null,null,null,null,null,null,null,null,null,null,null,null,null,null,null,null,null,null,null,null,null,null,null,null,null,null,null,null,null,null,null,null,null,null,null,null,null,null,null,null,null,null,null,null,null,null,"全現場閉所日数",{"$f":"IFERROR(CR640+CR656,\"\")","v":""},null,null,null,null,null,null,null,null,null,null,null,null,null,null,null,null,null,null,null,null,null,null,null,null,null,null,null,null,null,null,null,null,null,null,null,null,null,null,null,null,null,null,null,null,null,null,"全現場閉所日数",{"$f":"IFERROR(EN640+EN656,\"\")","v":""}]
["",null,null,null,null,null,null,null,null,null,null,null,null,null,null,null,null,null,null,null,null,null,null,null,null,null,null,null,null,null,null,null,null,null,null,null,null,null,null,null,null,null,null,null,"現場閉所率",{"$f":"IFERROR(+AT669/AT668,\"\")","v":""},{"$f":"IF(AT670>=0.285,\"4週8休以上\",\"週休2日未達成\")","v":"4週8休以上"},null,null,null,null,null,null,null,null,null,null,null,null,null,null,null,null,null,null,null,null,null,null,null,null,null,null,null,null,null,null,null,null,null,null,null,null,null,null,null,null,null,null,null,null,null,null,null,"現場閉所率",{"$f":"IFERROR(+CR669/CR668,\"\")","v":""},{"$f":"IF(CR670>=0.285,\"4週8休以上\",\"週休2日未達成\")","v":"4週8休以上"},null,null,null,null,null,null,null,null,null,null,null,null,null,null,null,null,null,null,null,null,null,null,null,null,null,null,null,null,null,null,null,null,null,null,null,null,null,null,null,null,null,null,null,null,null,"現場閉所率",{"$f":"IFERROR(+EN669/EN668,\"\")","v":""},{"$f":"IF(EN670>=0.285,\"4週8休以上\",\"週休2日未達成\")","v":"4週8休以上"}]
["",null,null,null,null,null,null,null,null,null,null,null,null,null,null,null,null,null,null,null,null,null,null,null,null,null,null,null,null,null,null,null,null,null,null,null,null,null,null,null,null,null,null,null,"閉所（月単位）",{"$f":"IFERROR(COUNTIF(AS$14:$AS661,\"4週8休以上\")/(COUNTIF(AS$14:$AS661,\"4週8休以上\")+COUNTIF(AS$14:$AS661,\"週休2日未達成\")),\"\")","v":""},{"$f":"IF(OR(AT671=100%,AT671=\"\"),\"達成\",\"未達成\")","v":"達成"},null,null,null,null,null,null,null,null,null,null,null,null,null,null,null,null,null,null,null,null,null,null,null,null,null,null,null,null,null,null,null,null,null,null,null,null,null,null,null,null,null,null,null,null,null,null,null,"閉所（月単位）",{"$f":"IFERROR(COUNTIF(CQ$14:$CQ661,\"4週8休以上\")/(COUNTIF(CQ$14:$CQ661,\"4週8休以上\")+COUNTIF(CQ$14:$CQ661,\"週休2日未達成\")),\"\")","v":0},{"$f":"IF(OR(CR671=100%,CR671=\"\"),\"達成\",\"未達成\")","v":"未達成"},null,null,null,null,null,null,null,null,null,null,null,null,null,null,null,null,null,null,null,null,null,null,null,null,null,null,null,null,null,null,null,null,null,null,null,null,null,null,null,null,null,null,null,null,null,"閉所（月単位）",{"$f":"IFERROR(COUNTIF($EM$14:EM661,\"4週8休以上\")/(COUNTIF($EM$14:EM661,\"4週8休以上\")+COUNTIF($EM$14:EM661,\"週休2日未達成\")),\"\")","v":1},{"$f":"IF(OR(EN671=100%,EN671=\"\"),\"達成\",\"未達成\")","v":"達成"}]
["",null,null,null,null,null,null,null,null,null,null,null,null,null,null,null,null,null,null,null,null,null,null,null,null,null,null,null,null,null,null,null,null,null,null,null,null,null,null,null,null,null,null,null,"完全週休二日",{"$f":"IF(COUNTIF(AS$14:$AS661,\"OUT\")>=1,\"OUT\",\"OK\")","v":"OK"},{"$f":"IF(AT672=\"OK\",\"達成\",\"未達成\")","v":"達成"},null,null,null,null,null,null,null,null,null,null,null,null,null,null,null,null,null,null,null,null,null,null,null,null,null,null,null,null,null,null,null,null,null,null,null,null,null,null,null,null,null,null,null,null,null,null,null,"完全週休二日",{"$f":"IF(COUNTIF(CQ$14:$CQ661,\"OUT\")>=1,\"OUT\",\"OK\")","v":"OUT"},{"$f":"IF(CR672=\"OK\",\"達成\",\"未達成\")","v":"未達成"},null,null,null,null,null,null,null,null,null,null,null,null,null,null,null,null,null,null,null,null,null,null,null,null,null,null,null,null,null,null,null,null,null,null,null,null,null,null,null,null,null,null,null,null,null,"完全週休二日",{"$f":"IF(COUNTIF($EM$14:EM661,\"OUT\")>=1,\"OUT\",\"OK\")","v":"OUT"},{"$f":"IF(EN672=\"OK\",\"達成\",\"未達成\")","v":"未達成"}]
["",null,"※必要に応じて各月の完全週休2日（月～日）の達成判定の行を修正してください。（曜日に合わせて修正）",null,null,null,null,null,null,null,null,null,null,null,null,null,null,null,null,null,null,null,null,null,null,null,null,null,null,null,null,null,null,null,null,null,null,null,null,null,null,null,null,null,null,null,null,null,null,null,null,null,"※必要に応じて各月の完全週休2日（月～日）の達成判定の行を修正してください。（曜日に合わせて修正）",null,null,null,null,null,null,null,null,null,null,null,null,null,null,null,null,null,null,null,null,null,null,null,null,null,null,null,null,null,null,null,null,null,null,null,null,null,null,null,null,null,null,null,null,null,null,null,"※必要に応じて各月の完全週休2日（月～日）の達成判定の行を修正してください。（曜日に合わせて修正）"]
[""]
[""]
[""]
[""]
[""]
["",null,"算定除外期間以外の祝日（ＧＷ含む）は、算定期間（分母）の対象＝現場閉所の場合は分子にカウントして現場閉所率を算定",null,null,null,null,null,null,null,null,null,null,null,null,null,null,null,null,null,null,null,null,null,null,null,null,null,null,null,null,null,null,null,null,null,null,null,null,null,null,null,null,null,null,null,null,null,null,null,null,null,"算定除外期間以外の祝日（ＧＷ含む）は、算定期間（分母）の対象＝現場閉所の場合は分子にカウントして現場閉所率を算定",null,null,null,null,null,null,null,null,null,null,null,null,null,null,null,null,null,null,null,null,null,null,null,null,null,null,null,null,null,null,null,null,null,null,null,null,null,null,null,null,null,null,null,null,null,null,null,"算定除外期間以外の祝日（ＧＷ含む）は、算定期間（分母）の対象＝現場閉所の場合は分子にカウントして現場閉所率を算定"]
[""]
[{"$f":"IF($AT$681=\"\",\"\",\"対象期間\")","v":""},null,"月",{"$f":"DATE(YEAR(D652),MONTH(D652)+1,1)","v":"2027-03-01"},null,null,null,null,null,null,null,null,null,null,null,null,null,null,null,null,null,null,null,null,null,null,null,null,null,null,null,null,null,null,{"$f":"DATE(YEAR(D681),MONTH(D681)+1,1)","v":"2027-04-01"},null,null,null,null,null,"現場閉所計","現場閉所累計",null,"計画","対象期間",{"$f":"IF(IF(MONTH(入力表!$E$6)=12,YEAR(入力表!$E$6)+1&\"01\",YEAR(入力表!$E$6)&TEXT(MONTH(入力表!$E$6)+1,\"00\"))>YEAR($D681)&TEXT(MONTH($D681),\"00\"),COUNTIF(D685:AH685,\"\")+COUNTIF(D685:AH685,\"○\"),\"\")","v":""},{"$f":"IF(COUNTIF(D682:AH682,\"／\")=0,\"\",IF(COUNTIF(D682:AH682,\"／\")=1,IF(AH685=\"／\",\"\",\"月末「／」漏れ\"),IF(COUNTIF(D682:AH682,\"／\")=2,IF(AND(AG685=\"／\",AH685=\"／\"),\"\",\"月末「／」漏れ\"),IF(AND(AF685=\"／\",AG685=\"／\",AH685=\"／\"),\"\",\"月末「／」漏れ\"))))","v":""},null,null,null,null,null,"月",{"$f":"DATE(YEAR(BB652),MONTH(BB652)+1,1)","v":"2027-03-01"},null,null,null,null,null,null,null,null,null,null,null,null,null,null,null,null,null,null,null,null,null,null,null,null,null,null,null,null,null,null,{"$f":"DATE(YEAR(BB681),MONTH(BB681)+1,1)","v":"2027-04-01"},null,null,null,null,null,"現場閉所計","現場閉所累計",null,"計画","対象期間",{"$f":"IF(IF(MONTH($BL$5)=12,YEAR($BL$5)+1&\"01\",YEAR($BL$5)&TEXT(MONTH($BL$5)+1,\"00\"))>YEAR(BB681)&TEXT(MONTH(BB681),\"00\"),COUNTIF(BB685:CF685,\"\")+COUNTIF(BB685:CF685,\"○\"),\"\")","v":""},{"$f":"IF(COUNTIF(BB682:CF682,\"／\")=0,\"\",IF(COUNTIF(BB682:CF682,\"／\")=1,IF(CF685=\"／\",\"\",\"月末「／」漏れ\"),IF(COUNTIF(BB682:CF682,\"／\")=2,IF(AND(CE685=\"／\",CF685=\"／\"),\"\",\"月末「／」漏れ\"),IF(AND(CD685=\"／\",CE685=\"／\",CF685=\"／\"),\"\",\"月末「／」漏れ\"))))","v":""},null,null,null,"月",{"$f":"DATE(YEAR(CX652),MONTH(CX652)+1,1)","v":"2027-03-01"},null,null,null,null,null,null,null,null,null,null,null,null,null,null,null,null,null,null,null,null,null,null,null,null,null,null,null,null,null,null,{"$f":"DATE(YEAR(CX681),MONTH(CX681)+1,1)","v":"2027-04-01"},null,null,null,null,null,"現場閉所計","現場閉所累計",null,"計画","対象期間",{"$f":"IF(IF(MONTH($BL$5)=12,YEAR($BL$5)+1&\"01\",YEAR($BL$5)&TEXT(MONTH($BL$5)+1,\"00\"))>YEAR($CX681)&TEXT(MONTH($CX681),\"00\"),COUNTIF(CX685:EB685,\"\")+COUNTIF(CX685:EB685,\"○\"),\"\")","v":""},{"$f":"IF(COUNTIF(CX682:EB682,\"／\")=0,\"\",IF(COUNTIF(CX682:EB682,\"／\")=1,IF(EB685=\"／\",\"\",\"月末「／」漏れ\"),IF(COUNTIF(CX682:EB682,\"／\")=2,IF(AND(EA685=\"／\",EB685=\"／\"),\"\",\"月末「／」漏れ\"),IF(AND(DZ685=\"／\",EA685=\"／\",EB685=\"／\"),\"\",\"月末「／」漏れ\"))))","v":""}]
[{"$f":"IF($AT$681=\"\",\"\",\"対象期間\")","v":""},null,"日",{"$f":"D681","v":"2027-03-01"},{"$f":"D682+1","v":"2027-03-02"},{"$f":"E682+1","v":"2027-03-03"},{"$f":"F682+1","v":"2027-03-04"},{"$f":"G682+1","v":"2027-03-05"},{"$f":"H682+1","v":"2027-03-06"},{"$f":"I682+1","v":"2027-03-07"},{"$f":"J682+1","v":"2027-03-08"},{"$f":"K682+1","v":"2027-03-09"},{"$f":"L682+1","v":"2027-03-10"},{"$f":"M682+1","v":"2027-03-11"},{"$f":"N682+1","v":"2027-03-12"},{"$f":"O682+1","v":"2027-03-13"},{"$f":"P682+1","v":"2027-03-14"},{"$f":"Q682+1","v":"2027-03-15"},{"$f":"R682+1","v":"2027-03-16"},{"$f":"S682+1","v":"2027-03-17"},{"$f":"T682+1","v":"2027-03-18"},{"$f":"U682+1","v":"2027-03-19"},{"$f":"V682+1","v":"2027-03-20"},{"$f":"W682+1","v":"2027-03-21"},{"$f":"X682+1","v":"2027-03-22"},{"$f":"Y682+1","v":"2027-03-23"},{"$f":"Z682+1","v":"2027-03-24"},{"$f":"AA682+1","v":"2027-03-25"},{"$f":"AB682+1","v":"2027-03-26"},{"$f":"AC682+1","v":"2027-03-27"},{"$f":"AD682+1","v":"2027-03-28"},{"$f":"IF(AE682=\"／\",\"／\",IF(YEAR($D681)&TEXT(MONTH($D681),\"00\")<YEAR(AE682+1)&TEXT(MONTH(AE682+1),\"00\"),\"／\",AE682+1))","v":"2027-03-29"},{"$f":"IF(AF682=\"／\",\"／\",IF(YEAR($D681)&TEXT(MONTH($D681),\"00\")<YEAR(AF682+1)&TEXT(MONTH(AF682+1),\"00\"),\"／\",AF682+1))","v":"2027-03-30"},{"$f":"IF(AG682=\"／\",\"／\",IF(YEAR($D681)&TEXT(MONTH($D681),\"00\")<YEAR(AG682+1)&TEXT(MONTH(AG682+1),\"00\"),\"／\",AG682+1))","v":"2027-03-31"},{"$f":"AI681","v":"2027-04-01"},{"$f":"AI682+1","v":"2027-04-02"},{"$f":"AJ682+1","v":"2027-04-03"},{"$f":"AK682+1","v":"2027-04-04"},{"$f":"AL682+1","v":"2027-04-05"},{"$f":"AM682+1","v":"2027-04-06"},null,null,null,null,"閉所日数",{"$f":"IF(IF(MONTH(入力表!$E$6)=12,YEAR(入力表!$E$6)+1&\"01\",YEAR(入力表!$E$6)&TEXT(MONTH(入力表!$E$6)+1,\"00\"))>YEAR($D681)&TEXT(MONTH($D681),\"00\"),COUNTIF(D685:AH685,\"○\"),\"\")","v":""},{"$f":"IF(OR(MONTH(D681)=1,MONTH(D681)=8,MONTH(D681)=12),IF(COUNTIF(D685:AH685,\"／\")>=3,\"\",\"算定除外「／」漏れ\"),\"\")","v":""},null,null,null,null,null,"日",{"$f":"BB681","v":"2027-03-01"},{"$f":"BB682+1","v":"2027-03-02"},{"$f":"BC682+1","v":"2027-03-03"},{"$f":"BD682+1","v":"2027-03-04"},{"$f":"BE682+1","v":"2027-03-05"},{"$f":"BF682+1","v":"2027-03-06"},{"$f":"BG682+1","v":"2027-03-07"},{"$f":"BH682+1","v":"2027-03-08"},{"$f":"BI682+1","v":"2027-03-09"},{"$f":"BJ682+1","v":"2027-03-10"},{"$f":"BK682+1","v":"2027-03-11"},{"$f":"BL682+1","v":"2027-03-12"},{"$f":"BM682+1","v":"2027-03-13"},{"$f":"BN682+1","v":"2027-03-14"},{"$f":"BO682+1","v":"2027-03-15"},{"$f":"BP682+1","v":"2027-03-16"},{"$f":"BQ682+1","v":"2027-03-17"},{"$f":"BR682+1","v":"2027-03-18"},{"$f":"BS682+1","v":"2027-03-19"},{"$f":"BT682+1","v":"2027-03-20"},{"$f":"BU682+1","v":"2027-03-21"},{"$f":"BV682+1","v":"2027-03-22"},{"$f":"BW682+1","v":"2027-03-23"},{"$f":"BX682+1","v":"2027-03-24"},{"$f":"BY682+1","v":"2027-03-25"},{"$f":"BZ682+1","v":"2027-03-26"},{"$f":"CA682+1","v":"2027-03-27"},{"$f":"CB682+1","v":"2027-03-28"},{"$f":"IF(CC682=\"／\",\"／\",IF(YEAR(BB681)&TEXT(MONTH(BB681),\"00\")<YEAR(CC682+1)&TEXT(MONTH(CC682+1),\"00\"),\"／\",CC682+1))","v":"2027-03-29"},{"$f":"IF(CD682=\"／\",\"／\",IF(YEAR(BB681)&TEXT(MONTH(BB681),\"00\")<YEAR(CD682+1)&TEXT(MONTH(CD682+1),\"00\"),\"／\",CD682+1))","v":"2027-03-30"},{"$f":"IF(CE682=\"／\",\"／\",IF(YEAR(BB681)&TEXT(MONTH(BB681),\"00\")<YEAR(CE682+1)&TEXT(MONTH(CE682+1),\"00\"),\"／\",CE682+1))","v":"2027-03-31"},{"$f":"CG681","v":"2027-04-01"},{"$f":"CG682+1","v":"2027-04-02"},{"$f":"CH682+1","v":"2027-04-03"},{"$f":"CI682+1","v":"2027-04-04"},{"$f":"CJ682+1","v":"2027-04-05"},{"$f":"CK682+1","v":"2027-04-06"},null,null,null,null,"閉所日数",{"$f":"IF(IF(MONTH($BL$5)=12,YEAR($BL$5)+1&\"01\",YEAR($BL$5)&TEXT(MONTH($BL$5)+1,\"00\"))>YEAR(BB681)&TEXT(MONTH(BB681),\"00\"),COUNTIF(BB685:CF685,\"○\"),\"\")","v":""},{"$f":"IF(OR(MONTH(BB681)=1,MONTH(BB681)=8,MONTH(BB681)=12),IF(COUNTIF(BB685:CF685,\"／\")>=3,\"\",\"算定除外「／」漏れ\"),\"\")","v":""},null,null,null,"日",{"$f":"CX681","v":"2027-03-01"},{"$f":"CX682+1","v":"2027-03-02"},{"$f":"CY682+1","v":"2027-03-03"},{"$f":"CZ682+1","v":"2027-03-04"},{"$f":"DA682+1","v":"2027-03-05"},{"$f":"DB682+1","v":"2027-03-06"},{"$f":"DC682+1","v":"2027-03-07"},{"$f":"DD682+1","v":"2027-03-08"},{"$f":"DE682+1","v":"2027-03-09"},{"$f":"DF682+1","v":"2027-03-10"},{"$f":"DG682+1","v":"2027-03-11"},{"$f":"DH682+1","v":"2027-03-12"},{"$f":"DI682+1","v":"2027-03-13"},{"$f":"DJ682+1","v":"2027-03-14"},{"$f":"DK682+1","v":"2027-03-15"},{"$f":"DL682+1","v":"2027-03-16"},{"$f":"DM682+1","v":"2027-03-17"},{"$f":"DN682+1","v":"2027-03-18"},{"$f":"DO682+1","v":"2027-03-19"},{"$f":"DP682+1","v":"2027-03-20"},{"$f":"DQ682+1","v":"2027-03-21"},{"$f":"DR682+1","v":"2027-03-22"},{"$f":"DS682+1","v":"2027-03-23"},{"$f":"DT682+1","v":"2027-03-24"},{"$f":"DU682+1","v":"2027-03-25"},{"$f":"DV682+1","v":"2027-03-26"},{"$f":"DW682+1","v":"2027-03-27"},{"$f":"DX682+1","v":"2027-03-28"},{"$f":"IF(DY682=\"／\",\"／\",IF(YEAR(CX681)&TEXT(MONTH(CX681),\"00\")<YEAR(DY682+1)&TEXT(MONTH(DY682+1),\"00\"),\"／\",DY682+1))","v":"2027-03-29"},{"$f":"IF(DZ682=\"／\",\"／\",IF(YEAR(CX681)&TEXT(MONTH(CX681),\"00\")<YEAR(DZ682+1)&TEXT(MONTH(DZ682+1),\"00\"),\"／\",DZ682+1))","v":"2027-03-30"},{"$f":"IF(EA682=\"／\",\"／\",IF(YEAR(CX681)&TEXT(MONTH(CX681),\"00\")<YEAR(EA682+1)&TEXT(MONTH(EA682+1),\"00\"),\"／\",EA682+1))","v":"2027-03-31"},{"$f":"EC681","v":"2027-04-01"},{"$f":"EC682+1","v":"2027-04-02"},{"$f":"ED682+1","v":"2027-04-03"},{"$f":"EE682+1","v":"2027-04-04"},{"$f":"EF682+1","v":"2027-04-05"},{"$f":"EG682+1","v":"2027-04-06"},null,null,null,null,"閉所日数",{"$f":"IF(IF(MONTH($BL$5)=12,YEAR($BL$5)+1&\"01\",YEAR($BL$5)&TEXT(MONTH($BL$5)+1,\"00\"))>YEAR($CX681)&TEXT(MONTH($CX681),\"00\"),COUNTIF(CX685:EB685,\"○\"),\"\")","v":""},{"$f":"IF(OR(MONTH(CX681)=1,MONTH(CX681)=8,MONTH(CX681)=12),IF(COUNTIF(CX685:EB685,\"／\")>=3,\"\",\"算定除外「／」漏れ\"),\"\")","v":""}]
[{"$f":"IF($AT$681=\"\",\"\",\"対象期間\")","v":""},null,"曜日",{"$f":"TEXT(WEEKDAY(+D682),\"aaa\")","v":"月"},{"$f":"TEXT(WEEKDAY(+E682),\"aaa\")","v":"火"},"水","木","金",{"$f":"TEXT(WEEKDAY(+I682),\"aaa\")","v":"土"},{"$f":"TEXT(WEEKDAY(+J682),\"aaa\")","v":"日"},"月","火","水","木","金","土","日","月","火","水","木","金","土","日","月",{"$f":"TEXT(WEEKDAY(+Z682),\"aaa\")","v":"火"},{"$f":"TEXT(WEEKDAY(+AA682),\"aaa\")","v":"水"},"木","金","土","日",{"$f":"IF(AF682=\"／\",\"／\",TEXT(WEEKDAY(+AF682),\"aaa\"))","v":"月"},{"$f":"IF(AG682=\"／\",\"／\",TEXT(WEEKDAY(+AG682),\"aaa\"))","v":"火"},"水",{"$f":"TEXT(WEEKDAY(+AI682),\"aaa\")","v":"木"},{"$f":"TEXT(WEEKDAY(+AJ682),\"aaa\")","v":"金"},"土","日","月","火",null,null,null,null,"現場閉所率",{"$f":"IFERROR(+AT682/AT681,\"\")","v":""},{"$f":"IF(AT683=\"\",\"\",IF(COUNTIF(D685:AH685,\"○\")>=COUNTIF(D688:AH688,\"◎\"),\"4週8休以上\",IF(AT683>=0.285,\"4週8休以上\",\"週休2日未達成\")))","v":""},null,null,null,null,null,"曜日",{"$f":"TEXT(WEEKDAY(+BB682),\"aaa\")","v":"月"},{"$f":"TEXT(WEEKDAY(+BC682),\"aaa\")","v":"火"},"水","木","金",{"$f":"TEXT(WEEKDAY(+BG682),\"aaa\")","v":"土"},{"$f":"TEXT(WEEKDAY(+BH682),\"aaa\")","v":"日"},"月","火","水","木","金","土","日","月","火","水","木","金","土","日","月",{"$f":"TEXT(WEEKDAY(+BX682),\"aaa\")","v":"火"},{"$f":"TEXT(WEEKDAY(+BY682),\"aaa\")","v":"水"},"木","金","土","日",{"$f":"IF(CD682=\"／\",\"／\",TEXT(WEEKDAY(+CD682),\"aaa\"))","v":"月"},{"$f":"IF(CE682=\"／\",\"／\",TEXT(WEEKDAY(+CE682),\"aaa\"))","v":"火"},"水",{"$f":"TEXT(WEEKDAY(+CG682),\"aaa\")","v":"木"},{"$f":"TEXT(WEEKDAY(+CH682),\"aaa\")","v":"金"},"土","日","月","火",null,null,null,null,"現場閉所率",{"$f":"IFERROR(+CR682/CR681,\"\")","v":""},{"$f":"IF(CR683=\"\",\"\",IF(COUNTIF(BB685:CF685,\"○\")>=COUNTIF(BB688:CF688,\"◎\"),\"4週8休以上\",IF(CR683>=0.285,\"4週8休以上\",\"週休2日未達成\")))","v":""},null,null,null,"曜日",{"$f":"TEXT(WEEKDAY(+CX682),\"aaa\")","v":"月"},{"$f":"TEXT(WEEKDAY(+CY682),\"aaa\")","v":"火"},"水","木","金",{"$f":"TEXT(WEEKDAY(+DC682),\"aaa\")","v":"土"},{"$f":"TEXT(WEEKDAY(+DD682),\"aaa\")","v":"日"},"月","火","水","木","金","土","日","月","火","水","木","金","土","日","月",{"$f":"TEXT(WEEKDAY(+DT682),\"aaa\")","v":"火"},{"$f":"TEXT(WEEKDAY(+DU682),\"aaa\")","v":"水"},"木","金","土","日",{"$f":"IF(DZ682=\"／\",\"／\",TEXT(WEEKDAY(+DZ682),\"aaa\"))","v":"月"},{"$f":"IF(EA682=\"／\",\"／\",TEXT(WEEKDAY(+EA682),\"aaa\"))","v":"火"},"水",{"$f":"TEXT(WEEKDAY(+EC682),\"aaa\")","v":"木"},{"$f":"TEXT(WEEKDAY(+ED682),\"aaa\")","v":"金"},"土","日","月","火",null,null,null,null,"現場閉所率",{"$f":"IFERROR(+EN682/EN681,\"\")","v":""},{"$f":"IF(EN683=\"\",\"\",IF(COUNTIF(CX685:EB685,\"○\")>=COUNTIF(CX688:EB688,\"◎\"),\"4週8休以上\",IF(EN683>=0.285,\"4週8休以上\",\"週休2日未達成\")))","v":""}]
["",null,"行事",null,null,null,null,null,null,null,null,null,null,null,null,null,null,null,null,null,null,null,null,null,null,null,null,null,null,null,null,null,null,null,{"$f":"IF(D713=\"\",\"\",D713)","v":""},{"$f":"IF(E713=\"\",\"\",E713)","v":""},{"$f":"IF(F713=\"\",\"\",F713)","v":""},{"$f":"IF(G713=\"\",\"\",G713)","v":""},{"$f":"IF(H713=\"\",\"\",H713)","v":""},{"$f":"IF(I713=\"\",\"\",I713)","v":""},null,null,null,"実施","対象期間",{"$f":"IF(IF(MONTH(入力表!$E$6)=12,YEAR(入力表!$E$6)+1&\"01\",YEAR(入力表!$E$6)&TEXT(MONTH(入力表!$E$6)+1,\"00\"))>YEAR($D681)&TEXT(MONTH($D681),\"00\"),COUNTIF(D686:AH686,\"\")+COUNTIF(D686:AH686,\"●\"),\"\")","v":""},{"$f":"IF(COUNTIF(D682:AH682,\"／\")=0,\"\",IF(COUNTIF(D682:AH682,\"／\")=1,IF(AH686=\"／\",\"\",\"月末「／」漏れ\"),IF(COUNTIF(D682:AH682,\"／\")=2,IF(AND(AG686=\"／\",AH686=\"／\"),\"\",\"月末「／」漏れ\"),IF(AND(AF686=\"／\",AG686=\"／\",AH686=\"／\"),\"\",\"月末「／」漏れ\"))))","v":""},null,null,null,null,null,"行事",null,null,null,null,null,null,null,null,null,null,null,null,null,null,null,null,null,null,null,null,null,null,null,null,null,null,null,null,null,null,null,{"$f":"IF(BB713=\"\",\"\",BB713)","v":""},{"$f":"IF(BC713=\"\",\"\",BC713)","v":""},{"$f":"IF(BD713=\"\",\"\",BD713)","v":""},{"$f":"IF(BE713=\"\",\"\",BE713)","v":""},{"$f":"IF(BF713=\"\",\"\",BF713)","v":""},{"$f":"IF(BG713=\"\",\"\",BG713)","v":""},null,null,null,"実施","対象期間",{"$f":"IF(IF(MONTH($BL$5)=12,YEAR($BL$5)+1&\"01\",YEAR($BL$5)&TEXT(MONTH($BL$5)+1,\"00\"))>YEAR(BB681)&TEXT(MONTH(BB681),\"00\"),COUNTIF(BB686:CF686,\"\")+COUNTIF(BB686:CF686,\"●\"),\"\")","v":""},{"$f":"IF(COUNTIF(BB682:CF682,\"／\")=0,\"\",IF(COUNTIF(BB682:CF682,\"／\")=1,IF(CF686=\"／\",\"\",\"月末「／」漏れ\"),IF(COUNTIF(BB682:CF682,\"／\")=2,IF(AND(CE686=\"／\",CF686=\"／\"),\"\",\"月末「／」漏れ\"),IF(AND(CD686=\"／\",CE686=\"／\",CF686=\"／\"),\"\",\"月末「／」漏れ\"))))","v":""},null,null,null,"行事",null,null,null,null,null,null,null,null,null,null,null,null,null,null,null,null,null,null,null,null,null,null,null,null,null,null,null,null,null,null,null,{"$f":"IF(CX713=\"\",\"\",CX713)","v":""},{"$f":"IF(CY713=\"\",\"\",CY713)","v":""},{"$f":"IF(CZ713=\"\",\"\",CZ713)","v":""},{"$f":"IF(DA713=\"\",\"\",DA713)","v":""},{"$f":"IF(DB713=\"\",\"\",DB713)","v":""},{"$f":"IF(DC713=\"\",\"\",DC713)","v":""},null,null,null,"実施","対象期間",{"$f":"IF(IF(MONTH($BL$5)=12,YEAR($BL$5)+1&\"01\",YEAR($BL$5)&TEXT(MONTH($BL$5)+1,\"00\"))>YEAR($CX681)&TEXT(MONTH($CX681),\"00\"),COUNTIF(CX686:EB686,\"\")+COUNTIF(CX686:EB686,\"●\"),\"\")","v":""},{"$f":"IF(COUNTIF(CX682:EB682,\"／\")=0,\"\",IF(COUNTIF(CX682:EB682,\"／\")=1,IF(EB686=\"／\",\"\",\"月末「／」漏れ\"),IF(COUNTIF(CX682:EB682,\"／\")=2,IF(AND(EA686=\"／\",EB686=\"／\"),\"\",\"月末「／」漏れ\"),IF(AND(DZ686=\"／\",EA686=\"／\",EB686=\"／\"),\"\",\"月末「／」漏れ\"))))","v":""}]
["",null,"計画",null,null,null,null,null,null,null,null,null,null,null,null,null,null,null,null,null,null,null,null,null,null,null,null,null,null,null,null,null,null,null,{"$f":"IF(D714=\"\",\"\",D714)","v":""},"","","","","",{"$f":"COUNTIF(D685:AH685,\"○\")","v":0},{"$f":"+AO685+AP656","v":0},null,null,"閉所日数",{"$f":"IF(IF(MONTH(入力表!$E$6)=12,YEAR(入力表!$E$6)+1&\"01\",YEAR(入力表!$E$6)&TEXT(MONTH(入力表!$E$6)+1,\"00\"))>YEAR($D681)&TEXT(MONTH($D681),\"00\"),COUNTIF(D686:AH686,\"●\"),\"\")","v":""},{"$f":"IF(OR(MONTH(D681)=1,MONTH(D681)=8,MONTH(D681)=12),IF(COUNTIF(D686:AH686,\"／\")>=3,\"\",\"算定除外「／」漏れ\"),\"\")","v":""},null,null,null,null,null,"計画",null,null,null,null,null,null,null,null,null,null,null,null,null,null,null,null,null,null,null,null,null,null,null,null,null,null,null,null,null,null,null,{"$f":"IF(BB714=\"\",\"\",BB714)","v":""},"","","","","",{"$f":"COUNTIF(BB685:CF685,\"○\")","v":0},{"$f":"+CM685+CN656","v":1},null,null,"閉所日数",{"$f":"IF(IF(MONTH($BL$5)=12,YEAR($BL$5)+1&\"01\",YEAR($BL$5)&TEXT(MONTH($BL$5)+1,\"00\"))>YEAR(BB681)&TEXT(MONTH(BB681),\"00\"),COUNTIF(BB686:CF686,\"●\"),\"\")","v":""},{"$f":"IF(OR(MONTH(BB681)=1,MONTH(BB681)=8,MONTH(BB681)=12),IF(COUNTIF(BB686:CF686,\"／\")>=3,\"\",\"算定除外「／」漏れ\"),\"\")","v":""},null,null,null,"計画",null,null,null,null,null,null,null,null,null,null,null,null,null,null,null,null,null,null,null,null,null,null,null,null,null,null,null,null,null,null,null,{"$f":"IF(CX714=\"\",\"\",CX714)","v":""},"","","","","",{"$f":"COUNTIF(CX685:EB685,\"○\")","v":0},{"$f":"+EI685+EJ656","v":0},null,null,"閉所日数",{"$f":"IF(IF(MONTH($BL$5)=12,YEAR($BL$5)+1&\"01\",YEAR($BL$5)&TEXT(MONTH($BL$5)+1,\"00\"))>YEAR($CX681)&TEXT(MONTH($CX681),\"00\"),COUNTIF(CX686:EB686,\"●\"),\"\")","v":""},{"$f":"IF(OR(MONTH(CX681)=1,MONTH(CX681)=8,MONTH(CX681)=12),IF(COUNTIF(CX686:EB686,\"／\")>=3,\"\",\"算定除外「／」漏れ\"),\"\")","v":""}]
["",null,"実施",null,null,null,null,null,null,null,null,null,null,null,null,null,null,null,null,null,null,null,null,null,null,null,null,null,null,null,null,null,null,null,{"$f":"IF(D715=\"\",\"\",D715)","v":""},{"$f":"IF(E715=\"\",\"\",E715)","v":""},{"$f":"IF(F715=\"\",\"\",F715)","v":""},{"$f":"IF(G715=\"\",\"\",G715)","v":""},{"$f":"IF(H715=\"\",\"\",H715)","v":""},{"$f":"IF(I715=\"\",\"\",I715)","v":""},{"$f":"COUNTIF(D686:AH686,\"●\")","v":0},{"$f":"+AO686+AP657","v":0},null,null,"現場閉所率",{"$f":"IFERROR(+AT685/AT684,\"\")","v":""},{"$f":"IF(AT686=\"\",\"\",IF(COUNTIF(D686:AH686,\"●\")>=COUNTIF(D689:AH689,\"◎\"),\"4週8休以上\",IF(AT686>=0.285,\"4週8休以上\",\"週休2日未達成\")))","v":""},null,null,null,null,null,"実施",null,null,null,null,null,null,null,null,null,null,null,null,null,null,null,null,null,null,null,null,null,null,null,null,null,null,null,null,null,null,null,{"$f":"IF(BB715=\"\",\"\",BB715)","v":""},{"$f":"IF(BC715=\"\",\"\",BC715)","v":""},{"$f":"IF(BD715=\"\",\"\",BD715)","v":""},{"$f":"IF(BE715=\"\",\"\",BE715)","v":""},{"$f":"IF(BF715=\"\",\"\",BF715)","v":""},{"$f":"IF(BG715=\"\",\"\",BG715)","v":""},{"$f":"COUNTIF(BB686:CF686,\"●\")","v":0},{"$f":"+CM686+CN657","v":0},null,null,"現場閉所率",{"$f":"IFERROR(+CR685/CR684,\"\")","v":""},{"$f":"IF(CR686=\"\",\"\",IF(COUNTIF(BB686:CF686,\"●\")>=COUNTIF(BB689:CF689,\"◎\"),\"4週8休以上\",IF(CR686>=0.285,\"4週8休以上\",\"週休2日未達成\")))","v":""},null,null,null,"実施",null,null,null,null,null,null,null,null,null,null,null,null,null,null,null,null,null,null,null,null,null,null,null,null,null,null,null,null,null,null,null,{"$f":"IF(CX715=\"\",\"\",CX715)","v":""},{"$f":"IF(CY715=\"\",\"\",CY715)","v":""},{"$f":"IF(CZ715=\"\",\"\",CZ715)","v":""},{"$f":"IF(DA715=\"\",\"\",DA715)","v":""},{"$f":"IF(DB715=\"\",\"\",DB715)","v":""},{"$f":"IF(DC715=\"\",\"\",DC715)","v":""},{"$f":"COUNTIF(CX686:EB686,\"●\")","v":0},{"$f":"+EI686+EJ657","v":0},null,null,"現場閉所率",{"$f":"IFERROR(+EN685/EN684,\"\")","v":""},{"$f":"IF(EN686=\"\",\"\",IF(COUNTIF(CX686:EB686,\"●\")>=COUNTIF(CX689:EB689,\"◎\"),\"4週8休以上\",IF(EN686>=0.285,\"4週8休以上\",\"週休2日未達成\")))","v":""}]
[null,null,null,1,2,3,4,5,6,7,8,9,10,11,12,13,14,15,16,17,18,19,20,21,22,23,24,25,26,27,28,29,30,31,32,33,34,35,36,37,null,null,null,null,{"$f":"AU686","v":""},null,null,null,null,null,null,null,null,1,2,3,4,5,6,7,8,9,10,11,12,13,14,15,16,17,18,19,20,21,22,23,24,25,26,27,28,29,30,31,32,33,34,35,36,37,null,null,null,null,{"$f":"CS686","v":""},null,null,null,null,null,null,1,2,3,4,5,6,7,8,9,10,11,12,13,14,15,16,17,18,19,20,21,22,23,24,25,26,27,28,29,30,31,32,33,34,35,36,37,null,null,null,null,{"$f":"EO686","v":""}]
[null,null,"計画",{"$f":"IF(D685=\"／\",\"／\",IF(OR(D683=\"土\",D683=\"日\"),\"◎\",\"\"))","v":""},{"$f":"IF(E685=\"／\",\"／\",IF(OR(E683=\"土\",E683=\"日\"),\"◎\",\"\"))","v":""},"","","","◎","◎","","","","","","◎","◎","","","","","","◎","◎","","","","","",{"$f":"IF(AD685=\"／\",\"／\",IF(OR(AD683=\"土\",AD683=\"日\"),\"◎\",\"\"))","v":"◎"},{"$f":"IF(AE685=\"／\",\"／\",IF(OR(AE683=\"土\",AE683=\"日\"),\"◎\",\"\"))","v":"◎"},"","","","","","◎","◎","","",null,null,null,null,{"$f":"AT690","v":""},null,null,null,null,null,null,null,"計画",{"$f":"IF(BB685=\"／\",\"／\",IF(OR(BB683=\"土\",BB683=\"日\"),\"◎\",\"\"))","v":""},"","","","","◎","◎","","","","","",{"$f":"IF(BN685=\"／\",\"／\",IF(OR(BN683=\"土\",BN683=\"日\"),\"◎\",\"\"))","v":"◎"},{"$f":"IF(BO685=\"／\",\"／\",IF(OR(BO683=\"土\",BO683=\"日\"),\"◎\",\"\"))","v":"◎"},"","","","","","◎","◎","","","","","",{"$f":"IF(CB685=\"／\",\"／\",IF(OR(CB683=\"土\",CB683=\"日\"),\"◎\",\"\"))","v":"◎"},{"$f":"IF(CC685=\"／\",\"／\",IF(OR(CC683=\"土\",CC683=\"日\"),\"◎\",\"\"))","v":"◎"},"","","","","","◎","◎","","",null,null,null,null,{"$f":"CR690","v":""},null,null,null,null,null,"計画",{"$f":"IF(CX685=\"／\",\"／\",IF(OR(CX683=\"土\",CX683=\"日\"),\"◎\",\"\"))","v":""},"","","","","◎","◎","","","","","",{"$f":"IF(DJ685=\"／\",\"／\",IF(OR(DJ683=\"土\",DJ683=\"日\"),\"◎\",\"\"))","v":"◎"},{"$f":"IF(DK685=\"／\",\"／\",IF(OR(DK683=\"土\",DK683=\"日\"),\"◎\",\"\"))","v":"◎"},"","","","","","◎","◎","","","","","",{"$f":"IF(DX685=\"／\",\"／\",IF(OR(DX683=\"土\",DX683=\"日\"),\"◎\",\"\"))","v":"◎"},{"$f":"IF(DY685=\"／\",\"／\",IF(OR(DY683=\"土\",DY683=\"日\"),\"◎\",\"\"))","v":"◎"},"","","","","","◎","◎","","",null,null,null,null,{"$f":"EN690","v":""}]
[null,null,"実施",{"$f":"IF(D686=\"／\",\"／\",IF(OR(D683=\"土\",D683=\"日\"),\"◎\",\"\"))","v":""},{"$f":"IF(E686=\"／\",\"／\",IF(OR(E683=\"土\",E683=\"日\"),\"◎\",\"\"))","v":""},"","","","◎","◎","","","","","","◎","◎","","","","","","◎","◎","","","","","","◎","◎","","","","","","◎","◎","","",null,null,null,null,null,null,null,null,null,null,null,null,"実施",{"$f":"IF(BB686=\"／\",\"／\",IF(OR(BB683=\"土\",BB683=\"日\"),\"◎\",\"\"))","v":""},{"$f":"IF(BC686=\"／\",\"／\",IF(OR(BC683=\"土\",BC683=\"日\"),\"◎\",\"\"))","v":""},"","","","◎","◎","","","","","","◎","◎","","","","","","◎","◎","","","","","","◎","◎","","","","","","◎","◎","","",null,null,null,null,null,null,null,null,null,null,"実施",{"$f":"IF(CX686=\"／\",\"／\",IF(OR(CX683=\"土\",CX683=\"日\"),\"◎\",\"\"))","v":""},{"$f":"IF(CY686=\"／\",\"／\",IF(OR(CY683=\"土\",CY683=\"日\"),\"◎\",\"\"))","v":""},"","","","◎","◎","","","","","","◎","◎","","","","","","◎","◎","","","","","","◎","◎","","","","","","◎","◎","",""]
["",null,"完全",{"$f":"IF(WEEKDAY(DATE(YEAR(D681),MONTH(D681),1),2)=1,DATE(YEAR(D681),MONTH(D681),1),EOMONTH(D681,-1)-MOD(WEEKDAY(EOMONTH(D681,-1),2)+6,7))","v":"2027-03-01"},"～",{"$f":"DATE(YEAR(D681),MONTH(D681),1)+MOD(7-WEEKDAY(DATE(YEAR(D681),MONTH(D681),1),2),7)","v":"2027-03-07"},{"$f":"IF(DAY(D690)=1,IF(COUNTIF(D686:J686,\"／\")>=1,\"対象外\",IF(COUNTIF(INDEX(D686:AN686,DAY(D690)):INDEX(D686:AN686,HLOOKUP(F690,D682:AN687,6,FALSE)),\"\")+COUNTIF(INDEX(D686:AN686,DAY(D690)):INDEX(D686:AN686,HLOOKUP(F690,D682:AN687,6,FALSE)),\"●\")=7,IF(COUNTIF(INDEX(D686:AN686,DAY(D690)):INDEX(D686:AN686,HLOOKUP(F690,D682:AN687,6,FALSE)),\"●\")>=2,\"OK\",\"OUT\"),IF(COUNTIF(INDEX(D686:AN686,DAY(D690)):INDEX(D686:AN686,HLOOKUP(F690,D682:AN687,6,FALSE)),\"●\")>=COUNTIF(INDEX(D689:AN689,DAY(D690)):INDEX(D689:AN689,HLOOKUP(F690,D682:AN687,6,FALSE)),\"○\"),\"OK\",\"OUT\"))),IF(AND(AK661=\"\",AE661=\"\"),Y661,IF(AK661=\"\",AE661,AK661)))","v":"OUT"},null,null,{"$f":"F690+1","v":"2027-03-08"},"～",{"$f":"F690+7","v":"2027-03-14"},{"$f":"IF(COUNTIF(INDEX(D686:AN686,DAY(J690)):INDEX(D686:AN686,HLOOKUP(L690,D682:AN687,6,FALSE)),\"\")+COUNTIF(INDEX(D686:AN686,DAY(J690)):INDEX(D686:AN686,HLOOKUP(L690,D682:AN687,6,FALSE)),\"●\")=7,IF(COUNTIF(INDEX(D686:AN686,DAY(J690)):INDEX(D686:AN686,HLOOKUP(L690,D682:AN687,6,FALSE)),\"●\")>=2,\"OK\",\"OUT\"),\"対象外\")","v":"OUT"},null,null,{"$f":"L690+1","v":"2027-03-15"},"～",{"$f":"L690+7","v":"2027-03-21"},{"$f":"IF(COUNTIF(INDEX(D686:AN686,DAY(P690)):INDEX(D686:AN686,HLOOKUP(R690,D682:AN687,6,FALSE)),\"\")+COUNTIF(INDEX(D686:AN686,DAY(P690)):INDEX(D686:AN686,HLOOKUP(R690,D682:AN687,6,FALSE)),\"●\")=7,IF(COUNTIF(INDEX(D686:AN686,DAY(P690)):INDEX(D686:AN686,HLOOKUP(R690,D682:AN687,6,FALSE)),\"●\")>=2,\"OK\",\"OUT\"),\"対象外\")","v":"OUT"},null,null,{"$f":"R690+1","v":"2027-03-22"},"～",{"$f":"R690+7","v":"2027-03-28"},{"$f":"IF(COUNTIF(INDEX(D686:AN686,DAY(V690)):INDEX(D686:AN686,HLOOKUP(X690,D682:AN687,6,FALSE)),\"\")+COUNTIF(INDEX(D686:AN686,DAY(V690)):INDEX(D686:AN686,HLOOKUP(X690,D682:AN687,6,FALSE)),\"●\")=7,IF(COUNTIF(INDEX(D686:AN686,DAY(V690)):INDEX(D686:AN686,HLOOKUP(X690,D682:AN687,6,FALSE)),\"●\")>=2,\"OK\",\"OUT\"),\"対象外\")","v":"OUT"},null,null,{"$f":"IF(AND(DAY(X690+7)<23,DAY(X690+7)>=7),\"\",X690+1)","v":"2027-03-29"},{"$f":"IF(AND(DAY(X690+7)<23,DAY(X690+7)>=7),\"\",\"～\")","v":"～"},{"$f":"IF(AND(DAY(X690+7)<23,DAY(X690+7)>=7),\"\",X690+7)","v":"2027-04-04"},{"$f":"IF(AND(DAY(X690+7)<23,DAY(X690+7)>=7),\"\",IF(COUNTIF(INDEX(D686:AN686,DAY(AB690)):INDEX(D686:AN686,HLOOKUP(AD690,D682:AN687,6,FALSE)),\"\")+COUNTIF(INDEX(D686:AN686,DAY(AB690)):INDEX(D686:AN686,HLOOKUP(AD690,D682:AN687,6,FALSE)),\"●\")=7,IF(COUNTIF(INDEX(D686:AN686,DAY(AB690)):INDEX(D686:AN686,HLOOKUP(AD690,D682:AN687,6,FALSE)),\"●\")>=2,\"OK\",\"OUT\"),IF(COUNTIF(INDEX(D686:AN686,DAY(AB690)):INDEX(D686:AN686,HLOOKUP(AD690,D682:AN687,6,FALSE)),\"\")+COUNTIF(INDEX(D686:AN686,DAY(AB690)):INDEX(D686:AN686,HLOOKUP(AD690,D682:AN687,6,FALSE)),\"●\")>7,\"「／」漏れ\",\"対象外\")))","v":"OUT"},null,null,{"$f":"IF(AE690=\"\",\"\",IF(AND(DAY(AD690+7)<23,DAY(AD690+7)>=7),\"\",AD690+1))","v":""},{"$f":"IF(AE690=\"\",\"\",IF(AND(DAY(AD690+7)<23,DAY(AD690+7)>=7),\"\",\"～\"))","v":""},{"$f":"IF(AE690=\"\",\"\",IF(AND(DAY(AD690+7)<23,DAY(AD690+7)>=7),\"\",AD690+7))","v":""},{"$f":"IF(AE690=\"\",\"\",IF(AND(DAY(AD690+7)<23,DAY(AD690+7)>=7),\"\",IF(COUNTIF(INDEX(D686:AN686,DAY(AH690)):INDEX(D686:AN686,HLOOKUP(AJ690,D682:AN687,6,FALSE)),\"\")+COUNTIF(INDEX(D686:AN686,DAY(AH690)):INDEX(D686:AN686,HLOOKUP(AJ690,D682:AN687,6,FALSE)),\"●\")=7,IF(COUNTIF(INDEX(D686:AN686,DAY(AH690)):INDEX(D686:AN686,HLOOKUP(AJ690,D682:AN687,6,FALSE)),\"●\")>=2,\"OK\",\"OUT\"),IF(COUNTIF(INDEX(D686:AN686,HLOOKUP(AH690,D682:AN687,6,FALSE)):INDEX(D686:AN686,HLOOKUP(AJ690,D682:AN687,6,FALSE)),\"\")+COUNTIF(INDEX(D686:AN686,HLOOKUP(AH690,D682:AN687,6,FALSE)):INDEX(D686:AN686,HLOOKUP(AJ690,D682:AN687,6,FALSE)),\"●\")>7,\"「／」漏れ\",\"対象外\"))))","v":""},null,null,null,null,null,null,null,"完全週休二日",{"$f":"IF(AT681=\"\",\"\",IF(COUNTIF(D690:AN690,\"OUT\")>=1,\"OUT\",\"OK\"))","v":""},null,null,null,null,null,null,"完全",{"$f":"IF(WEEKDAY(DATE(YEAR(BB681),MONTH(BB681),1),2)=1,DATE(YEAR(BB681),MONTH(BB681),1),EOMONTH(BB681,-1)-MOD(WEEKDAY(EOMONTH(BB681,-1),2)+6,7))","v":"2027-03-01"},"～",{"$f":"DATE(YEAR(BB681),MONTH(BB681),1)+MOD(7-WEEKDAY(DATE(YEAR(BB681),MONTH(BB681),1),2),7)","v":"2027-03-07"},{"$f":"IF(DAY(BB690)=1,IF(COUNTIF(BB686:BH686,\"／\")>=1,\"対象外\",IF(COUNTIF(INDEX(BB686:CL686,DAY(BB690)):INDEX(BB686:CL686,HLOOKUP(BD690,BB682:CL687,6,FALSE)),\"\")+COUNTIF(INDEX(BB686:CL686,DAY(BB690)):INDEX(BB686:CL686,HLOOKUP(BD690,BB682:CL687,6,FALSE)),\"●\")=7,IF(COUNTIF(INDEX(BB686:CL686,DAY(BB690)):INDEX(BB686:CL686,HLOOKUP(BD690,BB682:CL687,6,FALSE)),\"●\")>=2,\"OK\",\"OUT\"),IF(COUNTIF(INDEX(BB686:CL686,DAY(BB690)):INDEX(BB686:CL686,HLOOKUP(BD690,BB682:CL687,6,FALSE)),\"●\")>=COUNTIF(INDEX(BB689:CL689,DAY(BB690)):INDEX(BB689:CL689,HLOOKUP(BD690,BB682:CL687,6,FALSE)),\"○\"),\"OK\",\"OUT\"))),IF(AND(CI661=\"\",CC661=\"\"),BW661,IF(CI661=\"\",CC661,CI661)))","v":"OUT"},null,null,{"$f":"BD690+1","v":"2027-03-08"},"～",{"$f":"BD690+7","v":"2027-03-14"},{"$f":"IF(COUNTIF(INDEX(BB686:CL686,DAY(BH690)):INDEX(BB686:CL686,HLOOKUP(BJ690,BB682:CL687,6,FALSE)),\"\")+COUNTIF(INDEX(BB686:CL686,DAY(BH690)):INDEX(BB686:CL686,HLOOKUP(BJ690,BB682:CL687,6,FALSE)),\"●\")=7,IF(COUNTIF(INDEX(BB686:CL686,DAY(BH690)):INDEX(BB686:CL686,HLOOKUP(BJ690,BB682:CL687,6,FALSE)),\"●\")>=2,\"OK\",\"OUT\"),\"対象外\")","v":"OUT"},null,null,{"$f":"BJ690+1","v":"2027-03-15"},"～",{"$f":"BJ690+7","v":"2027-03-21"},{"$f":"IF(COUNTIF(INDEX(BB686:CL686,DAY(BN690)):INDEX(BB686:CL686,HLOOKUP(BP690,BB682:CL687,6,FALSE)),\"\")+COUNTIF(INDEX(BB686:CL686,DAY(BN690)):INDEX(BB686:CL686,HLOOKUP(BP690,BB682:CL687,6,FALSE)),\"●\")=7,IF(COUNTIF(INDEX(BB686:CL686,DAY(BN690)):INDEX(BB686:CL686,HLOOKUP(BP690,BB682:CL687,6,FALSE)),\"●\")>=2,\"OK\",\"OUT\"),\"対象外\")","v":"OUT"},null,null,{"$f":"BP690+1","v":"2027-03-22"},"～",{"$f":"BP690+7","v":"2027-03-28"},{"$f":"IF(COUNTIF(INDEX(BB686:CL686,DAY(BT690)):INDEX(BB686:CL686,HLOOKUP(BV690,BB682:CL687,6,FALSE)),\"\")+COUNTIF(INDEX(BB686:CL686,DAY(BT690)):INDEX(BB686:CL686,HLOOKUP(BV690,BB682:CL687,6,FALSE)),\"●\")=7,IF(COUNTIF(INDEX(BB686:CL686,DAY(BT690)):INDEX(BB686:CL686,HLOOKUP(BV690,BB682:CL687,6,FALSE)),\"●\")>=2,\"OK\",\"OUT\"),\"対象外\")","v":"OUT"},null,null,{"$f":"IF(AND(DAY(BV690+7)<23,DAY(BV690+7)>=7),\"\",BV690+1)","v":"2027-03-29"},{"$f":"IF(AND(DAY(BV690+7)<23,DAY(BV690+7)>=7),\"\",\"～\")","v":"～"},{"$f":"IF(AND(DAY(BV690+7)<23,DAY(BV690+7)>=7),\"\",BV690+7)","v":"2027-04-04"},{"$f":"IF(AND(DAY(BV690+7)<23,DAY(BV690+7)>=7),\"\",IF(COUNTIF(INDEX(BB686:CL686,DAY(BZ690)):INDEX(BB686:CL686,HLOOKUP(CB690,BB682:CL687,6,FALSE)),\"\")+COUNTIF(INDEX(BB686:CL686,DAY(BZ690)):INDEX(BB686:CL686,HLOOKUP(CB690,BB682:CL687,6,FALSE)),\"●\")=7,IF(COUNTIF(INDEX(BB686:CL686,DAY(BZ690)):INDEX(BB686:CL686,HLOOKUP(CB690,BB682:CL687,6,FALSE)),\"●\")>=2,\"OK\",\"OUT\"),IF(COUNTIF(INDEX(BB686:CL686,DAY(BZ690)):INDEX(BB686:CL686,HLOOKUP(CB690,BB682:CL687,6,FALSE)),\"\")+COUNTIF(INDEX(BB686:CL686,DAY(BZ690)):INDEX(BB686:CL686,HLOOKUP(CB690,BB682:CL687,6,FALSE)),\"●\")>7,\"「／」漏れ\",\"対象外\")))","v":"OUT"},null,null,{"$f":"IF(CC690=\"\",\"\",IF(AND(DAY(CB690+7)<23,DAY(CB690+7)>=7),\"\",CB690+1))","v":""},{"$f":"IF(CC690=\"\",\"\",IF(AND(DAY(CB690+7)<23,DAY(CB690+7)>=7),\"\",\"～\"))","v":""},{"$f":"IF(CC690=\"\",\"\",IF(AND(DAY(CB690+7)<23,DAY(CB690+7)>=7),\"\",CB690+7))","v":""},{"$f":"IF(CC690=\"\",\"\",IF(AND(DAY(CB690+7)<23,DAY(CB690+7)>=7),\"\",IF(COUNTIF(INDEX(BB686:CL686,DAY(CF690)):INDEX(BB686:CL686,HLOOKUP(CH690,BB682:CL687,6,FALSE)),\"\")+COUNTIF(INDEX(BB686:CL686,DAY(CF690)):INDEX(BB686:CL686,HLOOKUP(CH690,BB682:CL687,6,FALSE)),\"●\")=7,IF(COUNTIF(INDEX(BB686:CL686,DAY(CF690)):INDEX(BB686:CL686,HLOOKUP(CH690,BB682:CL687,6,FALSE)),\"●\")>=2,\"OK\",\"OUT\"),IF(COUNTIF(INDEX(BB686:CL686,HLOOKUP(CF690,BB682:CL687,6,FALSE)):INDEX(BB686:CL686,HLOOKUP(CH690,BB682:CL687,6,FALSE)),\"\")+COUNTIF(INDEX(BB686:CL686,HLOOKUP(CF690,BB682:CL687,6,FALSE)):INDEX(BB686:CL686,HLOOKUP(CH690,BB682:CL687,6,FALSE)),\"●\")>7,\"「／」漏れ\",\"対象外\"))))","v":""},null,null,null,null,null,null,null,"完全週休二日",{"$f":"IF(CR681=\"\",\"\",IF(COUNTIF(BB690:CL690,\"OUT\")>=1,\"OUT\",\"OK\"))","v":""},null,null,null,null,"完全",{"$f":"IF(WEEKDAY(DATE(YEAR(CX681),MONTH(CX681),1),2)=1,DATE(YEAR(CX681),MONTH(CX681),1),EOMONTH(CX681,-1)-MOD(WEEKDAY(EOMONTH(CX681,-1),2)+6,7))","v":"2027-03-01"},"～",{"$f":"DATE(YEAR(CX681),MONTH(CX681),1)+MOD(7-WEEKDAY(DATE(YEAR(CX681),MONTH(CX681),1),2),7)","v":"2027-03-07"},{"$f":"IF(DAY(CX690)=1,IF(COUNTIF(CX686:DD686,\"／\")>=1,\"対象外\",IF(COUNTIF(INDEX(CX686:EH686,DAY(CX690)):INDEX(CX686:EH686,HLOOKUP(CZ690,CX682:EH687,6,FALSE)),\"\")+COUNTIF(INDEX(CX686:EH686,DAY(CX690)):INDEX(CX686:EH686,HLOOKUP(CZ690,CX682:EH687,6,FALSE)),\"●\")=7,IF(COUNTIF(INDEX(CX686:EH686,DAY(CX690)):INDEX(CX686:EH686,HLOOKUP(CZ690,CX682:EH687,6,FALSE)),\"●\")>=2,\"OK\",\"OUT\"),IF(COUNTIF(INDEX(CX686:EH686,DAY(CX690)):INDEX(CX686:EH686,HLOOKUP(CZ690,CX682:EH687,6,FALSE)),\"●\")>=COUNTIF(INDEX(CX689:EH689,DAY(CX690)):INDEX(CX689:EH689,HLOOKUP(CZ690,CX682:EH687,6,FALSE)),\"○\"),\"OK\",\"OUT\"))),IF(AND(EE661=\"\",DY661=\"\"),DS661,IF(EE661=\"\",DY661,EE661)))","v":"OUT"},null,null,{"$f":"CZ690+1","v":"2027-03-08"},"～",{"$f":"CZ690+7","v":"2027-03-14"},{"$f":"IF(COUNTIF(INDEX(CX686:EH686,DAY(DD690)):INDEX(CX686:EH686,HLOOKUP(DF690,CX682:EH687,6,FALSE)),\"\")+COUNTIF(INDEX(CX686:EH686,DAY(DD690)):INDEX(CX686:EH686,HLOOKUP(DF690,CX682:EH687,6,FALSE)),\"●\")=7,IF(COUNTIF(INDEX(CX686:EH686,DAY(DD690)):INDEX(CX686:EH686,HLOOKUP(DF690,CX682:EH687,6,FALSE)),\"●\")>=2,\"OK\",\"OUT\"),\"対象外\")","v":"OUT"},null,null,{"$f":"DF690+1","v":"2027-03-15"},"～",{"$f":"DF690+7","v":"2027-03-21"},{"$f":"IF(COUNTIF(INDEX(CX686:EH686,DAY(DJ690)):INDEX(CX686:EH686,HLOOKUP(DL690,CX682:EH687,6,FALSE)),\"\")+COUNTIF(INDEX(CX686:EH686,DAY(DJ690)):INDEX(CX686:EH686,HLOOKUP(DL690,CX682:EH687,6,FALSE)),\"●\")=7,IF(COUNTIF(INDEX(CX686:EH686,DAY(DJ690)):INDEX(CX686:EH686,HLOOKUP(DL690,CX682:EH687,6,FALSE)),\"●\")>=2,\"OK\",\"OUT\"),\"対象外\")","v":"OUT"},null,null,{"$f":"DL690+1","v":"2027-03-22"},"～",{"$f":"DL690+7","v":"2027-03-28"},{"$f":"IF(COUNTIF(INDEX(CX686:EH686,DAY(DP690)):INDEX(CX686:EH686,HLOOKUP(DR690,CX682:EH687,6,FALSE)),\"\")+COUNTIF(INDEX(CX686:EH686,DAY(DP690)):INDEX(CX686:EH686,HLOOKUP(DR690,CX682:EH687,6,FALSE)),\"●\")=7,IF(COUNTIF(INDEX(CX686:EH686,DAY(DP690)):INDEX(CX686:EH686,HLOOKUP(DR690,CX682:EH687,6,FALSE)),\"●\")>=2,\"OK\",\"OUT\"),\"対象外\")","v":"OUT"},null,null,{"$f":"IF(AND(DAY(DR690+7)<23,DAY(DR690+7)>=7),\"\",DR690+1)","v":"2027-03-29"},{"$f":"IF(AND(DAY(DR690+7)<23,DAY(DR690+7)>=7),\"\",\"～\")","v":"～"},{"$f":"IF(AND(DAY(DR690+7)<23,DAY(DR690+7)>=7),\"\",DR690+7)","v":"2027-04-04"},{"$f":"IF(AND(DAY(DR690+7)<23,DAY(DR690+7)>=7),\"\",IF(COUNTIF(INDEX(CX686:EH686,DAY(DV690)):INDEX(CX686:EH686,HLOOKUP(DX690,CX682:EH687,6,FALSE)),\"\")+COUNTIF(INDEX(CX686:EH686,DAY(DV690)):INDEX(CX686:EH686,HLOOKUP(DX690,CX682:EH687,6,FALSE)),\"●\")=7,IF(COUNTIF(INDEX(CX686:EH686,DAY(DV690)):INDEX(CX686:EH686,HLOOKUP(DX690,CX682:EH687,6,FALSE)),\"●\")>=2,\"OK\",\"OUT\"),IF(COUNTIF(INDEX(CX686:EH686,DAY(DV690)):INDEX(CX686:EH686,HLOOKUP(DX690,CX682:EH687,6,FALSE)),\"\")+COUNTIF(INDEX(CX686:EH686,DAY(DV690)):INDEX(CX686:EH686,HLOOKUP(DX690,CX682:EH687,6,FALSE)),\"●\")>7,\"「／」漏れ\",\"対象外\")))","v":"OUT"},null,null,{"$f":"IF(DY690=\"\",\"\",IF(AND(DAY(DX690+7)<23,DAY(DX690+7)>=7),\"\",DX690+1))","v":""},{"$f":"IF(DY690=\"\",\"\",IF(AND(DAY(DX690+7)<23,DAY(DX690+7)>=7),\"\",\"～\"))","v":""},{"$f":"IF(DY690=\"\",\"\",IF(AND(DAY(DX690+7)<23,DAY(DX690+7)>=7),\"\",DX690+7))","v":""},{"$f":"IF(DY690=\"\",\"\",IF(AND(DAY(DX690+7)<23,DAY(DX690+7)>=7),\"\",IF(COUNTIF(INDEX(CX686:EH686,DAY(EB690)):INDEX(CX686:EH686,HLOOKUP(ED690,CX682:EH687,6,FALSE)),\"\")+COUNTIF(INDEX(CX686:EH686,DAY(EB690)):INDEX(CX686:EH686,HLOOKUP(ED690,CX682:EH687,6,FALSE)),\"●\")=7,IF(COUNTIF(INDEX(CX686:EH686,DAY(EB690)):INDEX(CX686:EH686,HLOOKUP(ED690,CX682:EH687,6,FALSE)),\"●\")>=2,\"OK\",\"OUT\"),IF(COUNTIF(INDEX(CX686:EH686,HLOOKUP(EB690,CX682:EH687,6,FALSE)):INDEX(CX686:EH686,HLOOKUP(ED690,CX682:EH687,6,FALSE)),\"\")+COUNTIF(INDEX(CX686:EH686,HLOOKUP(EB690,CX682:EH687,6,FALSE)):INDEX(CX686:EH686,HLOOKUP(ED690,CX682:EH687,6,FALSE)),\"●\")>7,\"「／」漏れ\",\"対象外\"))))","v":""},null,null,null,null,null,null,null,"完全週休二日",{"$f":"IF(EN681=\"\",\"\",IF(COUNTIF(CX690:EH690,\"OUT\")>=1,\"OUT\",\"OK\"))","v":""}]
[""]
[{"$f":"IF($AT$681=\"\",\"\",\"対象期間\")","v":""}]
[{"$f":"IF($AT$681=\"\",\"\",\"対象期間\")","v":""},null,"※１工事着手日：始期日以降に準備工事（現場事務所の建設・測量等）、工場製作を含む工事における工場製作工に着手した日",null,null,null,null,null,null,null,null,null,null,null,null,null,null,null,null,null,null,null,null,null,null,null,null,null,null,null,null,null,null,null,null,null,null,null,null,null,null,null,null,"工事全体の確認",null,null,null,null,null,null,null,null,"※１工事着手日：始期日以降に準備工事（現場事務所の建設・測量等）、工場製作を含む工事における工場製作工に着手した日",null,null,null,null,null,null,null,null,null,null,null,null,null,null,null,null,null,null,null,null,null,null,null,null,null,null,null,null,null,null,null,null,null,null,null,null,null,null,null,null,"工事全体の確認",null,null,null,null,null,null,"※１工事着手日：始期日以降に準備工事（現場事務所の建設・測量等）、工場製作を含む工事における工場製作工に着手した日",null,null,null,null,null,null,null,null,null,null,null,null,null,null,null,null,null,null,null,null,null,null,null,null,null,null,null,null,null,null,null,null,null,null,null,null,null,null,null,null,"工事全体の確認"]
["",null,"※２作業完了日：工事施工範囲内で全ての作業（後片付けを含む）が完了した日\n　　　　　　　　　  （工事現場事務所は工事施工範囲外に設置するため、ここでいう後片付けの対象に含まない）",null,null,null,null,null,null,null,null,null,null,null,null,null,null,null,null,null,null,null,null,null,null,null,null,null,null,null,null,null,null,null,null,null,null,null,null,null,null,null,null,"計画","全対象期間",{"$f":"IFERROR(AT665+AT681,\"\")","v":""},null,null,null,null,null,null,"※２作業完了日：工事施工範囲内で全ての作業（後片付けを含む）が完了した日\n　　　　　　　　　  （工事現場事務所は工事施工範囲外に設置するため、ここでいう後片付けの対象に含まない）",null,null,null,null,null,null,null,null,null,null,null,null,null,null,null,null,null,null,null,null,null,null,null,null,null,null,null,null,null,null,null,null,null,null,null,null,null,null,null,null,"計画","全対象期間",{"$f":"IFERROR(CR665+CR681,\"\")","v":""},null,null,null,null,"※２作業完了日：工事施工範囲内で全ての作業（後片付けを含む）が完了した日\n　　　　　　　　　  （工事現場事務所は工事施工範囲外に設置するため、ここでいう後片付けの対象に含まない）",null,null,null,null,null,null,null,null,null,null,null,null,null,null,null,null,null,null,null,null,null,null,null,null,null,null,null,null,null,null,null,null,null,null,null,null,null,null,null,null,"計画","全対象期間",{"$f":"IFERROR(EN665+EN681,\"\")","v":""}]
["",null,null,null,null,null,null,null,null,null,null,null,null,null,null,null,null,null,null,null,null,null,null,null,null,null,null,null,null,null,null,null,null,null,null,null,null,null,null,null,null,null,null,null,"全現場閉所日数",{"$f":"IFERROR(AT666+AT682,\"\")","v":""},null,null,null,null,null,null,null,null,null,null,null,null,null,null,null,null,null,null,null,null,null,null,null,null,null,null,null,null,null,null,null,null,null,null,null,null,null,null,null,null,null,null,null,null,null,null,null,null,"全現場閉所日数",{"$f":"IFERROR(CR666+CR682,\"\")","v":""},null,null,null,null,null,null,null,null,null,null,null,null,null,null,null,null,null,null,null,null,null,null,null,null,null,null,null,null,null,null,null,null,null,null,null,null,null,null,null,null,null,null,null,null,null,null,"全現場閉所日数",{"$f":"IFERROR(EN666+EN682,\"\")","v":""}]
["",null,"【算定除外期間】：夏季休暇（8月13日～8月15日）、年末年始（12月29日～翌年1月3日）は算定期間の分母・分子に含めない",null,null,null,null,null,null,null,null,null,null,null,null,null,null,null,null,null,null,null,null,null,null,null,null,null,null,null,null,null,null,null,null,null,null,null,null,null,null,null,null,null,"現場閉所率",{"$f":"IFERROR(+AT695/AT694,\"\")","v":""},{"$f":"IF(AT696>=0.285,\"4週8休以上\",\"週休2日未達成\")","v":"4週8休以上"},null,null,null,null,null,"【算定除外期間】：夏季休暇（8月13日～8月15日）、年末年始（12月29日～翌年1月3日）は算定期間の分母・分子に含めない",null,null,null,null,null,null,null,null,null,null,null,null,null,null,null,null,null,null,null,null,null,null,null,null,null,null,null,null,null,null,null,null,null,null,null,null,null,null,null,null,null,"現場閉所率",{"$f":"IFERROR(+CR695/CR694,\"\")","v":""},{"$f":"IF(CR696>=0.285,\"4週8休以上\",\"週休2日未達成\")","v":"4週8休以上"},null,null,null,"【算定除外期間】：夏季休暇（8月13日～8月15日）、年末年始（12月29日～翌年1月3日）は算定期間の分母・分子に含めない",null,null,null,null,null,null,null,null,null,null,null,null,null,null,null,null,null,null,null,null,null,null,null,null,null,null,null,null,null,null,null,null,null,null,null,null,null,null,null,null,null,"現場閉所率",{"$f":"IFERROR(+EN695/EN694,\"\")","v":""},{"$f":"IF(EN696>=0.285,\"4週8休以上\",\"週休2日未達成\")","v":"4週8休以上"}]
["",null,"※３工事期間の全ての月において、達成状況を確認し、一度でも達成できない月があれば、４週８休以上（月単位）は「未達成」となり、補正の対象とならない。\n　　月によっては、土日を全て閉所しても現場閉所率が28.5％に満たない場合があるが、その月の対象期間の土日日数以上閉所していれば達成とみなす。\n\n※４工事対象期間のうち、一度でも完全週休２日（月～日で２日以上の現場閉所）を達成できなければ、\n　　 完全週休２日は「未達成」となり、補正の対象とならない。\n　　 なお、工期始期・終期、年末年始、夏季休暇などにより、７日間に満たない期間は完全週休２日の達成判断の対象外とする。",null,null,null,null,null,null,null,null,null,null,null,null,null,null,null,null,null,null,null,null,null,null,null,null,null,null,null,null,null,null,null,null,null,null,null,null,null,null,null,null,"実施","全対象期間",{"$f":"IFERROR(AT668+AT684,\"\")","v":""},null,null,null,null,null,null,"※３工事期間の全ての月において、達成状況を確認し、一度でも達成できない月があれば、４週８休以上（月単位）は「未達成」となり、補正の対象とならない。\n　　月によっては、土日を全て閉所しても現場閉所率が28.5％に満たない場合があるが、その月の対象期間の土日日数以上閉所していれば達成とみなす。\n\n※４工事対象期間のうち、一度でも完全週休２日（月～日で２日以上の現場閉所）を達成できなければ、\n　　 完全週休２日は「未達成」となり、補正の対象とならない。\n　　 なお、工期始期・終期、年末年始、夏季休暇などにより、７日間に満たない期間は完全週休２日の達成判断の対象外とする。",null,null,null,null,null,null,null,null,null,null,null,null,null,null,null,null,null,null,null,null,null,null,null,null,null,null,null,null,null,null,null,null,null,null,null,null,null,null,null,null,"実施","全対象期間",{"$f":"IFERROR(CR668+CR684,\"\")","v":""},null,null,null,null,"※３工事期間の全ての月において、達成状況を確認し、一度でも達成できない月があれば、４週８休以上（月単位）は「未達成」となり、補正の対象とならない。\n　　月によっては、土日を全て閉所しても現場閉所率が28.5％に満たない場合があるが、その月の対象期間の土日日数以上閉所していれば達成とみなす。\n\n※４工事対象期間のうち、一度でも完全週休２日（月～日で２日以上の現場閉所）を達成できなければ、\n　　 完全週休２日は「未達成」となり、補正の対象とならない。\n　　 なお、工期始期・終期、年末年始、夏季休暇などにより、７日間に満たない期間は完全週休２日の達成判断の対象外とする。",null,null,null,null,null,null,null,null,null,null,null,null,null,null,null,null,null,null,null,null,null,null,null,null,null,null,null,null,null,null,null,null,null,null,null,null,null,null,null,null,"実施","全対象期間",{"$f":"IFERROR(EN668+EN684,\"\")","v":""}]
["",null,null,null,null,null,null,null,null,null,null,null,null,null,null,null,null,null,null,null,null,null,null,null,null,null,null,null,null,null,null,null,null,null,null,null,null,null,null,null,null,null,null,null,"全現場閉所日数",{"$f":"IFERROR(AT669+AT685,\"\")","v":""},null,null,null,null,null,null,null,null,null,null,null,null,null,null,null,null,null,null,null,null,null,null,null,null,null,null,null,null,null,null,null,null,null,null,null,null,null,null,null,null,null,null,null,null,null,null,null,null,"全現場閉所日数",{"$f":"IFERROR(CR669+CR685,\"\")","v":""},null,null,null,null,null,null,null,null,null,null,null,null,null,null,null,null,null,null,null,null,null,null,null,null,null,null,null,null,null,null,null,null,null,null,null,null,null,null,null,null,null,null,null,null,null,null,"全現場閉所日数",{"$f":"IFERROR(EN669+EN685,\"\")","v":""}]
["",null,null,null,null,null,null,null,null,null,null,null,null,null,null,null,null,null,null,null,null,null,null,null,null,null,null,null,null,null,null,null,null,null,null,null,null,null,null,null,null,null,null,null,"現場閉所率",{"$f":"IFERROR(+AT698/AT697,\"\")","v":""},{"$f":"IF(AT699>=0.285,\"4週8休以上\",\"週休2日未達成\")","v":"4週8休以上"},null,null,null,null,null,null,null,null,null,null,null,null,null,null,null,null,null,null,null,null,null,null,null,null,null,null,null,null,null,null,null,null,null,null,null,null,null,null,null,null,null,null,null,null,null,null,null,"現場閉所率",{"$f":"IFERROR(+CR698/CR697,\"\")","v":""},{"$f":"IF(CR699>=0.285,\"4週8休以上\",\"週休2日未達成\")","v":"4週8休以上"},null,null,null,null,null,null,null,null,null,null,null,null,null,null,null,null,null,null,null,null,null,null,null,null,null,null,null,null,null,null,null,null,null,null,null,null,null,null,null,null,null,null,null,null,null,"現場閉所率",{"$f":"IFERROR(+EN698/EN697,\"\")","v":""},{"$f":"IF(EN699>=0.285,\"4週8休以上\",\"週休2日未達成\")","v":"4週8休以上"}]
["",null,null,null,null,null,null,null,null,null,null,null,null,null,null,null,null,null,null,null,null,null,null,null,null,null,null,null,null,null,null,null,null,null,null,null,null,null,null,null,null,null,null,null,"閉所（月単位）",{"$f":"IFERROR(COUNTIF(AS$14:$AS690,\"4週8休以上\")/(COUNTIF(AS$14:$AS690,\"4週8休以上\")+COUNTIF(AS$14:$AS690,\"週休2日未達成\")),\"\")","v":""},{"$f":"IF(OR(AT700=100%,AT700=\"\"),\"達成\",\"未達成\")","v":"達成"},null,null,null,null,null,null,null,null,null,null,null,null,null,null,null,null,null,null,null,null,null,null,null,null,null,null,null,null,null,null,null,null,null,null,null,null,null,null,null,null,null,null,null,null,null,null,null,"閉所（月単位）",{"$f":"IFERROR(COUNTIF(CQ$14:$CQ690,\"4週8休以上\")/(COUNTIF(CQ$14:$CQ690,\"4週8休以上\")+COUNTIF(CQ$14:$CQ690,\"週休2日未達成\")),\"\")","v":0},{"$f":"IF(OR(CR700=100%,CR700=\"\"),\"達成\",\"未達成\")","v":"未達成"},null,null,null,null,null,null,null,null,null,null,null,null,null,null,null,null,null,null,null,null,null,null,null,null,null,null,null,null,null,null,null,null,null,null,null,null,null,null,null,null,null,null,null,null,null,"閉所（月単位）",{"$f":"IFERROR(COUNTIF($EM$14:EM690,\"4週8休以上\")/(COUNTIF($EM$14:EM690,\"4週8休以上\")+COUNTIF($EM$14:EM690,\"週休2日未達成\")),\"\")","v":1},{"$f":"IF(OR(EN700=100%,EN700=\"\"),\"達成\",\"未達成\")","v":"達成"}]
["",null,null,null,null,null,null,null,null,null,null,null,null,null,null,null,null,null,null,null,null,null,null,null,null,null,null,null,null,null,null,null,null,null,null,null,null,null,null,null,null,null,null,null,"完全週休二日",{"$f":"IF(COUNTIF(AS$14:$AS690,\"OUT\")>=1,\"OUT\",\"OK\")","v":"OK"},{"$f":"IF(AT701=\"OK\",\"達成\",\"未達成\")","v":"達成"},null,null,null,null,null,null,null,null,null,null,null,null,null,null,null,null,null,null,null,null,null,null,null,null,null,null,null,null,null,null,null,null,null,null,null,null,null,null,null,null,null,null,null,null,null,null,null,"完全週休二日",{"$f":"IF(COUNTIF(CQ$14:$CQ690,\"OUT\")>=1,\"OUT\",\"OK\")","v":"OUT"},{"$f":"IF(CR701=\"OK\",\"達成\",\"未達成\")","v":"未達成"},null,null,null,null,null,null,null,null,null,null,null,null,null,null,null,null,null,null,null,null,null,null,null,null,null,null,null,null,null,null,null,null,null,null,null,null,null,null,null,null,null,null,null,null,null,"完全週休二日",{"$f":"IF(COUNTIF($EM$14:EM690,\"OUT\")>=1,\"OUT\",\"OK\")","v":"OUT"},{"$f":"IF(EN701=\"OK\",\"達成\",\"未達成\")","v":"未達成"}]
["",null,"※必要に応じて各月の完全週休2日（月～日）の達成判定の行を修正してください。（曜日に合わせて修正）",null,null,null,null,null,null,null,null,null,null,null,null,null,null,null,null,null,null,null,null,null,null,null,null,null,null,null,null,null,null,null,null,null,null,null,null,null,null,null,null,null,null,null,null,null,null,null,null,null,"※必要に応じて各月の完全週休2日（月～日）の達成判定の行を修正してください。（曜日に合わせて修正）",null,null,null,null,null,null,null,null,null,null,null,null,null,null,null,null,null,null,null,null,null,null,null,null,null,null,null,null,null,null,null,null,null,null,null,null,null,null,null,null,null,null,null,null,null,null,null,"※必要に応じて各月の完全週休2日（月～日）の達成判定の行を修正してください。（曜日に合わせて修正）"]
[""]
[""]
[""]
[""]
[""]
["",null,"算定除外期間以外の祝日（ＧＷ含む）は、算定期間（分母）の対象＝現場閉所の場合は分子にカウントして現場閉所率を算定",null,null,null,null,null,null,null,null,null,null,null,null,null,null,null,null,null,null,null,null,null,null,null,null,null,null,null,null,null,null,null,null,null,null,null,null,null,null,null,null,null,null,null,null,null,null,null,null,null,"算定除外期間以外の祝日（ＧＷ含む）は、算定期間（分母）の対象＝現場閉所の場合は分子にカウントして現場閉所率を算定",null,null,null,null,null,null,null,null,null,null,null,null,null,null,null,null,null,null,null,null,null,null,null,null,null,null,null,null,null,null,null,null,null,null,null,null,null,null,null,null,null,null,null,null,null,null,null,"算定除外期間以外の祝日（ＧＷ含む）は、算定期間（分母）の対象＝現場閉所の場合は分子にカウントして現場閉所率を算定"]
[""]

{"sheet":"別紙５","index":28,"n_rows":59,"n_cols":25,"rows_kept":59,"cut":false,"hidden":false,"merged":[[7,1,12,1],[7,2,8,2],[7,3,8,3],[7,4,8,4],[9,2,10,2],[11,2,12,2],[40,2,41,2],[40,8,45,8],[42,2,43,2],[44,2,45,2],[25,2,26,2],[25,3,26,3],[25,4,26,4],[27,2,28,2],[27,8,32,8],[29,2,30,2],[31,2,32,2],[7,11,7,12],[8,11,8,12],[38,2,39,2],[38,3,39,3],[38,4,39,4],[15,2,16,2],[15,3,16,3],[15,4,16,4],[17,2,18,2],[17,8,22,8],[19,2,20,2],[21,2,22,2],[9,17,10,17],[9,23,12,23],[11,17,12,17],[55,4,55,5],[56,4,56,5],[7,16,12,16],[7,17,8,17],[17,17,18,17],[27,17,28,17],[40,17,41,17],[9,8,12,8],[15,17,16,17],[53,4,53,5],[54,4,54,5],[19,17,20,17],[21,17,22,17],[15,18,16,18],[15,19,16,19],[56,19,56,20],[55,19,55,20],[7,18,8,18],[7,19,8,19],[40,23,45,23],[42,17,43,17],[44,17,45,17],[53,19,53,20],[54,19,54,20],[17,23,22,23],[27,23,32,23],[29,17,30,17],[31,17,32,17],[38,17,39,17],[38,18,39,18],[38,19,39,19],[25,18,26,18],[25,19,26,19],[25,17,26,17]]}
[null,"別紙５（第６条関係）",null,null,null,null,null,null,null,null,null,null,null,null,null,null,"別紙５（第６条関係）"]
[null,"週休２日（交替制）工事　休日取得状況表",null,null,null,null,null,null,null,null,null,null,null,null,null,null,"週休２日（交替制）工事　休日取得状況表      （記入例）"]
[]
[null,{"$f":"\"工事名：\"&入力表!B3","v":"工事名："},null,null,null,null,null,null,null,null,null,null,null,null,null,null,"工事名：○○○工事（○○工区）"]
[null,{"$f":"\"期   間：\"&IF(入力表!B6=\"\",\"令和　　年　　月　　日\",TEXT(入力表!B6,\"ggge年m月d日\"))&\"　～　\"&IF(入力表!E6=\"\",\"令和　　年　　月　　日\",TEXT(入力表!E6,\"ggge年m月d日\"))","v":"期   間：令和　　年　　月　　日　～　令和　　年　　月　　日"},null,null,null,null,null,null,null,null,null,null,null,null,null,null,"期   間：令和○年○月○日　～　令和●年●月●日（契約工期を記載）"]
[]
[null,null,"【令和７年○月○週】",null,null,null,null,null,null,null,null,null,null,null,null,null,null,"【令和７年８月○週】"]
[null,null,"会社名",null,"氏名","工期日数","休日日数","休日日数の割合","平均休日率",null,null,"一覧表へ戻る",null,null,null,null,null,"会社名",null,"氏名","工期日数","休日日数","休日日数の割合","平均休日率"]
[null,null,null,null,null,"①","②","③＝②／①","③の平均",null,null,"入力表へ戻る",null,null,null,null,null,null,null,null,"①","②","③＝②／①","③の平均"]
[null,null,null,1,null,null,null,{"$f":"IFERROR(ROUND(G10/F10,3),\"\")","v":""},{"$f":"IFERROR(ROUND(AVERAGE(H10:H13),3),\"\")","v":""},null,null,null,null,null,null,null,null,"A建設",1,"●●",30,8,{"$f":"IFERROR(ROUND(V10/U10,3),\"\")","v":0.26700000000000002},{"$f":"ROUND(AVERAGE(W10:W13),3)","v":0.27400000000000002}]
[null,null,null,2,null,null,null,{"$f":"IFERROR(ROUND(G11/F11,3),\"\")","v":""},null,null,null,null,null,null,null,null,null,null,2,"■■",30,8,{"$f":"IFERROR(ROUND(V11/U11,3),\"\")","v":0.26700000000000002}]
[null,null,null,3,null,null,null,"",null,null,null,null,null,null,null,null,null,"B建設（一次下請）",3,"○○",25,7,0.28000000000000003]
[null,null,null,4,null,null,null,"",null,{"$f":"IF(I10=\"\",\"\",IF(I10>=0.285,\"4週8休以上\",\"週休2日未達成\"))","v":""},null,null,null,null,null,null,null,null,4,"□□",25,7,0.28000000000000003,null,{"$f":"IF(X10=\"\",\"\",IF(X10>=0.285,\"4週8休以上\",IF(X10>=0.25,\"4週7休以上4週8休未満\",IF(X10>=0.214,\"4週6休以上4週7休未満\",IF(0.214>X10,\"4週6休未満\")))))","v":"4週7休以上4週8休未満"}]
[null,null,null,null,null,null,null,null,null,null,null,null,null,null,null,null,null,null,null,null,null,"月・週毎に実績を確認（港湾、漁港漁場工事は月毎に実績を確認）",null,null,"月・週毎に平均休日率を確認（港湾、漁港漁場工事は月毎に平均休日率を確認）"]
[null,null,"【令和７年○月○週】",null,null,null,null,null,null,null,null,null,null,null,null,null,null,"【令和７年８月○週】"]
[null,null,"会社名",null,"氏名","工期日数","休日日数","休日日数の割合","平均休日率",null,null,null,null,null,null,null,null,"会社名",null,"氏名","工期日数","休日日数","休日日数の割合","平均休日率"]
[null,null,null,null,null,"①","②","③＝②／①","③の平均",null,null,null,null,null,null,null,null,null,null,null,"①","②","③＝②／①","③の平均"]
[null,null,null,1,null,null,null,{"$f":"IFERROR(ROUND(G18/F18,3),\"\")","v":""},{"$f":"IFERROR(ROUND(AVERAGE(H18:H23),3),\"\")","v":""},null,null,null,null,null,null,null,null,"A建設",1,"●●",31,9,{"$f":"IFERROR(ROUND(V18/U18,3),\"\")","v":0.28999999999999998},{"$f":"ROUND(AVERAGE(W18:W23),3)","v":0.28899999999999998}]
[null,null,null,2,null,null,null,{"$f":"IFERROR(ROUND(G19/F19,3),\"\")","v":""},null,null,null,null,null,null,null,null,null,null,2,"■■",31,9,{"$f":"IFERROR(ROUND(V19/U19,3),\"\")","v":0.28999999999999998}]
[null,null,null,3,null,null,null,"",null,null,null,null,null,null,null,null,null,"B建設（一次下請）",3,"○○",31,9,0.28999999999999998]
[null,null,null,4,null,null,null,"",null,null,null,null,null,null,null,null,null,null,4,"□□",31,9,0.28999999999999998]
[null,null,null,5,null,null,null,"",null,null,null,null,null,null,null,null,null,"C建設（二次下請）",5,"××",21,6,0.28599999999999998]
[null,null,null,6,null,null,null,"",null,{"$f":"IF(I18=\"\",\"\",IF(I18>=0.285,\"4週8休以上\",\"週休2日未達成\"))","v":""},null,null,null,null,null,null,null,null,6,"△△",21,6,0.28599999999999998,null,{"$f":"IF(X18=\"\",\"\",IF(X18>=0.285,\"4週8休以上\",IF(X18>=0.25,\"4週7休以上4週8休未満\",IF(X18>=0.214,\"4週6休以上4週7休未満\",IF(0.214>X18,\"4週6休未満\")))))","v":"4週8休以上"}]
[]
[null,null,"【令和７年○月○週】",null,null,null,null,null,null,null,null,null,null,null,null,null,null,"【令和７年９月○週】"]
[null,null,"会社名",null,"氏名","工期日数","休日日数","休日日数の割合","平均休日率",null,null,null,null,null,null,null,null,"会社名",null,"氏名","工期日数","休日日数","休日日数の割合","平均休日率"]
[null,null,null,null,null,"①","②","③＝②／①","③の平均",null,null,null,null,null,null,null,null,null,null,null,"①","②","③＝②／①","③の平均"]
[null,null,null,1,null,null,null,{"$f":"IFERROR(ROUND(G28/F28,3),\"\")","v":""},{"$f":"IFERROR(ROUND(AVERAGE(H28:H33),3),\"\")","v":""},null,null,null,null,null,null,null,null,"A建設",1,"●●",30,9,{"$f":"IFERROR(ROUND(V28/U28,3),\"\")","v":0.3},{"$f":"ROUND(AVERAGE(W28:W33),3)","v":0.29199999999999998}]
[null,null,null,2,null,null,null,"",null,null,null,null,null,null,null,null,null,null,2,"■■",30,9,0.3]
[null,null,null,3,null,null,null,"",null,null,null,null,null,null,null,null,null,"B建設（一次下請）",3,"○○",21,6,0.28599999999999998]
[null,null,null,4,null,null,null,"",null,null,null,null,null,null,null,null,null,null,4,"□□",null,null,""]
[null,null,null,5,null,null,null,"",null,null,null,null,null,null,null,null,null,"C建設（二次下請）",5,"××",14,4,0.28599999999999998]
[null,null,null,6,null,null,null,"",null,{"$f":"IF(I28=\"\",\"\",IF(I28>=0.285,\"4週8休以上\",\"週休2日未達成\"))","v":""},null,null,null,null,null,null,null,null,6,"△△",14,4,0.28599999999999998,null,{"$f":"IF(X28=\"\",\"\",IF(X28>=0.285,\"4週8休以上\",IF(X28>=0.25,\"4週7休以上4週8休未満\",IF(X28>=0.214,\"4週6休以上4週7休未満\",IF(0.214>X28,\"4週6休未満\")))))","v":"4週8休以上"}]
[]
[]
[]
[null,null,"【対象期間全体】",null,null,null,null,null,null,null,null,null,null,null,null,null,null,"【対象期間全体】"]
[]
[null,null,"会社名",null,"氏名","工期日数","休日日数","休日日数の割合","平均休日率",null,null,null,null,null,null,null,null,"会社名",null,"氏名","工期日数","休日日数","休日日数の割合","平均休日率"]
[null,null,null,null,null,"①","②","③＝②／①","③の平均",null,null,null,null,null,null,null,null,null,null,null,"①","②","③＝②／①","③の平均"]
[null,null,null,1,null,null,null,{"$f":"IFERROR(ROUND(G41/F41,3),\"\")","v":""},{"$f":"IFERROR(ROUND(AVERAGE(H41:H46),3),\"\")","v":""},null,null,null,null,null,null,null,null,"A建設",1,"●●",{"$f":"SUM(U10,U18,U28)","v":91},{"$f":"SUM(V10,V18,V28)","v":26},{"$f":"IFERROR(ROUND(V41/U41,3),\"\")","v":0.28599999999999998},{"$f":"ROUND(AVERAGE(W41:W46),3)","v":0.28599999999999998}]
[null,null,null,2,null,null,null,"",null,null,null,null,null,null,null,null,null,null,2,"■■",{"$f":"SUM(U11,U19,U29)","v":91},26,0.28599999999999998]
[null,null,null,3,null,null,null,"",null,null,null,null,null,null,null,null,null,"B建設（一次下請）",3,"○○",{"$f":"SUM(U12,U20,U30)","v":77},22,0.28599999999999998]
[null,null,null,4,null,null,null,"",null,null,null,null,null,null,null,null,null,null,4,"□□",{"$f":"SUM(U13,U21,U31)","v":56},16,0.28599999999999998]
[null,null,null,5,null,null,null,"",null,"判定",null,null,null,null,null,null,null,"C建設（二次下請）",5,"××",{"$f":"SUM(U14,U22,U32)","v":35},10,0.28599999999999998,null,"判定"]
[null,null,null,6,null,null,null,"",null,{"$f":"IF(I41=\"\",\"\",IF(I41>=0.285,\"4週8休以上\",\"週休2日未達成\"))","v":""},null,null,null,null,null,null,null,null,6,"△△",{"$f":"SUM(U15,U23,U33)","v":35},10,0.28599999999999998,null,{"$f":"IF(X41=\"\",\"\",IF(X41>=0.285,\"4週8休以上\",IF(X41>=0.25,\"4週7休以上4週8休未満\",IF(X41>=0.214,\"4週6休以上4週7休未満\",IF(0.214>X41,\"4週6休未満\")))))","v":"4週8休以上"}]
[null,null,null,null,null,null,null,null,null,null,null,null,null,null,null,null,null,null,null,null,null,"工事完成時に対象期間全体の実績を確認",null,null,"工事完成時に対象期間全体の平均休日率を確認"]
[null,null,null,null,null,null,null,null,null,null,null,null,null,null,null,null,null,null,null,null,null,null,null,null,"（対象期間全体の達成状況により補正を決定する）"]
[]
[null,null,"■休日率及び平均休日率（各週・各月・通期）",null,null,null,null,null,null,null,null,null,null,null,null,null,null,"■休日率及び平均休日率（各週・各月・通期）"]
[null,null,"・休日率（％）＝各技術者・技能労働者の休日日数÷確認対象期間（工期日数）",null,null,null,null,null,null,null,null,null,null,null,null,null,null,"・休日率（％）＝各技術者・技能労働者の休日日数÷確認対象期間（工期日数）"]
[null,null,"・平均休日率（％）＝対象の全技術者・技能労働者の休日率の平均",null,null,null,null,null,null,null,null,null,null,null,null,null,null,"・平均休日率（％）＝対象の全技術者・技能労働者の休日率の平均"]
[null,null,"平均休日率",null,"区分",null,null,null,null,null,null,null,null,null,null,null,null,"平均休日率",null,"区分"]
[null,null,"28.5%以上（各週2日/7日）",null,"完全週休2日",null,null,null,null,null,null,null,null,null,null,null,null,"28.5%以上（各週2日/7日）",null,"完全週休2日"]
[null,null,"28.5%以上（各月8日/28日）",null,"4週8休以上（月単位）",null,null,null,null,null,null,null,null,null,null,null,null,"28.5%以上（各月8日/28日）",null,"4週8休以上（月単位）"]
[null,null,"28.5%以上（8日/28日）",null,"4週8休以上（通期）",null,"※補正無",null,null,null,null,null,null,null,null,null,null,"28.5%以上（8日/28日）",null,"4週8休以上（通期）",null,"※補正無"]
[null,null,"28.5%未満",null,"週休2日未達成",null,"※補正無",null,null,null,null,null,null,null,null,null,null,"28.5%未満",null,"週休2日未達成",null,"※補正無"]
[]
[null,null,"※港湾、漁港漁場工事については、4週8休以上（通期）又は週休2日未達成のみ",null,null,null,null,null,null,null,null,null,null,null,null,null,null,"※港湾、漁港漁場工事については、4週8休以上（通期）又は週休2日未達成のみ"]

{"sheet":"統一様式-5(1)（前払金）","index":29,"n_rows":47,"n_cols":56,"rows_kept":47,"cut":false,"hidden":false,"merged":[[35,10,35,17],[21,1,21,25],[53,5,54,31],[33,10,33,13],[55,5,56,31],[41,9,41,32],[44,5,45,31],[37,10,37,33],[39,10,39,33],[46,5,46,31],[51,5,52,31],[31,24,31,32],[31,10,31,18],[29,10,29,18],[19,21,19,31],[27,10,27,18],[12,24,12,33],[11,21,11,34],[13,21,13,34],[14,21,14,32],[4,37,4,42],[5,37,5,42],[2,22,2,34],[17,11,18,25],[9,2,9,14],[5,14,5,23]]}
["統一様式－５(1)"]
[]
[null,null,null,null,null,null,null,null,null,null,null,null,null,null,null,null,null,null,null,null,null,null,{"$f":"IF(入力表!D30=\"\",\"令和　　年　　月　　日\",入力表!D30)","v":"令和　　年　　月　　日"}]
[]
[null,null,null,null,null,null,null,null,null,null,null,null,null,null,null,null,null,null,null,null,null,null,null,null,null,null,null,null,null,null,null,null,null,null,null,null,null,"一覧表へ戻る"]
[null,null,null,null,null,null,null,null,"請求書",null,null,null,null,"（","前払金",null,null,null,null,null,null,null,null,null,"）",null,null,null,null,null,null,null,null,null,null,null,null,"入力表へ戻る"]
[]
[]
[null,"（発注者）"]
[null,null,"上天草市長  堀江　隆臣　  様",null,null,null,null,null,null,null,null,null,null,null,null,null,null,null,null,null,null,null,null,null,null,null,null,null,null,null,null,null,null,null,null,null,null,null,null,null,null,null,null,null,null,null,null,null,"前払金",null,null,null,null,null,null,"ただし、次の工事の請負代金の前払として"]
[null,null,null,null,null,null,null,null,null,null,null,null,null,null,null,null,null,null,null,null,null,null,null,null,null,null,null,null,null,null,null,null,null,null,null,null,null,null,null,null,null,null,null,null,null,null,null,null,"中間前払金",null,null,null,null,null,null,"ただし、次の工事の請負代金の中間前払として"]
[null,null,null,null,null,null,null,null,null,null,null,null,null,null,null,null,null,null,null,null,"請求者（住所）",{"$f":"IF(入力表!B11=\"\",\"\",入力表!B11)","v":""},null,null,null,null,null,null,null,null,null,null,null,null,null,null,null,null,null,null,null,null,null,null,null,null,null,null,"部分払金",null,null,null,null,null,null,{"$f":"IF(AD7=\"\",\"ただし、次の工事の第　回部分払として\",\"ただし、次の工事の第\"&AD7&\"回部分払として\")","v":"ただし、次の工事の第　回部分払として"}]
[null,null,null,null,null,null,null,null,null,null,null,null,null,null,null,null,null,null,null,null,null,null,null,null,null,null,null,null,null,null,null,null,null,null,null,null,null,null,null,null,null,null,null,null,null,null,null,null,"指定部分完済払金",null,null,null,null,null,null,"ただし、次の工事の指定部分に係る代金として"]
[null,null,null,null,null,null,null,null,null,null,null,null,null,null,null,null,null,null,null,null,null,{"$f":"IF(入力表!B12=\"\",\"\",入力表!B12)","v":""},null,null,null,null,null,null,null,null,null,null,null,null,null,null,null,null,null,null,null,null,null,null,null,null,null,null,"完成代金",null,null,null,null,null,null,"ただし、次の工事の請負代金として"]
[null,null,null,null,null,null,null,null,null,null,null,null,null,null,null,null,null,null,null,null,"（氏名）",{"$f":"IF(入力表!B13=\"\",\"\",入力表!B13)","v":""},null,null,null,null,null,null,null,null,null,null,null,"㊞"]
[]
[null,"下記のとおり請求します。"]
[]
[null,null,null,"請求金額"]
[]
[]
[null,{"$f":"VLOOKUP(O6,AW10:BD14,8,FALSE)","v":"ただし、次の工事の請負代金の前払として"}]
[]
[null,"工事番号",null,null,null,null,null,null,null,null,{"$f":"IF(入力表!B2=\"\",\"\",入力表!B2)","v":""}]
[]
[null,"工事名",null,null,null,null,null,null,null,null,{"$f":"IF(入力表!B3=\"\",\"\",入力表!B3)","v":""}]
[]
[null,"契約日",null,null,null,null,null,null,null,null,{"$f":"IF(入力表!B5=\"\",\"令和　　年　　月　　日\",入力表!B5)","v":"令和　　年　　月　　日"}]
[]
[null,"契約金額",null,null,null,null,null,null,null,null,{"$f":"IF(入力表!B7=\"\",\"\",入力表!B7)","v":""}]
[]
[null,"振込希望金融機関名"]
[]
[null,"預金の種別",null,null,null,null,null,null,null,null,null,null,null,null,null,null,null,null,null,null,null,null,null,null,null,null,null,null,null,null,null,null,null,null,null,null,null,null,null,null,null,null,null,null,null,null,null,null,"普通"]
[null,null,null,null,null,null,null,null,null,null,null,null,null,null,null,null,null,null,null,null,null,null,null,null,null,null,null,null,null,null,null,null,null,null,null,null,null,null,null,null,null,null,null,null,null,null,null,null,"当座"]
[null,"口座番号"]
[]
[null,"口座名義"]
[]
[null,"フリガナ"]
[]
[]
[]
[]
[null,null,null,null,"(注)1．","（　　　）には前払金、中間前払金、部分払金、指定部分完済払金、完成代金の別を記入すること。"]
[]
[null,null,null,null,"2．","部分払金を請求する場合は、請求内訳書を添付すること。"]

{"sheet":"様式-4","index":30,"n_rows":30,"n_cols":19,"rows_kept":30,"cut":false,"hidden":false,"merged":[[40,1,40,16],[41,1,41,16],[42,1,42,16],[3,13,3,16],[35,1,35,16],[36,1,36,16],[37,1,37,16],[38,1,38,16],[39,1,39,16],[30,1,30,16],[31,1,31,16],[32,1,32,16],[33,1,33,16],[34,1,34,16],[25,10,25,11],[25,14,25,15],[26,6,26,7],[24,10,24,11],[24,14,24,15],[26,14,26,15],[26,10,26,11],[25,6,25,7],[24,6,24,7],[0,0,0,3],[6,1,6,4],[4,1,4,4],[4,5,4,16],[5,1,5,4],[5,5,5,16],[6,5,6,9],[6,11,6,15],[9,1,10,4],[9,5,9,7],[9,8,9,16],[10,5,10,7],[10,8,10,16],[7,1,8,4],[7,5,7,7],[7,8,7,16],[8,5,8,7],[8,8,8,16],[13,1,13,4],[14,1,14,4],[15,1,15,4],[14,5,14,10],[15,5,15,10],[13,5,13,10],[1,18,1,19],[2,18,2,19],[25,1,26,2],[27,5,27,16],[18,1,19,4],[21,1,21,4],[21,5,21,8],[21,9,21,12],[21,13,21,16],[22,1,24,2],[22,6,22,7],[23,6,23,7],[22,10,22,11],[22,14,22,15],[23,10,23,11],[23,14,23,15]]}
["様式－４"]
["事前協議チェックシート(工事用)",null,null,null,null,null,null,null,null,null,null,null,null,null,null,null,null,null,"一覧表へ戻る"]
[null,null,null,null,null,null,null,null,null,null,null,null,null,null,null,null,null,null,"入力表へ戻る"]
["(１)協議参加者",null,null,null,null,null,null,null,null,null,null,null,"実施日　",{"$f":"IF(入力表!D31=\"\",\"令和　 年　 月　 日\",入力表!D31)","v":"令和　 年　 月　 日"}]
[null,"工　事　番　号",null,null,null,{"$f":"IF(入力表!B2=\"\",\"\",入力表!B2)","v":""}]
[null,"工　  事  　名",null,null,null,{"$f":"IF(入力表!B3=\"\",\"\",入力表!B3)","v":""}]
[null,"工　    　　期",null,null,null,{"$f":"IF(入力表!B6=\"\",\"令和　　年　　月　　日\",TEXT(入力表!B6,\"ggge年m月d日\"))","v":"令和　　年　　月　　日"},null,null,null,null,"～",{"$f":"IF(入力表!E6=\"\",\"令和　　年　　月　　日\",TEXT(入力表!E6,\"ggge年m月d日\"))","v":"令和　　年　　月　　日"}]
[null,"発　  注　  者",null,null,null,"部　　署　　名"]
[null,null,null,null,null,"主 任 監 督 員"]
[null,"受  　注  　者",null,null,null,"会    社    名",null,null,{"$f":"IF(入力表!B12=\"\",\"\",入力表!B12)","v":""}]
[null,null,null,null,null,"現 場 代 理 人",null,null,{"$f":"IF(入力表!B8=\"\",\"\",入力表!B8)","v":""}]
[]
["(２)基本事項の確認"]
[null,"工事番号（コード）",null,null,null,null,null,null,null,null,null,null,null,null,null,null,"（仕様書に記載の工事番号コード16桁）"]
[null,"業　務　種　別",null,null,null,null,null,null,null,null,null,null,null,null,null,null,"（「上天草市電子納品運用ガイドライン」1-3参照）"]
[null,"受注者コード",null,null,null,null,null,null,null,null,null,null,null,null,null,null,"（建設業の「許可番号」を変換コード化した8桁の数字）"]
[]
["(３)電子メールデータ容量、利用ソフト及びファイル形式等"]
[null,"電子メールデータ\nの容量制限",null,null,null,"発　注　者",null,"　■　　 １０Mbyte以下"]
[null,null,null,null,null,"受　注　者",null,"（",null,"　 ）Mbyte以下"]
[]
[null,"利用ソフト及び\nファイル形式",null,null,null,"発注者ソフト\n(利用可能ソフト)",null,null,null,"受注者ソフト\n(利用可能ソフト)",null,null,null,"納品時ソフト\n(両者利用可能ソフト)"]
[null,"文書作成\nソ フ ト",null,"Word",null,"（Ver. ",null,null,"）","（Ver. ",null,null,"）","（Ver. ",null,null,"）"]
[null,null,null,"一太郎",null,"（Ver. ",null,null,"）","（Ver. ",null,null,"）","（Ver. ",null,null,"）"]
[null,null,null,"その他",null,"（",null,null,"）","（",null,null,"）","（",null,null,"）"]
[null,"表計算\nソフト",null,"Excel ",null,"（Ver. ",null,null,"）","（Ver. ",null,null,"）","（Ver. ",null,null,"）"]
[null,null,null,"その他",null,"（",null,null,"）","（",null,null,"）","（",null,null,"）"]
[null,"図面のファイル形式",null,null,null,"□ＳＸＦ（ＳＦＣ）形式"]
[]
["(４)その他受発注者間で協議した事項　　（「上天草市電子納品運用ガイドライン」１－１７参照）"]

{"sheet":"様式-5","index":31,"n_rows":29,"n_cols":49,"rows_kept":29,"cut":false,"hidden":false,"merged":[[26,36,26,38],[26,39,26,42],[26,43,26,47],[27,36,27,38],[27,39,27,42],[27,43,27,47],[24,36,24,38],[24,39,24,42],[24,43,24,47],[25,36,25,38],[25,39,25,42],[25,43,25,47],[30,36,30,38],[30,39,30,42],[30,43,30,47],[30,48,30,50],[27,48,27,50],[28,36,28,38],[28,39,28,42],[28,43,28,47],[28,48,28,50],[29,36,29,38],[29,39,29,42],[29,43,29,47],[29,48,29,50],[25,48,25,50],[20,36,20,38],[20,39,20,42],[20,43,20,47],[20,48,20,50],[21,36,21,38],[21,39,21,42],[21,43,21,47],[21,48,21,50],[24,48,24,50],[18,36,18,38],[18,39,18,42],[18,43,18,47],[18,48,18,50],[19,36,19,38],[19,39,19,42],[19,43,19,47],[19,48,19,50],[10,35,11,38],[10,39,10,41],[10,42,10,50],[11,39,11,41],[11,42,11,50],[14,35,15,38],[14,39,15,50],[7,35,7,38],[7,39,7,50],[8,35,9,38],[8,39,8,41],[8,42,8,50],[9,39,9,41],[9,42,9,50],[1,34,1,50],[4,45,4,50],[5,35,5,38],[5,39,5,50],[6,35,6,38],[6,39,6,44],[6,46,6,50],[0,0,0,3],[14,1,15,4],[14,5,15,17],[5,5,5,17],[6,1,6,4],[10,1,11,4],[18,15,18,17],[8,1,9,4],[8,5,8,7],[8,8,8,17],[5,1,5,4],[18,5,18,8],[1,0,1,17],[9,5,9,7],[9,8,9,17],[10,5,10,7],[10,8,10,17],[18,2,18,4],[4,13,4,17],[6,5,6,9],[6,11,6,15],[19,2,19,4],[20,2,20,4],[20,5,20,8],[18,9,18,14],[19,9,19,14],[20,9,20,14],[19,15,19,17],[7,1,7,4],[11,5,11,7],[11,8,11,17],[19,5,19,8],[7,5,7,15],[24,15,24,17],[25,2,25,4],[25,5,25,8],[25,9,25,14],[25,15,25,17],[20,15,20,17],[21,15,21,17],[21,2,21,4],[21,9,21,14],[21,5,21,8],[1,19,1,20],[2,19,2,20],[28,2,28,4],[28,5,28,8],[28,9,28,14],[28,15,28,17],[26,5,26,8],[26,2,26,4],[30,2,30,4],[30,5,30,8],[30,9,30,14],[30,15,30,17],[29,2,29,4],[29,5,29,8],[29,9,29,14],[29,15,29,17],[26,9,26,14],[27,2,27,4],[27,5,27,8],[27,9,27,14],[27,15,27,17],[24,2,24,4],[24,5,24,8],[24,9,24,14]]}
["様式－５",null,null,null,null,null,null,null,null,null,null,null,null,null,null,null,null,null,null,null,null,null,null,null,null,null,null,null,null,null,null,null,null,null,null,"【記入例】"]
["情報共有システム活用のための事前協議シート (土木工事)",null,null,null,null,null,null,null,null,null,null,null,null,null,null,null,null,null,null,"一覧表へ戻る",null,null,null,null,null,null,null,null,null,null,null,null,null,null,"情報共有システム活用のための事前協議シート (土木工事)"]
[null,null,null,null,null,null,null,null,null,null,null,null,null,null,null,null,null,null,null,"入力表へ戻る",null,null,null,"工事情報共有システム／株式会社 建設システム　"]
[null,null,null,null,null,null,null,null,null,null,null,null,null,null,null,null,null,null,null,null,null,null,null,"電納ASPer／株式会社 建設総合サービス",null,null,null,null,null,"現場代理人",null,"課長"]
["(１)協議参加者",null,null,null,null,null,null,null,null,null,null,null,"実施日　",{"$f":"IF(入力表!D32=\"\",\"令和　　年　　月　　日\",入力表!D32)","v":"令和　　年　　月　　日"},null,null,null,null,null,null,null,null,null,"現場クラウドforサイボウズoffice／株式会社 現場サポート",null,null,null,null,null,"主任技術者",null,"課長補佐",null,null,"(１)協議参加者",null,null,null,null,null,null,null,null,null,null,"実施日　令和　　年　　月　　日　"]
[null,"工　  事  　名",null,null,null,{"$f":"IF(入力表!B3=\"\",\"\",入力表!B3)","v":""},null,null,null,null,null,null,null,null,null,null,null,null,null,null,null,null,null,"工事監理官／日本電気 株式会社",null,null,null,null,null,"監理技術者",null,"係長",null,null,null,"工　  事  　名",null,null,null,"　　○○道路改良工事"]
[null,"工　    　　期",null,null,null,{"$f":"IF(入力表!B6=\"\",\"令和　　年　　月　　日\",TEXT(入力表!B6,\"ggge年m月d日\"))","v":"令和　　年　　月　　日"},null,null,null,null,"～",{"$f":"IF(入力表!E6=\"\",\"令和　　年　　月　　日\",TEXT(入力表!E6,\"ggge年m月d日\"))","v":"令和　　年　　月　　日"},null,null,null,null,null,null,null,null,null,null,null,null,null,null,null,null,null,null,null,"総括監督員",null,null,null,"工　    　　期",null,null,null,"令和　年　月　日",null,null,null,null,null,"    ～","令和　年　月　日"]
[null,"請　負　金　額",null,null,null,{"$f":"IF(入力表!B7=\"\",\"\",入力表!B7)","v":""},null,null,null,null,null,null,null,null,null,null,null,null,null,null,null,null,null,null,null,null,null,null,null,null,null,"主任監督員",null,null,null,"請　負　金　額"]
[null,"発　 注　 者",null,null,null,"部　　署　　名",null,null,null,null,null,null,null,null,null,null,null,null,null,null,null,null,null,null,null,null,null,null,null,null,null,"現場技術員",null,null,null,"発　 注　 者",null,null,null,"事務所名・課名",null,null,"建設部　建設課"]
[null,null,null,null,null,"主 任 監 督 員",null,null,null,null,null,null,null,null,null,null,null,null,null,null,null,null,null,null,null,null,null,null,null,null,null,"局長",null,null,null,null,null,null,null,"監 督 員",null,null,"■■　■■"]
[null,"受　注 　者",null,null,null,"会    社    名",null,null,{"$f":"IF(入力表!B12=\"\",\"\",入力表!B12)","v":""},null,null,null,null,null,null,null,null,null,null,null,null,null,null,null,null,null,null,null,null,null,null,"次長",null,null,null,"受　注 　者",null,null,null,"会    社    名",null,null,"○○○建設株式会社"]
[null,null,null,null,null,"現 場 代 理 人",null,null,{"$f":"IF(入力表!B8=\"\",\"\",入力表!B8)","v":""},null,null,null,null,null,null,null,null,null,null,null,null,null,null,null,null,null,null,null,null,null,null,null,null,null,null,null,null,null,null,"現 場 代 理 人",null,null,"××　××"]
[]
["(２)利用するシステム",null,null,null,null,null,null,null,null,null,null,null,null,null,null,null,null,null,null,null,null,null,null,null,null,null,null,null,null,null,null,null,null,null,"(２)利用するシステム"]
[null,"システム名／システム提供者",null,null,null,null,null,null,null,null,null,null,null,null,null,null,null,null,null,null,null,null,null,null,null,null,null,null,null,null,null,null,null,null,null,"システム名／システム提供者"]
[]
[]
["(３)利用者（受注者）",null,null,null,null,null,null,null,null,null,null,null,null,null,null,null,null,null,null,null,null,null,null,null,null,null,null,null,null,null,null,null,null,null,"(３)利用者（受注者）"]
[null,"番号","職位等",null,null,"氏名",null,null,null,"メールアドレス",null,null,null,null,null,"備考",null,null,null,null,null,null,null,null,null,null,null,null,null,null,null,null,null,null,null,"番号","職位等",null,null,"氏名",null,null,null,"メールアドレス",null,null,null,null,"備考"]
[null,null,null,null,null,null,null,null,null,null,null,null,null,null,null,null,null,null,null,null,null,null,null,null,null,null,null,null,null,null,null,null,null,null,null,1,"現場代理人",null,null,"〇〇　〇〇",null,null,null,"メールアドレスを入力"]
[null,null,null,null,null,null,null,null,null,null,null,null,null,null,null,null,null,null,null,null,null,null,null,null,null,null,null,null,null,null,null,null,null,null,null,2,"主任技術者",null,null,"△△　△△",null,null,null,"メールアドレスを入力"]
[]
[]
["(4)利用者（発注者）",null,null,null,null,null,null,null,null,null,null,null,null,null,null,null,null,null,null,null,null,null,null,null,null,null,null,null,null,null,null,null,null,null,"(4)利用者（発注者）"]
[null,"番号","職位等",null,null,"氏名",null,null,null,"メールアドレス",null,null,null,null,null,"備考",null,null,null,null,null,null,null,null,null,null,null,null,null,null,null,null,null,null,null,"番号","職位等",null,null,"氏名",null,null,null,"メールアドレス",null,null,null,null,"備考"]
[null,null,null,null,null,null,null,null,null,null,null,null,null,null,null,null,null,null,null,null,null,null,null,null,null,null,null,null,null,null,null,null,null,null,null,1,"課長",null,null,"〇〇　〇〇",null,null,null,"～@city.kamiamakusa.lg.jp"]
[null,null,null,null,null,null,null,null,null,null,null,null,null,null,null,null,null,null,null,null,null,null,null,null,null,null,null,null,null,null,null,null,null,null,null,2,"課長補佐",null,null,"△△　△△",null,null,null,"～@city.kamiamakusa.lg.jp"]
[null,null,null,null,null,null,null,null,null,null,null,null,null,null,null,null,null,null,null,null,null,null,null,null,null,null,null,null,null,null,null,null,null,null,null,3,"総括監督員",null,null,"□□　□□",null,null,null,"～@city.kamiamakusa.lg.jp"]
[null,null,null,null,null,null,null,null,null,null,null,null,null,null,null,null,null,null,null,null,null,null,null,null,null,null,null,null,null,null,null,null,null,null,null,4,"主任監督員",null,null,"◇◇　◇◇",null,null,null,"メールアドレスを入力"]

{"sheet":"様式-6","index":32,"n_rows":161,"n_cols":35,"rows_kept":161,"cut":false,"hidden":false,"merged":[[18,34,18,40],[20,0,20,30],[20,34,20,46],[1,0,1,30],[3,21,3,30],[10,12,10,15],[10,17,10,30],[11,12,11,16],[1,32,1,36],[2,32,2,36],[11,17,11,30],[25,4,25,7],[25,9,25,30],[12,12,12,15],[12,17,12,27],[17,0,17,30],[22,34,22,43],[23,4,23,7],[23,9,23,30],[24,4,24,7],[24,9,24,30],[26,2,27,2],[26,4,27,7],[26,9,26,10],[26,11,26,23],[27,9,27,10],[27,11,27,23],[51,0,51,30],[28,2,29,2],[28,4,29,7],[28,9,28,10],[28,11,28,23],[29,9,29,10],[29,11,29,23],[30,2,31,2],[30,4,31,7],[30,9,30,10],[30,11,30,23],[31,9,31,10],[31,11,31,23],[160,33,160,34],[103,0,103,30],[104,0,104,30],[105,0,105,30],[106,0,106,30],[107,32,107,33],[109,4,109,7],[109,9,109,30],[110,4,110,7],[110,9,110,30],[111,4,111,7],[111,9,111,30],[159,0,159,30],[52,33,52,34],[53,0,53,30],[77,0,77,30],[101,0,101,30],[102,0,102,30]]}
["様式－６"]
["工 事 中 標 識 設 置 届",null,null,null,null,null,null,null,null,null,null,null,null,null,null,null,null,null,null,null,null,null,null,null,null,null,null,null,null,null,null,null,"一覧表へ戻る"]
[null,null,null,null,null,null,null,null,null,null,null,null,null,null,null,null,null,null,null,null,null,null,null,null,null,null,null,null,null,null,null,null,"入力表へ戻る"]
[null,null,null,null,null,null,null,null,null,null,null,null,null,null,null,null,null,null,null,null,null,{"$f":"IF(入力表!D33=\"\",\"令和　　年　　月　　日\",入力表!D33)","v":"令和　　年　　月　　日"}]
[]
["上天草市長　堀　江　隆　臣　様"]
[]
[]
[]
[]
[null,null,null,null,null,null,null,null,null,null,null,null,"住所",null,null,null,null,{"$f":"IF(入力表!B11=\"\",\"\",入力表!B11)","v":""}]
[null,null,null,null,null,null,null,null,null,null,null,null,"商号又は名称",null,null,null,null,{"$f":"IF(入力表!B12=\"\",\"\",入力表!B12)","v":""}]
[null,null,null,null,null,null,null,null,null,null,null,null,"代表者氏名",null,null,null,null,{"$f":"IF(入力表!B13=\"\",\"\",入力表!B13)","v":""},null,null,null,null,null,null,null,null,null,null,"㊞"]
[]
[]
[]
[]
["下記工事については、添付のとおり工事中標識及び保安施設を設置したので届けます。"]
[null,null,null,null,null,null,null,null,null,null,null,null,null,null,null,null,null,null,null,null,null,null,null,null,null,null,null,null,null,null,null,null,null,null,"↓標識設置状況写真"]
[]
["記",null,null,null,null,null,null,null,null,null,null,null,null,null,null,null,null,null,null,null,null,null,null,null,null,null,null,null,null,null,null,null,null,null,"↓標識・標示・保安施設・誘導員設置位置図"]
[]
[null,null,null,null,null,null,null,null,null,null,null,null,null,null,null,null,null,null,null,null,null,null,null,null,null,null,null,null,null,null,null,null,null,null,"↓標示施設等の設置状況写真"]
[null,null,"１",null,"工事番号",null,null,null,null,{"$f":"IF(入力表!B2=\"\",\"\",入力表!B2)","v":""}]
[null,null,"２",null,"工事名",null,null,null,null,{"$f":"IF(入力表!B3=\"\",\"\",入力表!B3)","v":""}]
[null,null,"３",null,"工事場所",null,null,null,null,{"$f":"IF(入力表!B4=\"\",\"\",入力表!B4)","v":""}]
[null,null,"４",null,"工事期間",null,null,null,null,"自"]
[null,null,null,null,null,null,null,null,null,"至"]
[null,null,"５",null,"片側通行止\nの期間",null,null,null,null,"自"]
[null,null,null,null,null,null,null,null,null,"至"]
[null,null,"６",null,"全面通行止\nの期間",null,null,null,null,"自"]
[null,null,null,null,null,null,null,null,null,"至"]
[]
[]
[]
[]
[]
[null,null,"※工事期間の始期は、契約工期ではなく測量等準備期間を除く期間。"]
[]
[]
[]
[]
[]
[]
[]
[]
[]
[]
[]
[]
[]
["標 識 設 置 状 況 写 真"]
[null,null,null,null,null,null,null,null,null,null,null,null,null,null,null,null,null,null,null,null,null,null,null,null,null,null,null,null,null,null,null,null,null,"上へ"]
["起点側"]
[]
[]
[]
[]
[]
[]
[]
[]
[]
[]
[]
[]
[]
[]
[]
[]
[]
[]
[]
[]
[]
[]
[]
["終点側"]
[]
[]
[]
[]
[]
[]
[]
[]
[]
[]
[]
[]
[]
[]
[]
[]
[]
[]
[]
[]
[]
[]
[]
["備考 １ 本届書は工事着手前にすみやかに提出すること。"]
["     ２ 迂回路標示については標示箇所毎の写真を添付すること。"]
["     ３ 建設業法第４０条に定める許可票を提示していることが分かる写真を添付すること。"]
["     ４ 必要に応じて「標識・標示・保安施設・誘導員設置位置図」、\n       「標示施設等の設置状況写真」を添付すること。"]
[]
["標識・標示・保安施設・誘導員設置位置図"]
[null,null,null,null,null,null,null,null,null,null,null,null,null,null,null,null,null,null,null,null,null,null,null,null,null,null,null,null,null,null,null,null,"上へ"]
[]
[null,null,"１",null,"工事番号",null,null,null,null,{"$f":"J24","v":""}]
[null,null,"２",null,"工事名",null,null,null,null,{"$f":"J25","v":""}]
[null,null,"３",null,"工事場所",null,null,null,null,{"$f":"J26","v":""}]
[]
[]
[]
[]
[]
[]
[]
[]
[]
[]
[]
[]
[]
[]
[]
[]
[]
[]
[]
[]
[]
[]
[]
[]
[]
[]
[]
[]
[]
[]
[]
[]
[]
[]
[]
[]
[]
[]
[]
[]
[]
[]
[]
[]
[]
[]
[]
["標示施設等の設置状況写真"]
[null,null,null,null,null,null,null,null,null,null,null,null,null,null,null,null,null,null,null,null,null,null,null,null,null,null,null,null,null,null,null,null,null,"上へ"]

{"sheet":"別記様式1","index":33,"n_rows":63,"n_cols":54,"rows_kept":63,"cut":false,"hidden":false,"merged":[[3,39,3,41],[4,39,4,41],[5,39,6,41],[62,40,63,42],[48,0,49,7],[48,8,49,12],[48,13,49,20],[48,21,49,25],[48,26,49,33],[48,34,49,37],[44,0,46,0],[44,1,44,5],[44,6,44,18],[44,19,46,19],[44,20,44,24],[44,25,44,37],[45,1,46,5],[45,6,46,18],[45,20,46,24],[45,25,46,37],[40,0,41,5],[40,6,41,18],[40,19,41,24],[40,25,41,37],[42,0,43,5],[42,6,43,18],[42,19,43,24],[42,25,43,37],[37,0,37,5],[37,6,39,9],[37,10,39,18],[37,19,39,24],[37,25,39,37],[38,0,38,5],[39,0,39,5],[33,0,34,5],[33,6,34,18],[33,19,34,24],[33,25,34,37],[35,0,36,5],[35,6,36,18],[35,19,36,24],[35,25,36,37],[30,20,30,25],[30,26,30,31],[30,32,30,37],[31,10,31,12],[31,13,31,19],[31,20,31,25],[31,26,31,31],[31,32,31,37],[24,0,25,5],[24,6,25,17],[24,18,25,23],[24,24,25,37],[27,0,31,5],[27,6,28,9],[27,10,27,19],[27,20,27,28],[27,29,27,37],[28,10,28,19],[28,20,28,28],[28,29,28,37],[29,6,31,9],[29,10,29,12],[29,13,29,19],[29,20,29,25],[29,26,29,31],[29,32,29,37],[30,10,30,12],[30,13,30,19],[17,0,18,5],[17,6,17,8],[17,9,17,20],[17,21,18,26],[17,27,18,37],[18,6,18,8],[18,9,18,20],[20,0,22,5],[20,6,20,9],[20,10,20,22],[20,23,20,37],[21,6,21,9],[21,10,21,22],[21,23,21,37],[22,6,22,9],[22,10,22,22],[22,23,22,37],[6,14,6,28],[6,29,6,37],[7,6,7,10],[7,11,8,13],[7,14,8,16],[7,17,8,19],[7,20,8,20],[7,21,8,27],[15,0,16,5],[15,6,15,37],[16,6,16,37],[0,28,0,37],[2,0,2,37],[3,0,3,7],[3,8,3,31],[4,0,4,7],[4,8,4,31],[9,29,10,37],[10,6,10,10],[12,0,14,5],[12,6,12,37],[13,6,13,37],[14,6,14,37],[7,28,8,28],[7,29,8,37],[8,6,8,10],[9,6,9,10],[9,11,10,13],[9,14,10,16],[9,17,10,19],[9,20,10,20],[9,21,10,27],[9,28,10,28],[6,0,10,5],[6,6,6,13]]}
["（別記様式１）",null,null,null,null,null,null,null,null,null,null,null,null,null,null,null,null,null,null,null,null,null,null,null,null,null,null,null,{"$f":"IF(入力表!D34=\"\",\"令和　　年　　月　　日\",入力表!D34)","v":"令和　　年　　月　　日"}]
[]
["施　工　体　制　台　帳"]
["［会社名・事業者ID］",null,null,null,null,null,null,null,null,null,null,null,null,null,null,null,null,null,null,null,null,null,null,null,null,null,null,null,null,null,null,null,null,null,null,null,null,null,null,"一覧表へ戻る"]
["［事務所名・現場ID］",null,null,null,null,null,null,null,null,null,null,null,null,null,null,null,null,null,null,null,null,null,null,null,null,null,null,null,null,null,null,null,null,null,null,null,null,null,null,"入力表へ戻る"]
[null,null,null,null,null,null,null,null,null,null,null,null,null,null,null,null,null,null,null,null,null,null,null,null,null,null,null,null,null,null,null,null,null,null,null,null,null,null,null,"記載例へ"]
["建設業の\n許　　可",null,null,null,null,null,"許可業種",null,null,null,null,null,null,null,"許可番号",null,null,null,null,null,null,null,null,null,null,null,null,null,null,"許可（更新）年月日"]
[null,null,null,null,null,null,null,null,null,null,null,"工事業",null,null,"大臣\n知事",null,null,"特定\n一般",null,null,"第",null,null,null,null,null,null,null,"号","　　年　月　日",null,null,null,null,null,null,null,null,null,null,null,null,null,null,null,null,null,null,null,null,null,null,"大臣","特定"]
[null,null,null,null,null,null,null,null,null,null,null,null,null,null,null,null,null,null,null,null,null,null,null,null,null,null,null,null,null,null,null,null,null,null,null,null,null,null,null,null,null,null,null,null,null,null,null,null,null,null,null,null,"知事","一般"]
[null,null,null,null,null,null,null,null,null,null,null,"工事業",null,null,"大臣\n知事",null,null,"特定\n一般",null,null,"第",null,null,null,null,null,null,null,"号","　　年　月　日",null,null,null,null,null,null,null,null,null,null,null,null,null,null,null,null,null,null,null,null,null,null,"大臣\n知事","特定\n一般"]
[]
[]
["工事名称\n及　　び\n工事内容",null,null,null,null,null,{"$f":"IF(入力表!B3=\"\",\"\",入力表!B3)","v":""}]
[]
[]
["発注者名\n及び住所",null,null,null,null,null,"上天草市長  堀江　隆臣"]
[null,null,null,null,null,null,"上天草市大矢野町上１５１４番地"]
["工　　期",null,null,null,null,null,"自",null,null,{"$f":"IF(入力表!B6=\"\",\"令和　　年　　月　　日\",入力表!B6)","v":"令和　　年　　月　　日"},null,null,null,null,null,null,null,null,null,null,null,"契約日",null,null,null,null,null,{"$f":"IF(入力表!B5=\"\",\"令和　　年　　月　　日\",入力表!B5)","v":"令和　　年　　月　　日"}]
[null,null,null,null,null,null,"至",null,null,{"$f":"IF(入力表!E6=\"\",\"令和　　年　　月　　日\",入力表!E6)","v":"令和　　年　　月　　日"}]
[]
["契　約\n営業所",null,null,null,null,null,"区　　分",null,null,null,"名　　称",null,null,null,null,null,null,null,null,null,null,null,null,"住　　所"]
[null,null,null,null,null,null,"元請契約",null,null,null,{"$f":"IF(入力表!B12=\"\",\"\",入力表!B12)","v":""},null,null,null,null,null,null,null,null,null,null,null,null,{"$f":"IF(入力表!B11=\"\",\"\",入力表!B11)","v":""}]
[null,null,null,null,null,null,"下請契約"]
[]
["発注者の\n監督員名",null,null,null,null,null,null,null,null,null,null,null,null,null,null,null,null,null,"権限及び\n意見申出方法",null,null,null,null,null,"契約書記載のとおり"]
[]
[]
["健康保険等\nの加入状況",null,null,null,null,null,"保険加入\nの有無",null,null,null,"健康保険",null,null,null,null,null,null,null,null,null,"厚生年金保険",null,null,null,null,null,null,null,null,"雇用保険"]
[null,null,null,null,null,null,null,null,null,null,"加入　未加入　適用除外",null,null,null,null,null,null,null,null,null,"加入　未加入　適用除外",null,null,null,null,null,null,null,null,"加入　未加入　適用除外"]
[null,null,null,null,null,null,"事業所整\n理記号等",null,null,null,"区分",null,null,"営業所の名称",null,null,null,null,null,null,"健康保険",null,null,null,null,null,"厚生年金保険",null,null,null,null,null,"雇用保険"]
[null,null,null,null,null,null,null,null,null,null,"元請契約",null,null,{"$f":"IF(入力表!B12=\"\",\"\",入力表!B12)","v":""}]
[null,null,null,null,null,null,null,null,null,null,"下請契約"]
[]
["監督員名",null,null,null,null,null,null,null,null,null,null,null,null,null,null,null,null,null,null,"権限及び\n意見申出方法"]
[]
["現場代理人\n氏　　　名",null,null,null,null,null,null,null,null,null,null,null,null,null,null,null,null,null,null,"権限及び\n意見申出方法"]
[]
["監理技術者",null,null,null,null,null,"専　任\n非専任",null,null,null,null,null,null,null,null,null,null,null,null,"資格内容"]
["主任技術者"]
["氏　　　名"]
["　監理技術者\n　補佐名",null,null,null,null,null,null,null,null,null,null,null,null,null,null,null,null,null,null,"資格内容"]
[]
["専門技術者\n氏　　　名",null,null,null,null,null,null,null,null,null,null,null,null,null,null,null,null,null,null,"専門技術者\n氏　　　名"]
[]
[null,"資格内容",null,null,null,null,null,null,null,null,null,null,null,null,null,null,null,null,null,null,"資格内容"]
[null,"担当工事\n内　　容",null,null,null,null,null,null,null,null,null,null,null,null,null,null,null,null,null,null,"担当工事\n内　　容"]
[]
[]
["一号特定技能外国人\nの従事の状況（有無）",null,null,null,null,null,null,null,"有　　無",null,null,null,null,"外国人建設就労者の\n従事の状況（有無）",null,null,null,null,null,null,null,"有　　無",null,null,null,null,"外国人技能実習生の\n従事の状況（有無）",null,null,null,null,null,null,null,"有　無"]
[]
[]
[]
[]
[]
[]
[]
[]
[]
[]
[]
[]
[]
[null,null,null,null,null,null,null,null,null,null,null,null,null,null,null,null,null,null,null,null,null,null,null,null,null,null,null,null,null,null,null,null,null,null,null,null,null,null,null,null,"様式へ"]

{"sheet":"別記様式2","index":34,"n_rows":53,"n_cols":55,"rows_kept":53,"cut":false,"hidden":false,"merged":[[52,41,53,43],[0,39,0,40],[1,39,1,40],[37,21,38,25],[37,26,38,33],[15,28,16,28],[15,29,16,38],[18,29,18,38],[12,29,12,38],[2,0,2,38],[3,0,3,5],[3,6,3,22],[3,23,3,28],[3,29,3,38],[24,0,25,5],[24,20,25,26],[24,27,25,38],[37,34,38,38],[30,0,31,0],[30,1,31,5],[30,6,31,18],[30,20,31,26],[30,27,31,38],[32,20,35,20],[32,21,33,26],[32,27,33,38],[34,21,35,26],[34,27,35,38],[37,0,38,7],[26,0,27,0],[26,1,27,5],[26,6,27,18],[26,20,27,26],[26,27,27,38],[28,0,29,5],[28,6,29,9],[28,10,29,18],[28,20,29,26],[28,27,29,38],[37,8,38,12],[37,13,38,20],[19,20,19,28],[19,29,19,38],[20,6,22,9],[20,10,20,19],[20,20,20,25],[20,26,20,31],[20,32,20,38],[21,10,21,19],[21,20,21,25],[21,26,21,31],[21,32,21,38],[22,10,22,19],[22,32,22,38],[24,6,25,18],[12,0,16,5],[12,6,12,13],[12,14,12,28],[13,20,14,20],[13,21,14,27],[18,0,22,5],[18,6,19,9],[18,10,18,19],[18,20,18,28],[19,10,19,19],[22,20,22,25],[22,26,22,31],[9,27,10,38],[15,14,16,16],[15,17,16,19],[15,20,16,20],[16,6,16,10],[13,28,14,28],[13,29,14,38],[14,6,14,10],[15,21,16,27],[15,6,15,10],[15,11,16,13],[13,6,13,10],[13,11,14,13],[13,14,14,16],[13,17,14,19],[5,23,5,24],[10,6,10,8],[10,9,10,20],[6,0,8,5],[6,6,6,38],[7,6,7,38],[8,6,8,38],[4,0,5,5],[4,6,4,38],[5,15,5,16],[5,17,5,18],[5,20,5,21],[9,0,10,5],[9,6,9,8],[9,9,9,20],[9,21,10,26]]}
["（別記様式２）",null,null,null,null,null,null,null,null,null,null,null,null,null,null,null,null,null,null,null,null,null,null,null,null,null,null,null,null,null,null,null,null,null,null,null,null,null,null,"一覧表へ戻る"]
[null,null,null,null,null,null,null,null,null,null,null,null,null,null,null,null,null,null,null,null,null,null,null,null,null,null,null,null,null,null,null,null,null,null,null,null,null,null,null,"記載例へ"]
["＜下請負人に関する事項＞"]
["会社名・\n事業者ID",null,null,null,null,null,null,null,null,null,null,null,null,null,null,null,null,null,null,null,null,null,null,"代表者名"]
["住　　所\n電話番号"]
[null,null,null,null,null,null,"　",null,null,null,null,null,null,null,"（","電話",null,null,null,"－",null,null,"－",null,null,"）"]
["工事名称\n及　　び\n工事内容"]
[]
[null,null,null,null,null,null,null,null,null,null,null,null,null,null,null,null,null,null,null,null,null,null,null,null,null,null,null,null,null,null,null,null,null,null,null,null,null,null,null,null,null,null,null,null,null,null,null,null,null,null,null,null,null,"大臣","特定"]
["工　　期",null,null,null,null,null,"自",null,null,"令和　　　年　　　月　　　日",null,null,null,null,null,null,null,null,null,null,null,"契約日",null,null,null,null,null,"令和　　年　　月　　日",null,null,null,null,null,null,null,null,null,null,null,null,null,null,null,null,null,null,null,null,null,null,null,null,null,"知事","一般"]
[null,null,null,null,null,null,"至",null,null,"令和　　　年　　　月　　　日",null,null,null,null,null,null,null,null,null,null,null,null,null,null,null,null,null,null,null,null,null,null,null,null,null,null,null,null,null,null,null,null,null,null,null,null,null,null,null,null,null,null,null,"大臣\n知事","特定\n一般"]
[]
["建設業の\n許　　可",null,null,null,null,null,"施工に必要な許可業種",null,null,null,null,null,null,null,"許可番号",null,null,null,null,null,null,null,null,null,null,null,null,null,null,"許可（更新）年月日"]
[null,null,null,null,null,null,null,null,null,null,null,"工事業",null,null,"大臣\n知事",null,null,"特定\n一般",null,null,"第",null,null,null,null,null,null,null,"号","　　年　月　日"]
[]
[null,null,null,null,null,null,null,null,null,null,null,"工事業",null,null,"大臣\n知事",null,null,"特定\n一般",null,null,"第",null,null,null,null,null,null,null,"号","　　年　月　日"]
[]
[]
["健康保険等\nの加入状況",null,null,null,null,null,"保険加入\nの有無",null,null,null,"健康保険",null,null,null,null,null,null,null,null,null,"厚生年金保険",null,null,null,null,null,null,null,null,"雇用保険"]
[null,null,null,null,null,null,null,null,null,null,"加入　未加入　適用除外",null,null,null,null,null,null,null,null,null,"加入　未加入　適用除外",null,null,null,null,null,null,null,null,"加入　未加入　適用除外"]
[null,null,null,null,null,null,"事業所整\n理記号等",null,null,null,"営業所の名称",null,null,null,null,null,null,null,null,null,"健康保険",null,null,null,null,null,"厚生年金保険",null,null,null,null,null,"雇用保険"]
[]
[]
[]
["現場代理人名",null,null,null,null,null,null,null,null,null,null,null,null,null,null,null,null,null,null,null,"安全衛生責任者名"]
[]
[null,"権限及び\n意見申請方法",null,null,null,null,null,null,null,null,null,null,null,null,null,null,null,null,null,null,"安全衛生推進者名"]
[]
["主任技術者",null,null,null,null,null,"専　任\n非専任",null,null,null,null,null,null,null,null,null,null,null,null,null,"雇用管理責任者名"]
[]
[null,"資格内容",null,null,null,null,null,null,null,null,null,null,null,null,null,null,null,null,null,null,"専門技術者名"]
[]
[null,null,null,null,null,null,null,null,null,null,null,null,null,null,null,null,null,null,null,null,null,"資格内容"]
[]
[null,null,null,null,null,null,null,null,null,null,null,null,null,null,null,null,null,null,null,null,null,"担当工事内容"]
[]
[]
["一号特定技能外国人\nの従事の状況（有無）",null,null,null,null,null,null,null,"有　　無",null,null,null,null,"外国人建設就労者の\n従事の状況（有無）",null,null,null,null,null,null,null,"有　　無",null,null,null,null,"外国人技能実習生の\n従事の状況（有無）",null,null,null,null,null,null,null,"有　　無"]
[]
[]
[]
[]
[null,null,null,null,null,null,null,null,null,null,null,null,null,null,null,null,null,null,null,null,null,null,null,null,null,null,null,null,null,null,null,null,null,null,null,null,null,null,null,null,null,null,null,null,null,null,null,null,null,null,null,null,null,"大臣","特定"]
[]
[]
[]
[]
[]
[]
[]
[]
[]
[null,null,null,null,null,null,null,null,null,null,null,null,null,null,null,null,null,null,null,null,null,null,null,null,null,null,null,null,null,null,null,null,null,null,null,null,null,null,null,null,null,"様式へ"]

{"sheet":"別記様式3","index":35,"n_rows":64,"n_cols":36,"rows_kept":64,"cut":false,"hidden":false,"merged":[[63,35,64,37],[40,9,40,10],[43,9,50,9],[43,16,50,16],[43,23,50,23],[43,30,50,30],[52,9,52,10],[2,35,2,36],[3,35,3,36],[19,9,26,9],[19,16,26,16],[19,23,26,23],[19,30,26,30],[28,9,28,10],[31,9,38,9],[31,16,38,16],[31,23,38,23],[31,30,38,30],[52,32,52,34],[51,11,51,12],[51,18,51,19],[51,25,51,26],[51,32,51,33],[52,11,52,13],[52,16,52,17],[52,18,52,20],[52,23,52,24],[52,25,52,27],[52,30,52,31],[49,11,49,12],[49,18,49,19],[49,25,49,26],[49,32,49,33],[50,10,50,12],[50,17,50,19],[50,24,50,26],[50,31,50,33],[47,10,47,12],[47,17,47,19],[47,24,47,26],[48,10,48,12],[48,17,48,19],[48,24,48,26],[48,31,48,33],[47,31,47,33],[45,10,45,12],[45,17,45,19],[45,24,45,26],[45,31,45,33],[46,10,46,12],[46,17,46,19],[46,24,46,26],[46,31,46,33],[43,10,43,12],[43,17,43,19],[43,24,43,26],[43,31,43,33],[44,10,44,12],[44,17,44,19],[44,24,44,26],[44,31,44,33],[39,11,39,12],[39,18,39,19],[39,25,39,26],[39,32,39,33],[40,11,40,13],[40,16,40,17],[40,18,40,20],[40,23,40,24],[40,25,40,27],[40,30,40,31],[40,32,40,34],[37,11,37,12],[37,18,37,19],[37,25,37,26],[37,32,37,33],[38,10,38,12],[38,17,38,19],[38,24,38,26],[38,31,38,33],[35,10,35,12],[35,17,35,19],[35,24,35,26],[35,31,35,33],[36,10,36,12],[36,17,36,19],[36,24,36,26],[36,31,36,33],[33,10,33,12],[33,17,33,19],[33,24,33,26],[33,31,33,33],[34,10,34,12],[34,17,34,19],[34,24,34,26],[34,31,34,33],[28,32,28,34],[31,10,31,12],[31,17,31,19],[31,24,31,26],[31,31,31,33],[32,10,32,12],[32,17,32,19],[32,24,32,26],[32,31,32,33],[28,11,28,13],[28,16,28,17],[28,18,28,20],[28,23,28,24],[28,25,28,27],[28,30,28,31],[27,11,27,12],[27,18,27,19],[27,25,27,26],[27,32,27,33],[24,10,24,12],[24,17,24,19],[24,24,24,26],[24,31,24,33],[25,11,25,12],[25,18,25,19],[25,25,25,26],[25,32,25,33],[22,10,22,12],[22,17,22,19],[22,24,22,26],[22,31,22,33],[23,10,23,12],[23,17,23,19],[23,24,23,26],[23,31,23,33],[26,10,26,12],[26,17,26,19],[26,24,26,26],[26,31,26,33],[19,10,19,12],[19,17,19,19],[19,24,19,26],[19,31,19,33],[15,11,15,12],[15,18,15,19],[15,25,15,26],[15,32,15,33],[20,0,21,1],[20,2,20,3],[20,10,20,12],[20,17,20,19],[20,24,20,26],[20,31,20,33],[21,2,21,3],[21,10,21,12],[21,17,21,19],[21,24,21,26],[21,31,21,33],[16,0,17,1],[16,2,16,3],[16,11,16,13],[16,16,16,17],[16,18,16,20],[17,2,17,3],[12,2,12,3],[12,10,12,12],[12,17,12,19],[12,24,12,26],[12,31,12,33],[13,0,13,1],[13,2,13,3],[13,11,13,12],[13,18,13,19],[13,25,13,26],[16,23,16,24],[13,32,13,33],[14,2,14,3],[14,10,14,12],[14,17,14,19],[14,24,14,26],[14,31,14,33],[16,25,16,27],[16,30,16,31],[16,32,16,34],[16,9,16,10],[7,9,14,9],[7,16,14,16],[11,0,11,1],[11,2,11,3],[11,10,11,12],[11,17,11,19],[11,24,11,26],[11,31,11,33],[10,0,10,1],[10,2,10,3],[10,10,10,12],[10,17,10,19],[10,24,10,26],[10,31,10,33],[7,23,14,23],[7,30,14,30],[9,0,9,1],[9,2,9,3],[9,10,9,12],[9,17,9,19],[9,24,9,26],[9,31,9,33],[7,31,7,33],[8,0,8,1],[8,2,8,3],[8,10,8,12],[8,17,8,19],[8,24,8,26],[8,31,8,33],[5,13,5,16],[7,0,7,1],[7,2,7,3],[7,10,7,12],[7,17,7,19],[7,24,7,26],[1,0,1,1],[2,8,2,22],[4,0,4,1],[4,2,4,6],[4,9,5,10],[4,11,4,12],[4,13,4,16],[5,0,5,1],[5,2,5,6],[5,11,5,12]]}
[]
["施工体系図　別記様式３"]
[null,null,null,null,null,null,null,null,"工事作業所災害防止協議会兼施工体系図",null,null,null,null,null,null,null,null,null,null,null,null,null,null,null,null,null,null,null,null,null,null,null,null,null,null,"一覧表へ戻る"]
[null,null,null,null,null,null,null,null,null,null,null,null,null,null,null,null,null,null,null,null,null,null,null,null,null,null,null,null,null,null,null,null,null,null,null,"記載例へ"]
["発注者名",null,"上天草市長　堀江　隆臣",null,null,null,null,null,null,"工期",null,"自",null,{"$f":"IF(入力表!B6=\"\",\"令和　　　年　　　月　　　日\",入力表!B6)","v":"令和　　　年　　　月　　　日"}]
["工事名称",null,{"$f":"IF(入力表!B3=\"\",\"\",入力表!B3)","v":""},null,null,null,null,null,null,null,null,"至",null,{"$f":"IF(入力表!E6=\"\",\"令和　　　年　　　月　　　日\",入力表!E6)","v":"令和　　　年　　　月　　　日"}]
[]
["元請名・事業者ID",null,{"$f":"IF(入力表!B12=\"\",\"\",入力表!B12)","v":""},null,null,null,null,null,null,null,"会社名・事業者ID",null,null,null,null,null,null,"会社名・事業者ID",null,null,null,null,null,null,"会社名・事業者ID",null,null,null,null,null,null,"会社名・事業者ID"]
["監督員名",null,null,null,null,null,null,null,null,null,"代表者名",null,null,null,null,null,null,"代表者名",null,null,null,null,null,null,"代表者名",null,null,null,null,null,null,"代表者名"]
["監理（主任）技術者名",null,{"$f":"IF(入力表!B9=\"\",\"\",入力表!B9)","v":""},null,null,null,null,null,null,null,"許可番号",null,null,null,null,null,null,"許可番号",null,null,null,null,null,null,"許可番号",null,null,null,null,null,null,"許可番号"]
["監理技術者補佐名",null,null,null,null,null,null,null,null,null,"一般／特定の別",null,null,"一般／特定",null,null,null,"一般／特定の別",null,null,"一般／特定",null,null,null,"一般／特定の別",null,null,"一般／特定",null,null,null,"一般／特定の別",null,null,"一般／特定"]
["専門技術者名",null,null,null,null,null,null,null,null,null,"安全衛生責任者",null,null,null,null,null,null,"安全衛生責任者",null,null,null,null,null,null,"安全衛生責任者",null,null,null,null,null,null,"安全衛生責任者"]
[null,"担当工事内容",null,null,null,null,null,null,null,null,"主任技術者",null,null,null,null,null,null,"主任技術者",null,null,null,null,null,null,"主任技術者",null,null,null,null,null,null,"主任技術者"]
["専門技術者名",null,null,null,null,null,"元方安全衛生管理者",null,null,null,null,"特定専門\n工事の該当",null,"有　・　無",null,null,null,null,"特定専門\n工事の該当",null,"有　・　無",null,null,null,null,"特定専門\n工事の該当",null,"有　・　無",null,null,null,null,"特定専門\n工事の該当",null,"有　・　無"]
[null,"担当工事内容",null,null,null,null,null,null,null,null,"専門技術者",null,null,null,null,null,null,"専門技術者",null,null,null,null,null,null,"専門技術者",null,null,null,null,null,null,"専門技術者"]
[null,null,null,null,null,null,null,null,null,"工事",null,"担当工事　　　　　　　　　　　　　　　　　　　　　　　　　　　　　　　　　　　　　　　　　　　　　　　　　　　　　　　　　　　　　　　　　　　　　　　　　　　　　　内　　　容",null,null,null,null,"工事",null,"担当工事　　　　　　　　　　　　　　　　　　　　　　　　　　　　　　　　　　　　　　　　　　　　　　　　　　　　　　　　　　　　　　　　　　　　　　　　　　　　　　内　　　容",null,null,null,null,"工事",null,"担当工事　　　　　　　　　　　　　　　　　　　　　　　　　　　　　　　　　　　　　　　　　　　　　　　　　　　　　　　　　　　　　　　　　　　　　　　　　　　　　　内　　　容",null,null,null,null,"工事",null,"担当工事　　　　　　　　　　　　　　　　　　　　　　　　　　　　　　　　　　　　　　　　　　　　　　　　　　　　　　　　　　　　　　　　　　　　　　　　　　　　　　内　　　容"]
["会          長",null,"統括安全衛生責任者",null,null,null,null,null,null,"工　期",null,"令和　年　月　日～令和　年　月　日",null,null,null,null,"工　期",null,"令和　年　月　日～令和　年　月　日",null,null,null,null,"工　期",null,"令和　年　月　日～令和　年　月　日",null,null,null,null,"工　期",null,"令和　年　月　日～令和　年　月　日"]
[]
[]
[null,null,null,null,null,null,null,null,null,null,"会社名・事業者ID",null,null,null,null,null,null,"会社名・事業者ID",null,null,null,null,null,null,"会社名・事業者ID",null,null,null,null,null,null,"会社名・事業者ID"]
["副    会    長",null,null,null,null,null,null,null,null,null,"代表者名",null,null,null,null,null,null,"代表者名",null,null,null,null,null,null,"代表者名",null,null,null,null,null,null,"代表者名"]
[null,null,null,null,null,null,null,null,null,null,"許可番号",null,null,null,null,null,null,"許可番号",null,null,null,null,null,null,"許可番号",null,null,null,null,null,null,"許可番号"]
[null,null,null,null,null,null,null,null,null,null,"一般／特定の別",null,null,"一般／特定",null,null,null,"一般／特定の別",null,null,"一般／特定",null,null,null,"一般／特定の別",null,null,"一般／特定",null,null,null,"一般／特定の別",null,null,"一般／特定"]
["※","該当する箇所を実線に修正し、提出すること。",null,null,null,null,null,null,null,null,"安全衛生責任者",null,null,null,null,null,null,"安全衛生責任者",null,null,null,null,null,null,"安全衛生責任者",null,null,null,null,null,null,"安全衛生責任者"]
[null,null,null,null,null,null,null,null,null,null,"主任技術者",null,null,null,null,null,null,"主任技術者",null,null,null,null,null,null,"主任技術者",null,null,null,null,null,null,"主任技術者"]
[null,null,null,null,null,null,null,null,null,null,null,"特定専門\n工事の該当",null,"有　・　無",null,null,null,null,"特定専門\n工事の該当",null,"有　・　無",null,null,null,null,"特定専門\n工事の該当",null,"有　・　無",null,null,null,null,"特定専門\n工事の該当",null,"有　・　無"]
[null,null,null,null,null,null,null,null,null,null,"専門技術者",null,null,null,null,null,null,"専門技術者",null,null,null,null,null,null,"専門技術者",null,null,null,null,null,null,"専門技術者"]
[null,null,null,null,null,null,null,null,null,"工事",null,"担当工事　　　　　　　　　　　　　　　　　　　　　　　　　　　　　　　　　　　　　　　　　　　　　　　　　　　　　　　　　　　　　　　　　　　　　　　　　　　　　　内　　　容",null,null,null,null,"工事",null,"担当工事　　　　　　　　　　　　　　　　　　　　　　　　　　　　　　　　　　　　　　　　　　　　　　　　　　　　　　　　　　　　　　　　　　　　　　　　　　　　　　内　　　容",null,null,null,null,"工事",null,"担当工事　　　　　　　　　　　　　　　　　　　　　　　　　　　　　　　　　　　　　　　　　　　　　　　　　　　　　　　　　　　　　　　　　　　　　　　　　　　　　　内　　　容",null,null,null,null,"工事",null,"担当工事　　　　　　　　　　　　　　　　　　　　　　　　　　　　　　　　　　　　　　　　　　　　　　　　　　　　　　　　　　　　　　　　　　　　　　　　　　　　　　内　　　容"]
[null,null,null,null,null,null,null,null,null,"工　期",null,"令和　年　月　日～令和　年　月　日",null,null,null,null,"工　期",null,"令和　年　月　日～令和　年　月　日",null,null,null,null,"工　期",null,"令和　年　月　日～令和　年　月　日",null,null,null,null,"工　期",null,"令和　年　月　日～令和　年　月　日"]
[]
[]
[null,null,null,null,null,null,null,null,null,null,"会社名・事業者ID",null,null,null,null,null,null,"会社名・事業者ID",null,null,null,null,null,null,"会社名・事業者ID",null,null,null,null,null,null,"会社名・事業者ID"]
[null,null,null,null,null,null,null,null,null,null,"代表者名",null,null,null,null,null,null,"代表者名",null,null,null,null,null,null,"代表者名",null,null,null,null,null,null,"代表者名"]
[null,null,null,null,null,null,null,null,null,null,"許可番号",null,null,null,null,null,null,"許可番号",null,null,null,null,null,null,"許可番号",null,null,null,null,null,null,"許可番号"]
[null,null,null,null,null,null,null,null,null,null,"一般／特定の別",null,null,"一般／特定",null,null,null,"一般／特定の別",null,null,"一般／特定",null,null,null,"一般／特定の別",null,null,"一般／特定",null,null,null,"一般／特定の別",null,null,"一般／特定"]
[null,null,null,null,null,null,null,null,null,null,"安全衛生責任者",null,null,null,null,null,null,"安全衛生責任者",null,null,null,null,null,null,"安全衛生責任者",null,null,null,null,null,null,"安全衛生責任者"]
[null,null,null,null,null,null,null,null,null,null,"主任技術者",null,null,null,null,null,null,"主任技術者",null,null,null,null,null,null,"主任技術者",null,null,null,null,null,null,"主任技術者"]
[null,null,null,null,null,null,null,null,null,null,null,"特定専門\n工事の該当",null,"有　・　無",null,null,null,null,"特定専門\n工事の該当",null,"有　・　無",null,null,null,null,"特定専門\n工事の該当",null,"有　・　無",null,null,null,null,"特定専門\n工事の該当",null,"有　・　無"]
[null,null,null,null,null,null,null,null,null,null,"専門技術者",null,null,null,null,null,null,"専門技術者",null,null,null,null,null,null,"専門技術者",null,null,null,null,null,null,"専門技術者"]
[null,null,null,null,null,null,null,null,null,"工事",null,"担当工事　　　　　　　　　　　　　　　　　　　　　　　　　　　　　　　　　　　　　　　　　　　　　　　　　　　　　　　　　　　　　　　　　　　　　　　　　　　　　　内　　　容",null,null,null,null,"工事",null,"担当工事　　　　　　　　　　　　　　　　　　　　　　　　　　　　　　　　　　　　　　　　　　　　　　　　　　　　　　　　　　　　　　　　　　　　　　　　　　　　　　内　　　容",null,null,null,null,"工事",null,"担当工事　　　　　　　　　　　　　　　　　　　　　　　　　　　　　　　　　　　　　　　　　　　　　　　　　　　　　　　　　　　　　　　　　　　　　　　　　　　　　　内　　　容",null,null,null,null,"工事",null,"担当工事　　　　　　　　　　　　　　　　　　　　　　　　　　　　　　　　　　　　　　　　　　　　　　　　　　　　　　　　　　　　　　　　　　　　　　　　　　　　　　内　　　容"]
[null,null,null,null,null,null,null,null,null,"工　期",null,"令和　年　月　日～令和　年　月　日",null,null,null,null,"工　期",null,"令和　年　月　日～令和　年　月　日",null,null,null,null,"工　期",null,"令和　年　月　日～令和　年　月　日",null,null,null,null,"工　期",null,"令和　年　月　日～令和　年　月　日"]
[]
[]
[null,null,null,null,null,null,null,null,null,null,"会社名・事業者ID",null,null,null,null,null,null,"会社名・事業者ID",null,null,null,null,null,null,"会社名・事業者ID",null,null,null,null,null,null,"会社名・事業者ID"]
[null,null,null,null,null,null,null,null,null,null,"代表者名",null,null,null,null,null,null,"代表者名",null,null,null,null,null,null,"代表者名",null,null,null,null,null,null,"代表者名"]
[null,null,null,null,null,null,null,null,null,null,"許可番号",null,null,null,null,null,null,"許可番号",null,null,null,null,null,null,"許可番号",null,null,null,null,null,null,"許可番号"]
[null,null,null,null,null,null,null,null,null,null,"一般／特定の別",null,null,"一般／特定",null,null,null,"一般／特定の別",null,null,"一般／特定",null,null,null,"一般／特定の別",null,null,"一般／特定",null,null,null,"一般／特定の別",null,null,"一般／特定"]
[null,null,null,null,null,null,null,null,null,null,"安全衛生責任者",null,null,null,null,null,null,"安全衛生責任者",null,null,null,null,null,null,"安全衛生責任者",null,null,null,null,null,null,"安全衛生責任者"]
[null,null,null,null,null,null,null,null,null,null,"主任技術者",null,null,null,null,null,null,"主任技術者",null,null,null,null,null,null,"主任技術者",null,null,null,null,null,null,"主任技術者"]
[null,null,null,null,null,null,null,null,null,null,null,"特定専門\n工事の該当",null,"有　・　無",null,null,null,null,"特定専門\n工事の該当",null,"有　・　無",null,null,null,null,"特定専門\n工事の該当",null,"有　・　無",null,null,null,null,"特定専門\n工事の該当",null,"有　・　無"]
[null,null,null,null,null,null,null,null,null,null,"専門技術者",null,null,null,null,null,null,"専門技術者",null,null,null,null,null,null,"専門技術者",null,null,null,null,null,null,"専門技術者"]
[null,null,null,null,null,null,null,null,null,"工事",null,"担当工事　　　　　　　　　　　　　　　　　　　　　　　　　　　　　　　　　　　　　　　　　　　　　　　　　　　　　　　　　　　　　　　　　　　　　　　　　　　　　　内　　　容",null,null,null,null,"工事",null,"担当工事　　　　　　　　　　　　　　　　　　　　　　　　　　　　　　　　　　　　　　　　　　　　　　　　　　　　　　　　　　　　　　　　　　　　　　　　　　　　　　内　　　容",null,null,null,null,"工事",null,"担当工事　　　　　　　　　　　　　　　　　　　　　　　　　　　　　　　　　　　　　　　　　　　　　　　　　　　　　　　　　　　　　　　　　　　　　　　　　　　　　　内　　　容",null,null,null,null,"工事",null,"担当工事　　　　　　　　　　　　　　　　　　　　　　　　　　　　　　　　　　　　　　　　　　　　　　　　　　　　　　　　　　　　　　　　　　　　　　　　　　　　　　内　　　容"]
[null,null,null,null,null,null,null,null,null,"工　期",null,"令和　年　月　日～令和　年　月　日",null,null,null,null,"工　期",null,"令和　年　月　日～令和　年　月　日",null,null,null,null,"工　期",null,"令和　年　月　日～令和　年　月　日",null,null,null,null,"工　期",null,"令和　年　月　日～令和　年　月　日"]
[]
[]
[]
[]
[]
[]
[]
[]
[]
[]
[null,null,null,null,null,null,null,null,null,null,null,null,null,null,null,null,null,null,null,null,null,null,null,null,null,null,null,null,null,null,null,null,null,null,null,"様式へ"]

{"sheet":"別記様式4","index":36,"n_rows":90,"n_cols":26,"rows_kept":90,"cut":false,"hidden":false,"merged":[[1,25,1,26],[2,25,2,26],[3,25,3,26],[89,25,90,26],[79,0,80,14],[85,12,86,24],[71,1,71,3],[71,5,71,9],[71,11,71,12],[71,16,72,24],[72,0,73,15],[76,0,78,14],[62,16,65,24],[65,12,65,13],[66,16,68,24],[69,16,70,24],[70,1,70,3],[70,5,70,9],[70,11,70,12],[56,21,61,21],[56,22,58,23],[53,22,55,23],[54,1,55,4],[54,12,55,12],[50,21,55,21],[50,22,52,23],[58,1,59,4],[58,12,59,12],[58,13,59,13],[59,9,61,11],[59,14,61,14],[59,22,61,23],[60,1,61,4],[60,12,61,12],[60,13,61,13],[56,0,61,0],[56,1,57,4],[56,5,61,7],[56,8,61,8],[56,9,58,11],[56,12,57,12],[50,14,52,14],[50,15,55,15],[50,16,55,20],[52,1,53,4],[52,12,53,12],[52,13,53,13],[53,9,55,11],[53,14,55,14],[56,13,57,13],[56,14,58,14],[56,15,61,15],[56,16,61,20],[54,13,55,13],[48,12,49,12],[48,13,49,13],[50,0,55,0],[50,1,51,4],[50,5,55,7],[50,8,55,8],[50,9,52,11],[50,12,51,12],[50,13,51,13],[44,0,49,0],[44,1,45,4],[44,5,49,7],[44,8,49,8],[44,9,46,11],[44,12,45,12],[46,1,47,4],[46,12,47,12],[47,9,49,11],[48,1,49,4],[44,13,45,13],[44,14,46,14],[44,15,49,15],[44,16,49,20],[44,21,49,21],[44,22,46,23],[46,13,47,13],[47,14,49,14],[47,22,49,23],[38,21,43,21],[38,22,40,23],[35,22,37,23],[36,1,37,4],[36,12,37,12],[36,13,37,13],[32,21,37,21],[32,22,34,23],[40,1,41,4],[40,12,41,12],[40,13,41,13],[41,9,43,11],[41,14,43,14],[41,22,43,23],[42,1,43,4],[42,12,43,12],[42,13,43,13],[38,0,43,0],[38,1,39,4],[38,5,43,7],[38,8,43,8],[38,9,40,11],[38,12,39,12],[32,14,34,14],[32,15,37,15],[32,16,37,20],[34,1,35,4],[34,12,35,12],[34,13,35,13],[35,9,37,11],[35,14,37,14],[38,13,39,13],[38,14,40,14],[38,15,43,15],[38,16,43,20],[30,12,31,12],[30,13,31,13],[32,0,37,0],[32,1,33,4],[32,5,37,7],[32,8,37,8],[32,9,34,11],[32,12,33,12],[32,13,33,13],[26,0,31,0],[26,1,27,4],[26,5,31,7],[26,8,31,8],[26,9,28,11],[26,12,27,12],[28,1,29,4],[28,12,29,12],[29,9,31,11],[30,1,31,4],[26,13,27,13],[26,14,28,14],[26,15,31,15],[26,16,31,20],[26,21,31,21],[26,22,28,23],[28,13,29,13],[29,14,31,14],[29,22,31,23],[20,21,25,21],[20,22,22,23],[20,14,22,14],[20,15,25,15],[20,16,25,20],[17,22,19,23],[18,1,19,4],[18,12,19,12],[18,13,19,13],[14,21,19,21],[14,22,16,23],[22,1,23,4],[22,12,23,12],[22,13,23,13],[23,9,25,11],[23,14,25,14],[23,22,25,23],[24,1,25,4],[24,12,25,12],[24,13,25,13],[14,14,16,14],[14,15,19,15],[14,16,19,20],[16,1,17,4],[16,12,17,12],[16,13,17,13],[17,9,19,11],[17,14,19,14],[20,13,21,13],[14,0,19,0],[14,1,15,4],[14,5,19,7],[14,8,19,8],[14,9,16,11],[14,12,15,12],[14,13,15,13],[20,0,25,0],[20,1,21,4],[20,5,25,7],[20,8,25,8],[20,9,22,11],[20,12,21,12],[8,0,13,0],[8,1,9,4],[8,5,13,7],[8,8,13,8],[8,9,10,11],[8,12,9,13],[8,14,10,14],[8,15,10,21],[8,22,10,23],[10,1,11,4],[10,12,11,13],[11,9,13,11],[11,14,13,14],[11,15,13,15],[11,16,13,20],[11,21,13,21],[11,22,13,23],[12,1,13,4],[12,12,13,13],[0,0,0,3],[0,12,0,18],[1,12,1,18],[1,21,2,21],[1,22,2,23],[2,0,2,2],[2,3,2,8],[2,10,5,12],[3,0,3,2],[3,3,3,8],[5,15,5,18],[5,22,5,23],[3,22,3,23]]}
["作業員名簿　別記様式４",null,null,null,null,null,null,null,null,null,null,null,"作　　業　　員　　名　　簿"]
[null,null,null,null,null,null,null,null,null,null,null,null,"（　　年　　月　　日作成)",null,null,null,null,null,null,null,null,"元請\n確認欄",null,null,null,"一覧表へ戻る"]
["事業所の名称\n・現場ID",null,null,{"$f":"IF(入力表!B3=\"\",\"\",入力表!B3)","v":""},null,null,null,null,null,null," 本書面に記載した内容は、作業員名簿として安全衛生管理や労働災害発生時の緊急連絡・対応のために元請負業者に提示することについて、記載者本人は同意しています。",null,null,null,null,null,null,null,null,null,null,null,null,null,null,"入力表へ戻る"]
["所長名",null,null,{"$f":"IF(入力表!B8=\"\",\"\",入力表!B8)","v":""},null,null,null,null,null,null,null,null,null,null,null,null,null,null,null,null,null,"提出日  ",{"$f":"IF(入力表!D35=\"\",\"令和　　年　　月　　日\",入力表!D35)","v":"令和　　年　　月　　日"},null,null,"記載例へ"]
[]
[null,null,null,null,null,null,null,null,null,null,null,null,null,null,"一次会社名\n・事業者ID",{"$f":"IF(別記様式2!G4=\"\",\"\",別記様式2!G4)","v":""},null,null,null,null,null,"（　次)会社名\n・事業者ID"]
[]
[]
["番号","ふりがな",null,null,null,"職種",null,null,"※","生年月日",null,null,"健康保険",null,"建設業退職金\n共済制度","教　育・資　格・免　許",null,null,null,null,null,null,"入場年月日"]
[]
[null,"氏名",null,null,null,null,null,null,null,null,null,null,"年金保険"]
[null,null,null,null,null,null,null,null,null,"年齢",null,null,null,null,"中小企業退職金\n共済制度","雇入・職長\n特別教育","技能講習",null,null,null,null,"免　許","受入教育\n実施年月日"]
[null,"技能者ID",null,null,null,null,null,null,null,null,null,null,"雇用保険"]
[]
[null,null,null,null,null,null,null,null,null,"年　月　日",null,null,null,null,null,null,null,null,null,null,null,null,"年　月　日"]
[]
[]
[null,null,null,null,null,null,null,null,null,"歳",null,null,null,null,null,null,null,null,null,null,null,null,"年　月　日"]
[]
[]
[null,null,null,null,null,null,null,null,null,"年　月　日",null,null,null,null,null,null,null,null,null,null,null,null,"年　月　日"]
[]
[]
[null,null,null,null,null,null,null,null,null,"歳",null,null,null,null,null,null,null,null,null,null,null,null,"年　月　日"]
[]
[]
[null,null,null,null,null,null,null,null,null,"年　月　日",null,null,null,null,null,null,null,null,null,null,null,null,"年　月　日"]
[]
[]
[null,null,null,null,null,null,null,null,null,"歳",null,null,null,null,null,null,null,null,null,null,null,null,"年　月　日"]
[]
[]
[null,null,null,null,null,null,null,null,null,"年　月　日",null,null,null,null,null,null,null,null,null,null,null,null,"年　月　日"]
[]
[]
[null,null,null,null,null,null,null,null,null,"歳",null,null,null,null,null,null,null,null,null,null,null,null,"年　月　日"]
[]
[]
[null,null,null,null,null,null,null,null,null,"年　月　日",null,null,null,null,null,null,null,null,null,null,null,null,"年　月　日"]
[]
[]
[null,null,null,null,null,null,null,null,null,"歳",null,null,null,null,null,null,null,null,null,null,null,null,"年　月　日"]
[]
[]
[null,null,null,null,null,null,null,null,null,"年　月　日",null,null,null,null,null,null,null,null,null,null,null,null,"年　月　日"]
[]
[]
[null,null,null,null,null,null,null,null,null,"歳",null,null,null,null,null,null,null,null,null,null,null,null,"年　月　日"]
[]
[]
[null,null,null,null,null,null,null,null,null,"年　月　日",null,null,null,null,null,null,null,null,null,null,null,null,"年　月　日"]
[]
[]
[null,null,null,null,null,null,null,null,null,"歳",null,null,null,null,null,null,null,null,null,null,null,null,"年　月　日"]
[]
[]
[null,null,null,null,null,null,null,null,null,"年　月　日",null,null,null,null,null,null,null,null,null,null,null,null,"年　月　日"]
[]
[]
[null,null,null,null,null,null,null,null,null,"歳",null,null,null,null,null,null,null,null,null,null,null,null,"年　月　日"]
[]
[]
["（注)１. ※印欄には次の記号を入れる。",null,null,null,null,null,null,null,null,null,null,null,null,null,null,null,"（注）７．雇用保険欄には右欄に被保険者番号の下４けたを記載。（日雇労働被保\n　　　　険者の場合には左欄に「日雇保険」と記載）事業主である等により雇用保険\n　　　　の適用除外である場合には左欄に「適用除外」と記載。"]
[]
[]
[null," …現場代理人",null,null," …作業主任者（（注）２.)",null,null,null,null,null," …女性作業員",null,"       …１８歳未満の作業員"]
[null,null,null,null,null,null,null,null,null,null,null,null,null,null,null,null,"（注）８．建設業退職金共済制度及び中小企業退職金共済制度への加入の有無につい\n　　　　ては、それぞれの欄に「有」又は「無」と記載。"]
[]
[null," …主任技術者",null,null," …職　長",null,null,null," …安全衛生責任者",null,null," …能力向上教育",null," …危険有害業務・再発防止教育"]
[null,null,null,null,null,null,null,null,null,null,null,null,null,null,null,null,"（注）９．安全衛生に関する教育の内容（例：雇入時教育、職長教育、建設用リフト\n　　　　の運転の業務に係る特別教育）については「雇入・職長特別教育」欄に記載。"]
[null," …外国人技能実習生",null,null,null," …外国人建設就労者",null,null,null,null,null," …１号特定技能外国人"]
[null,null,null,null,null,null,null,null,null,null,null,null,null,null,null,null,"（注）１０．建設工事に係る知識及び技術又は技能に関する資格（例：登録○○基幹\n　　　　　技能者、○級○○施工管理技士）を有する場合は、「免許」欄に記載。"]
["（注）２．作業主任者は作業を直接指揮する義務を負うので、同時に施工されている他の現場や、同一現場においても\n　　　　他の作業個所との作業主任者を兼務することは、法的に認められていないので、複数の選任としなければならない。"]
[null,null,null,null,null,null,null,null,null,null,null,null,null,null,null,null,"（注）１１．記載事項の一部について、別紙を用いて記載しても差し支えない。"]
["（注）３．各社別に作成するのが原則だが、リース機械等の運転者は一緒でもよい。"]
["（注）４．資格・免許等の写しを添付することが望ましい。"]
["（注）５．健康保険欄には、左欄に健康保険の名称（健康保険組合、協会けんぽ、 建設国保、国民健康保険）を記載。\n　　　　　上記の保険に加入しておらず、後期高齢者である等により、国民健康保険の適用除外である場合には、左欄に\n　　　　「適用除外」と記載。"]
[]
[]
["（注）６．年金保険欄には、左欄に年金保険の名称（厚生年金、国民年金）を記載。\n　　　　　各年金の受給者である場合は、左欄に「受給者」と記載。"]
[]
[]
[]
[]
[]
[]
[]
[]
[]
[null,null,null,null,null,null,null,null,null,null,null,null,null,null,null,null,null,null,null,null,null,null,null,null,null,"様式へ"]

{"sheet":"別記様式5","index":37,"n_rows":50,"n_cols":17,"rows_kept":50,"cut":false,"hidden":false,"merged":[[3,16,3,17],[4,16,4,17],[49,16,50,17],[37,9,37,11],[37,12,37,14],[38,9,38,11],[38,12,38,14],[32,11,33,13],[32,14,33,15],[35,9,35,11],[35,12,35,14],[36,9,36,11],[36,12,36,14],[28,14,28,15],[32,9,33,10],[21,9,21,15],[39,6,40,8],[39,9,39,11],[39,12,39,14],[40,9,40,10],[40,12,40,14],[29,14,29,15],[30,9,31,10],[30,12,30,13],[30,14,30,15],[31,12,31,13],[31,14,31,15],[28,9,29,9],[28,10,28,12],[28,4,28,6],[31,3,33,3],[32,5,32,7],[33,4,33,6],[29,10,29,12],[29,4,29,7],[30,4,30,6],[31,5,31,7],[26,9,26,15],[27,2,27,8],[27,9,27,15],[25,2,25,8],[34,1,40,1],[34,2,34,6],[34,7,34,8],[35,2,36,5],[35,6,36,7],[35,8,36,8],[37,2,40,5],[37,6,38,7],[37,8,38,8],[28,1,33,1],[28,2,33,2],[28,3,30,3],[13,1,17,1],[13,2,15,2],[13,3,15,5],[13,7,13,15],[17,3,17,5],[14,7,14,15],[17,7,17,9],[17,11,17,14],[15,7,15,15],[16,3,16,5],[16,7,16,8],[16,11,16,15],[18,1,27,1],[18,2,18,8],[18,9,18,15],[19,2,19,8],[19,9,19,15],[20,2,20,8],[20,9,20,15],[21,2,21,8],[22,2,22,8],[22,9,22,15],[23,2,23,8],[23,9,23,15],[24,2,24,8],[24,9,24,15],[25,9,25,15],[26,2,26,8],[0,1,0,3],[0,12,0,13],[0,14,0,15],[3,1,3,15],[6,10,6,15],[9,1,12,1],[9,3,9,5],[10,3,10,5],[10,7,10,15],[11,3,11,5],[11,7,11,8],[11,11,11,15],[12,3,12,5],[12,7,12,9],[12,11,12,14],[9,7,9,15]]}
[null,"（別記様式５）",null,null,null,null,null,null,null,null,null,null,"整理番号："]
[]
[]
[null,"下　　請　　確　　認　　票",null,null,null,null,null,null,null,null,null,null,null,null,null,null,"一覧表へ戻る"]
[null,null,null,null,null,null,null,null,null,null,null,null,null,null,null,null,"記載例へ"]
[]
[null,null,null,null,null,null,null,null,null,"受注者名",{"$f":"IF(入力表!B12=\"\",\"\",入力表!B12)","v":""}]
[]
[]
[null,"元　請",null,"工事番号",null,null,null,{"$f":"IF(入力表!B2=\"\",\"\",入力表!B2)","v":""}]
[null,null,null,"工事名",null,null,null,{"$f":"IF(入力表!B3=\"\",\"\",入力表!B3)","v":""}]
[null,null,null,"契約金額",null,null,null,{"$f":"IF(入力表!B7=\"\",\"\",入力表!B7)","v":""},null,"円","契約日",{"$f":"IF(入力表!B5=\"\",\"令和　　年　　月　　日\",入力表!B5)","v":"令和　　年　　月　　日"}]
[null,null,null,"工期",null,null,null,{"$f":"IF(入力表!B6=\"\",\"令和　　年　　月　　日\",入力表!B6)","v":"令和　　年　　月　　日"},null,null,"から",{"$f":"IF(入力表!E6=\"\",\"令和　　年　　月　　日\",入力表!E6)","v":"令和　　年　　月　　日"},null,null,null,"まで"]
[null,"下　請",null,"商号又は名称"]
[null,null,null,null,null,null,null,"　※建設業の許可　　　有　　・　　無"]
[null,null,null,null,null,null,null,"　※主たる営業所の所在地　　熊本県 ・ その他（　　　  　　　　　）"]
[null,null,null,"契約金額",null,null,null,null,null,"円","契約日","　　年　月　日"]
[null,null,null,"工期",null,null,null,"　　年　月　日",null,null,"から","　　年　月　日",null,null,null,"まで"]
[null,"元請・下請","元請の工事概要",null,null,null,null,null,null,"下請の工事概要"]
[]
[]
[]
[]
[]
[]
[]
[]
[]
[null,"下　請","代金支払","前金払","　前金払受領後",null,null,null,"　日以内","完成払","　代金受領後",null,null,null,"　日以内"]
[null,null,null,null,null,null,null,null,"　円",null,"　完成物引受後",null,null,null,"　日以内"]
[null,null,null,null,"　下請契約締結後",null,null,null,"　日以内","現金手形比率",null,"現金","：",null,"手形"]
[null,null,null,"部分払","　毎月",null,null,null,"　日締切",null,null,null,"："]
[null,null,null,null,"　翌月",null,null,null,"　日支払","手　形　期　間",null,null,null,null,"　日"]
[null,null,null,null,"　出来高払い受領後",null,null,null,"　日以内"]
[null,"元　請","建退共証紙の交付見込額",null,null,null,null,null,null,"円 　※０円の場合　　辞退届（　有　・　無　）"]
[null,null,"下請業者数",null,null,null,null,null,"　者","下請契約整理番号１ ： 下請金額（",null,null,null,null,null,"円）"]
[null,null,null,null,null,null,null,null,null,"下請契約整理番号２ ： 下請金額（",null,null,null,null,null,"円）"]
[null,null,"下請金額総額",null,null,null,null,null,"　円","下請契約整理番号３ ： 下請金額（",null,null,null,null,null,"円）"]
[null,null,null,null,null,null,null,null,null,"下請契約整理番号４ ： 下請金額（",null,null,null,null,null,"円）"]
[null,null,null,null,null,null,"\n（下請契約日現在）",null,null,"下請契約整理番号５ ： 下請金額（",null,null,null,null,null,"円）"]
[null,null,null,null,null,null,null,null,null,"１件１００万円未満の工事計：",null,"（　　　　件",null,null,null,"円）"]
[]
[]
[]
[]
[]
[]
[]
[]
[null,null,null,null,null,null,null,null,null,null,null,null,null,null,null,null,"様式へ"]

{"sheet":"別記様式6","index":38,"n_rows":64,"n_cols":42,"rows_kept":64,"cut":false,"hidden":false,"merged":[[55,2,55,27],[50,3,50,16],[54,2,54,27],[45,3,45,16],[47,2,47,27],[49,0,49,27],[61,3,61,5],[61,8,61,10],[61,11,61,13],[61,14,61,25],[56,2,56,27],[57,2,57,27],[35,1,35,27],[32,1,32,27],[33,3,33,5],[33,8,33,10],[24,2,24,27],[26,1,26,27],[27,3,27,5],[27,8,27,10],[27,11,27,13],[27,14,27,25],[33,11,33,13],[33,14,33,25],[29,1,29,27],[30,3,30,5],[30,8,30,10],[30,11,30,13],[36,3,36,5],[36,8,36,10],[36,11,36,13],[36,14,36,25],[42,11,42,13],[42,14,42,25],[39,3,39,5],[39,8,39,10],[39,11,39,13],[39,14,39,25],[41,1,41,27],[42,3,42,5],[42,8,42,10],[30,14,30,25],[21,3,21,5],[21,8,21,10],[21,11,21,13],[21,14,21,25],[15,2,15,27],[1,0,1,27],[5,1,5,27],[6,1,6,27],[9,3,9,5],[9,8,9,10],[9,11,9,13],[9,14,9,25],[2,28,3,29],[4,28,4,29],[12,3,12,5],[12,8,12,10],[12,11,12,13],[12,14,12,25]]}
["（別記様式６）"]
["元請・下請関係内容表（元請負者が記載）"]
[null,null,null,null,null,null,null,null,null,null,null,null,null,null,null,null,null,null,null,null,null,null,null,null,null,null,null,null,"一覧表へ戻る"]
[]
["（１）下請契約について（建設業法（以下「法」という。）第１８条、第１９条、第２０条）",null,null,null,null,null,null,null,null,null,null,null,null,null,null,null,null,null,null,null,null,null,null,null,null,null,null,null,"記載例へ"]
[null,"①　建設工事の施工における企業間の下請契約の当事者は、工事の開始に先立って、\n  建設工事標準下請契約約款（昭和５２年４月２６日中央建設業審議会決定）又はこれ\n  に準拠した内容を持つ契約書による契約を締結するものと。",null,null,null,null,null,null,null,null,null,null,null,null,null,null,null,null,null,null,null,null,null,null,null,null,null,null,null,null,null,null,null,null,null,null,null,null,null,null,null,"様式へ"]
[null,"②　下請負人に対し、建設工事の内容を明らかにした見積りを行わせるように努めな\n  ければならない。"]
[null,null,null,null,null,null,null,null,null,null,null,null,null,null,null,null,null,null,null,null,null,null,null,null,null,null,1]
[null,null,"見積りを行わせるよう努めているか。"]
[null,null,null,"ＹＥＳ",null,null,null,false,"ＮＯ",null,null,"(理由：",null,null,null,null,null,null,null,null,null,null,null,null,null,null,"）"]
[]
[null,null,"下請負人の見積りは、法定福利費を記載した標準見積書を活用しているか。"]
[null,null,null,"ＹＥＳ",null,null,null,false,"ＮＯ",null,null,"(理由：",null,null,null,null,null,null,null,null,null,null,null,null,null,null,"）"]
[]
["（２）下請負人の選定について（法第３条）"]
[null,null,"  元請は、下請の選定にあたっては、その建設工事の施工に関し法の規定を満た\nす者を選定するものと。（ただし、５００万円未満（建築一式工事について\nは１，５００万円未満）の軽微な工事は除く）"]
[]
[null,null,"　法の規定を満たす者＝建設業許可を取得していること。"]
[]
[null,null,"　５００万円以上（建築一式工事については１，５００万円以上）の下請工事"]
[null,null,"の契約相手は、施工に必要な建設業許可を取得している業者を選定しているか。"]
[null,null,null,"ＹＥＳ",null,null,null,false,"ＮＯ",null,null,"(理由：",null,null,null,null,null,null,null,null,null,null,null,null,null,null,"）"]
[]
["（３）適正な代金支払等について（法第２４条の３、第２４条の６)"]
[null,null,"  元請から下請負人に対する請負代金の支払時期及び方法については、法に規定\nする下請契約に関する事項のほか、次の各号に定める事項を遵守するものと。\n  なお、資材業者、建設機械又は仮設機材の賃貸業者等についてもこれに準じた\n配慮をするものと。"]
[]
[null,"①　市から前払金の支払を受けたときは、下請に対して建設工事の着手に必要な費用を\n  前払金として支払うこととしているか。"]
[null,null,null,"ＹＥＳ",null,null,null,false,"ＮＯ",null,null,"(理由：",null,null,null,null,null,null,null,null,null,null,null,null,null,null,"）"]
[]
[null,"②　部分払いについては、下請に対し、市から出来高払いを受けた後、１月以内で、\n  かつ、できる限り短い期間内に支払うこととしているか。"]
[null,null,null,"ＹＥＳ",null,null,null,false,"ＮＯ",null,null,"(理由：",null,null,null,null,null,null,null,null,null,null,null,null,null,null,"）"]
[]
[null,"③　完成払いについては、下請に対し、市から完成後の支払を受けた後、１月以内で、\n  かつ、できる限り短い期間内に支払うこととしているか。"]
[null,null,null,"ＹＥＳ",null,null,null,false,"ＮＯ",null,null,"(理由：",null,null,null,null,null,null,null,null,null,null,null,null,null,null,"）"]
[]
[null,"④　請負代金の支払は、できるだけ現金とし、現金払いと手形払いを併用する場合で\n  あっても、少なくとも労務費相当分については、現金払いとしているか。"]
[null,null,null,"ＹＥＳ",null,null,null,false,"ＮＯ",null,null,"(理由：",null,null,null,null,null,null,null,null,null,null,null,null,null,null,"）"]
[]
[null,"⑤　手形期間は６０日以内で、できる限り短い期間としているか。"]
[null,null,null,"ＹＥＳ",null,null,null,false,"ＮＯ",null,null,"(理由：",null,null,null,null,null,null,null,null,null,null,null,null,null,null,"）"]
[]
[null,"⑥　特定建設業者が注文者となった下請契約（下請が特定建設業者または資本金が\n   ４,０００万円以上の法人であるものを除く）における請負代金の支払期日は、建設\n   工事の完成を確認した後、下請からの申し出の日から起算して５０日を経過する\n   以前において、かつ、できる限り短い期間内において定めているか。"]
[null,null,null,"ＹＥＳ",null,null,null,false,"ＮＯ",null,null,"(理由：",null,null,null,null,null,null,null,null,null,null,null,null,null,null,"）"]
[]
["（４）不当に低い下請代金の禁止について（法第１９条の３）"]
[null,null,null,"次の条文を確認し、法令を遵守します。"]
[null,null,"（条  文）"]
[null,null,"第１９条の３　注文者は、自己の取引上の地位を不当に利用して、その注文した建\n  設工事を施工するために通常必要と認められる原価に満たない金額を請負代金の\n  額とする請負契約を締結してはならない。"]
[]
["（５）一括下請け等の禁止等について\n　　（公共工事の入札及び契約の適正化の促進に関する法律第１４条）"]
[null,null,null,"次の条文を確認し、法令を遵守します。"]
[null,null,"（条  文）"]
[null,null,"第１４条　公共工事については、建設業法第２２条第３項の規定は、適用しない。"]
[null,null,"（参  考：法）"]
[null,null,"第２２条　建設業者は、その請け負った建設工事を、いかなる方法をもってするか\n  を問わず、一括して他人に請け負わせてはならない。"]
[null,null,"２　建設業を営む者は、建設業者から当該建設業者の請け負った建設工事を一括し\n  て請け負ってはならない。"]
[null,null,"３　前２項の建設工事が多数の者が利用する施設又は工作物に関する重要な建設工\n　事で政令で定めるもの以外の建設工事である場合において、当該建設工事の元請\n　負人があらかじめ発注者の書面による承諾を得たときは、これらの規定は、適用\n　しない。"]
[null,null,"４　発注者は、前項の規定による書面による承諾に代えて、政令で定めるところに\n　より、同項の元請負人の承諾を得て、電子情報処理組織を使用する方法その他の\n　情報通信の技術を利用する方法であつて国土交通省令で定めるものにより、同項\n　の承諾をする旨の通知をすることができる。この場合において、当該発注者は、\n　当該書面による承諾をしたものとみなす。　"]
[]
["（６）下請負人の主任技術者の雇用関係について（法第２６条）"]
[null,null,"下請工事の主任技術者は、下請契約の相手方の直接かつ恒常的な雇用関係にある者か。"]
[null,null,null,"ＹＥＳ",null,null,null,false,"ＮＯ",null,null,"(理由：",null,null,null,null,null,null,null,null,null,null,null,null,null,null,"）"]
[]
["（注）本書は、下請契約１件ごとに２部作成すること。"]

{"sheet":"別記様式7","index":39,"n_rows":69,"n_cols":87,"rows_kept":69,"cut":false,"hidden":false,"merged":[[50,2,51,8],[50,9,51,19],[50,21,51,29],[50,30,51,40],[52,0,53,8],[52,9,53,19],[52,23,53,29],[52,30,53,40],[46,58,48,64],[48,21,49,29],[48,30,49,40],[46,2,47,8],[46,9,47,19],[46,21,47,29],[46,30,47,40],[46,43,48,50],[54,2,55,8],[54,9,55,19],[54,23,55,29],[54,30,55,40],[57,0,59,7],[57,8,59,14],[57,15,59,21],[57,22,59,28],[57,29,59,34],[57,35,59,40],[24,1,26,5],[2,85,2,89],[3,85,3,89],[46,65,48,71],[46,72,48,77],[46,78,48,83],[46,51,48,57],[44,0,45,8],[44,9,45,19],[44,21,45,29],[44,30,45,40],[43,66,44,72],[43,73,44,83],[39,52,40,62],[39,64,40,72],[39,73,40,83],[41,13,42,19],[41,20,42,27],[41,28,42,34],[41,35,42,40],[41,66,42,72],[41,73,42,83],[39,7,42,12],[39,13,40,19],[39,28,40,34],[39,35,40,40],[39,45,40,51],[48,0,49,8],[48,9,49,19],[33,43,34,51],[33,52,34,62],[33,64,34,72],[35,1,42,5],[35,8,38,11],[35,13,36,22],[35,23,36,31],[35,32,36,40],[35,45,36,51],[35,52,36,62],[35,64,36,72],[37,13,38,22],[37,23,38,31],[37,32,38,40],[37,43,38,51],[37,52,38,62],[37,64,38,72],[39,20,40,27],[37,73,38,83],[28,56,29,62],[24,56,25,65],[24,66,25,74],[24,75,25,83],[26,56,27,65],[26,66,27,74],[26,75,27,83],[30,71,31,77],[30,78,31,83],[28,63,29,70],[28,71,29,77],[28,78,29,83],[30,56,31,62],[30,63,31,70],[33,73,34,83],[35,73,36,83],[24,22,26,26],[24,28,26,40],[24,44,31,48],[24,51,27,54],[28,1,33,5],[28,7,29,16],[28,17,29,30],[28,31,29,40],[28,50,31,55],[32,7,33,16],[32,17,32,21],[32,22,33,30],[32,31,33,40],[33,17,33,21],[30,7,31,16],[30,17,30,21],[30,22,31,30],[30,31,31,40],[31,17,31,21],[24,7,24,8],[24,10,24,20],[26,7,26,8],[26,10,26,20],[25,7,25,20],[9,22,9,30],[7,44,9,48],[7,50,8,83],[10,1,11,5],[11,6,11,20],[11,23,11,26],[11,28,11,40],[9,50,9,83],[15,23,16,26],[15,28,16,40],[14,1,16,5],[14,7,16,20],[10,44,12,48],[13,28,13,40],[10,50,10,83],[11,50,11,83],[12,50,12,83],[13,50,13,51],[13,53,13,63],[14,50,14,63],[15,50,15,51],[15,53,15,63],[13,44,15,48],[13,65,15,69],[0,50,0,83],[4,0,5,40],[2,43,3,53],[3,54,3,83],[4,44,6,48],[4,50,6,63],[4,65,6,69],[4,71,6,83],[7,1,8,5],[7,7,8,20],[0,31,0,41],[5,85,5,89],[68,86,69,91],[13,71,15,83],[18,23,18,26],[18,28,18,40],[17,44,22,48],[17,50,18,59],[21,50,22,59],[17,60,18,73],[17,74,18,83],[19,1,20,40],[19,50,20,59],[19,60,19,64],[19,65,20,73],[19,74,20,83],[21,1,23,5],[20,60,20,64],[21,60,21,64],[21,65,22,73],[21,74,22,83],[22,60,22,64],[21,7,21,40],[22,7,22,40],[23,7,23,40]]}
[null,"（別記様式７）",null,null,null,null,null,null,null,null,null,null,null,null,null,null,null,null,null,null,null,null,null,null,null,null,null,null,null,null,null,{"$f":"IF(入力表!D36=\"\",\"令和　　年　　月　　日\",入力表!D36)","v":"令和　　年　　月　　日"}]
[]
[null,null,null,null,null,null,null,null,null,null,null,null,null,null,null,null,null,null,null,null,null,null,null,null,null,null,null,null,null,null,null,null,null,null,null,null,null,null,null,null,null,null,null,"《再下請負関係》",null,null,null,null,null,null,null,null,null,null,null,null,null,null,null,null,null,null,null,null,null,null,null,null,null,null,null,null,null,null,null,null,null,null,null,null,null,null,null,null,null,"一覧表へ戻る"]
[null,null,null,null,null,null,null,null,null,null,null,null,null,null,null,null,null,null,null,null,null,null,null,null,null,null,null,null,null,null,null,null,null,null,null,null,null,null,null,null,null,null,null,null,null,null,null,null,null,null,null,null,null,null,"再下請負業者及び再下請負契約関係について次のとおり報告いたします。",null,null,null,null,null,null,null,null,null,null,null,null,null,null,null,null,null,null,null,null,null,null,null,null,null,null,null,null,null,null,"入力表へ戻る"]
["再下請負通知書",null,null,null,null,null,null,null,null,null,null,null,null,null,null,null,null,null,null,null,null,null,null,null,null,null,null,null,null,null,null,null,null,null,null,null,null,null,null,null,null,null,null,null,"会社名\n・事業者ID",null,null,null,null,null,null,null,null,null,null,null,null,null,null,null,null,null,null,null,null,"代表者名"]
[null,null,null,null,null,null,null,null,null,null,null,null,null,null,null,null,null,null,null,null,null,null,null,null,null,null,null,null,null,null,null,null,null,null,null,null,null,null,null,null,null,null,null,null,null,null,null,null,null,null,null,null,null,null,null,null,null,null,null,null,null,null,null,null,null,null,null,null,null,null,null,null,null,null,null,null,null,null,null,null,null,null,null,null,null,"記載例へ"]
[]
[null,"直近上位\n注文者名",null,null,null,null,null,null,null,null,null,null,null,null,null,null,null,null,null,null,null,null,null,null,null,null,null,null,null,null,null,null,null,null,null,null,null,null,null,null,null,null,null,null,"住所\n電話番号"]
[]
[null,null,null,null,null,null,null,null,null,null,null,null,null,null,null,null,null,null,null,null,null,null,"【報告下請負業者】"]
[null,null,null,null,null,null,null,null,null,null,null,null,null,null,null,null,null,null,null,null,null,null,null,null,null,null,null,null,null,null,null,null,null,null,null,null,null,null,null,null,null,null,null,null,"工事名称\n及び\n工事内容"]
[null,null,null,null,null,null,null,null,null,null,null,null,null,null,null,null,null,null,null,null,null,null,null,"住所"]
[]
[null,null,null,null,null,null,null,null,null,null,null,null,null,null,null,null,null,null,null,null,null,null,null,null,null,null,null,null,null,null,null,null,null,null,null,null,null,null,null,null,null,null,null,null,"工期",null,null,null,null,null,"自",null,null,"令和　　年　　月　　日",null,null,null,null,null,null,null,null,null,null,null,"契約日",null,null,null,null,null,"令和　　年　　月　　日　"]
[null,"元請名称・事業者ID",null,null,null,null,null,{"$f":"IF(入力表!B12=\"\",\"\",入力表!B12)","v":""}]
[null,null,null,null,null,null,null,null,null,null,null,null,null,null,null,null,null,null,null,null,null,null,null,"会社名・事業者ID",null,null,null,null,null,null,null,null,null,null,null,null,null,null,null,null,null,null,null,null,null,null,null,null,null,null,"至",null,null,"令和　　年　　月　　日"]
[]
[null,null,null,null,null,null,null,null,null,null,null,null,null,null,null,null,null,null,null,null,null,null,null,null,null,null,null,null,null,null,null,null,null,null,null,null,null,null,null,null,null,null,null,null,"建設業の\n許可",null,null,null,null,null,"施工に必要な許可業種",null,null,null,null,null,null,null,null,null,"許　可　番　号",null,null,null,null,null,null,null,null,null,null,null,null,null,"許可（更新）年月日"]
[null,null,null,null,null,null,null,null,null,null,null,null,null,null,null,null,null,null,null,null,null,null,null,"代表者名"]
[null,"《自社に関する事項》",null,null,null,null,null,null,null,null,null,null,null,null,null,null,null,null,null,null,null,null,null,null,null,null,null,null,null,null,null,null,null,null,null,null,null,null,null,null,null,null,null,null,null,null,null,null,null,null,"工事業",null,null,null,null,null,null,null,null,null,"大臣　特定",null,null,null,null,"        第　　　　号",null,null,null,null,null,null,null,null,"　　年　　月　　日"]
[null,null,null,null,null,null,null,null,null,null,null,null,null,null,null,null,null,null,null,null,null,null,null,null,null,null,null,null,null,null,null,null,null,null,null,null,null,null,null,null,null,null,null,null,null,null,null,null,null,null,null,null,null,null,null,null,null,null,null,null,"知事　一般"]
[null,"工事名称\n及び\n工事内容",null,null,null,null,null,{"$f":"IF(入力表!B3=\"\",\"\",入力表!B3)","v":""},null,null,null,null,null,null,null,null,null,null,null,null,null,null,null,null,null,null,null,null,null,null,null,null,null,null,null,null,null,null,null,null,null,null,null,null,null,null,null,null,null,null,"工事業",null,null,null,null,null,null,null,null,null,"大臣　特定",null,null,null,null,"        第　　　　号",null,null,null,null,null,null,null,null,"　　年　　月　　日"]
[null,null,null,null,null,null,null,null,null,null,null,null,null,null,null,null,null,null,null,null,null,null,null,null,null,null,null,null,null,null,null,null,null,null,null,null,null,null,null,null,null,null,null,null,null,null,null,null,null,null,null,null,null,null,null,null,null,null,null,null,"知事　一般"]
[]
[null,"工期",null,null,null,null,null,"自",null,null,"令和　　年　　月　　日",null,null,null,null,null,null,null,null,null,null,null,"注文者との\n契約日",null,null,null,null,null,"令和　　年　　月　　日　",null,null,null,null,null,null,null,null,null,null,null,null,null,null,null,"健康保険等の加入状況",null,null,null,null,null,"　","保険加入の有無",null,null,null,null,"健康保険",null,null,null,null,null,null,null,null,null,"厚生年金保険",null,null,null,null,null,null,null,null,"雇用保険"]
[]
[null,null,null,null,null,null,null,"至",null,null,"令和　　年　　月　　日",null,null,null,null,null,null,null,null,null,null,null,null,null,null,null,null,null,null,null,null,null,null,null,null,null,null,null,null,null,null,null,null,null,null,null,null,null,null,null,null,null,null,null,null,null,"加入　　未加入\n適用除外",null,null,null,null,null,null,null,null,null,"加入　　未加入\n適用除外",null,null,null,null,null,null,null,null,"加入　　未加入\n適用除外"]
[]
[null,"建設業の\n許可",null,null,null,null,null,"施工に必要な許可業種",null,null,null,null,null,null,null,null,null,"許　可　番　号",null,null,null,null,null,null,null,null,null,null,null,null,null,"許可（更新）年月日",null,null,null,null,null,null,null,null,null,null,null,null,null,null,null,null,null,null,"事業所\n整理記号等",null,null,null,null,null,"営業所の名称",null,null,null,null,null,null,"健康保険",null,null,null,null,null,null,null,"厚生年金保険",null,null,null,null,null,null,"雇用保険"]
[]
[null,null,null,null,null,null,null,"工事業",null,null,null,null,null,null,null,null,null,"大臣　特定",null,null,null,null,"        第　　　　号",null,null,null,null,null,null,null,null,"　　年　　月　　日"]
[null,null,null,null,null,null,null,null,null,null,null,null,null,null,null,null,null,"知事　一般"]
[null,null,null,null,null,null,null,"工事業",null,null,null,null,null,null,null,null,null,"大臣　特定",null,null,null,null,"        第　　　　号",null,null,null,null,null,null,null,null,"　　年　　月　　日"]
[null,null,null,null,null,null,null,null,null,null,null,null,null,null,null,null,null,"知事　一般",null,null,null,null,null,null,null,null,null,null,null,null,null,null,null,null,null,null,null,null,null,null,null,null,null,"現場代理人名",null,null,null,null,null,null,null,null,null,null,null,null,null,null,null,null,null,null,null,null,"安全衛生責任者名"]
[]
[null,"健康保険等の加入状況",null,null,null,null,null,"　","保険加入の有無",null,null,null,null,"健康保険",null,null,null,null,null,null,null,null,null,"厚生年金保険",null,null,null,null,null,null,null,null,"雇用保険",null,null,null,null,null,null,null,null,null,null,null,null,"権限及び\n意見申出方法",null,null,null,null,null,null,null,null,null,null,null,null,null,null,null,null,null,null,"安全衛生推進者名"]
[]
[null,null,null,null,null,null,null,null,null,null,null,null,null,"加入　　未加入\n適用除外",null,null,null,null,null,null,null,null,null,"加入　　未加入\n適用除外",null,null,null,null,null,null,null,null,"加入　　未加入\n適用除外",null,null,null,null,null,null,null,null,null,null,"主任技術者名",null,null,null,null,null,null,null,null,"専　任\n非専任",null,null,null,null,null,null,null,null,null,null,null,"雇用管理責任者名"]
[]
[null,null,null,null,null,null,null,"事業所\n整理記号等",null,null,null,null,null,"営業所の名称",null,null,null,null,null,null,"健康保険",null,null,null,null,null,null,null,"厚生年金保険",null,null,null,null,null,null,"雇用保険",null,null,null,null,null,null,null,null,null,"資格内容",null,null,null,null,null,null,null,null,null,null,null,null,null,null,null,null,null,null,"専門技術者名"]
[]
[null,null,null,null,null,null,null,null,null,null,null,null,null,null,null,null,null,null,null,null,null,null,null,null,null,null,null,null,null,null,null,null,null,null,null,null,null,null,null,null,null,null,null,null,null,null,null,null,null,null,null,null,null,null,null,null,null,null,null,null,null,null,null,null,null,null,"資格内容"]
[]
[null,null,null,null,null,null,null,null,null,null,null,null,null,null,null,null,null,null,null,null,null,null,null,null,null,null,null,null,null,null,null,null,null,null,null,null,null,null,null,null,null,null,null,null,null,null,null,null,null,null,null,null,null,null,null,null,null,null,null,null,null,null,null,null,null,null,"担当工事内容"]
["監督員名",null,null,null,null,null,null,null,null,null,null,null,null,null,null,null,null,null,null,null,null,"安全衛生責任者名"]
[]
[null,null,"権限及び\n意見申出方法",null,null,null,null,null,null,null,null,null,null,null,null,null,null,null,null,null,null,"安全衛生推進者名",null,null,null,null,null,null,null,null,null,null,null,null,null,null,null,null,null,null,null,null,null,"一号特定技能外国人の従事の状況（有無）",null,null,null,null,null,null,null,"有　　無",null,null,null,null,null,null,"外国人建設就労者の従事の状況(有無)",null,null,null,null,null,null,"有　　無",null,null,null,null,null,null,"外国人技能実習生の従事の状況(有無)",null,null,null,null,null,"有　　無"]
[]
["現場代理人名",null,null,null,null,null,null,null,null,null,null,null,null,null,null,null,null,null,null,null,null,"雇用管理責任者名"]
[]
[null,null,"権限及び\n意見申出方法",null,null,null,null,null,null,null,null,null,null,null,null,null,null,null,null,null,null,"専門技術者名"]
[]
["主任技術者名",null,null,null,null,null,null,null,null,"専　任\n非専任",null,null,null,null,null,null,null,null,null,null,null,null,null,"資格内容"]
[]
[null,null,"資格内容",null,null,null,null,null,null,null,null,null,null,null,null,null,null,null,null,null,null,null,null,"担当工事内容"]
[]
[]
["一号特定技能外国人の従事の状況（有無）",null,null,null,null,null,null,null,"有　　無",null,null,null,null,null,null,"外国人建設就労者の従事の状況(有無)",null,null,null,null,null,null,"有　　無",null,null,null,null,null,null,"外国人技能実習生の従事の状況(有無)",null,null,null,null,null,"有　　無"]
[]
[]
[]
[]
[]
[]
[]
[]
[]
[]
[null,null,null,null,null,null,null,null,null,null,null,null,null,null,null,null,null,null,null,null,null,null,null,null,null,null,null,null,null,null,null,null,null,null,null,null,null,null,null,null,null,null,null,null,null,null,null,null,null,null,null,null,null,null,null,null,null,null,null,null,null,null,null,null,null,null,null,null,null,null,null,null,null,null,null,null,null,null,null,null,null,null,null,null,null,null,"様式へ"]

{"sheet":"統一様式-9","index":40,"n_rows":43,"n_cols":35,"rows_kept":43,"cut":false,"hidden":false,"merged":[[45,19,48,21],[45,22,48,24],[45,9,48,11],[45,12,48,14],[34,17,35,17],[34,18,35,19],[34,21,35,23],[34,11,35,11],[41,19,44,21],[41,22,44,24],[41,9,44,11],[41,12,44,14],[39,14,39,15],[39,16,39,23],[34,12,35,13],[34,14,35,14],[41,0,44,2],[41,3,44,5],[2,26,2,30],[3,26,3,30],[33,12,33,13],[33,14,33,15],[33,16,33,23],[28,11,29,11],[30,9,32,22],[34,1,39,1],[34,2,35,5],[34,6,35,7],[34,8,35,8],[34,9,35,10],[36,9,38,22],[39,12,39,13],[28,9,29,10],[34,15,35,16],[45,0,48,2],[45,3,48,5],[45,6,48,8],[28,1,33,1],[35,0,38,0],[36,6,38,8],[29,0,32,0],[30,6,32,8],[41,6,44,8],[28,12,29,13],[28,14,29,14],[28,15,29,16],[41,15,44,17],[45,15,48,17],[1,0,1,24],[2,0,2,3],[2,10,2,12],[2,13,2,24],[28,21,29,23],[28,17,29,17],[28,18,29,19],[5,4,5,24],[8,1,26,23],[27,1,27,3],[27,4,27,5],[27,6,27,10],[27,11,27,23],[28,2,29,5],[28,6,29,7],[28,8,29,8],[3,0,4,3],[4,4,4,6],[4,8,4,23],[5,0,5,3],[2,5,2,6],[2,8,2,9],[3,19,3,21],[3,4,3,6],[3,7,3,9],[3,10,3,12],[3,13,3,15],[3,16,3,18]]}
["統一様式－９"]
["工 事 打 合 せ 簿"]
["発議者",null,null,null,{"$f":"IF(AH7=TRUE,\"■\",\"□\")","v":"□"},"発注者",null,{"$f":"IF(AH9=TRUE,\"■\",\"□\")","v":"□"},"受注者",null,"発議年月日",null,null,{"$f":"IF(入力表!D37=\"\",\"令和　　年　　月　　日\",入力表!D37)","v":"令和　　年　　月　　日"},null,null,null,null,null,null,null,null,null,null,null,null,"一覧表へ戻る"]
["発議事項",null,null,null,{"$f":"IF(AH11=TRUE,\"■指示\",\"□指示\")","v":"□指示"},null,null,{"$f":"IF(AH12=TRUE,\"■協議\",\"□協議\")","v":"□協議"},null,null,{"$f":"IF(AH13=TRUE,\"■通知\",\"□通知\")","v":"□通知"},null,null,{"$f":"IF(AH14=TRUE,\"■承諾\",\"□承諾\")","v":"□承諾"},null,null,{"$f":"IF(AH15=TRUE,\"■報告\",\"□報告\")","v":"□報告"},null,null,{"$f":"IF(AH16=TRUE,\"■提出\",\"□提出\")","v":"□提出"},null,null,null,null,null,null,"入力表へ戻る"]
[null,null,null,null,{"$f":"IF(AH17=TRUE,\"■その他\",\"□その他\")","v":"□その他"},null,null,"（",null,null,null,null,null,null,null,null,null,null,null,null,null,null,null,null,"）"]
["工事名",null,null,null,{"$f":"IF(入力表!B3=\"\",\"\",入力表!B3)","v":""}]
[null,"（内容）",null,null,null,null,null,null,null,null,null,null,null,null,null,null,null,null,null,null,null,null,null,null,null,null,null,null,null,null,null,null,null,false,"発注者"]
[]
[null,null,null,null,null,null,null,null,null,null,null,null,null,null,null,null,null,null,null,null,null,null,null,null,null,null,null,null,null,null,null,null,null,false,"受注者"]
[]
[null,null,null,null,null,null,null,null,null,null,null,null,null,null,null,null,null,null,null,null,null,null,null,null,null,null,null,null,null,null,null,null,null,false,"指示"]
[null,null,null,null,null,null,null,null,null,null,null,null,null,null,null,null,null,null,null,null,null,null,null,null,null,null,null,null,null,null,null,null,null,false,"協議"]
[null,null,null,null,null,null,null,null,null,null,null,null,null,null,null,null,null,null,null,null,null,null,null,null,null,null,null,null,null,null,null,null,null,false,"通知"]
[null,null,null,null,null,null,null,null,null,null,null,null,null,null,null,null,null,null,null,null,null,null,null,null,null,null,null,null,null,null,null,null,null,false,"承諾"]
[null,null,null,null,null,null,null,null,null,null,null,null,null,null,null,null,null,null,null,null,null,null,null,null,null,null,null,null,null,null,null,null,null,false,"報告"]
[null,null,null,null,null,null,null,null,null,null,null,null,null,null,null,null,null,null,null,null,null,null,null,null,null,null,null,null,null,null,null,null,null,false,"提出"]
[null,null,null,null,null,null,null,null,null,null,null,null,null,null,null,null,null,null,null,null,null,null,null,null,null,null,null,null,null,null,null,null,null,false,"その他"]
[]
[null,null,null,null,null,null,null,null,null,null,null,null,null,null,null,null,null,null,null,null,null,null,null,null,null,null,null,null,null,null,null,null,null,false,"指示"]
[null,null,null,null,null,null,null,null,null,null,null,null,null,null,null,null,null,null,null,null,null,null,null,null,null,null,null,null,null,null,null,null,null,false,"承諾"]
[null,null,null,null,null,null,null,null,null,null,null,null,null,null,null,null,null,null,null,null,null,null,null,null,null,null,null,null,null,null,null,null,null,false,"協議"]
[null,null,null,null,null,null,null,null,null,null,null,null,null,null,null,null,null,null,null,null,null,null,null,null,null,null,null,null,null,null,null,null,null,false,"提出"]
[null,null,null,null,null,null,null,null,null,null,null,null,null,null,null,null,null,null,null,null,null,null,null,null,null,null,null,null,null,null,null,null,null,false,"受理"]
[null,null,null,null,null,null,null,null,null,null,null,null,null,null,null,null,null,null,null,null,null,null,null,null,null,null,null,null,null,null,null,null,null,false,"その他"]
[]
[]
[null,null,null,null,null,null,null,null,null,null,null,null,null,null,null,null,null,null,null,null,null,null,null,null,null,null,null,null,null,null,null,null,null,false,"承諾"]
[null,null,null,null,null,null,null,null,null,null,null,null,null,null,null,null,null,null,null,null,null,null,null,null,null,null,null,null,null,null,null,null,null,false,"協議"]
[null,"発注者","上記について",null,null,null,{"$f":"IF(AH19=TRUE,\"■指示\",\"□指示\")","v":"□指示"},null,null,{"$f":"IF(AH20=TRUE,\"■承諾\",\"□承諾\")","v":"□承諾"},null,null,{"$f":"IF(AH21=TRUE,\"■協議\",\"□協議\")","v":"□協議"},null,null,{"$f":"IF(AH22=TRUE,\"■提出\",\"□提出\")","v":"□提出"},null,null,{"$f":"IF(AH23=TRUE,\"■受理\",\"□受理\")","v":"□受理"},null,null,"します。",null,null,null,null,null,null,null,null,null,null,null,false,"提出"]
["処理",null,null,null,null,null,null,null,null,null,null,null,null,null,null,null,null,null,null,null,null,null,null,null,null,null,null,null,null,null,null,null,null,false,"報告"]
[null,null,null,null,null,null,{"$f":"IF(AH24=TRUE,\"■その他\",\"□その他\")","v":"□その他"},null,null,null,null,null,null,null,null,null,null,null,null,null,null,null,null,null,null,null,null,null,null,null,null,null,null,false,"受理"]
[null,null,null,null,null,null,null,null,null,null,null,null,null,null,null,null,null,null,null,null,null,null,null,null,null,null,null,null,null,null,null,null,null,false,"その他"]
[]
["・",null,null,null,null,null,null,null,null,null,null,null,null,null,null,null,"令和　　年　　月　　日"]
[null,"受注者","上記について",null,null,null,{"$f":"IF(AH27=TRUE,\"■承諾\",\"□承諾\")","v":"□承諾"},null,null,{"$f":"IF(AH28=TRUE,\"■協議\",\"□協議\")","v":"□協議"},null,null,{"$f":"IF(AH29=TRUE,\"■提出\",\"□提出\")","v":"□提出"},null,null,{"$f":"IF(AH30=TRUE,\"■報告\",\"□報告\")","v":"□報告"},null,null,{"$f":"IF(AH31=TRUE,\"■受理\",\"□受理\")","v":"□受理"},null,null,"します。"]
["回答"]
[null,null,null,null,null,null,{"$f":"IF(AH32=TRUE,\"■その他\",\"□その他\")","v":"□その他"}]
[]
[]
[null,null,null,null,null,null,null,null,null,null,null,null,null,null,null,null,"令和　　年　　月　　日"]
[]
[{"$f":"IF(AH43=TRUE,\"局　　長\",\"課　　長\")","v":"課　　長"},null,null,{"$f":"IF(AH43=TRUE,\"次　　長\",\"課長補佐\")","v":"課長補佐"},null,null,"係　　長",null,null,"総　括\n監督員",null,null,"主任\n監督員",null,null,"課　　員",null,null,null,"現　場\n代理人",null,null,"主　任\n（監　理）\n技術者"]
[null,null,null,null,null,null,null,null,null,null,null,null,null,null,null,null,null,null,null,null,null,null,null,null,null,null,null,null,null,null,null,null,null,false,"水道局発注"]

{"sheet":"統一様式-12","index":41,"n_rows":41,"n_cols":31,"rows_kept":41,"cut":false,"hidden":false,"merged":[[40,0,40,5],[38,0,38,5],[39,0,39,5],[34,2,34,6],[34,7,34,16],[39,6,39,12],[40,6,40,18],[34,17,34,22],[39,13,39,18],[38,6,38,18],[33,2,33,6],[33,7,33,22],[32,2,32,6],[5,12,7,14],[8,9,10,11],[8,12,10,14],[5,15,7,17],[8,15,10,17],[32,7,32,22],[17,3,18,11],[18,0,18,2],[5,6,7,8],[5,22,7,24],[18,17,18,23],[8,19,10,21],[8,22,10,24],[2,26,2,27],[3,26,3,27],[31,2,31,6],[31,7,31,22],[5,9,7,11],[8,0,10,2],[8,3,10,5],[8,6,10,8],[5,19,7,21],[5,3,7,5],[5,0,7,2]]}
["統一様式－１２"]
[]
[null,null,null,null,null,null,null,null,null,null,null,null,"確認 ・ 立会依頼書",null,null,null,null,null,null,null,null,null,null,null,null,null,"一覧表へ戻る"]
[null,null,null,null,null,null,null,null,null,null,null,null,null,null,null,null,null,null,null,null,null,null,null,null,null,null,"入力表へ戻る"]
[]
[{"$f":"IF(AD8=TRUE,\"局　長\",\"課　長\")","v":"課　長"},null,null,{"$f":"IF(AD8=TRUE,\"次　長\",\"課長補佐\")","v":"課長補佐"},null,null,"係　長",null,null,"総　括\n監督員",null,null,"主　任\n監督員",null,null,"課　員",null,null,null,"現　場\n代理人",null,null,"主　任\n（監理）\n技術者"]
[]
[null,null,null,null,null,null,null,null,null,null,null,null,null,null,null,null,null,null,null,null,null,null,null,null,null,null,null,null,null,false,"水道局発注"]
[]
[]
[]
[]
[]
[]
[]
[null,null,null,null,null,null,null,null,null,null,null,null,"確認 ・ 立会事項"]
[]
[null,null,null,{"$f":"IF(入力表!B3=\"\",\"\",入力表!B3)","v":""}]
["工事名",null,null,null,null,null,null,null,null,null,null,null,null,null,null,null,null,{"$f":"IF(入力表!D38=\"\",\"令和　年　月　日\",入力表!D38)","v":"令和　年　月　日"}]
[]
[]
[null,null,"下記について　　確　認　・　立　会　　されたく提出します。"]
[]
[]
[]
[]
[null,null,null,null,null,null,null,null,null,null,null,null,"記"]
[]
[]
[]
[]
[null,null,"工　　　　種"]
[null,null,"場　　　　所"]
[null,null,"資　　　　料"]
[null,null,"希 望 日 時",null,null,null,null,"令和　 年 　月 　日",null,null,null,null,null,null,null,null,null,"　時　　分"]
[]
[]
[]
["確 認 立 会 員"]
["実　施　日　時",null,null,null,null,null,"令和　 年 　月 　日",null,null,null,null,null,null,"　時　　分"]
["記　　　　　事"]

{"sheet":"統一様式-13","index":42,"n_rows":47,"n_cols":26,"rows_kept":47,"cut":false,"hidden":false,"merged":[[46,1,47,19],[10,15,10,16],[11,15,11,16],[12,15,12,16],[14,3,14,19],[10,9,10,11],[10,12,10,14],[10,1,10,2],[10,3,10,4],[10,5,10,6],[10,7,10,8],[15,8,15,9],[15,11,16,13],[15,14,16,19],[17,3,17,19],[11,17,11,19],[34,0,44,0],[18,0,21,0],[22,0,33,0],[16,8,16,9],[15,3,15,7],[16,3,16,7],[19,1,19,3],[20,1,20,3],[19,8,19,10],[20,8,20,10],[21,1,21,3],[19,4,19,5],[20,4,20,5],[21,4,21,5],[43,1,43,19],[44,1,44,19],[11,3,11,14],[12,17,12,19],[12,3,12,14],[13,3,13,19],[15,0,16,2],[9,9,9,11],[9,12,9,14],[9,15,9,16],[9,17,9,18],[9,1,9,2],[9,3,9,4],[9,5,9,6],[9,7,9,8],[21,11,21,13],[2,21,2,22],[3,21,4,22],[5,4,5,8],[1,0,1,19],[3,0,3,19],[7,0,7,19],[8,0,10,0],[8,1,8,2],[8,3,8,4],[8,5,8,6],[8,7,8,8],[8,9,8,11],[8,12,8,14],[8,15,8,16],[8,17,8,18],[19,14,19,19],[20,14,20,19],[21,14,21,19],[31,1,31,19],[32,1,32,19],[23,1,23,19],[24,1,24,19],[25,1,25,19],[26,1,26,19],[27,1,27,19],[19,6,19,7],[20,6,20,7],[21,6,21,7],[21,8,21,10],[19,11,19,13],[20,11,20,13],[22,1,22,19],[38,1,38,19],[39,1,39,19],[40,1,40,19],[41,1,41,19],[28,1,28,19],[29,1,29,19],[30,1,30,19],[42,1,42,19],[33,1,33,19],[34,1,34,19],[35,1,35,19],[36,1,36,19],[37,1,37,19]]}
["統一様式－１３"]
[]
["事　　故　　速　　報　　（第　　報）",null,null,null,null,null,null,null,null,null,null,null,null,null,null,null,null,null,null,null,null,"一覧表へ戻る"]
[]
[]
["情報の通報者名",null,null,null,"（受注者名、第三者名等）"]
[null,null,null,null,null,null,null,null,null,null,null,null,null,null,null,null,null,null,null,"令和　　　年　　　月　　　日　　　時　　　分受信",null,null,null,null,false,"水道局発注"]
[]
[null,{"$f":"IF(Y7=TRUE,\"局　　長\",\"課　　長\")","v":"課　　長"},null,{"$f":"IF(Y7=TRUE,\"次　　長\",\"課長補佐\")","v":"課長補佐"},null,"係　　　長",null,"総括監督員",null,"主任監督員",null,null,"課　　　員"]
[]
[]
["発信者",null,null,null,null,null,null,null,null,null,null,null,null,null,null,"受信者"]
["事故発生月日",null,null,"令和　  　　年　  　　月　  　　日（ 　 　）　  　 　時　    　　分",null,null,null,null,null,null,null,null,null,null,null,"天候（気温）"]
["事故発生場所"]
["工事名",null,null,{"$f":"IF(入力表!B3=\"\",\"\",入力表!B3)","v":""}]
["工期",null,null,{"$f":"IF(入力表!B6=\"\",\"令和　　年　　月　　日\",入力表!B6)","v":"令和　　年　　月　　日"},null,null,null,null,"から",null,null,"契約区分",null,null," 本庁"]
[null,null,null,{"$f":"IF(入力表!E6=\"\",\"令和　　年　　月　　日\",入力表!E6)","v":"令和　　年　　月　　日"},null,null,null,null,"まで"]
["受注者名",null,null,{"$f":"IF(入力表!B12=\"\",\"\",入力表!B12)","v":""}]
["事故の内訳","氏　　名",null,null,"年　齢",null,"性　別",null,"職　　種　",null,null,"被害の程度　",null,null,"備　　考（病院名等）"]
[]
[]
[]
["事 故 の 概 要","※事故の原因、経緯、処置等"]
[]
[]
[]
[]
[]
[]
[]
[]
[]
[]
[]
["備　考"]
[null,"※関係機関（労働基準監督署、警察署等）対応状況"]
[null,"　 ・被災者の装備、自然環境の状況（河川水位等）"]
[null,"   ・下請負人等の商号又は名称"]
[null," 　・物的被害の場合は、規模、被害額等"]
[null,"　 ・連絡先等"]
[]
[]
[]
[]
[]
["※","①この様式はＡ４で使用し、事故現場の平面図及び簡単な状況図を添付すること。"]
[null,"②工事事故発生確認後、直ちに電話により担当部署に連絡。また、状況を把握でき次第、早急にメール又はＦＡＸで担当部署に本様式により報告を行ものとし、更に詳細な状況が把握された段階で逐次報告するものと。"]

{"sheet":"統一様式-14","index":43,"n_rows":30,"n_cols":36,"rows_kept":30,"cut":false,"hidden":false,"merged":[[4,26,4,30],[5,26,5,30],[21,0,26,24],[28,19,31,21],[28,22,31,24],[18,0,18,5],[18,6,18,12],[18,13,18,18],[18,19,18,24],[19,0,19,5],[19,6,19,12],[19,13,19,18],[19,19,19,24],[16,0,16,5],[16,6,16,12],[16,13,16,18],[32,19,35,21],[32,22,35,24],[28,3,31,5],[28,6,31,8],[28,9,31,11],[28,12,31,14],[28,15,31,17],[32,3,35,5],[32,6,35,8],[32,9,35,11],[32,12,35,14],[32,15,35,17],[16,19,16,24],[17,0,17,5],[17,6,17,12],[17,13,17,18],[17,19,17,24],[14,0,14,5],[14,6,14,12],[14,13,14,18],[14,19,14,24],[15,0,15,5],[15,6,15,12],[15,13,15,18],[15,19,15,24],[12,0,12,5],[12,6,12,12],[12,13,12,18],[12,19,12,24],[13,0,13,5],[13,6,13,12],[13,13,13,18],[13,19,13,24],[8,19,8,24],[9,0,9,5],[9,6,9,12],[9,13,9,18],[9,19,9,24],[11,6,11,12],[11,13,11,18],[11,19,11,24],[10,0,10,5],[10,6,10,12],[10,13,10,18],[10,19,10,24],[28,0,31,2],[32,0,35,2],[2,0,2,24],[4,0,5,2],[4,3,4,24],[5,3,5,24],[6,0,6,2],[6,3,6,12],[6,14,6,24],[7,0,7,2],[7,3,7,12],[7,14,7,15],[8,0,8,5],[8,6,8,12],[8,13,8,18],[11,0,11,5]]}
["統一様式－１４"]
[]
["工　事　履　行　報　告　書"]
[]
["工事番号\n及び\n工事名",null,null,{"$f":"IF(入力表!B2=\"\",\"\",入力表!B2)","v":""},null,null,null,null,null,null,null,null,null,null,null,null,null,null,null,null,null,null,null,null,null,null,"一覧表へ戻る"]
[null,null,null,{"$f":"IF(入力表!B3=\"\",\"\",入力表!B3)","v":""},null,null,null,null,null,null,null,null,null,null,null,null,null,null,null,null,null,null,null,null,null,null,"入力表へ戻る"]
["工期",null,null,{"$f":"IF(入力表!B6=\"\",\"令和　　年　　月　　日\",入力表!B6)","v":"令和　　年　　月　　日"},null,null,null,null,null,null,null,null,null,"～",{"$f":"IF(入力表!E6=\"\",\"令和　　年　　月　　日\",入力表!E6)","v":"令和　　年　　月　　日"},null,null,null,null,null,null,null,null,null,false]
["日付",null,null,{"$f":"IF(入力表!D39=\"\",\"令和　　年　　月　　日\",入力表!D39)","v":"令和　　年　　月　　日"},null,null,null,null,null,null,null,null,null,"（",null,null,"月分）"]
["月　　別",null,null,null,null,null,"予定工程　％\n（　）は工程変更後",null,null,null,null,null,null,"実施工程　％",null,null,null,null,null,"備　　考"]
[{"$f":"IF(D7=\"令和　　年　　月　　日\",NOW(),D7)","v":"2025-12-01T10:25:38.980"}]
[{"$f":"IF(A10=\"\",\"\",IF(EOMONTH(A10,0)+1>$O$7,\"\",EOMONTH(A10,0)+1))","v":"2026-01-01"}]
[{"$f":"IF(A11=\"\",\"\",IF(EOMONTH(A11,0)+1>$O$7,\"\",EOMONTH(A11,0)+1))","v":"2026-02-01"}]
["2026-03-01"]
["2026-04-01"]
["2026-05-01"]
["2026-06-01"]
["2026-07-01"]
["2026-08-01"]
["2026-09-01"]
["2026-10-01"]
["（記事欄）"]
[]
[]
[]
[]
[]
[]
[]
[{"$f":"IF(AI30=TRUE,\"局　長\",\"課　長\")","v":"課　長"},null,null,{"$f":"IF(AI30=TRUE,\"次　　長\",\"課長補佐\")","v":"課長補佐"},null,null,"係　長",null,null,"総　括\n監督員",null,null,"主　任\n監督員",null,null,"課　員",null,null,null,"現　場\n代理人",null,null,"主　任\n（監理）\n技術者"]
[null,null,null,null,null,null,null,null,null,null,null,null,null,null,null,null,null,null,null,null,null,null,null,null,null,null,null,null,null,null,null,null,null,null,false,"水道局発注"]

{"sheet":"統一様式-15","index":44,"n_rows":54,"n_cols":12,"rows_kept":54,"cut":false,"hidden":false,"merged":[[53,0,56,9],[37,3,37,7],[40,3,40,5],[29,3,30,8],[32,4,32,6],[34,4,34,6],[3,7,3,9],[6,1,6,3],[23,3,23,5],[28,3,28,8],[9,6,9,9],[10,6,10,9],[11,6,11,8]]}
["統一様式－１５"]
[]
[null,null,null,null,null,null,null,null,null,null,null,"一覧表へ戻る"]
[null,null,null,null,null,null,null,{"$f":"IF(入力表!D40=\"\",\"令和　 年　 月　 日\",入力表!D40)","v":"令和　 年　 月　 日"},null,null,null,"入力表へ戻る"]
[]
["（発注者）"]
[null,"上天草市長  堀江　隆臣　  様"]
[]
[]
[null,null,null,null,null,null,{"$f":"IF(入力表!B11=\"\",\"\",入力表!B11)","v":""}]
[null,null,null,null,null,"（受注者）",{"$f":"IF(入力表!B12=\"\",\"\",入力表!B12)","v":""}]
[null,null,null,null,null,null,{"$f":"IF(入力表!B13=\"\",\"\",入力表!B13)","v":""},null,null,"㊞"]
[]
["認　　定　　請　　求　　書"]
[]
[]
[null,"　上天草市公共工事請負契約約款第34条第5項に基づき、下記工事の中間前金払の認定を"]
[]
[null,"請求します。"]
[]
["記"]
[]
[]
[null,"契　　約　　日",null,{"$f":"IF(入力表!B5=\"\",\"令和　　年　　月　　日\",入力表!B5)","v":"令和　　年　　月　　日"}]
[]
[]
[null,"工　事　番　号",null,{"$f":"IF(入力表!B2=\"\",\"\",入力表!B2)","v":""}]
[]
[]
[null,"工　　事　　名",null,{"$f":"IF(入力表!B3=\"\",\"\",入力表!B3)","v":""}]
[]
[]
[null,"工　　　　　期",null,"自",{"$f":"IF(入力表!B6=\"\",\"令和　　年　　月　　日\",入力表!B6)","v":"令和　　年　　月　　日"}]
[]
[null,null,null,"至",{"$f":"IF(入力表!E6=\"\",\"令和　　年　　月　　日\",入力表!E6)","v":"令和　　年　　月　　日"}]
[]
[]
[null,"工  事  場  所",null,{"$f":"IF(入力表!B4=\"\",\"\",入力表!B4)","v":""}]
[]
[]
[null,"請 負 代 金 額",null,{"$f":"IF(入力表!B7=\"\",\"\",入力表!B7)","v":""}]
[]
[]
[]
[]
[]
[]
[]
["（作成上の注意）"]
["　１　本書を２部作成し、当該工事の監督員へ提出すること。"]
["　２　工事履行報告書（様式２）及び工程表（任意様式）を添付すること。"]
[]
["（取扱上の注意）"]
["　監督員は、本書を受理したときは受付印を押印し、１部を受注者に返却すること。また、進捗額算定内訳書（様式３）の作成及び中間前払金支払の条件を備えているかについて調査し、認定要件を具備していれば、認定調書（別紙４）及びその写しを1部作成し、原本を受注者に交付すること。"]

{"sheet":"様式-7","index":45,"n_rows":35,"n_cols":20,"rows_kept":35,"cut":false,"hidden":false,"merged":[[1,19,1,23],[0,0,0,3],[2,19,2,23],[27,0,27,5],[27,6,27,8],[27,9,27,11],[27,12,27,13],[28,0,28,5],[28,6,28,8],[28,9,28,11],[28,12,28,13],[25,0,25,2],[25,3,25,5],[25,6,25,8],[25,9,25,11],[25,12,25,13],[26,0,26,5],[26,6,26,8],[26,9,26,11],[26,12,26,13],[23,0,23,2],[23,3,23,5],[23,6,23,8],[23,9,23,11],[23,12,23,13],[24,0,24,2],[24,3,24,5],[24,6,24,8],[24,9,24,11],[24,12,24,13],[21,0,21,2],[21,3,21,5],[21,6,21,8],[21,9,21,11],[21,12,21,13],[22,0,22,2],[22,3,22,5],[22,6,22,8],[22,9,22,11],[22,12,22,13],[19,0,19,2],[19,3,19,5],[19,6,19,8],[19,9,19,11],[19,12,19,13],[20,0,20,2],[20,3,20,5],[20,6,20,8],[20,9,20,11],[20,12,20,13],[17,0,17,2],[17,3,17,5],[17,6,17,8],[17,9,17,11],[17,12,17,13],[18,0,18,2],[18,3,18,5],[18,6,18,8],[18,9,18,11],[18,12,18,13],[15,0,15,2],[15,3,15,5],[15,6,15,8],[15,9,15,11],[15,12,15,13],[16,0,16,2],[16,3,16,5],[16,6,16,8],[16,9,16,11],[16,12,16,13],[14,0,14,2],[14,3,14,5],[14,6,14,8],[14,9,14,11],[14,12,14,13],[12,0,12,2],[12,3,12,5],[12,6,12,8],[12,9,12,11],[12,12,12,13],[9,0,9,2],[9,3,9,5],[9,6,9,8],[9,9,9,11],[9,12,9,13],[12,21,13,52],[13,0,13,2],[13,3,13,5],[13,6,13,8],[13,9,13,11],[10,0,10,2],[10,3,10,5],[10,6,10,8],[10,9,10,11],[10,12,10,13],[11,0,11,2],[11,3,11,5],[11,6,11,8],[11,9,11,11],[11,12,11,13],[13,12,13,13],[1,14,1,16],[3,0,5,16],[6,0,6,2],[6,3,6,13],[6,15,6,16],[7,0,7,2],[7,3,7,13],[7,15,7,16],[8,0,8,2],[8,15,8,16],[8,3,8,7],[8,9,8,13]]}
["様式-７"]
[null,null,null,null,null,null,null,null,null,null,null,null,null,null,{"$f":"IF(入力表!D41=\"\",\"令和　　年　　月　　日\",入力表!D41)","v":"令和　　年　　月　　日"},null,null,null,null,"一覧表へ戻る"]
[null,null,null,null,null,null,null,null,null,null,null,null,null,null,null,null,null,null,null,"入力表へ戻る"]
["進捗額算定内訳書"]
[]
[]
["工事番号",null,null,{"$f":"IF(入力表!B2=\"\",\"\",入力表!B2)","v":""},null,null,null,null,null,null,null,null,null,null,"設計額",{"$f":"G29","v":""}]
["工事名",null,null,{"$f":"IF(入力表!B3=\"\",\"\",入力表!B3)","v":""},null,null,null,null,null,null,null,null,null,null,"契約額",{"$f":"IF(入力表!B7=\"\",\"\",入力表!B7)","v":""}]
["工期",null,null,{"$f":"IF(入力表!B6=\"\",\"令和　　年　　月　　日\",入力表!B6)","v":"令和　　年　　月　　日"},null,null,null,null,"から",{"$f":"IF(入力表!E6=\"\",\"令和　　年　　月　　日\",入力表!E6)","v":"令和　　年　　月　　日"},null,null,null,null,"請負率",{"$f":"IF(ISERROR(ROUNDDOWN(P8/P7,3))=TRUE,\"\",ROUNDDOWN(P8/P7,3))","v":""}]
["工種",null,null,"種別",null,null,"設計金額",null,null,"請負代金",null,null,"実施工程",null,"進捗額","進捗率","備考"]
[null,null,null,null,null,null,null,null,null,{"$f":"IF(G11=\"\",\"\",ROUNDDOWN(G11*$P$9,0))","v":""},null,null,{"$f":"IF(ISERROR(O11/J11),\"\",O11/J11)","v":""}]
[null,null,null,null,null,null,null,null,null,{"$f":"IF(G12=\"\",\"\",ROUNDDOWN(G12*$P$9,0))","v":""},null,null,{"$f":"IF(ISERROR(O12/J12),\"\",O12/J12)","v":""}]
[null,null,null,null,null,null,null,null,null,{"$f":"IF(G13=\"\",\"\",ROUNDDOWN(G13*$P$9,0))","v":""},null,null,""]
[null,null,null,null,null,null,null,null,null,"",null,null,""]
[null,null,null,null,null,null,null,null,null,"",null,null,""]
[null,null,null,null,null,null,null,null,null,"",null,null,""]
[null,null,null,null,null,null,null,null,null,{"$f":"IF(G17=\"\",\"\",ROUNDDOWN(G17*$P$9,0))","v":""},null,null,""]
[null,null,null,null,null,null,null,null,null,"",null,null,""]
[null,null,null,null,null,null,null,null,null,"",null,null,""]
[null,null,null,null,null,null,null,null,null,"",null,null,""]
[null,null,null,null,null,null,null,null,null,"",null,null,""]
[null,null,null,null,null,null,null,null,null,"",null,null,""]
[null,null,null,null,null,null,null,null,null,"",null,null,""]
[null,null,null,null,null,null,null,null,null,"",null,null,""]
[null,null,null,null,null,null,null,null,null,"",null,null,""]
[null,null,null,null,null,null,null,null,null,"",null,null,""]
["直接工事費計",null,null,null,null,null,{"$f":"IF(SUM(G11:G26)=0,\"\",SUM(G11:G26))","v":""},null,null,{"$f":"SUM(J12:L26)","v":0},null,null,null,null,{"$f":"IF(SUM(O11:O26)=0,\"\",SUM(O11:O26))","v":""},{"$f":"IF(ISERROR(ROUNDDOWN(O27/J27,3)=TRUE),\"\",ROUNDDOWN(O27/J27,3))","v":""},{"$f":"IF(ISERROR(IF(O27/J27>0.5,\"50％超\",\"50％未満\"))=TRUE,\"\",IF(O27/J27>0.5,\"50％超\",\"50％未満\"))","v":""}]
["　　諸経費計",null,null,null,null,null,null,null,null,{"$f":"IF(G27=\"\",\"\",ROUNDDOWN(G28*P9,0))","v":""},null,null,null,null,{"$f":"IF(ISERROR(ROUNDDOWN(J28*P27,0)=TRUE),\"\",ROUNDDOWN(J28*P27,0))","v":""},{"$f":"P27","v":""}]
["工事価格",null,null,null,null,null,{"$f":"IF(SUM(G27,G28)=0,\"\",SUM(G27,G28))","v":""},null,null,{"$f":"SUM(J27:L28)","v":0},null,null,null,null,{"$f":"IF(SUM(O27:O28)=0,\"\",SUM(O27:O28))","v":""},{"$f":"IF(ISERROR(ROUNDDOWN(O29/J29,3)=TRUE),\"\",ROUNDDOWN(O29/J29,3))","v":""}]
["※１　発注者の算定額が当該工事の請負代金の２分の１を超えていれば、中間前金払の対象となる。"]
["　　（発注者の算定額により判断するため、受注者の算定した進捗額と異なっていてもよい。）"]
["※２　請負代金　＝　設計金額　×　請負率　"]
["※３　進捗額　＝　請負代金　×　実施工程"]
["※４　進捗率　＝　進捗額（直工計）　÷　請負代金（直工計）　　"]
["※５　本様式は適宜、加除して使用。"]

{"sheet":"様式-8","index":46,"n_rows":24,"n_cols":25,"rows_kept":24,"cut":false,"hidden":false,"merged":[[20,4,20,11],[6,14,6,22],[7,0,7,3],[7,4,7,22],[2,24,2,27],[4,0,4,3],[4,4,4,22],[8,0,8,3],[8,4,8,22],[5,0,5,3],[5,4,5,22],[14,0,14,22],[9,0,11,3],[9,4,11,22],[6,0,6,3],[6,4,6,12],[0,0,0,3],[3,24,3,27],[2,0,2,22],[3,0,3,3],[3,4,3,22]]}
["様式-８"]
[]
["認　定　調　書",null,null,null,null,null,null,null,null,null,null,null,null,null,null,null,null,null,null,null,null,null,null,null,"一覧表へ戻る"]
["工事番号",null,null,null,{"$f":"IF(入力表!B2=\"\",\"\",入力表!B2)","v":""}]
["工事名",null,null,null,{"$f":"IF(入力表!B3=\"\",\"\",入力表!B3)","v":""}]
["工事場所",null,null,null,{"$f":"IF(入力表!B4=\"\",\"\",入力表!B4)","v":""}]
["工期",null,null,null,{"$f":"IF(入力表!B6=\"\",\"令和　　年　　月　　日\",入力表!B6)","v":"令和　　年　　月　　日"},null,null,null,null,null,null,null,null,"～",{"$f":"IF(入力表!E6=\"\",\"令和　　年　　月　　日\",入力表!E6)","v":"令和　　年　　月　　日"}]
["契約金額",null,null,null,{"$f":"IF(入力表!B7=\"\",\"\",入力表!B7)","v":""}]
["受注者名",null,null,null,{"$f":"IF(入力表!B12=\"\",\"\",入力表!B12)","v":""}]
["摘要"]
[]
[]
[]
[]
["　上記の工事について、中間前払をすることができる要件を具備していることを認定します。"]
[]
[]
[]
[]
[]
[null,null,null,null,"令和　　年　　月　　日"]
[]
[]
[null,null,null,null,null,null,null,null,"上天草市長　　堀江　隆臣",null,null,null,null,null,null,null,null,"㊞"]

{"sheet":"統一様式-5(1)（中間）","index":47,"n_rows":54,"n_cols":56,"rows_kept":54,"cut":false,"hidden":false,"merged":[[11,21,11,34],[12,24,12,33],[53,3,53,14],[50,15,50,22],[44,1,45,4],[46,1,46,4],[14,21,14,32],[2,22,2,34],[5,14,5,23],[4,37,4,42],[5,37,5,42],[53,15,53,22],[17,11,18,25],[19,21,19,31],[21,1,21,25],[27,10,27,18],[29,10,29,18],[31,10,31,18],[31,24,31,32],[51,15,51,22],[52,15,52,22],[13,21,13,34],[9,2,9,14],[56,5,57,31],[33,10,33,13],[35,10,35,17],[37,10,37,33],[39,10,39,33],[41,9,41,32],[44,5,45,31],[54,15,54,20],[48,2,49,31],[50,3,50,14],[51,3,51,14],[52,3,52,14],[46,5,46,31]]}
["統一様式－５(1)"]
[]
[null,null,null,null,null,null,null,null,null,null,null,null,null,null,null,null,null,null,null,null,null,null,{"$f":"IF(入力表!D42=\"\",\"令和　　年　　月　　日\",入力表!D42)","v":"令和　　年　　月　　日"}]
[]
[null,null,null,null,null,null,null,null,null,null,null,null,null,null,null,null,null,null,null,null,null,null,null,null,null,null,null,null,null,null,null,null,null,null,null,null,null,"一覧表へ戻る"]
[null,null,null,null,null,null,null,null,"請求書",null,null,null,null,"（","中間前払金",null,null,null,null,null,null,null,null,null,"）",null,null,null,null,null,null,null,null,null,null,null,null,"入力表へ戻る"]
[]
[]
[null,"（発注者）"]
[null,null,"上天草市長  堀江　隆臣　  様",null,null,null,null,null,null,null,null,null,null,null,null,null,null,null,null,null,null,null,null,null,null,null,null,null,null,null,null,null,null,null,null,null,null,null,null,null,null,null,null,null,null,null,null,null,"前払金",null,null,null,null,null,null,"ただし、次の工事の請負代金の前払として"]
[null,null,null,null,null,null,null,null,null,null,null,null,null,null,null,null,null,null,null,null,null,null,null,null,null,null,null,null,null,null,null,null,null,null,null,null,null,null,null,null,null,null,null,null,null,null,null,null,"中間前払金",null,null,null,null,null,null,"ただし、次の工事の請負代金の中間前払として"]
[null,null,null,null,null,null,null,null,null,null,null,null,null,null,null,null,null,null,null,null,"請求者（住所）",{"$f":"IF(入力表!B11=\"\",\"\",入力表!B11)","v":""},null,null,null,null,null,null,null,null,null,null,null,null,null,null,null,null,null,null,null,null,null,null,null,null,null,null,"部分払金",null,null,null,null,null,null,{"$f":"IF(AD7=\"\",\"ただし、次の工事の第　回部分払として\",\"ただし、次の工事の第\"&AD7&\"回部分払として\")","v":"ただし、次の工事の第　回部分払として"}]
[null,null,null,null,null,null,null,null,null,null,null,null,null,null,null,null,null,null,null,null,null,null,null,null,null,null,null,null,null,null,null,null,null,null,null,null,null,null,null,null,null,null,null,null,null,null,null,null,"指定部分完済払金",null,null,null,null,null,null,"ただし、次の工事の指定部分に係る代金として"]
[null,null,null,null,null,null,null,null,null,null,null,null,null,null,null,null,null,null,null,null,null,{"$f":"IF(入力表!B12=\"\",\"\",入力表!B12)","v":""},null,null,null,null,null,null,null,null,null,null,null,null,null,null,null,null,null,null,null,null,null,null,null,null,null,null,"完成代金",null,null,null,null,null,null,"ただし、次の工事の請負代金として"]
[null,null,null,null,null,null,null,null,null,null,null,null,null,null,null,null,null,null,null,null,"（氏名）",{"$f":"IF(入力表!B13=\"\",\"\",入力表!B13)","v":""},null,null,null,null,null,null,null,null,null,null,null,"㊞"]
[]
[null,"下記のとおり請求します。"]
[]
[null,null,null,"請求金額"]
[]
[]
[null,{"$f":"VLOOKUP(O6,AW10:BD14,8,FALSE)","v":"ただし、次の工事の請負代金の中間前払として"}]
[]
[null,"工事番号",null,null,null,null,null,null,null,null,{"$f":"IF(入力表!B2=\"\",\"\",入力表!B2)","v":""}]
[]
[null,"工事名",null,null,null,null,null,null,null,null,{"$f":"IF(入力表!B3=\"\",\"\",入力表!B3)","v":""}]
[]
[null,"契約日",null,null,null,null,null,null,null,null,{"$f":"IF(入力表!B5=\"\",\"令和　　年　　月　　日\",入力表!B5)","v":"令和　　年　　月　　日"}]
[]
[null,"契約金額",null,null,null,null,null,null,null,null,{"$f":"IF(入力表!B7=\"\",\"\",入力表!B7)","v":""}]
[]
[null,"振込希望金融機関名"]
[]
[null,"預金の種別",null,null,null,null,null,null,null,null,null,null,null,null,null,null,null,null,null,null,null,null,null,null,null,null,null,null,null,null,null,null,null,null,null,null,null,null,null,null,null,null,null,null,null,null,null,null,"普通"]
[null,null,null,null,null,null,null,null,null,null,null,null,null,null,null,null,null,null,null,null,null,null,null,null,null,null,null,null,null,null,null,null,null,null,null,null,null,null,null,null,null,null,null,null,null,null,null,null,"当座"]
[null,"口座番号"]
[]
[null,"口座名義"]
[]
[null,"フリガナ"]
[]
[]
[]
[]
[null,"(注)1．\n",null,null,null,"（　　　）には前払金、中間前払金、部分払金、指定部分完済払金、完成代金の別を記入すること。"]
[]
[null,"2．",null,null,null,"部分払金を請求する場合は、請求内訳書を添付すること。"]
[]
[null,null,"中間前払金の割合は契約金額の10分の2以内かつ前払金との合計額が契約金額の10分の6以内"]
[]
[null,null,null,"（Ａ）契約金額の10分の2",null,null,null,null,null,null,null,null,null,null,null,{"$f":"IF(K30=\"\",\"\",ROUNDDOWN(K30*2/10,-4))","v":""},null,null,null,null,null,null,null,"（1万円未満切捨て）"]
[null,null,null,"（Ｂ）契約金額の10分の6",null,null,null,null,null,null,null,null,null,null,null,{"$f":"IF(K30=\"\",\"\",ROUNDDOWN(K30*6/10,-4))","v":""},null,null,null,null,null,null,null,"（　　　〃　　　 ）"]
[null,null,null,"（Ｃ）支出済み前払金",null,null,null,null,null,null,null,null,null,null,null,{"$f":"IF('統一様式-5(1)（前払金）'!L18=\"\",\"中間前払金対象外\",'統一様式-5(1)（前払金）'!L18)","v":"中間前払金対象外"}]
[null,null,null,"（Ｄ）中間前払金請求上限額",null,null,null,null,null,null,null,null,null,null,null,{"$f":"IF(K30=\"\",\"\",IF((P52-P53)>P51,P51,P52-P53))","v":""}]

{"sheet":"統一様式-16","index":48,"n_rows":39,"n_cols":38,"rows_kept":39,"cut":false,"hidden":false,"merged":[[3,37,3,41],[5,37,5,41],[35,11,35,18],[35,21,35,28],[38,16,38,24],[29,19,29,26],[29,9,29,16],[32,8,32,31],[16,40,16,55],[23,8,23,34],[9,20,9,34],[10,20,10,34],[26,8,26,34],[2,26,2,34],[5,2,5,14],[16,12,16,20],[21,0,21,34],[24,7,24,31],[13,0,13,34],[11,33,11,34],[11,20,11,32]]}
["統一様式－１６"]
[]
[null,null,null,null,null,null,null,null,null,null,null,null,null,null,null,null,null,null,null,null,null,null,null,null,null,null,{"$f":"IF(入力表!D43=\"\",\"令和　 年 　月　 日\",入力表!D43)","v":"令和　 年 　月　 日"}]
[null,null,null,null,null,null,null,null,null,null,null,null,null,null,null,null,null,null,null,null,null,null,null,null,null,null,null,null,null,null,null,null,null,null,null,null,null,"一覧表へ戻る"]
[null,"（発注者）"]
[null,null,"上天草市長　堀江　隆臣　様",null,null,null,null,null,null,null,null,null,null,null,null,null,null,null,null,null,null,null,null,null,null,null,null,null,null,null,null,null,null,null,null,null,null,"入力表へ戻る"]
[]
[]
[]
[null,null,null,null,null,null,null,null,null,null,null,null,null,null,null,null,null,null,null,null,{"$f":"IF(入力表!B11=\"\",\"\",入力表!B11)","v":""}]
[null,null,null,null,null,null,null,null,null,null,null,null,null,null,null,null,null,null,null,"（受注者）",{"$f":"IF(入力表!B12=\"\",\"\",入力表!B12)","v":""}]
[null,null,null,null,null,null,null,null,null,null,null,null,null,null,null,null,null,null,null,null,{"$f":"IF(入力表!B13=\"\",\"\",入力表!B13)","v":""},null,null,null,null,null,null,null,null,null,null,null,null,"㊞"]
[]
["指　定　部　分　完　成　通　知　書"]
[]
[]
[null,null,null,"下記工事の指定部分は、",null,null,null,null,null,null,null,null,null,null,null,null,null,null,null,null,null,"をもって完成したので上天草市公共"]
[]
[null,null,"工事請負契約約款第31条第1項に基づき通知します。"]
[]
[]
["記"]
[]
[null,null,null,"工事番号",null,null,null,null,{"$f":"IF(入力表!B2=\"\",\"\",入力表!B2)","v":""}]
[]
[]
[null,null,null,"工事名",null,null,null,null,{"$f":"IF(入力表!B3=\"\",\"\",入力表!B3)","v":""}]
[]
[]
[null,null,null,"工　期",null,null,null,null,"自",{"$f":"IF(入力表!B6=\"\",\"令和　　年　　月　　日\",入力表!B6)","v":"令和　　年　　月　　日"},null,null,null,null,null,null,null,null,"至",{"$f":"IF(入力表!E6=\"\",\"令和　　年　　月　　日\",入力表!E6)","v":"令和　　年　　月　　日"}]
[]
[]
[null,null,null,"請負代金額",null,null,null,null,{"$f":"IF(入力表!B7=\"\",\"\",入力表!B7)","v":""}]
[]
[]
[null,null,null,"指定部分工期",null,null,null,null,null,null,"自",null,null,null,null,null,null,null,null,null,"至"]
[]
[]
[null,null,null,"指定部分に対する請負代金額"]

{"sheet":"統一様式-17","index":49,"n_rows":26,"n_cols":38,"rows_kept":26,"cut":false,"hidden":false,"merged":[[11,20,11,33],[2,37,2,42],[3,37,3,42],[23,8,23,34],[24,8,24,34],[22,9,22,10],[22,11,22,18],[22,21,22,22],[22,23,22,30],[13,0,13,34],[2,26,2,34],[9,20,9,34],[10,20,10,34],[22,0,22,7],[5,1,5,13],[18,0,19,7],[25,0,25,7],[25,8,25,34],[24,0,24,7],[23,0,23,7],[21,0,21,7],[18,8,18,34],[19,8,19,34],[20,0,20,7],[20,8,20,34],[21,9,21,10],[21,11,21,18],[21,21,21,22],[21,23,21,30]]}
["統一様式－１７"]
[]
[null,null,null,null,null,null,null,null,null,null,null,null,null,null,null,null,null,null,null,null,null,null,null,null,null,null,{"$f":"IF(入力表!D44=\"\",\"令和 　年 　月 　日\",入力表!D44)","v":"令和 　年 　月 　日"},null,null,null,null,null,null,null,null,null,null,"一覧表へ戻る"]
[null,null,null,null,null,null,null,null,null,null,null,null,null,null,null,null,null,null,null,null,null,null,null,null,null,null,null,null,null,null,null,null,null,null,null,null,null,"入力表へ戻る"]
[null,"（発注者）"]
[null,"上天草市長  堀江　隆臣　  様"]
[]
[]
[]
[null,null,null,null,null,null,null,null,null,null,null,null,null,null,null,null,null,null,null,null,{"$f":"IF(入力表!B11=\"\",\"\",入力表!B11)","v":""}]
[null,null,null,null,null,null,null,null,null,null,null,null,null,null,null,null,null,null,null,"（受注者）",{"$f":"IF(入力表!B12=\"\",\"\",入力表!B12)","v":""}]
[null,null,null,null,null,null,null,null,null,null,null,null,null,null,null,null,null,null,null,null,{"$f":"IF(入力表!B13=\"\",\"\",入力表!B13)","v":""},null,null,null,null,null,null,null,null,null,null,null,null,null,"㊞"]
[]
["指　定　部　分　引　渡　書"]
[]
[]
[null,"下記工事の指定部分を上天草市公共工事請負契約約款第31条第4項に基づき引渡します。"]
[]
["工事番号及び\n工事名",null,null,null,null,null,null,null,{"$f":"IF(入力表!B2=\"\",\"\",入力表!B2)","v":""}]
[null,null,null,null,null,null,null,null,{"$f":"IF(入力表!B3=\"\",\"\",入力表!B3)","v":""}]
["指　定　部　分"]
["全　体　工　期",null,null,null,null,null,null,null,null,"自",null,{"$f":"IF(入力表!B6=\"\",\"令和　　年　　月　　日\",入力表!B6)","v":"令和　　年　　月　　日"},null,null,null,null,null,null,null,null,null,"至",null,{"$f":"IF(入力表!E6=\"\",\"令和　　年　　月　　日\",入力表!E6)","v":"令和　　年　　月　　日"}]
["指定部分に係る工期",null,null,null,null,null,null,null,null,"自",null,null,null,null,null,null,null,null,null,null,null,"至"]
["請負代金額",null,null,null,null,null,null,null,{"$f":"IF(入力表!B7=\"\",\"\",入力表!B7)","v":""}]
["指定部分に係る請負代金額"]
["指定部分に係る検査年月日"]

{"sheet":"統一様式-5(1)（指定）","index":50,"n_rows":55,"n_cols":56,"rows_kept":55,"cut":false,"hidden":false,"merged":[[4,37,4,42],[5,37,5,42],[17,11,18,25],[2,22,2,34],[5,14,5,23],[9,2,9,14],[11,21,11,34],[12,24,12,33],[13,21,13,34],[14,21,14,32],[19,21,19,31],[21,1,21,25],[27,10,27,18],[29,10,29,18],[31,10,31,18],[31,24,31,32],[55,5,56,31],[33,10,33,13],[35,10,35,17],[37,10,37,33],[39,10,39,33],[41,9,41,32],[44,5,45,31],[49,26,49,32],[50,26,50,32],[51,26,51,32],[52,26,52,32],[48,2,48,31],[54,26,54,32],[46,5,46,31]]}
["統一様式－５(1)"]
[]
[null,null,null,null,null,null,null,null,null,null,null,null,null,null,null,null,null,null,null,null,null,null,{"$f":"IF(入力表!D45=\"\",\"令和　　年　　月　　日\",入力表!D45)","v":"令和　　年　　月　　日"}]
[]
[null,null,null,null,null,null,null,null,null,null,null,null,null,null,null,null,null,null,null,null,null,null,null,null,null,null,null,null,null,null,null,null,null,null,null,null,null,"一覧表へ戻る"]
[null,null,null,null,null,null,null,null,"請求書",null,null,null,null,"（","指定部分完済払金",null,null,null,null,null,null,null,null,null,"）",null,null,null,null,null,null,null,null,null,null,null,null,"入力表へ戻る"]
[]
[]
[null,"（発注者）"]
[null,null,"上天草市長  堀江　隆臣　  様",null,null,null,null,null,null,null,null,null,null,null,null,null,null,null,null,null,null,null,null,null,null,null,null,null,null,null,null,null,null,null,null,null,null,null,null,null,null,null,null,null,null,null,null,null,"前払金",null,null,null,null,null,null,"ただし、次の工事の請負代金の前払として"]
[null,null,null,null,null,null,null,null,null,null,null,null,null,null,null,null,null,null,null,null,null,null,null,null,null,null,null,null,null,null,null,null,null,null,null,null,null,null,null,null,null,null,null,null,null,null,null,null,"中間前払金",null,null,null,null,null,null,"ただし、次の工事の請負代金の中間前払として"]
[null,null,null,null,null,null,null,null,null,null,null,null,null,null,null,null,null,null,null,null,"請求者（住所）",{"$f":"IF(入力表!B11=\"\",\"\",入力表!B11)","v":""},null,null,null,null,null,null,null,null,null,null,null,null,null,null,null,null,null,null,null,null,null,null,null,null,null,null,"部分払金",null,null,null,null,null,null,{"$f":"IF(AD7=\"\",\"ただし、次の工事の第　回部分払として\",\"ただし、次の工事の第\"&AD7&\"回部分払として\")","v":"ただし、次の工事の第　回部分払として"}]
[null,null,null,null,null,null,null,null,null,null,null,null,null,null,null,null,null,null,null,null,null,null,null,null,null,null,null,null,null,null,null,null,null,null,null,null,null,null,null,null,null,null,null,null,null,null,null,null,"指定部分完済払金",null,null,null,null,null,null,"ただし、次の工事の指定部分に係る代金として"]
[null,null,null,null,null,null,null,null,null,null,null,null,null,null,null,null,null,null,null,null,null,{"$f":"IF(入力表!B12=\"\",\"\",入力表!B12)","v":""},null,null,null,null,null,null,null,null,null,null,null,null,null,null,null,null,null,null,null,null,null,null,null,null,null,null,"完成代金",null,null,null,null,null,null,"ただし、次の工事の請負代金として"]
[null,null,null,null,null,null,null,null,null,null,null,null,null,null,null,null,null,null,null,null,"（氏名）",{"$f":"IF(入力表!B13=\"\",\"\",入力表!B13)","v":""},null,null,null,null,null,null,null,null,null,null,null,"㊞"]
[]
[null,"下記のとおり請求します。"]
[null,null,null,null,null,null,null,null,null,null,null,{"$f":"AA55","v":""}]
[null,null,null,"請求金額"]
[]
[]
[null,{"$f":"VLOOKUP(O6,AW10:BD14,8,FALSE)","v":"ただし、次の工事の指定部分に係る代金として"}]
[]
[null,"工事番号",null,null,null,null,null,null,null,null,{"$f":"IF(入力表!B2=\"\",\"\",入力表!B2)","v":""}]
[]
[null,"工事名",null,null,null,null,null,null,null,null,{"$f":"IF(入力表!B3=\"\",\"\",入力表!B3)","v":""}]
[]
[null,"契約日",null,null,null,null,null,null,null,null,{"$f":"IF(入力表!B5=\"\",\"令和　　年　　月　　日\",入力表!B5)","v":"令和　　年　　月　　日"}]
[]
[null,"契約金額",null,null,null,null,null,null,null,null,{"$f":"IF(入力表!B7=\"\",\"\",入力表!B7)","v":""}]
[]
[null,"振込希望金融機関名"]
[]
[null,"預金の種別",null,null,null,null,null,null,null,null,null,null,null,null,null,null,null,null,null,null,null,null,null,null,null,null,null,null,null,null,null,null,null,null,null,null,null,null,null,null,null,null,null,null,null,null,null,null,"普通"]
[null,null,null,null,null,null,null,null,null,null,null,null,null,null,null,null,null,null,null,null,null,null,null,null,null,null,null,null,null,null,null,null,null,null,null,null,null,null,null,null,null,null,null,null,null,null,null,null,"当座"]
[null,"口座番号"]
[]
[null,"口座名義"]
[]
[null,"フリガナ"]
[]
[]
[]
[]
[null,null,null,null,"(注)1．","（　　　）には前払金、中間前払金、部分払金、指定部分完済払金、完成代金の別を記入すること。"]
[]
[null,null,null,null,"2．","部分払金を請求する場合は、請求内訳書を添付すること。"]
[]
[null,null,"指定部分に相応する請負代金の額は次の式により算定。"]
[null,null,"（Ａ）指定部分に相応する請負代金の額 ＝"]
[null,null,"　　　請負代金額×指定部分に係る設計工事費／設計工事費"]
[null,null,"（Ｂ）前払金額",null,null,null,null,null,null,null,null,null,null,null,null,null,null,null,null,null,null,null,null,null,null,null,{"$f":"IF('統一様式-5(1)（前払金）'!L18=\"\",0,'統一様式-5(1)（前払金）'!L18)","v":0}]
[null,null,"（Ｃ）中間前払金額",null,null,null,null,null,null,null,null,null,null,null,null,null,null,null,null,null,null,null,null,null,null,null,{"$f":"IF('統一様式-5(1)（中間）'!L18=\"\",0,'統一様式-5(1)（中間）'!L18)","v":0}]
[null,null,"（Ｄ）部分引渡しに係る請負代金の額 ＝"]
[null,null,"　　　　　　　　　　　　Ａ×（１－（Ｂ＋Ｃ）/請負金額）",null,null,null,null,null,null,null,null,null,null,null,null,null,null,null,null,null,null,null,null,null,null,null,{"$f":"IF(K30=\"\",\"\",ROUNDDOWN(AA51*(1-(AA52+AA53)/入力表!B7),0))","v":""}]

{"sheet":"統一様式-19","index":51,"n_rows":28,"n_cols":35,"rows_kept":28,"cut":false,"hidden":false,"merged":[[27,14,27,31],[16,0,16,32],[24,11,24,31],[25,11,25,31],[24,1,25,10],[26,1,27,10],[26,11,26,13],[27,11,27,13],[3,23,3,32],[13,18,13,32],[7,1,7,13],[26,14,26,31],[12,18,12,32],[14,18,14,31]]}
["統一様式－１９"]
[]
[null,null,null,null,null,null,null,null,null,null,null,null,null,null,null,null,null,null,null,null,null,null,null,null,null,null,null,null,null,null,null,null,null,null,"一覧表へ戻る"]
[null,null,null,null,null,null,null,null,null,null,null,null,null,null,null,null,null,null,null,null,null,null,null,{"$f":"IF(入力表!D46=\"\",\"令和　　年　　月　　日\",入力表!D46)","v":"令和　　年　　月　　日"},null,null,null,null,null,null,null,null,null,null,"入力表へ戻る"]
[]
[]
[null,null,"（発注者）"]
[null,"上天草市長  堀江　隆臣　  様"]
[]
[]
[]
[]
[null,null,null,null,null,null,null,null,null,null,null,null,null,null,null,null,null,null,{"$f":"IF(入力表!B11=\"\",\"\",入力表!B11)","v":""}]
[null,null,null,null,null,null,null,null,null,null,null,null,null,null,null,null,null,"（受注者）",{"$f":"IF(入力表!B12=\"\",\"\",入力表!B12)","v":""}]
[null,null,null,null,null,null,null,null,null,null,null,null,null,null,null,null,null,null,{"$f":"IF(入力表!B13=\"\",\"\",入力表!B13)","v":""},null,null,null,null,null,null,null,null,null,null,null,null,null,"㊞"]
[]
["出　来　形　部　分　確　認　請　求　書"]
[]
[]
[null,null,"上天草市公共工事請負契約約款第37条第2項により既済部分検査を請求します。"]
[]
[]
["記"]
[]
[null,"工事番号\n及び\n工事名",null,null,null,null,null,null,null,null,null,{"$f":"IF(入力表!B2=\"\",\"\",入力表!B2)","v":""}]
[null,null,null,null,null,null,null,null,null,null,null,{"$f":"IF(入力表!B3=\"\",\"\",入力表!B3)","v":""}]
[null,"工期",null,null,null,null,null,null,null,null,null,"自",null,null,{"$f":"IF(入力表!B6=\"\",\"令和　　年　　月　　日\",入力表!B6)","v":"令和　　年　　月　　日"}]
[null,null,null,null,null,null,null,null,null,null,null,"至",null,null,{"$f":"IF(入力表!E6=\"\",\"令和　　年　　月　　日\",入力表!E6)","v":"令和　　年　　月　　日"}]

{"sheet":"様式-9","index":52,"n_rows":21,"n_cols":14,"rows_kept":21,"cut":false,"hidden":false,"merged":[]}
["様式－９"]
["工 事 出 来 高 内 訳 書",null,null,null,null,null,null,null,null,null,null,null,null,"一覧表へ戻る"]
[{"$f":"IF(入力表!B3=\"\",\"\",入力表!B3)","v":""}]
["費　　目","工　種","種　　別","単位","契約数量\n①","構成比\n②","前回までの出来形数量","今回出来形数量","今回までの出来形累計数量\n③","残数量","出来形比率\n③/①％","摘　　要"]
[null,null,null,null,null,null,null,null,{"$f":"IF(G5=\"\",\"\",G5+H5)","v":""},{"$f":"IF(I5=\"\",\"\",E5-I5)","v":""},{"$f":"IF(I5=\"\",\"\",I5/E5)","v":""}]
[null,null,null,null,null,null,null,null,{"$f":"IF(G6=\"\",\"\",G6+H6)","v":""},{"$f":"IF(I6=\"\",\"\",E6-I6)","v":""},{"$f":"IF(I6=\"\",\"\",I6/E6)","v":""}]
[null,null,null,null,null,null,null,null,"","",""]
[null,null,null,null,null,null,null,null,"","",""]
[null,null,null,null,null,null,null,null,"","",""]
[null,null,null,null,null,null,null,null,"","",""]
[null,null,null,null,null,null,null,null,"","",""]
[null,null,null,null,null,null,null,null,"","",""]
[null,null,null,null,null,null,null,null,"","",""]
[null,null,null,null,null,null,null,null,"","",""]
[null,null,null,null,null,null,null,null,{"$f":"IF(G15=\"\",\"\",G15+H15)","v":""},{"$f":"IF(I15=\"\",\"\",E15-I15)","v":""},{"$f":"IF(I15=\"\",\"\",I15/E15)","v":""}]
[null,null,null,null,null,null,null,null,"","",""]
[null,null,null,null,null,null,null,null,"","",""]
[null,null,null,null,null,null,null,null,"","",""]
[null,null,null,null,null,null,null,null,"","",""]
["直接工事費",null,null,null,null,null,null,null,{"$f":"IF(G20=\"\",\"\",G20+H20)","v":""},{"$f":"IF(I20=\"\",\"\",E20-I20)","v":""},{"$f":"IF(I20=\"\",\"\",I20/E20)","v":""}]
["共通仮設費",null,null,null,null,null,null,null,"","",""]

{"sheet":"統一様式-5(1)（部分）","index":53,"n_rows":47,"n_cols":56,"rows_kept":47,"cut":false,"hidden":false,"merged":[[2,38,2,43],[3,38,3,43],[4,38,4,43],[17,11,18,25],[2,22,2,34],[5,14,5,23],[9,2,9,14],[11,21,11,34],[12,24,12,33],[13,21,13,34],[14,21,14,32],[19,21,19,31],[21,1,21,25],[27,10,27,18],[29,10,29,18],[31,10,31,18],[31,24,31,32],[46,5,46,31],[51,5,52,31],[53,5,54,31],[55,5,56,31],[33,10,33,13],[35,10,35,17],[37,10,37,33],[39,10,39,33],[41,9,41,32],[44,5,45,31]]}
["統一様式－５(1)"]
[]
[null,null,null,null,null,null,null,null,null,null,null,null,null,null,null,null,null,null,null,null,null,null,{"$f":"IF(入力表!D47=\"\",\"令和　　年　　月　　日\",入力表!D47)","v":"令和　　年　　月　　日"},null,null,null,null,null,null,null,null,null,null,null,null,null,null,null,"一覧表へ戻る"]
[null,null,null,null,null,null,null,null,null,null,null,null,null,null,null,null,null,null,null,null,null,null,null,null,null,null,null,null,null,null,null,null,null,null,null,null,null,null,"入力表へ戻る"]
[null,null,null,null,null,null,null,null,null,null,null,null,null,null,null,null,null,null,null,null,null,null,null,null,null,null,null,null,null,null,null,null,null,null,null,null,null,null,"請求内訳書へ"]
[null,null,null,null,null,null,null,null,"請求書",null,null,null,null,"（","部分払金",null,null,null,null,null,null,null,null,null,"）"]
[]
[]
[null,"（発注者）"]
[null,null,"上天草市長  堀江　隆臣　  様",null,null,null,null,null,null,null,null,null,null,null,null,null,null,null,null,null,null,null,null,null,null,null,null,null,null,null,null,null,null,null,null,null,null,null,null,null,null,null,null,null,null,null,null,null,"前払金",null,null,null,null,null,null,"ただし、次の工事の請負代金の前払として"]
[null,null,null,null,null,null,null,null,null,null,null,null,null,null,null,null,null,null,null,null,null,null,null,null,null,null,null,null,null,null,null,null,null,null,null,null,null,null,null,null,null,null,null,null,null,null,null,null,"中間前払金",null,null,null,null,null,null,"ただし、次の工事の請負代金の中間前払として"]
[null,null,null,null,null,null,null,null,null,null,null,null,null,null,null,null,null,null,null,null,"請求者（住所）",{"$f":"IF(入力表!B11=\"\",\"\",入力表!B11)","v":""},null,null,null,null,null,null,null,null,null,null,null,null,null,null,null,null,null,1,null,null,null,null,null,null,null,null,"部分払金",null,null,null,null,null,null,{"$f":"IF(AN12=\"\",\"ただし、次の工事の第　回部分払として\",\"ただし、次の工事の第\"&AN12&\"回部分払として\")","v":"ただし、次の工事の第1回部分払として"}]
[null,null,null,null,null,null,null,null,null,null,null,null,null,null,null,null,null,null,null,null,null,null,null,null,null,null,null,null,null,null,null,null,null,null,null,null,null,null,null,null,null,null,null,null,null,null,null,null,"指定部分完済払金",null,null,null,null,null,null,"ただし、次の工事の指定部分に係る代金として"]
[null,null,null,null,null,null,null,null,null,null,null,null,null,null,null,null,null,null,null,null,null,{"$f":"IF(入力表!B12=\"\",\"\",入力表!B12)","v":""},null,null,null,null,null,null,null,null,null,null,null,null,null,null,null,null,null,null,null,null,null,null,null,null,null,null,"完成代金",null,null,null,null,null,null,"ただし、次の工事の請負代金として"]
[null,null,null,null,null,null,null,null,null,null,null,null,null,null,null,null,null,null,null,null,"（氏名）",{"$f":"IF(入力表!B13=\"\",\"\",入力表!B13)","v":""},null,null,null,null,null,null,null,null,null,null,null,"㊞"]
[]
[null,"下記のとおり請求します。"]
[null,null,null,null,null,null,null,null,null,null,null,{"$f":"'統一様式-5(2)'!S30","v":""}]
[null,null,null,"請求金額"]
[]
[]
[null,{"$f":"VLOOKUP(O6,AW10:BD14,8,FALSE)","v":"ただし、次の工事の第1回部分払として"}]
[]
[null,"工事番号",null,null,null,null,null,null,null,null,{"$f":"IF(入力表!B2=\"\",\"\",入力表!B2)","v":""}]
[]
[null,"工事名",null,null,null,null,null,null,null,null,{"$f":"IF(入力表!B3=\"\",\"\",入力表!B3)","v":""}]
[]
[null,"契約日",null,null,null,null,null,null,null,null,{"$f":"IF(入力表!B5=\"\",\"令和　　年　　月　　日\",入力表!B5)","v":"令和　　年　　月　　日"}]
[]
[null,"契約金額",null,null,null,null,null,null,null,null,{"$f":"IF(入力表!B7=\"\",\"\",入力表!B7)","v":""}]
[]
[null,"振込希望金融機関名"]
[]
[null,"預金の種別",null,null,null,null,null,null,null,null,null,null,null,null,null,null,null,null,null,null,null,null,null,null,null,null,null,null,null,null,null,null,null,null,null,null,null,null,null,null,null,null,null,null,null,null,null,null,"普通"]
[null,null,null,null,null,null,null,null,null,null,null,null,null,null,null,null,null,null,null,null,null,null,null,null,null,null,null,null,null,null,null,null,null,null,null,null,null,null,null,null,null,null,null,null,null,null,null,null,"当座"]
[null,"口座番号"]
[]
[null,"口座名義"]
[]
[null,"フリガナ"]
[]
[]
[]
[]
[null,null,null,null,"(注)1．","（　　　）には前払金、中間前払金、部分払金、指定部分完済払金、完成代金の別を記入すること。"]
[]
[null,null,null,null,"2．","部分払金を請求する場合は、請求内訳書を添付すること。"]

{"sheet":"統一様式-5(2)","index":54,"n_rows":36,"n_cols":41,"rows_kept":36,"cut":false,"hidden":false,"merged":[[14,18,14,27],[29,18,29,27],[33,5,34,34],[23,3,24,9],[26,3,27,9],[26,10,26,16],[26,18,26,27],[26,32,26,34],[27,32,27,34],[23,18,23,27],[17,18,17,27],[20,3,21,9],[20,18,20,27],[20,32,20,34],[21,32,21,34],[2,40,2,45],[5,0,5,36],[8,18,8,27],[11,18,11,27],[3,40,3,47]]}
["様式－５(2)"]
[]
[null,null,null,null,null,null,null,null,null,null,null,null,null,null,null,null,null,null,null,null,null,null,null,null,null,null,null,null,null,null,null,null,null,null,null,null,"（部分払の場合）",null,null,null,"一覧表へ戻る"]
[null,null,null,null,null,null,null,null,null,null,null,null,null,null,null,null,null,null,null,null,null,null,null,null,null,null,null,null,null,null,null,null,null,null,null,null,null,null,null,null,"請求書（部分払金）へ"]
[]
["請　　求　　内　　訳　　書"]
[]
[]
[null,"1.",null,"請負代金額",null,null,null,null,null,null,null,null,null,"（A）",null,null,null,"￥",{"$f":"IF(入力表!B7=\"\",\"\",入力表!B7)","v":""}]
[]
[]
[null,"2.",null,"前払金額",null,null,null,null,null,null,null,null,null,"（B）",null,null,null,"￥",{"$f":"IF('統一様式-5(1)（前払金）'!L18=\"\",0,'統一様式-5(1)（前払金）'!L18)","v":0}]
[]
[]
[null,"3.",null,"中間前払金額",null,null,null,null,null,null,null,null,null,"（C）",null,null,null,"￥",{"$f":"IF('統一様式-5(1)（中間）'!L18=\"\",0,'統一様式-5(1)（中間）'!L18)","v":0}]
[]
[]
[null,"4.",null,"出来高金額",null,null,null,null,null,null,null,null,null,"（D）",null,null,null,"￥"]
[]
[]
[null,"5.",null,"前回までの出来高金額",null,null,null,null,null,null,null,null,null,"（E）",null,null,null,"￥"]
[]
[]
[null,"6.",null,"今回の出来高金額",null,null,null,null,null,null,null,null,null,"（F=D-E）",null,null,null,"￥",{"$f":"IF(S18-S21=0,\"\",S18-S21)","v":""}]
[]
[]
[null,"7.",null,"請求し得る金額",null,null,null,null,null,null,"(E×(9/10-（B+C）/A))",null,null,null,null,null,null,"￥",{"$f":"IF(ISERROR(S24*(9/10-(AG28/100))),\"\",S24*(9/10-(AG28/100)))","v":""},null,null,null,null,null,null,null,null,null,null,null,null,"(B+C)/A=",{"$f":"IF(ISERROR((S12+S15)/S9*100),\"\",(S12+S15)/S9*100)","v":""},null,null,"％"]
[null,null,null,null,null,null,null,null,null,null,null,null,null,null,null,null,null,null,null,null,null,null,null,null,null,null,null,null,null,null,null,"≒",{"$f":"IF(ISERROR(ROUNDUP(AG27,0)),\"\",ROUNDUP(AG27,0))","v":""},null,null,"％"]
[]
[null,"8.",null,"今回請求する金額",null,null,null,null,null,null,null,null,null,null,null,null,null,"￥",{"$f":"IF(ISERROR(ROUNDDOWN(S27,-3)),\"\",ROUNDDOWN(S27,-3))","v":""}]
[]
[]
[]
[null,"（注）",null,null,"1.","（6）欄の末尾にはB/Aの割合を記入すること。ただし、B/Aの率は1％未満は切上げ、今回請求する金額は1,000円単位に切り下げて丸めること。"]
[]
[null,null,null,null,"2.","上天草市工事請負契約約款第38条第6項及び第7項により算出すること。"]

{"sheet":"統一様式-22","index":55,"n_rows":52,"n_cols":37,"rows_kept":52,"cut":false,"hidden":false,"merged":[[38,4,39,32],[42,4,43,32],[19,12,19,17],[23,0,23,34],[27,4,28,32],[31,4,32,32],[34,11,34,18],[35,11,35,18],[13,1,14,33],[3,36,3,41],[4,36,4,41],[2,26,2,34],[6,2,6,9],[10,25,10,32],[10,33,10,34]]}
["統一様式－２２"]
[]
[null,null,null,null,null,null,null,null,null,null,null,null,null,null,null,null,null,null,null,null,null,null,null,null,null,null,{"$f":"IF(入力表!D48=\"\",\"令和　年　月　日\",入力表!D48)","v":"令和　年　月　日"}]
[null,null,null,null,null,null,null,null,null,null,null,null,null,null,null,null,null,null,null,null,null,null,null,null,null,null,null,null,null,null,null,null,null,null,null,null,"一覧表へ戻る"]
[null,null,null,null,null,null,null,null,null,null,null,null,null,null,null,null,null,null,null,null,null,null,null,null,null,null,null,null,null,null,null,null,null,null,null,null,"入力表へ戻る"]
[null,"受信者：「受注者名」又は『発注者名』"]
[null,null,null,null,null,null,null,null,null,null,"様"]
[]
[]
[null,null,null,null,null,null,null,null,null,null,null,null,null,null,null,null,null,null,null,null,null,null,null,null,null,null,null,null,null,null,null,null,null,"発信者：「発注者名」又は『受注者名』"]
[null,null,null,null,null,null,null,null,null,null,null,null,null,null,null,null,null,null,null,null,null,null,null,null,null,null,null,null,null,null,null,null,null,"印"]
[]
[]
[null,"工事の部分使用について"]
[]
[]
[]
[null,"　標記について、下記のとおり部分使用することを、上天草市公共工事請負契約約款"]
[]
[null,"第３３条第１項に基づき（",null,null,null,null,null,null,null,null,null,null,"協議　・　承諾",null,null,null,null,null,null,"）する。"]
[]
[]
[]
["記"]
[]
[]
[null,null,null,"1．使用目的"]
[]
[]
[]
[null,null,null,"2．使用部分"]
[]
[]
[]
[null,null,null,"3．使用期間",null,null,null,null,null,"自"]
[null,null,null,null,null,null,null,null,null,"至"]
[]
[null,null,null,"4．使用者"]
[]
[]
[]
[null,null,null,"5．その他"]
[]
[]
[]
[]
[]
[null,null,null,"(注)",null,"1.","（協議・承諾）には、いずれかに印をつける。"]
[null,null,null,null,null,"2.","協議の場合は、受信者を「受注者名」、発信者を「発注者名」として、"]
[null,null,null,null,null,null,"発注者が作成。"]
[null,null,null,null,null,"3.","承諾の場合は、受信者を『発注者名』、発信者を『受注者名』として、"]
[null,null,null,null,null,null,"受注者が作成。"]

{"sheet":"統一様式-23","index":56,"n_rows":47,"n_cols":38,"rows_kept":47,"cut":false,"hidden":false,"merged":[[2,37,2,41],[3,37,3,41],[41,5,42,32],[43,5,44,32],[25,0,26,7],[25,8,25,13],[25,14,25,34],[26,8,26,13],[26,14,26,34],[27,0,35,7],[27,8,35,34],[23,0,24,7],[23,8,23,13],[23,14,23,34],[24,8,24,13],[24,14,24,34],[19,0,20,7],[19,8,19,34],[20,8,20,34],[21,0,22,7],[21,8,22,34],[17,0,17,34],[2,26,2,34],[13,0,13,34],[6,1,6,14],[8,21,8,34],[9,21,9,34],[15,0,15,34],[10,21,10,33]]}
["統一様式－２３"]
[]
[null,null,null,null,null,null,null,null,null,null,null,null,null,null,null,null,null,null,null,null,null,null,null,null,null,null,{"$f":"IF(入力表!D49=\"\",\"令和　年　月　日\",入力表!D49)","v":"令和　年　月　日"},null,null,null,null,null,null,null,null,null,null,"一覧表へ戻る"]
[null,null,null,null,null,null,null,null,null,null,null,null,null,null,null,null,null,null,null,null,null,null,null,null,null,null,null,null,null,null,null,null,null,null,null,null,null,"入力表へ戻る"]
[]
["（発注者）"]
[null,"上天草市長  堀江　隆臣　  様"]
[]
[null,null,null,null,null,null,null,null,null,null,null,null,null,null,null,null,null,null,null,null,null,{"$f":"IF(入力表!B11=\"\",\"\",入力表!B11)","v":""}]
[null,null,null,null,null,null,null,null,null,null,null,null,null,null,null,null,null,null,null,null,"（受注者名）",{"$f":"IF(入力表!B12=\"\",\"\",入力表!B12)","v":""}]
[null,null,null,null,null,null,null,null,null,null,null,null,null,null,null,null,null,null,null,null,null,{"$f":"IF(入力表!B13=\"\",\"\",入力表!B13)","v":""},null,null,null,null,null,null,null,null,null,null,null,null,"㊞"]
[]
[]
["工　期　延　期　届"]
[]
["　上天草市公共工事請負契約約款第21条による工期の延長を下記のとおり請求します。"]
[]
["記"]
[]
["工事番号及び\n工事名",null,null,null,null,null,null,null,{"$f":"IF(入力表!B2=\"\",\"\",入力表!B2)","v":""}]
[null,null,null,null,null,null,null,null,{"$f":"IF(入力表!B3=\"\",\"\",入力表!B3)","v":""}]
["契約月日",null,null,null,null,null,null,null,{"$f":"IF(入力表!B5=\"\",\"令和　　年　　月　　日\",入力表!B5)","v":"令和　　年　　月　　日"}]
[]
["工期",null,null,null,null,null,null,null,"自",null,null,null,null,null,{"$f":"IF(入力表!B6=\"\",\"令和　　年　　月　　日\",入力表!B6)","v":"令和　　年　　月　　日"}]
[null,null,null,null,null,null,null,null,"至",null,null,null,null,null,{"$f":"IF(入力表!E6=\"\",\"令和　　年　　月　　日\",入力表!E6)","v":"令和　　年　　月　　日"}]
["延長工期",null,null,null,null,null,null,null,"自"]
[null,null,null,null,null,null,null,null,"至"]
["理　　　　　由"]
[]
[]
[]
[]
[]
[]
[]
[]
[]
[]
[]
[null,"(注)"]
[null,null,null,1,"必要により下記書類を添付すること。"]
[null,null,null,null,"a","工程表（契約当初工程と現在迄の実際の工程及び延長工程の3工程を対象させ、詳細に記入）"]
[]
[null,null,null,null,"b","天候表、気温表、湿度表、雨量表、積雪表、風速表等工期中と過去の平均とを対照し最寄気象台等の証明等をうけること。　"]
[]
[null,null,null,null,"c","写真、図面等"]
[null,null,null,2,"理由は詳細に記入すること。"]

{"sheet":"統一様式-24","index":57,"n_rows":24,"n_cols":13,"rows_kept":24,"cut":false,"hidden":false,"merged":[[30,0,30,1],[30,5,30,6],[30,7,30,8],[30,9,30,10],[28,0,28,1],[28,5,28,6],[28,7,28,8],[28,9,28,10],[29,0,29,1],[29,5,29,6],[29,7,29,8],[29,9,29,10],[20,0,21,0],[20,1,20,6],[20,7,21,8],[20,9,21,10],[21,1,21,6],[27,9,27,10],[22,0,23,1],[22,2,23,2],[22,3,23,3],[22,9,23,10],[27,5,27,6],[27,7,27,8],[24,0,26,1],[24,2,26,2],[24,3,26,3],[24,4,26,4],[24,5,26,6],[24,7,26,8],[24,9,26,10],[27,0,27,1],[2,0,2,10],[8,8,8,10],[13,7,13,10],[14,7,14,9],[11,7,11,10],[12,7,12,10],[7,0,7,3]]}
["統一様式－２４"]
[]
["支　　給　　品　　受　　領　　書",null,null,null,null,null,null,null,null,null,null,null,"一覧表へ戻る"]
[null,null,null,null,null,null,null,null,null,null,null,null,"入力表へ戻る"]
[]
[]
[]
["　上天草市長　堀江　隆臣　様"]
[null,null,null,null,null,null,null,null,{"$f":"IF(入力表!D50=\"\",\"令和　　年　　月　　日\",入力表!D50)","v":"令和　　年　　月　　日"}]
[]
[]
[null,null,null,null,null,null,"受注者　（住所）",{"$f":"IF(入力表!B11=\"\",\"\",入力表!B11)","v":""}]
[null,null,null,null,null,null,null,{"$f":"IF(入力表!B12=\"\",\"\",入力表!B12)","v":""}]
[null,null,null,null,null,null,"（氏名）",{"$f":"IF(入力表!B13=\"\",\"\",入力表!B13)","v":""}]
[null,null,null,null,null,null,"（現場代理人氏名）",{"$f":"IF(入力表!B8=\"\",\"\",入力表!B8)","v":""},null,null,"㊞"]
[]
["　下記のとおり支給品を受領しました。"]
[]
["記"]
[]
["工事番号及び工事名",{"$f":"IF(入力表!B2=\"\",\"\",入力表!B2)","v":""},null,null,null,null,null,"契約年月日",null,{"$f":"IF(入力表!B5=\"\",\"令和　　年　　月　　日\",入力表!B5)","v":"令和　　年　　月　　日"}]
[null,{"$f":"IF(入力表!B3=\"\",\"\",入力表!B3)","v":""}]
["品　　　目",null,"規　格","単　位","数　　　　　　　　量",null,null,null,null,"備　　　　考"]
[null,null,null,null,"前回まで","今　回",null,"累　計"]

{"sheet":"統一様式-25","index":58,"n_rows":43,"n_cols":13,"rows_kept":43,"cut":false,"hidden":false,"merged":[[31,0,31,1],[31,6,31,7],[31,8,31,10],[37,5,37,7],[35,3,35,6],[29,0,29,1],[29,6,29,7],[29,8,29,10],[30,0,30,1],[30,6,30,7],[30,8,30,10],[27,0,27,1],[27,6,27,7],[27,8,27,10],[28,0,28,1],[28,6,28,7],[28,8,28,10],[25,0,25,1],[25,6,25,7],[25,8,25,10],[26,0,26,1],[26,6,26,7],[26,8,26,10],[23,0,23,1],[23,6,23,7],[23,8,23,10],[24,0,24,1],[24,6,24,7],[24,8,24,10],[21,0,21,1],[21,6,21,7],[21,8,21,10],[22,0,22,1],[22,6,22,7],[22,8,22,10],[12,7,12,9],[18,1,18,4],[18,7,18,10],[19,0,20,1],[19,2,20,2],[19,3,20,3],[19,4,19,7],[19,8,20,10],[2,0,2,10],[11,7,11,10],[9,7,9,10],[10,7,10,10],[4,8,4,10],[7,0,7,3]]}
["統一様式－２５"]
[]
["支　　給　　品　　精　　算　　書",null,null,null,null,null,null,null,null,null,null,null,"一覧表へ戻る"]
[null,null,null,null,null,null,null,null,null,null,null,null,"入力表へ戻る"]
[null,null,null,null,null,null,null,null,{"$f":"IF(入力表!D51=\"\",\"令和　　年　　月　　日\",入力表!D51)","v":"令和　　年　　月　　日"}]
[]
[]
["　上天草市長　堀江　隆臣　様"]
[]
[null,null,null,null,null,null,"受注者　（住所）",{"$f":"IF(入力表!B11=\"\",\"\",入力表!B11)","v":""}]
[null,null,null,null,null,null,null,{"$f":"IF(入力表!B12=\"\",\"\",入力表!B12)","v":""}]
[null,null,null,null,null,null,"（氏名）",{"$f":"IF(入力表!B13=\"\",\"\",入力表!B13)","v":""}]
[null,null,null,null,null,null,"（現場代理人氏名）",{"$f":"IF(入力表!B8=\"\",\"\",入力表!B8)","v":""},null,null,"㊞"]
[]
["　下記のとおり支給品を精算します。"]
[]
["記"]
[]
["工　事　名",{"$f":"IF(入力表!B3=\"\",\"\",入力表!B3)","v":""},null,null,null,"契約年月日",null,{"$f":"IF(入力表!B5=\"\",\"令和　　年　　月　　日\",入力表!B5)","v":"令和　　年　　月　　日"}]
["品　　　　目",null,"規　　格","単位","　　　数　　　　　　　　量",null,null,null,"備　　　　　考"]
[null,null,null,null,"支給数量","使用数量","残 数 量"]
[]
[]
[]
[]
[]
[]
[]
[]
[]
[]
[]
["※"]
[null,"　上記精算について調査したところ事実に相違ないことを証明する。"]
["主任監督員","　　　　　"]
[null,"　　　　　　　",null,"令和　　　年　　　月　　　日"]
["証　明  欄"]
[null,null,null,null,"（氏名）",null,null,null,null,"印"]
[]
[]
[]
["　　(注)　※は主任監督員が記入。"]
["　　　　　"]

{"sheet":"統一様式-28","index":59,"n_rows":22,"n_cols":9,"rows_kept":22,"cut":false,"hidden":false,"merged":[[34,3,34,4],[34,5,34,6],[35,3,35,4],[35,5,35,6],[31,3,31,4],[31,5,31,6],[32,3,32,4],[32,5,32,6],[33,3,33,4],[33,5,33,6],[28,3,28,4],[28,5,28,6],[29,3,29,4],[29,5,29,6],[30,3,30,4],[30,5,30,6],[25,3,25,4],[25,5,25,6],[26,3,26,4],[26,5,26,6],[27,3,27,4],[27,5,27,6],[22,5,22,6],[7,4,7,5],[8,4,8,5],[9,4,9,5],[24,3,24,4],[24,5,24,6],[23,3,23,4],[23,5,23,6],[21,3,21,4],[21,5,21,6],[22,3,22,4],[5,0,5,1],[2,5,2,6],[10,4,10,5],[13,0,13,6],[19,0,19,6],[16,0,17,6]]}
["統一様式－２８"]
[]
[null,null,null,null,null,{"$f":"IF(入力表!D52=\"\",\"令和　　年　　月　　日\",入力表!D52)","v":"令和　　年　　月　　日"},null,null,"一覧表へ戻る"]
[null,null,null,null,null,null,null,null,"入力表へ戻る"]
[]
["　上天草市長　堀江　隆臣　様"]
[]
[null,null,null,"受注者　（住所）",{"$f":"IF(入力表!B11=\"\",\"\",入力表!B11)","v":""}]
[null,null,null,null,{"$f":"IF(入力表!B12=\"\",\"\",入力表!B12)","v":""}]
[null,null,null,"（氏名）",{"$f":"IF(入力表!B13=\"\",\"\",入力表!B13)","v":""}]
[null,null,null,"（現場代理人氏名）",{"$f":"IF(入力表!B8=\"\",\"\",入力表!B8)","v":""},null,"㊞"]
[]
[]
["現　場　発　生　品　調　書"]
[]
[]
[{"$f":"\"　\"&IF(入力表!B5=\"\",\"令和　　年　　月　　日\",TEXT(入力表!B5,\"ggge年m月d日\"))&\"付けをもって請負契約を締結した\"&入力表!B2&\"　\"&入力表!B3&\"における下記の発生品を引き渡します。\"","v":"　令和　　年　　月　　日付けをもって請負契約を締結した　における下記の発生品を引き渡します。"}]
[]
[]
["記"]
[]
["品　　　　名","規　　　　格","単　位","数　　　　量",null,"摘　　　　　　要"]

{"sheet":"統一様式-29","index":60,"n_rows":43,"n_cols":38,"rows_kept":43,"cut":false,"hidden":false,"merged":[[36,4,36,8],[5,1,5,13],[13,0,13,34],[36,12,36,19],[36,23,36,30],[16,8,16,16],[21,0,21,34],[27,10,28,32],[33,10,33,18],[9,21,9,34],[10,21,10,34],[11,21,11,33],[30,10,30,32],[24,4,24,8],[27,4,27,8],[2,37,2,41],[3,37,3,41],[30,4,30,8],[2,25,2,34],[33,4,33,8]]}
["統一様式－２９"]
[]
[null,null,null,null,null,null,null,null,null,null,null,null,null,null,null,null,null,null,null,null,null,null,null,null,null,{"$f":"IF(入力表!D53=\"\",\"令和　　年　　月　　日\",入力表!D53)","v":"令和　　年　　月　　日"},null,null,null,null,null,null,null,null,null,null,null,"一覧表へ戻る"]
[null,null,null,null,null,null,null,null,null,null,null,null,null,null,null,null,null,null,null,null,null,null,null,null,null,null,null,null,null,null,null,null,null,null,null,null,null,"入力表へ戻る"]
[null,"（発注者）"]
[null,"上天草市長  堀江　隆臣　  様"]
[]
[]
[]
[null,null,null,null,null,null,null,null,null,null,null,null,null,null,null,null,null,null,null,null,null,{"$f":"IF(入力表!B11=\"\",\"\",入力表!B11)","v":""}]
[null,null,null,null,null,null,null,null,null,null,null,null,null,null,null,null,null,null,null,null,"（受注者）",{"$f":"IF(入力表!B12=\"\",\"\",入力表!B12)","v":""}]
[null,null,null,null,null,null,null,null,null,null,null,null,null,null,null,null,null,null,null,null,null,{"$f":"IF(入力表!B13=\"\",\"\",入力表!B13)","v":""},null,null,null,null,null,null,null,null,null,null,null,null,"㊞"]
[]
["工事完成通知書（しゅん工届）"]
[]
[]
[null,null,null,"下記工事は",null,null,null,null,null,null,null,null,null,null,null,null,null,"をもって完成したので上天草市公共工事"]
[]
[null,null,"請負契約約款第31条第1項に基づき通知します。"]
[]
[]
["記"]
[]
[]
[null,null,null,"1．","工事番号",null,null,null,null,null,{"$f":"IF(入力表!B2=\"\",\"\",入力表!B2)","v":""}]
[]
[]
[null,null,null,"2．","工事名",null,null,null,null,null,{"$f":"IF(入力表!B3=\"\",\"\",入力表!B3)","v":""}]
[]
[]
[null,null,null,"3．","請負代金額",null,null,null,null,null,{"$f":"IF(入力表!B7=\"\",\"\",入力表!B7)","v":""}]
[]
[]
[null,null,null,"4．","契約年月日",null,null,null,null,null,{"$f":"IF(入力表!B5=\"\",\"令和　　年　　月　　日\",入力表!B5)","v":"令和　　年　　月　　日"}]
[]
[]
[null,null,null,"5．","工　期",null,null,null,null,null,"自",null,{"$f":"IF(入力表!B6=\"\",\"令和　　年　　月　　日\",入力表!B6)","v":"令和　　年　　月　　日"},null,null,null,null,null,null,null,null,"至",null,{"$f":"IF(入力表!E6=\"\",\"令和　　年　　月　　日\",入力表!E6)","v":"令和　　年　　月　　日"}]
[]
[]
[]
[]
[]
[null,null,null,"(注)",null,"本文の年月日は実際に完成した年月日を記載する"]

{"sheet":"様式-10","index":61,"n_rows":4,"n_cols":52,"rows_kept":4,"cut":false,"hidden":false,"merged":[[0,0,0,5],[1,51,1,55],[1,0,1,49],[2,0,3,2],[2,3,3,10],[2,11,3,20],[2,21,3,24],[2,25,2,32],[2,33,2,40],[2,41,3,44],[2,45,3,49],[3,25,3,28],[3,29,3,32],[3,33,3,36],[3,37,3,40],[2,51,2,55],[4,45,4,49],[5,0,5,2],[5,3,5,10],[5,11,5,20],[5,21,5,24],[5,25,5,28],[5,29,5,32],[5,33,5,36],[5,37,5,40],[5,41,5,44],[5,45,5,49],[4,0,4,2],[4,3,4,10],[4,11,4,20],[4,21,4,24],[4,25,4,28],[4,29,4,32],[4,33,4,36],[4,37,4,40],[4,41,4,44],[6,45,6,49],[7,0,7,2],[7,3,7,10],[7,11,7,20],[7,21,7,24],[7,25,7,28],[7,29,7,32],[7,33,7,36],[7,37,7,40],[7,41,7,44],[7,45,7,49],[6,0,6,2],[6,3,6,10],[6,11,6,20],[6,21,6,24],[6,25,6,28],[6,29,6,32],[6,33,6,36],[6,37,6,40],[6,41,6,44],[8,45,8,49],[9,0,9,2],[9,3,9,10],[9,11,9,20],[9,21,9,24],[9,25,9,28],[9,29,9,32],[9,33,9,36],[9,37,9,40],[9,41,9,44],[9,45,9,49],[8,0,8,2],[8,3,8,10],[8,11,8,20],[8,21,8,24],[8,25,8,28],[8,29,8,32],[8,33,8,36],[8,37,8,40],[8,41,8,44],[10,45,10,49],[11,0,11,2],[11,3,11,10],[11,11,11,20],[11,21,11,24],[11,25,11,28],[11,29,11,32],[11,33,11,36],[11,37,11,40],[11,41,11,44],[11,45,11,49],[10,0,10,2],[10,3,10,10],[10,11,10,20],[10,21,10,24],[10,25,10,28],[10,29,10,32],[10,33,10,36],[10,37,10,40],[10,41,10,44],[12,45,12,49],[13,0,13,2],[13,3,13,10],[13,11,13,20],[13,21,13,24],[13,25,13,28],[13,29,13,32],[13,33,13,36],[13,37,13,40],[13,41,13,44],[13,45,13,49],[12,0,12,2],[12,3,12,10],[12,11,12,20],[12,21,12,24],[12,25,12,28],[12,29,12,32],[12,33,12,36],[12,37,12,40],[12,41,12,44],[14,45,14,49],[15,0,15,2],[15,3,15,10],[15,11,15,20],[15,21,15,24],[15,25,15,28],[15,29,15,32],[15,33,15,36],[15,37,15,40],[15,41,15,44],[15,45,15,49],[14,0,14,2],[14,3,14,10],[14,11,14,20],[14,21,14,24],[14,25,14,28],[14,29,14,32],[14,33,14,36],[14,37,14,40],[14,41,14,44],[16,45,16,49],[17,0,17,2],[17,3,17,10],[17,11,17,20],[17,21,17,24],[17,25,17,28],[17,29,17,32],[17,33,17,36],[17,37,17,40],[17,41,17,44],[17,45,17,49],[16,0,16,2],[16,3,16,10],[16,11,16,20],[16,21,16,24],[16,25,16,28],[16,29,16,32],[16,33,16,36],[16,37,16,40],[16,41,16,44],[18,45,18,49],[19,0,19,2],[19,3,19,10],[19,11,19,20],[19,21,19,24],[19,25,19,28],[19,29,19,32],[19,33,19,36],[19,37,19,40],[19,41,19,44],[19,45,19,49],[18,0,18,2],[18,3,18,10],[18,11,18,20],[18,21,18,24],[18,25,18,28],[18,29,18,32],[18,33,18,36],[18,37,18,40],[18,41,18,44],[22,37,22,40],[22,41,22,44],[20,45,20,49],[21,0,21,2],[21,3,21,10],[21,11,21,20],[21,21,21,24],[21,25,21,28],[21,29,21,32],[21,33,21,36],[21,37,21,40],[21,41,21,44],[21,45,21,49],[20,0,20,2],[20,3,20,10],[20,11,20,20],[20,21,20,24],[20,25,20,28],[20,29,20,32],[20,33,20,36],[20,37,20,40],[20,41,20,44],[24,21,24,24],[24,25,24,28],[24,29,24,32],[24,33,24,36],[24,37,24,40],[24,41,24,44],[22,45,22,49],[23,0,23,2],[23,3,23,10],[23,11,23,20],[23,21,23,24],[23,25,23,28],[23,29,23,32],[23,33,23,36],[23,37,23,40],[23,41,23,44],[23,45,23,49],[22,0,22,2],[22,3,22,10],[22,11,22,20],[22,21,22,24],[22,25,22,28],[22,29,22,32],[22,33,22,36],[24,45,24,49],[25,0,25,2],[25,3,25,10],[25,11,25,20],[25,21,25,24],[25,25,25,28],[25,29,25,32],[25,33,25,36],[26,37,26,40],[26,41,26,44],[26,45,26,49],[25,37,25,40],[25,41,25,44],[25,45,25,49],[26,0,26,2],[26,3,26,10],[26,11,26,20],[26,21,26,24],[26,25,26,28],[26,29,26,32],[26,33,26,36],[24,0,24,2],[24,3,24,10],[24,11,24,20]]}
["様式－１０"]
["出    来    形    管    理",null,null,null,null,null,null,null,null,null,null,null,null,null,null,null,null,null,null,null,null,null,null,null,null,null,null,null,null,null,null,null,null,null,null,null,null,null,null,null,null,null,null,null,null,null,null,null,null,null,null,"一覧表へ戻る"]
["対象\n番号",null,null,"対象項目",null,null,null,null,null,null,null,"測定内容",null,null,null,null,null,null,null,null,null,"管  理\n基準値",null,null,null,"設計値より（＋）",null,null,null,null,null,null,null,"設計値より（－）",null,null,null,null,null,null,null,"平均値",null,null,null,"備  考"]
[null,null,null,null,null,null,null,null,null,null,null,null,null,null,null,null,null,null,null,null,null,null,null,null,null,"測点",null,null,null,"最大値",null,null,null,"測点",null,null,null,"最大値"]

{"sheet":"様式-11","index":62,"n_rows":4,"n_cols":52,"rows_kept":4,"cut":false,"hidden":false,"merged":[[0,0,0,5],[1,51,1,55],[1,0,1,49],[2,0,3,2],[2,3,3,10],[2,11,3,21],[2,22,3,37],[2,38,2,43],[2,44,3,49],[3,38,3,40],[3,41,3,43],[2,51,2,55],[4,34,4,37],[4,38,4,40],[4,41,4,43],[4,44,4,49],[5,0,5,2],[5,3,5,10],[5,11,5,21],[5,22,5,25],[5,26,5,29],[5,30,5,33],[4,0,4,2],[4,3,4,10],[4,11,4,21],[4,22,4,25],[4,26,4,29],[4,30,4,33],[5,34,5,37],[5,38,5,40],[5,41,5,43],[5,44,5,49],[6,44,6,49],[7,0,7,2],[7,3,7,10],[7,11,7,21],[7,22,7,25],[7,26,7,29],[7,30,7,33],[7,34,7,37],[7,38,7,40],[7,41,7,43],[7,44,7,49],[6,0,6,2],[6,3,6,10],[6,11,6,21],[6,22,6,25],[6,26,6,29],[6,30,6,33],[6,34,6,37],[6,38,6,40],[6,41,6,43],[8,44,8,49],[9,0,9,2],[9,3,9,10],[9,11,9,21],[9,22,9,25],[9,26,9,29],[9,30,9,33],[9,34,9,37],[9,38,9,40],[9,41,9,43],[9,44,9,49],[8,0,8,2],[8,3,8,10],[8,11,8,21],[8,22,8,25],[8,26,8,29],[8,30,8,33],[8,34,8,37],[8,38,8,40],[8,41,8,43],[10,44,10,49],[11,0,11,2],[11,3,11,10],[11,11,11,21],[11,22,11,25],[11,26,11,29],[11,30,11,33],[11,34,11,37],[11,38,11,40],[11,41,11,43],[11,44,11,49],[10,0,10,2],[10,3,10,10],[10,11,10,21],[10,22,10,25],[10,26,10,29],[10,30,10,33],[10,34,10,37],[10,38,10,40],[10,41,10,43],[12,44,12,49],[13,0,13,2],[13,3,13,10],[13,11,13,21],[13,22,13,25],[13,26,13,29],[13,30,13,33],[13,34,13,37],[13,38,13,40],[13,41,13,43],[13,44,13,49],[12,0,12,2],[12,3,12,10],[12,11,12,21],[12,22,12,25],[12,26,12,29],[12,30,12,33],[12,34,12,37],[12,38,12,40],[12,41,12,43],[14,44,14,49],[15,0,15,2],[15,3,15,10],[15,11,15,21],[15,22,15,25],[15,26,15,29],[15,30,15,33],[15,34,15,37],[15,38,15,40],[15,41,15,43],[15,44,15,49],[14,0,14,2],[14,3,14,10],[14,11,14,21],[14,22,14,25],[14,26,14,29],[14,30,14,33],[14,34,14,37],[14,38,14,40],[14,41,14,43],[16,44,16,49],[17,0,17,2],[17,3,17,10],[17,11,17,21],[17,22,17,25],[17,26,17,29],[17,30,17,33],[17,34,17,37],[17,38,17,40],[17,41,17,43],[17,44,17,49],[16,0,16,2],[16,3,16,10],[16,11,16,21],[16,22,16,25],[16,26,16,29],[16,30,16,33],[16,34,16,37],[16,38,16,40],[16,41,16,43],[18,44,18,49],[19,0,19,2],[19,3,19,10],[19,11,19,21],[19,22,19,25],[19,26,19,29],[19,30,19,33],[19,34,19,37],[19,38,19,40],[19,41,19,43],[19,44,19,49],[18,0,18,2],[18,3,18,10],[18,11,18,21],[18,22,18,25],[18,26,18,29],[18,30,18,33],[18,34,18,37],[18,38,18,40],[18,41,18,43],[20,44,20,49],[21,0,21,2],[21,3,21,10],[21,11,21,21],[21,22,21,25],[21,26,21,29],[21,30,21,33],[21,34,21,37],[21,38,21,40],[21,41,21,43],[21,44,21,49],[20,0,20,2],[20,3,20,10],[20,11,20,21],[20,22,20,25],[20,26,20,29],[20,30,20,33],[20,34,20,37],[20,38,20,40],[20,41,20,43],[22,44,22,49],[23,0,23,2],[23,3,23,10],[23,11,23,21],[23,22,23,25],[23,26,23,29],[23,30,23,33],[23,34,23,37],[23,38,23,40],[23,41,23,43],[23,44,23,49],[22,0,22,2],[22,3,22,10],[22,11,22,21],[22,22,22,25],[22,26,22,29],[22,30,22,33],[22,34,22,37],[22,38,22,40],[22,41,22,43],[24,44,24,49],[25,0,25,2],[25,3,25,10],[25,11,25,21],[25,22,25,25],[25,26,25,29],[25,30,25,33],[25,34,25,37],[25,38,25,40],[25,41,25,43],[25,44,25,49],[24,0,24,2],[24,3,24,10],[24,11,24,21],[24,22,24,25],[24,26,24,29],[24,30,24,33],[24,34,24,37],[24,38,24,40],[24,41,24,43],[27,44,27,49],[26,34,26,37],[26,38,26,40],[26,41,26,43],[26,44,26,49],[27,0,27,2],[27,3,27,10],[27,11,27,21],[27,22,27,25],[27,26,27,29],[27,30,27,33],[26,0,26,2],[26,3,26,10],[26,11,26,21],[26,22,26,25],[26,26,26,29],[26,30,26,33],[27,34,27,37],[27,38,27,40],[27,41,27,43]]}
["様式－１１"]
["品    質    管    理",null,null,null,null,null,null,null,null,null,null,null,null,null,null,null,null,null,null,null,null,null,null,null,null,null,null,null,null,null,null,null,null,null,null,null,null,null,null,null,null,null,null,null,null,null,null,null,null,null,null,"一覧表へ戻る"]
["対象\n番号",null,null,"対象項目",null,null,null,null,null,null,null,"試験（測定）内容",null,null,null,null,null,null,null,null,null,null,"試験・報告機関",null,null,null,null,null,null,null,null,null,null,null,null,null,null,null,"試験結果",null,null,null,null,null,"備  考"]
[null,null,null,null,null,null,null,null,null,null,null,null,null,null,null,null,null,null,null,null,null,null,null,null,null,null,null,null,null,null,null,null,null,null,null,null,null,null,"数",null,null,"平均値"]

{"sheet":"様式-12","index":63,"n_rows":43,"n_cols":11,"rows_kept":43,"cut":false,"hidden":false,"merged":[[0,0,0,2],[1,0,2,8],[4,5,4,6],[6,0,7,0],[6,3,7,3],[4,2,4,4],[5,2,5,4],[4,7,4,8],[5,7,5,8],[6,5,7,5],[6,6,7,6],[6,7,7,7],[6,8,7,8],[4,0,4,1],[5,0,5,1],[6,1,7,2],[8,1,8,2],[9,1,9,2],[10,1,10,2],[11,1,11,2],[12,1,12,2],[13,1,13,2],[14,1,14,2],[15,1,15,2],[16,1,16,2],[17,1,17,2],[18,1,18,2],[19,1,19,2],[20,1,20,2],[21,1,21,2],[22,1,22,2],[23,1,23,2],[24,1,24,2],[25,1,25,2],[26,1,26,2],[27,1,27,2],[28,1,28,2],[29,1,29,2],[30,1,30,2],[36,1,36,2],[37,1,37,2],[31,1,31,2],[32,1,32,2],[33,1,33,2],[34,1,34,2],[35,1,35,2]]}
["様式－１２"]
["建設廃棄物処理実績集計表"]
[null,null,null,null,null,null,null,null,null,null,"一覧表へ戻る"]
[]
["工事番号：",null,{"$f":"IF(入力表!B2=\"\",\"\",入力表!B2)","v":""},null,null,"　受注者名",null,{"$f":"IF(入力表!B12=\"\",\"\",入力表!B12)","v":""}]
["工事名：",null,{"$f":"IF(入力表!B3=\"\",\"\",入力表!B3)","v":""},null,null,"　現場代理人",null,{"$f":"IF(入力表!B8=\"\",\"\",入力表!B8)","v":""}]
["通番号","廃棄物の種類",null,"交付日","マニフェスト","単位","搬出量","搬出先","備　考"]
[null,null,null,null,"伝票番号"]
[1]
[2]
[3]
[4]
[5]
[6]
[7]
[8]
[9]
[10]
[11]
[12]
[13]
[14]
[15]
[16]
[17]
[18]
[19]
[20]
[21]
[22]
[23]
[24]
[25]
[26]
[27]
[28]
[29]
[30]
["　注１　廃棄物の種類毎に搬出量の計を記載すること。"]
["　注２　監督員は建設系廃棄物マニフェスト伝票と照合し確認すること。"]
["　注３　受注者はしゅん工検査時に建設系マニフェスト伝票Ａ、Ｂ2、Ｂ1、Ｄ、Ｅ票を持参し、検査員"]
["　　　　の指示に応じて提示すること。なお、Ｅ票については、しゅん工検査時点で最終処分業者より"]
["　　　　返送されているものを対象とする。"]

{"sheet":"様式-13","index":64,"n_rows":34,"n_cols":11,"rows_kept":34,"cut":false,"hidden":false,"merged":[[1,0,1,8],[26,0,26,1],[26,3,26,5],[26,7,26,8],[27,0,27,1],[27,3,27,5],[27,7,27,8],[24,0,24,1],[24,3,24,5],[24,7,24,8],[25,0,25,1],[25,3,25,5],[25,7,25,8],[22,0,22,1],[22,3,22,5],[22,7,22,8],[23,0,23,1],[23,3,23,5],[23,7,23,8],[20,0,20,1],[20,3,20,5],[20,7,20,8],[21,0,21,1],[21,3,21,5],[21,7,21,8],[18,0,18,1],[18,3,18,5],[18,7,18,8],[19,0,19,1],[19,3,19,5],[19,7,19,8],[16,0,16,1],[16,3,16,5],[16,7,16,8],[17,0,17,1],[17,3,17,5],[17,7,17,8],[14,0,14,1],[14,3,14,5],[14,7,14,8],[15,0,15,1],[15,3,15,5],[15,7,15,8],[12,0,12,1],[12,3,12,5],[12,7,12,8],[13,0,13,1],[13,3,13,5],[13,7,13,8],[11,7,11,8],[7,6,7,8],[9,6,9,8],[7,1,7,4],[9,1,9,4],[11,0,11,1],[11,3,11,5]]}
["様式－１３"]
["安全・訓練等の実施状況報告書",null,null,null,null,null,null,null,null,null,"一覧表へ戻る"]
[]
[]
[]
[]
[]
["工事番号",{"$f":"IF(入力表!B2=\"\",\"\",入力表!B2)","v":""},null,null,null,"受注者名　 ",{"$f":"IF(入力表!B12=\"\",\"\",入力表!B12)","v":""}]
[]
["工 事 名",{"$f":"IF(入力表!B3=\"\",\"\",入力表!B3)","v":""},null,null,null,"現場代理人 ",{"$f":"IF(入力表!B8=\"\",\"\",入力表!B8)","v":""}]
[]
["実施年月日",null,"実施時間","実施内容及び方法",null,null,"参加人数","備考"]
[]
[]
[]
[]
[]
[]
[]
[]
[]
[]
[]
[]
[]
[]
[]
[]
[]
["注"]
["１ 月別の集計時間を備考欄に記入すること。"]
["２ 監督員は日報等と照合し確認すること。"]
["３ 受注者はしゅん工検査時に日報等の資料を持参し検査員の指示があった場合は提示すること。"]
["４ 実施状況を記録した写真を適宜添付すること。"]

{"sheet":"統一様式-34(1)","index":65,"n_rows":77,"n_cols":10,"rows_kept":77,"cut":false,"hidden":false,"merged":[[74,5,74,7],[72,2,72,4],[76,5,76,6],[41,0,42,1],[49,0,49,7],[57,0,57,7],[61,0,61,7],[66,0,66,7],[64,2,64,5],[65,2,65,5],[54,1,54,6],[60,1,60,6],[62,2,62,4],[44,4,44,7],[75,5,75,7],[67,0,67,7],[68,0,68,7],[69,0,69,7],[38,4,38,7],[41,4,41,7],[42,4,42,7],[35,4,35,7],[40,4,40,7],[39,4,39,7],[26,4,26,7],[27,4,27,7],[29,4,29,7],[30,4,30,7],[31,4,31,7],[32,4,32,7],[33,4,33,7],[34,4,34,7],[37,4,37,7],[2,0,2,7],[4,2,4,4],[5,4,5,7],[6,4,6,7],[7,4,7,7],[4,0,4,1],[5,0,5,1],[5,2,5,3],[4,6,4,7],[8,4,8,7],[9,4,9,7],[10,4,10,7],[11,4,11,7],[12,4,12,7],[10,0,12,1],[25,4,25,7],[14,4,14,7],[15,4,15,7],[16,4,16,7],[17,4,17,7],[18,4,18,7],[19,4,19,7],[20,4,20,7],[13,4,13,7],[21,4,21,7],[22,4,22,7],[23,4,23,7],[24,4,24,7]]}
["統一様式－３４(1)"]
[null,null,null,null,null,null,null,null,null,"一覧表へ戻る"]
["創意工夫・社会性等に関する実施状況",null,null,null,null,null,null,null,null,"入力表へ戻る"]
[null,null,null,null,null,null,null,null,null,"開示の同意へ"]
["  　工　事　名",null,{"$f":"IF(入力表!B3=\"\",\"\",入力表!B3)","v":""},null,null," 受注者名",{"$f":"IF(入力表!B12=\"\",\"\",入力表!B12)","v":""},null,null,"内容説明へ"]
["項　　　目",null,"評価内容",null,"実施内容"]
[]
[null,"創意工夫",null,"施工","・施工に伴う器具、工具、装置等の工夫"]
[null,null,null,null,"・コンクリート二次製品等の代替材の適用"]
[null,null,null,null,"・施工方法の工夫、施工環境の改善"]
["自ら立案実施した創意工夫や技術力",null,null,null,"・仮設備計画の工夫"]
[null,null,null,null,"・施工管理の工夫"]
[null,null,null,null,"・ＩＣＴ（情報通信技術）の活用　等"]
[]
[]
[]
[null,null,null,"新技術活用","ＮＥＴＩＳ登録技術のうち、"]
[null,null,null,null,"・試行技術の活用"]
[null,null,null,null,"・「少実績優良技術」の活用"]
[null,null,null,null,"・「少実績優良技術」 を除く「有用とされる技術」の活用"]
[null,null,null,null,"・試行技術及び「有用とされる技術」以外の新技術の活用"]
[]
[]
[]
[null,null,null,"品質","・土工、設備、電気の品質向上の工夫"]
[null,null,null,null,"・コンクリートの材料、打設、養生の工夫"]
[null,null,null,null,"・鉄筋、コンクリート二次製品等使用材料の工夫"]
[null,null,null,null,"・配筋、溶接作業等の工夫　等"]
[]
[]
[]
[null,null,null,"安全衛生","・安全衛生教育・講習会・パトロール等の工夫"]
[null,null,null,null,"・仮設備の工夫"]
[null,null,null,null,"・作業環境の改善"]
[null,null,null,null,"・交通事故防止の工夫"]
[null,null,null,null,"・環境保全の工夫　等"]
[]
[]
[]
[null,"社会性等",null,"地域への貢献等","・周辺環境への配慮"]
[null,null,null,null,"・現場環境の周辺地域との調和"]
["地域社会や住民に対する貢献",null,null,null,"・地域住民とのコミュニケーション"]
[null,null,null,null,"・災害時など地域への支援・行政などによる救援活動への協力　等"]
[]
[]
["１　該当する項目の□にレ点を記入。"]
["２　実施説明は簡潔に記載。"]
["３　実施内容を説明する資料は、様式-３４（２）で作成。"]
[]
["様式－１４"]
[]
[null,null,null,null,null,null,null,null,null,"一覧表へ戻る"]
[null,null,null,null,null,null,null,null,null,"入力表へ戻る"]
[null,"（注意）",null,null,null,null,null,null,null,"実施項目へ"]
[null,"  当該資料は、上天草市情報公開条例（平成１７年条例第３号）第２条第２項の規定に基づく「公文書」となるため、開示請求があったときは、条例第７条の規定に基づき開示義務があります。\n　従って、当該資料の取扱いについて、貴社の意向を確認する必要がありますので、下記事項を記入の上提出して下さい。"]
[]
[]
["記"]
[]
[]
[null," 　当該資料の取扱について（該当する□にレ点を記入して下さい。）"]
["           "]
[null,null,"公開する　　　　"]
[]
[null,false,"公開しない（理由を簡潔に記載してください）                          "]
[null,"          （理由：",null,null,null,null,"）"]
["                                                                                                                                                              "]
["                                                                               "]
["                                                                               "]
["                                                                               "]
[]
[]
[null,null,{"$f":"IF(入力表!D55=\"\",\"令和　　年　　月　　日\",入力表!D55)","v":"令和　　年　　月　　日"}]
[]
[null,null,null,null,"住　　　　所",{"$f":"IF(入力表!B11=\"\",\"\",入力表!B11)","v":""}]
[null,null,null,null,"商号又は名称",{"$f":"IF(入力表!B12=\"\",\"\",入力表!B12)","v":""}]
[null,null,null,null,"代表者名",{"$f":"IF(入力表!B13=\"\",\"\",入力表!B13)","v":""},null,"㊞"]

{"sheet":"統一様式-34(2)","index":66,"n_rows":46,"n_cols":7,"rows_kept":46,"cut":false,"hidden":false,"merged":[[41,0,41,4],[42,0,42,4],[43,0,43,4],[44,0,44,4],[36,0,36,4],[37,0,37,4],[38,0,38,4],[39,0,39,4],[40,0,40,4],[31,0,31,4],[32,0,32,4],[33,0,33,4],[34,0,34,4],[35,0,35,4],[26,0,26,4],[27,0,27,4],[28,0,28,4],[29,0,29,4],[30,0,30,4],[21,0,21,4],[22,0,22,4],[23,0,23,4],[24,0,24,4],[25,0,25,4],[16,0,16,4],[17,0,17,4],[18,0,18,4],[19,0,19,4],[20,0,20,4],[1,0,1,4],[3,1,3,4],[4,3,4,4],[5,1,5,4],[6,0,6,4],[12,0,12,4],[13,0,13,4],[14,0,14,4],[15,0,15,4],[7,0,7,4],[8,0,8,4],[9,0,9,4],[10,0,10,4],[11,0,11,4]]}
["統一様式－３４(2)"]
["創意工夫・社会性等に関する実施状況"]
[null,null,null,null,null,null,"一覧表へ戻る"]
["工　事　名",{"$f":"IF(入力表!B3=\"\",\"\",入力表!B3)","v":""},null,null,null,null,"入力表へ戻る"]
["項　　　目",null,"評価内容",null,null,null,"実施項目へ"]
["提案内容"]
["（説明）"]
[]
[]
[]
[]
[]
[]
[]
["(添付図）"]
[]
[]
[]
[]
[]
[]
[]
[]
[]
[]
[]
[]
[]
[]
[]
[]
[]
[]
[]
[]
[]
[]
[]
[]
[]
[]
[]
[]
[]
[]
["説明資料は簡潔に作成するものとし、必要に応じて別葉とする"]

{"sheet":"様式-15","index":67,"n_rows":27,"n_cols":23,"rows_kept":27,"cut":false,"hidden":false,"merged":[[7,13,7,20],[14,0,14,20],[0,21,0,23],[2,0,2,20],[4,0,4,6],[7,9,7,12],[8,9,8,12],[9,9,9,12],[12,0,12,11],[0,0,0,4],[9,13,9,19],[8,13,8,20],[16,0,16,2],[16,3,16,10],[16,11,16,17],[16,18,16,20],[17,0,17,4],[17,5,17,6],[17,7,17,8],[17,9,17,10],[17,11,17,17],[17,18,17,20],[19,18,19,20],[18,0,18,4],[18,5,18,6],[18,7,18,8],[18,9,18,10],[18,11,18,17],[18,18,18,20],[19,0,19,4],[19,5,19,6],[19,7,19,8],[19,9,19,10],[19,11,19,17],[21,18,21,20],[20,0,20,4],[20,5,20,6],[20,7,20,8],[20,9,20,10],[20,11,20,17],[20,18,20,20],[21,0,21,4],[21,5,21,6],[21,7,21,8],[21,9,21,10],[21,11,21,17],[23,18,23,20],[22,0,22,4],[22,5,22,6],[22,7,22,8],[22,9,22,10],[22,11,22,17],[22,18,22,20],[23,0,23,4],[23,5,23,6],[23,7,23,8],[23,9,23,10],[23,11,23,17],[26,0,26,6],[34,17,34,19],[24,0,24,4],[24,5,24,6],[24,7,24,8],[24,9,24,10],[24,11,24,17],[24,18,24,20]]}
["様式－１５"]
[null,null,null,null,null,null,null,null,null,null,null,null,null,null,null,null,null,null,null,null,null,null,"一覧表へ戻る"]
["電　子　媒　体　納　品　書"]
[]
["上天草市長　堀江　隆臣　様"]
[]
[]
[null,null,null,null,null,null,null,null,null,"受注者　（住所）",null,null,null,{"$f":"IF(入力表!B11=\"\",\"\",入力表!B11)","v":""}]
[null,null,null,null,null,null,null,null,null,"　　　　　 （氏名）",null,null,null,{"$f":"IF(入力表!B12=\"\",\"\",入力表!B12)","v":""}]
[null,null,null,null,null,null,null,null,null,"（現場代理人名）",null,null,null,{"$f":"IF(入力表!B8=\"\",\"\",入力表!B8)","v":""},null,null,null,null,null,null,"㊞"]
[]
[]
["　下記のとおり電子媒体を納品します。"]
[]
["記"]
[]
["工事名",null,null,{"$f":"IF(入力表!B3=\"\",\"\",入力表!B3)","v":""},null,null,null,null,null,null,null,"CORINS登録番号"]
["電子媒体の種類",null,null,null,null,"規　格",null,"単　位",null,"数　量",null,"作 成 年 月 日",null,null,null,null,null,null,"備　考"]
[]
[]
[]
[]
[]
[]
[]
[]
["備考　１．監督員に提出"]

{"sheet":"様式‐16","index":68,"n_rows":32,"n_cols":48,"rows_kept":32,"cut":false,"hidden":false,"merged":[[0,1,0,10],[26,3,26,5],[26,6,26,11],[28,1,32,6],[31,9,31,18],[6,11,6,40],[20,5,20,12],[24,28,24,40],[23,28,23,41],[22,28,22,41],[4,4,4,8],[6,4,6,8],[8,4,8,8],[10,4,10,8],[12,4,12,8],[10,11,10,16],[8,11,8,35],[4,11,4,35],[1,0,32,0],[1,1,1,42],[2,1,2,42],[14,4,14,8],[16,4,16,8],[16,11,16,21],[14,11,14,21],[12,11,12,21],[31,33,31,38]]}
[null,"様式－１６"]
[]
[null,"破壊検査箇所復築完了届",null,null,null,null,null,null,null,null,null,null,null,null,null,null,null,null,null,null,null,null,null,null,null,null,null,null,null,null,null,null,null,null,null,null,null,null,null,null,null,null,null,null,"一覧表へ戻る"]
[null,null,null,null,null,null,null,null,null,null,null,null,null,null,null,null,null,null,null,null,null,null,null,null,null,null,null,null,null,null,null,null,null,null,null,null,null,null,null,null,null,null,null,null,"入力表へ戻る"]
[null,null,"１",null,"工事番号",null,null,null,null,null,null,{"$f":"IF(入力表!B2=\"\",\"\",入力表!B2)","v":""}]
[]
[null,null,"２",null,"工事名",null,null,null,null,null,null,{"$f":"IF(入力表!B3=\"\",\"\",入力表!B3)","v":""},null,null,null,null,null,null,null,null,null,null,null,null,null,null,null,null,null,null,null,null,null,null,null,null,null,null,null,null,null,null,null,null,null,null,null,"しゅん工検査"]
[null,null,null,null,null,null,null,null,null,null,null,null,null,null,null,null,null,null,null,null,null,null,null,null,null,null,null,null,null,null,null,null,null,null,null,null,null,null,null,null,null,null,null,null,null,null,null,"一部しゅん工検査"]
[null,null,"３",null,"工事場所 ",null,null,null,null,null,null,{"$f":"IF(入力表!B4=\"\",\"\",入力表!B4)","v":""},null,null,null,null,null,null,null,null,null,null,null,null,null,null,null,null,null,null,null,null,null,null,null,null,null,null,null,null,null,null,null,null,null,null,null,"中間検査"]
[null,null,null,null,null,null,null,null,null,null,null,null,null,null,null,null,null,null,null,null,null,null,null,null,null,null,null,null,null,null,null,null,null,null,null,null,null,null,null,null,null,null,null,null,null,null,null,"出来形部分検査"]
[null,null,"４",null,"検査の種類"]
[]
[null,null,"５",null,"検査年月日"]
[]
[null,null,"６",null,"復築期限"]
[]
[null,null,"７",null,"実施復築完了"]
[]
[null,null,"　上記のとおり破壊検査箇所の復築を完了しましたのでお届けします。"]
[]
[null,null,null,null,null,{"$f":"IF(入力表!D56=\"\",\"令和　　年　　月　　日\",入力表!D56)","v":"令和　　年　　月　　日"}]
[]
[null,null,null,null,null,null,null,null,null,null,null,null,null,null,null,null,null,null,null,null,null,null,null,null,null,null,null,null,{"$f":"IF(入力表!B11=\"\",\"\",入力表!B11)","v":""}]
[null,null,null,null,null,null,null,null,null,null,null,null,null,null,null,null,null,null,null,null,null,null,null,null,null,null,"受注者",null,{"$f":"IF(入力表!B12=\"\",\"\",入力表!B12)","v":""}]
[null,null,null,null,null,null,null,null,null,null,null,null,null,null,null,null,null,null,null,null,null,null,null,null,null,null,null,null,{"$f":"IF(入力表!B13=\"\",\"\",入力表!B13)","v":""},null,null,null,null,null,null,null,null,null,null,null,null,"㊞"]
[]
[null,null,null,"検査員",null,null,null,null,null,null,null,null,"様"]
[]
[null,"確認証明欄"]
[null,null,null,null,null,null,null,null,"上記届け出のとおり復築を完了したことを確認しました。"]
[]
[null,null,null,null,null,null,null,null,null,"令和　　年　　月　　日",null,null,null,null,null,null,null,null,null,null,null,null,null,null,null,null,null,null,null,null,null,"監督員",null,null,null,null,null,null,null,null,null,"㊞"]

{"sheet":"様式-17","index":69,"n_rows":21,"n_cols":35,"rows_kept":21,"cut":false,"hidden":false,"merged":[[19,1,19,6],[16,7,16,30],[17,7,17,30],[14,2,14,29],[16,1,16,6],[17,1,17,6],[18,1,18,6],[18,7,18,30],[19,7,19,30],[2,21,2,29],[11,3,11,4],[9,2,9,29],[7,3,7,4],[7,10,7,15],[6,18,6,29],[7,18,7,28],[11,13,11,18]]}
[null,"様式－１７"]
[]
[null,null,null,null,null,null,null,null,null,null,null,null,null,null,null,null,null,null,null,null,null,{"$f":"IF(入力表!D57=\"\",\"令和　　年　　月　　日\",入力表!D57)","v":"令和　　年　　月　　日"},null,null,null,null,null,null,null,null,null,null,null,null,"一覧表へ戻る"]
[null,null,null,null,null,null,null,null,null,null,null,null,null,null,null,null,null,null,null,null,null,null,null,null,null,null,null,null,null,null,null,null,null,null,"入力表へ戻る"]
[null,null,"上天草市長　堀江　隆臣　様"]
[]
[null,null,null,null,null,null,null,null,null,null,null,null,null,null,null,null,null,"受注者",{"$f":"IF(入力表!B12=\"\",\"\",入力表!B12)","v":""}]
[null,null,null,null,null,null,null,null,null,null,null,null,null,null,null,null,null,null,{"$f":"IF(入力表!B13=\"\",\"\",入力表!B13)","v":""},null,null,null,null,null,null,null,null,null,null,"㊞"]
[]
[null,null,"手　直　し　工　事　請　書"]
[]
[null,null,null,"令和",null,null,"年",null,"月",null,"日付け",null,null,null,null,null,null,null,null,"号で請求のあった下記工事に"]
[null,null,"係る修補事項は、期限までに完了します。"]
[]
[null,null,"記"]
[]
[null,"工事番号",null,null,null,null,null,{"$f":"IF(入力表!B2=\"\",\"\",入力表!B2)","v":""}]
[null,"工 事 名",null,null,null,null,null,{"$f":"IF(入力表!B3=\"\",\"\",入力表!B3)","v":""}]
[null,"工事箇所",null,null,null,null,null,{"$f":"IF(入力表!B4=\"\",\"\",入力表!B4)","v":""}]
[null,"完了期限"]
[null,"修補を要する事項"]

{"sheet":"統一様式-21","index":70,"n_rows":51,"n_cols":37,"rows_kept":51,"cut":false,"hidden":false,"merged":[[44,3,46,31],[32,9,32,17],[36,9,36,16],[38,9,38,16],[40,9,40,16],[32,2,32,6],[34,2,34,6],[36,2,36,6],[38,2,38,6],[40,2,40,6],[28,2,28,6],[30,2,30,6],[2,25,2,33],[7,1,7,14],[17,0,17,33],[21,2,21,9],[12,21,12,32],[10,21,10,33],[11,21,11,33]]}
["統一様式－２１"]
[]
[null,null,null,null,null,null,null,null,null,null,null,null,null,null,null,null,null,null,null,null,null,null,null,null,null,{"$f":"IF(入力表!D58=\"\",\"令和　年　月　日\",入力表!D58)","v":"令和　年　月　日"},null,null,null,null,null,null,null,null,null,null,"一覧表へ戻る"]
[null,null,null,null,null,null,null,null,null,null,null,null,null,null,null,null,null,null,null,null,null,null,null,null,null,null,null,null,null,null,null,null,null,null,null,null,"入力表へ戻る"]
["（発注者）"]
[]
[]
[null,"上天草市長  堀江　隆臣　  様"]
[]
[]
[null,null,null,null,null,null,null,null,null,null,null,null,null,null,null,null,null,null,null,null,null,{"$f":"IF(入力表!B11=\"\",\"\",入力表!B11)","v":""}]
[null,null,null,null,null,null,null,null,null,null,null,null,null,null,null,null,null,null,null,null,"（受注者）",{"$f":"IF(入力表!B12=\"\",\"\",入力表!B12)","v":""}]
[null,null,null,null,null,null,null,null,null,null,null,null,null,null,null,null,null,null,null,null,null,{"$f":"IF(入力表!B13=\"\",\"\",入力表!B13)","v":""},null,null,null,null,null,null,null,null,null,null,null,"㊞"]
[]
[]
[]
[]
["手　直　し　工　事　完　了　届"]
[]
[]
[]
["　　　　　　　年　　　月　　　日",null,null,null,null,null,null,null,null,null,"の検査において、指示されました手直し工事部分については、"]
[]
[null,"下記のとおり完了しましたのでお届けいたします。"]
[]
[]
["　　　　　　　　　　　　　　　　　　　記"]
[]
[null,null,"工事番号",null,null,null,null,null,null,{"$f":"IF(入力表!B2=\"\",\"\",入力表!B2)","v":""}]
[]
[null,null,"工事名",null,null,null,null,null,null,{"$f":"IF(入力表!B3=\"\",\"\",入力表!B3)","v":""}]
[]
[null,null,"契約額",null,null,null,null,null,null,{"$f":"IF(入力表!B7=\"\",\"\",入力表!B7)","v":""}]
[]
[null,null,"工事場所",null,null,null,null,null,null,{"$f":"IF(入力表!B4=\"\",\"\",入力表!B4)","v":""}]
[]
[null,null,"契約年月日",null,null,null,null,null,null,{"$f":"IF(入力表!B5=\"\",\"令和　年　月　日\",入力表!B5)","v":"令和　年　月　日"}]
[]
[null,null,"期限"]
[]
[null,null,"完了"]
[]
[null,null,"手直し工事、改造箇所及び補修内容"]
[]
[]
[]
[]
[]
[]
[]
["　　"]

{"sheet":"統一様式-30","index":71,"n_rows":33,"n_cols":39,"rows_kept":33,"cut":false,"hidden":false,"merged":[[23,4,23,8],[2,38,2,42],[3,38,3,42],[23,10,23,33],[26,10,27,35],[2,26,2,34],[17,0,17,34],[7,1,7,14],[12,22,12,34],[13,22,13,34],[14,22,14,33],[29,10,29,18],[32,10,32,17],[32,4,32,8],[29,4,29,8],[26,4,26,8]]}
["統一様式－３０"]
[]
[null,null,null,null,null,null,null,null,null,null,null,null,null,null,null,null,null,null,null,null,null,null,null,null,null,null,{"$f":"IF(入力表!D59=\"\",\"令和　年　月　日\",入力表!D59)","v":"令和　年　月　日"},null,null,null,null,null,null,null,null,null,null,null,"一覧表へ戻る"]
[null,null,null,null,null,null,null,null,null,null,null,null,null,null,null,null,null,null,null,null,null,null,null,null,null,null,null,null,null,null,null,null,null,null,null,null,null,null,"入力表へ戻る"]
[]
[]
[]
[null,"上天草市長  堀江　隆臣　  様"]
[]
[]
[]
[]
[null,null,null,null,null,null,null,null,null,null,null,null,null,null,null,null,null,null,null,null,null,null,{"$f":"IF(入力表!B11=\"\",\"\",入力表!B11)","v":""}]
[null,null,null,null,null,null,null,null,null,null,null,null,null,null,null,null,null,null,null,null,null,"（受注者）",{"$f":"IF(入力表!B12=\"\",\"\",入力表!B12)","v":""}]
[null,null,null,null,null,null,null,null,null,null,null,null,null,null,null,null,null,null,null,null,null,null,{"$f":"IF(入力表!B13=\"\",\"\",入力表!B13)","v":""},null,null,null,null,null,null,null,null,null,null,null,"㊞"]
[]
[]
["工事目的物引渡し申出書"]
[]
[]
[null,null,null,"下記工事を上天草市公共工事請負契約約款第31条第4項に基づき引渡します。"]
[]
[]
[null,null,null,"1．","工事番号",null,null,null,null,null,{"$f":"IF(入力表!B2=\"\",\"\",入力表!B2)","v":""}]
[]
[]
[null,null,null,"2．","工事名",null,null,null,null,null,{"$f":"IF(入力表!B3=\"\",\"\",入力表!B3)","v":""}]
[]
[]
[null,null,null,"3．","請負代金額",null,null,null,null,null,{"$f":"IF(入力表!B7=\"\",\"\",入力表!B7)","v":""}]
[]
[]
[null,null,null,"4．","検査年月日"]

{"sheet":"統一様式-5(1)（完成）","index":72,"n_rows":47,"n_cols":56,"rows_kept":47,"cut":false,"hidden":false,"merged":[[2,22,2,34],[5,14,5,23],[55,5,56,31],[33,10,33,13],[35,10,35,17],[37,10,37,33],[39,10,39,33],[41,9,41,32],[44,5,45,31],[14,21,14,32],[4,37,4,42],[5,37,5,42],[46,5,46,31],[51,5,52,31],[53,5,54,31],[19,21,19,31],[21,1,21,25],[27,10,27,18],[29,10,29,18],[31,10,31,18],[31,24,31,32],[17,11,18,25],[9,2,9,14],[11,21,11,34],[12,24,12,33],[13,21,13,34]]}
["統一様式－５(1)"]
[]
[null,null,null,null,null,null,null,null,null,null,null,null,null,null,null,null,null,null,null,null,null,null,{"$f":"IF(入力表!D60=\"\",\"令和　　年　　月　　日\",入力表!D60)","v":"令和　　年　　月　　日"}]
[]
[null,null,null,null,null,null,null,null,null,null,null,null,null,null,null,null,null,null,null,null,null,null,null,null,null,null,null,null,null,null,null,null,null,null,null,null,null,"一覧表へ戻る"]
[null,null,null,null,null,null,null,null,"請求書",null,null,null,null,"（","完成代金",null,null,null,null,null,null,null,null,null,"）",null,null,null,null,null,null,null,null,null,null,null,null,"入力表へ戻る"]
[]
[]
[null,"（発注者）"]
[null,null,"上天草市長  堀江　隆臣　  様",null,null,null,null,null,null,null,null,null,null,null,null,null,null,null,null,null,null,null,null,null,null,null,null,null,null,null,null,null,null,null,null,null,null,null,null,null,null,null,null,null,null,null,null,null,"前払金",null,null,null,null,null,null,"ただし、次の工事の請負代金の前払として"]
[null,null,null,null,null,null,null,null,null,null,null,null,null,null,null,null,null,null,null,null,null,null,null,null,null,null,null,null,null,null,null,null,null,null,null,null,null,null,null,null,null,null,null,null,null,null,null,null,"中間前払金",null,null,null,null,null,null,"ただし、次の工事の請負代金の中間前払として"]
[null,null,null,null,null,null,null,null,null,null,null,null,null,null,null,null,null,null,null,null,"請求者（住所）",{"$f":"IF(入力表!B11=\"\",\"\",入力表!B11)","v":""},null,null,null,null,null,null,null,null,null,null,null,null,null,null,null,null,null,null,null,null,null,null,null,null,null,null,"部分払金",null,null,null,null,null,null,{"$f":"IF(AD7=\"\",\"ただし、次の工事の第　回部分払として\",\"ただし、次の工事の第\"&AD7&\"回部分払として\")","v":"ただし、次の工事の第　回部分払として"}]
[null,null,null,null,null,null,null,null,null,null,null,null,null,null,null,null,null,null,null,null,null,null,null,null,null,null,null,null,null,null,null,null,null,null,null,null,null,null,null,null,null,null,null,null,null,null,null,null,"指定部分完済払金",null,null,null,null,null,null,"ただし、次の工事の指定部分に係る代金として"]
[null,null,null,null,null,null,null,null,null,null,null,null,null,null,null,null,null,null,null,null,null,{"$f":"IF(入力表!B12=\"\",\"\",入力表!B12)","v":""},null,null,null,null,null,null,null,null,null,null,null,null,null,null,null,null,null,null,null,null,null,null,null,null,null,null,"完成代金",null,null,null,null,null,null,"ただし、次の工事の請負代金として"]
[null,null,null,null,null,null,null,null,null,null,null,null,null,null,null,null,null,null,null,null,"（氏名）",{"$f":"IF(入力表!B13=\"\",\"\",入力表!B13)","v":""},null,null,null,null,null,null,null,null,null,null,null,"㊞"]
[]
[null,"下記のとおり請求します。"]
[]
[null,null,null,"請求金額"]
[]
[]
[null,{"$f":"VLOOKUP(O6,AW10:BD14,8,FALSE)","v":"ただし、次の工事の請負代金として"}]
[]
[null,"工事番号",null,null,null,null,null,null,null,null,{"$f":"IF(入力表!B2=\"\",\"\",入力表!B2)","v":""}]
[]
[null,"工事名",null,null,null,null,null,null,null,null,{"$f":"IF(入力表!B3=\"\",\"\",入力表!B3)","v":""}]
[]
[null,"契約日",null,null,null,null,null,null,null,null,{"$f":"IF(入力表!B5=\"\",\"令和　　年　　月　　日\",入力表!B5)","v":"令和　　年　　月　　日"}]
[]
[null,"契約金額",null,null,null,null,null,null,null,null,{"$f":"IF(入力表!B7=\"\",\"\",入力表!B7)","v":""}]
[]
[null,"振込希望金融機関名"]
[]
[null,"預金の種別",null,null,null,null,null,null,null,null,null,null,null,null,null,null,null,null,null,null,null,null,null,null,null,null,null,null,null,null,null,null,null,null,null,null,null,null,null,null,null,null,null,null,null,null,null,null,"普通"]
[null,null,null,null,null,null,null,null,null,null,null,null,null,null,null,null,null,null,null,null,null,null,null,null,null,null,null,null,null,null,null,null,null,null,null,null,null,null,null,null,null,null,null,null,null,null,null,null,"当座"]
[null,"口座番号"]
[]
[null,"口座名義"]
[]
[null,"フリガナ"]
[]
[]
[]
[]
[null,null,null,null,"(注)1．","（　　　）には前払金、中間前払金、部分払金、指定部分完済払金、完成代金の別を記入すること。"]
[]
[null,null,null,null,"2．","部分払金を請求する場合は、請求内訳書を添付すること。"]

{"sheet":"様式-18","index":73,"n_rows":22,"n_cols":11,"rows_kept":22,"cut":false,"hidden":false,"merged":[[17,4,17,7],[13,0,13,2],[15,4,15,8],[16,4,16,8],[3,0,3,8],[5,0,5,1],[7,0,7,1],[10,0,10,8],[5,2,5,8],[7,2,7,8]]}
["様式－１８"]
[]
[null,null,null,null,null,null,null,null,null,null,"一覧表へ戻る"]
["保証書に係る受領書",null,null,null,null,null,null,null,null,null,"入力表へ戻る"]
[]
["１　工事番号",null,{"$f":"IF(入力表!B2=\"\",\"\",入力表!B2)","v":""}]
[]
["２　工 事 名",null,{"$f":"IF(入力表!B3=\"\",\"\",入力表!B3)","v":""}]
[]
[]
["　上記工事に係る保証書（変更契約書がある場合には変更契約書を含む）を受領したので銀行等に返還すること及び今後、保証書の滅失、き損等につき一切の責任を負うことを約します。"]
[]
[]
[{"$f":"IF(入力表!D61=\"\",\"令和　　年　　月　　日\",入力表!D61)","v":"令和　　年　　月　　日"}]
[]
[null,null,null,"住　　　　所",{"$f":"IF(入力表!B11=\"\",\"\",入力表!B11)","v":""}]
[null,null,null,"商号又は名称",{"$f":"IF(入力表!B12=\"\",\"\",入力表!B12)","v":""}]
[null,null,null,"代表者名",{"$f":"IF(入力表!B13=\"\",\"\",入力表!B13)","v":""},null,null,null,"㊞"]
[]
[]
[]
["上天草市長　堀江　隆臣　様"]

{"sheet":"様式-19","index":74,"n_rows":39,"n_cols":54,"rows_kept":39,"cut":false,"hidden":false,"merged":[[0,0,0,5],[30,9,30,17],[30,19,30,27],[32,19,32,26],[4,22,4,34],[18,19,18,34],[19,19,19,34],[32,9,32,11],[13,0,13,34],[7,9,7,34],[8,9,8,34],[9,9,9,34],[23,0,23,13],[28,0,28,8],[18,13,18,18],[19,13,19,18],[20,13,20,18],[4,36,4,41],[5,36,5,41],[10,9,10,34],[5,0,5,34],[16,1,16,9],[7,0,7,1],[8,0,8,1],[9,0,9,1],[10,0,10,1],[7,2,7,6],[8,2,8,6],[9,2,9,6],[10,2,10,6],[20,19,20,33]]}
["様式－１９"]
[]
[]
[]
[null,null,null,null,null,null,null,null,null,null,null,null,null,null,null,null,null,null,null,null,null,null,null,null,null,null,null,null,null,null,null,null,null,null,null,null,"一覧表へ戻る"]
["契約保証金還付請求書",null,null,null,null,null,null,null,null,null,null,null,null,null,null,null,null,null,null,null,null,null,null,null,null,null,null,null,null,null,null,null,null,null,null,null,"入力表へ戻る"]
[]
["１",null,"工事番号",null,null,null,null,null,null,{"$f":"IF(入力表!B2=\"\",\"\",入力表!B2)","v":""}]
["２",null,"工 事 名",null,null,null,null,null,null,{"$f":"IF(入力表!B3=\"\",\"\",入力表!B3)","v":""}]
["３",null,"請求金額"]
["４",null,"還付の理由",null,null,null,null,null,null,"工事目的物を引渡したため"]
[]
[]
["　上記のとおり、契約保証金の還付を請求します。"]
[]
[]
[null,{"$f":"IF(入力表!D62=\"\",\"令和　年　月　日\",入力表!D62)","v":"令和　年　月　日"}]
[]
[null,null,null,null,null,null,null,null,null,null,null,null,null,"住　　　　所",null,null,null,null,null,{"$f":"IF(入力表!B11=\"\",\"\",入力表!B11)","v":""}]
[null,null,null,null,null,null,null,null,null,null,null,null,null,"商号又は名称",null,null,null,null,null,{"$f":"IF(入力表!B12=\"\",\"\",入力表!B12)","v":""}]
[null,null,null,null,null,null,null,null,null,null,null,null,null,"代表者名",null,null,null,null,null,{"$f":"IF(入力表!B13=\"\",\"\",入力表!B13)","v":""},null,null,null,null,null,null,null,null,null,null,null,null,null,null,"㊞"]
[]
[]
["上天草市長　堀江　隆臣　様"]
[null,null,null,null,null,null,null,null,null,null,null,null,null,null,null,null,null,null,null,null,null,null,null,null,null,null,null,null,null,null,null,null,null,null,null,null,null,null,null,null,null,null,null,null,null,null,null,null,null,null,null,null,null,"普通"]
[null,null,null,null,null,null,null,null,null,null,null,null,null,null,null,null,null,null,null,null,null,null,null,null,null,null,null,null,null,null,null,null,null,null,null,null,null,null,null,null,null,null,null,null,null,null,null,null,null,null,null,null,null,"当座"]
[]
[]
["（口座振替先）",null,null,null,null,null,null,null,null,null,null,null,null,null,null,null,null,null,null,null,null,null,null,null,null,null,null,null,null,null,null,null,null,null,null,null,null,null,null,null,null,null,null,null,null,null,null,null,null,null,null,null,null,"肥後銀行"]
[null,null,null,null,null,null,null,null,null,null,null,null,null,null,null,null,null,null,null,null,null,null,null,null,null,null,null,null,null,null,null,null,null,null,null,null,null,null,null,null,null,null,null,null,null,null,null,null,null,null,null,null,null,"熊本銀行"]
[null,null,null,null,"金融機関",null,null,null,null,null,null,null,null,null,null,null,null,null,null,null,null,null,null,null,null,null,null,null,null,null,null,null,null,null,null,null,null,null,null,null,null,null,null,null,null,null,null,null,null,null,null,null,null,"天草信用金庫"]
[null,null,null,null,null,null,null,null,null,null,null,null,null,null,null,null,null,null,null,null,null,null,null,null,null,null,null,null,null,null,null,null,null,null,null,null,null,null,null,null,null,null,null,null,null,null,null,null,null,null,null,null,null,"熊本県信用組合"]
[null,null,null,null,"口座種別",null,null,null,null,null,null,null,null,null,"口座番号",null,null,null,null,null,null,null,null,null,null,null,null,null,null,null,null,null,null,null,null,null,null,null,null,null,null,null,null,null,null,null,null,null,null,null,null,null,null,"あまくさ農業協同組合"]
[]
[null,null,null,null,null,null,null,null,null,null,null,null,null,null,null,null,null,null,null,null,null,null,null,null,null,null,null,null,null,null,null,null,null,null,null,null,null,null,null,null,null,null,null,null,null,null,null,null,null,null,null,null,null,"大矢野支店"]
[null,null,null,null,null,null,null,null,null,null,null,null,null,null,null,null,null,null,null,null,null,null,null,null,null,null,null,null,null,null,null,null,null,null,null,null,null,null,null,null,null,null,null,null,null,null,null,null,null,null,null,null,null,"松島支店"]
[null,null,null,null,null,null,null,null,null,null,null,null,null,null,null,null,null,null,null,null,null,null,null,null,null,null,null,null,null,null,null,null,null,null,null,null,null,null,null,null,null,null,null,null,null,null,null,null,null,null,null,null,null,"龍ヶ岳支店"]
[null,null,null,null,null,null,null,null,null,null,null,null,null,null,null,null,null,null,null,null,null,null,null,null,null,null,null,null,null,null,null,null,null,null,null,null,null,null,null,null,null,null,null,null,null,null,null,null,null,null,null,null,null,"上支所"]
[null,null,null,null,null,null,null,null,null,null,null,null,null,null,null,null,null,null,null,null,null,null,null,null,null,null,null,null,null,null,null,null,null,null,null,null,null,null,null,null,null,null,null,null,null,null,null,null,null,null,null,null,null,"大矢野支所"]

{"sheet":"様式-2０","index":75,"n_rows":38,"n_cols":7,"rows_kept":38,"cut":false,"hidden":false,"merged":[[51,2,51,4],[52,2,52,4],[53,2,53,4],[9,2,9,4],[45,2,45,4],[46,2,46,4],[47,2,47,4],[48,2,48,4],[49,2,49,4],[50,2,50,4],[39,2,39,4],[40,2,40,4],[41,2,41,4],[42,2,42,4],[43,2,43,4],[44,2,44,4],[32,0,32,4],[34,0,34,4],[36,1,37,1],[36,2,37,4],[38,2,38,4],[31,0,31,4],[18,0,18,4],[19,0,19,4],[20,0,20,4],[21,1,22,1],[21,2,22,4],[23,2,23,4],[24,2,24,4],[25,2,25,4],[26,2,26,4],[27,0,27,4],[30,0,30,4],[17,1,17,4],[1,0,1,4],[3,2,3,4],[5,0,5,4],[6,0,6,4],[8,2,8,4],[10,0,10,4],[11,2,11,4],[13,0,13,4],[15,0,15,4],[16,1,16,4]]}
["様式－２０"]
["再 資 源 化 等 報 告 書",null,null,null,null,null,"一覧表へ戻る"]
[null,null,null,null,null,null,"入力表へ戻る"]
[null,null,{"$f":"IF(入力表!D62=\"\",\"令和　年　月　日\",入力表!D62)","v":"令和　年　月　日"}]
[]
["（発注者）"]
["　上天草市長　堀江　隆臣　様"]
[]
[null,"商号又は名称",{"$f":"IF(入力表!B12=\"\",\"\",入力表!B12)","v":""}]
[null,"代表者名",{"$f":"IF(入力表!B13=\"\",\"\",入力表!B13)","v":""}]
[{"$f":"IF(建設ﾘｻｲｸﾙ用入力表!F7=\"\",\"\",\"(郵便番号\"&建設ﾘｻｲｸﾙ用入力表!F7&\")\"&\"  電話番号 \"&建設ﾘｻｲｸﾙ用入力表!F9)","v":""}]
[null,"住所",{"$f":"IF(入力表!B11=\"\",\"\",入力表!B11)","v":""}]
[]
["  建設工事に係る資材の再資源化等に関する法律第18条第1項の規定により、下記のとおり、特定建設資材廃棄物の再資源化等が完了したことを報告します。"]
[]
["記"]
["１．工事の名称　",{"$f":"IF(入力表!B3=\"\",\"\",入力表!B3)","v":""}]
["２．工事の場所　",{"$f":"IF(入力表!B4=\"\",\"\",入力表!B4)","v":""}]
["３．再資源化等が完了した年月日　　　令和　　年　　月　　日"]
["４．再資源化等をした施設の名称及び所在地　　　"]
["（書ききれない場合は別紙に記載）"]
["特定建設資材廃棄物","施設の名称","所在地"]
["の種類"]
[]
[]
[]
[]
["５．特定建設資材廃棄物の再資源化等に要した費用           　　　　 万円（税込み）"]
[]
[]
["（参考資料を添付する場合の添付資料）※資源有効利用促進法に定められた一定規模以上の工事の場合など"]
["　　再生資源利用実施書（必要事項を記載したもの）"]
["　　再生資源利用促進実施書（必要事項を記載したもの）"]
[]
["別　紙"]
[]
["特定建設資材廃棄物","施設の名称","所在地"]
["の種類"]